BEGIN:VCALENDAR
VERSION:2.0
PRODID:-//Keeping Me Well - ECPv6.15.20//NONSGML v1.0//EN
CALSCALE:GREGORIAN
METHOD:PUBLISH
X-WR-CALNAME:Keeping Me Well
X-ORIGINAL-URL:https://keepingmewell.com
X-WR-CALDESC:Events for Keeping Me Well
REFRESH-INTERVAL;VALUE=DURATION:PT1H
X-Robots-Tag:noindex
X-PUBLISHED-TTL:PT1H
BEGIN:VTIMEZONE
TZID:Europe/London
BEGIN:DAYLIGHT
TZOFFSETFROM:+0000
TZOFFSETTO:+0100
TZNAME:BST
DTSTART:20280326T010000
END:DAYLIGHT
BEGIN:STANDARD
TZOFFSETFROM:+0100
TZOFFSETTO:+0000
TZNAME:GMT
DTSTART:20281029T010000
END:STANDARD
BEGIN:DAYLIGHT
TZOFFSETFROM:+0000
TZOFFSETTO:+0100
TZNAME:BST
DTSTART:20290325T010000
END:DAYLIGHT
BEGIN:STANDARD
TZOFFSETFROM:+0100
TZOFFSETTO:+0000
TZNAME:GMT
DTSTART:20291028T010000
END:STANDARD
BEGIN:DAYLIGHT
TZOFFSETFROM:+0000
TZOFFSETTO:+0100
TZNAME:BST
DTSTART:20300331T010000
END:DAYLIGHT
BEGIN:STANDARD
TZOFFSETFROM:+0100
TZOFFSETTO:+0000
TZNAME:GMT
DTSTART:20301027T010000
END:STANDARD
BEGIN:DAYLIGHT
TZOFFSETFROM:+0000
TZOFFSETTO:+0100
TZNAME:BST
DTSTART:20310330T010000
END:DAYLIGHT
BEGIN:STANDARD
TZOFFSETFROM:+0100
TZOFFSETTO:+0000
TZNAME:GMT
DTSTART:20311026T010000
END:STANDARD
END:VTIMEZONE
BEGIN:VEVENT
DTSTART;TZID=Europe/London:20291004T110000
DTEND;TZID=Europe/London:20291004T120000
DTSTAMP:20260420T023358
CREATED:20230111T114451Z
LAST-MODIFIED:20231024T145927Z
UID:10025418-1885806000-1885809600@keepingmewell.com
SUMMARY:Grwp Cerdded Nordig Caerdydd
DESCRIPTION:Mae cerdded Nordig yn troi taith gerdded yn ymarfer corff. Gan gyfarfod yng Nghaffi Castan yng Nghaeau Llandaf\, mae’r grwp \nCerdded Nordig wythnosol hwn yn gwella iechyd a ffitrwydd ac yn addas ar gyfer pob oedran a lefel ffitrwydd. Dewch a’ch polion eich hun.
URL:https://keepingmewell.com/event/grwp-cerdded-nordig-caerdydd-11/2029-10-04/
LOCATION:Nghaffi Castan\, Nghaeau Llandaf\, Pontcanna\, Caerdydd\, CF11 9QJ
CATEGORIES:Cerdded Nordig,Cymraeg,Gweithgarwch Corfforol
ATTACH;FMTTYPE=image/png:https://keepingmewell.com/wp-content/uploads/2022/12/NWUK-Website-Final-Logo.png
END:VEVENT
BEGIN:VEVENT
DTSTART;TZID=Europe/London:20291005T130000
DTEND;TZID=Europe/London:20291005T140000
DTSTAMP:20260420T023358
CREATED:20230111T110303Z
LAST-MODIFIED:20231025T080057Z
UID:10027233-1885899600-1885903200@keepingmewell.com
SUMMARY:Grwp Cerdded Nordig yn y Barri
DESCRIPTION:Mae cerdded Nordig yn troi taith gerdded yn ymarfer corff. Mae’n addas ar gyfer pob oedran a lefel ffitrwydd. \nMwynhewch fanteision bod yn yr awyr agored\, cadw’n heini a defnyddio’ch cyhyrau tra mewn grwp cymdeithasol\, hamddenol. Mae dechreuwyr yn gallu benthyg polion. \nCyfarfod wrth y blwch post coch yn The Knap. E-bostiwch LivingWell.LivingLongerProgramme@wales.nhs.uk.
URL:https://keepingmewell.com/event/grwp-cerdded-nordig-yn-y-barri-34/2029-10-05/
LOCATION:Knap\, Barri\, CF62 6SG\, United Kingdom
CATEGORIES:Cerdded Nordig,Cymraeg,Gweithgarwch Corfforol
ATTACH;FMTTYPE=image/png:https://keepingmewell.com/wp-content/uploads/2022/12/NWUK-Website-Final-Logo.png
END:VEVENT
BEGIN:VEVENT
DTSTART;TZID=Europe/London:20291011T110000
DTEND;TZID=Europe/London:20291011T120000
DTSTAMP:20260420T023358
CREATED:20230111T114451Z
LAST-MODIFIED:20231024T145927Z
UID:10025419-1886410800-1886414400@keepingmewell.com
SUMMARY:Grwp Cerdded Nordig Caerdydd
DESCRIPTION:Mae cerdded Nordig yn troi taith gerdded yn ymarfer corff. Gan gyfarfod yng Nghaffi Castan yng Nghaeau Llandaf\, mae’r grwp \nCerdded Nordig wythnosol hwn yn gwella iechyd a ffitrwydd ac yn addas ar gyfer pob oedran a lefel ffitrwydd. Dewch a’ch polion eich hun.
URL:https://keepingmewell.com/event/grwp-cerdded-nordig-caerdydd-11/2029-10-11/
LOCATION:Nghaffi Castan\, Nghaeau Llandaf\, Pontcanna\, Caerdydd\, CF11 9QJ
CATEGORIES:Cerdded Nordig,Cymraeg,Gweithgarwch Corfforol
ATTACH;FMTTYPE=image/png:https://keepingmewell.com/wp-content/uploads/2022/12/NWUK-Website-Final-Logo.png
END:VEVENT
BEGIN:VEVENT
DTSTART;TZID=Europe/London:20291012T130000
DTEND;TZID=Europe/London:20291012T140000
DTSTAMP:20260420T023358
CREATED:20230111T110303Z
LAST-MODIFIED:20231025T080057Z
UID:10027234-1886504400-1886508000@keepingmewell.com
SUMMARY:Grwp Cerdded Nordig yn y Barri
DESCRIPTION:Mae cerdded Nordig yn troi taith gerdded yn ymarfer corff. Mae’n addas ar gyfer pob oedran a lefel ffitrwydd. \nMwynhewch fanteision bod yn yr awyr agored\, cadw’n heini a defnyddio’ch cyhyrau tra mewn grwp cymdeithasol\, hamddenol. Mae dechreuwyr yn gallu benthyg polion. \nCyfarfod wrth y blwch post coch yn The Knap. E-bostiwch LivingWell.LivingLongerProgramme@wales.nhs.uk.
URL:https://keepingmewell.com/event/grwp-cerdded-nordig-yn-y-barri-34/2029-10-12/
LOCATION:Knap\, Barri\, CF62 6SG\, United Kingdom
CATEGORIES:Cerdded Nordig,Cymraeg,Gweithgarwch Corfforol
ATTACH;FMTTYPE=image/png:https://keepingmewell.com/wp-content/uploads/2022/12/NWUK-Website-Final-Logo.png
END:VEVENT
BEGIN:VEVENT
DTSTART;TZID=Europe/London:20291018T110000
DTEND;TZID=Europe/London:20291018T120000
DTSTAMP:20260420T023358
CREATED:20230111T114451Z
LAST-MODIFIED:20231024T145927Z
UID:10025420-1887015600-1887019200@keepingmewell.com
SUMMARY:Grwp Cerdded Nordig Caerdydd
DESCRIPTION:Mae cerdded Nordig yn troi taith gerdded yn ymarfer corff. Gan gyfarfod yng Nghaffi Castan yng Nghaeau Llandaf\, mae’r grwp \nCerdded Nordig wythnosol hwn yn gwella iechyd a ffitrwydd ac yn addas ar gyfer pob oedran a lefel ffitrwydd. Dewch a’ch polion eich hun.
URL:https://keepingmewell.com/event/grwp-cerdded-nordig-caerdydd-11/2029-10-18/
LOCATION:Nghaffi Castan\, Nghaeau Llandaf\, Pontcanna\, Caerdydd\, CF11 9QJ
CATEGORIES:Cerdded Nordig,Cymraeg,Gweithgarwch Corfforol
ATTACH;FMTTYPE=image/png:https://keepingmewell.com/wp-content/uploads/2022/12/NWUK-Website-Final-Logo.png
END:VEVENT
BEGIN:VEVENT
DTSTART;TZID=Europe/London:20291019T130000
DTEND;TZID=Europe/London:20291019T140000
DTSTAMP:20260420T023358
CREATED:20230111T110303Z
LAST-MODIFIED:20231025T080057Z
UID:10027235-1887109200-1887112800@keepingmewell.com
SUMMARY:Grwp Cerdded Nordig yn y Barri
DESCRIPTION:Mae cerdded Nordig yn troi taith gerdded yn ymarfer corff. Mae’n addas ar gyfer pob oedran a lefel ffitrwydd. \nMwynhewch fanteision bod yn yr awyr agored\, cadw’n heini a defnyddio’ch cyhyrau tra mewn grwp cymdeithasol\, hamddenol. Mae dechreuwyr yn gallu benthyg polion. \nCyfarfod wrth y blwch post coch yn The Knap. E-bostiwch LivingWell.LivingLongerProgramme@wales.nhs.uk.
URL:https://keepingmewell.com/event/grwp-cerdded-nordig-yn-y-barri-34/2029-10-19/
LOCATION:Knap\, Barri\, CF62 6SG\, United Kingdom
CATEGORIES:Cerdded Nordig,Cymraeg,Gweithgarwch Corfforol
ATTACH;FMTTYPE=image/png:https://keepingmewell.com/wp-content/uploads/2022/12/NWUK-Website-Final-Logo.png
END:VEVENT
BEGIN:VEVENT
DTSTART;TZID=Europe/London:20291025T110000
DTEND;TZID=Europe/London:20291025T120000
DTSTAMP:20260420T023358
CREATED:20230111T114451Z
LAST-MODIFIED:20231024T145927Z
UID:10025421-1887620400-1887624000@keepingmewell.com
SUMMARY:Grwp Cerdded Nordig Caerdydd
DESCRIPTION:Mae cerdded Nordig yn troi taith gerdded yn ymarfer corff. Gan gyfarfod yng Nghaffi Castan yng Nghaeau Llandaf\, mae’r grwp \nCerdded Nordig wythnosol hwn yn gwella iechyd a ffitrwydd ac yn addas ar gyfer pob oedran a lefel ffitrwydd. Dewch a’ch polion eich hun.
URL:https://keepingmewell.com/event/grwp-cerdded-nordig-caerdydd-11/2029-10-25/
LOCATION:Nghaffi Castan\, Nghaeau Llandaf\, Pontcanna\, Caerdydd\, CF11 9QJ
CATEGORIES:Cerdded Nordig,Cymraeg,Gweithgarwch Corfforol
ATTACH;FMTTYPE=image/png:https://keepingmewell.com/wp-content/uploads/2022/12/NWUK-Website-Final-Logo.png
END:VEVENT
BEGIN:VEVENT
DTSTART;TZID=Europe/London:20291026T130000
DTEND;TZID=Europe/London:20291026T140000
DTSTAMP:20260420T023358
CREATED:20230111T110303Z
LAST-MODIFIED:20231025T080057Z
UID:10027236-1887714000-1887717600@keepingmewell.com
SUMMARY:Grwp Cerdded Nordig yn y Barri
DESCRIPTION:Mae cerdded Nordig yn troi taith gerdded yn ymarfer corff. Mae’n addas ar gyfer pob oedran a lefel ffitrwydd. \nMwynhewch fanteision bod yn yr awyr agored\, cadw’n heini a defnyddio’ch cyhyrau tra mewn grwp cymdeithasol\, hamddenol. Mae dechreuwyr yn gallu benthyg polion. \nCyfarfod wrth y blwch post coch yn The Knap. E-bostiwch LivingWell.LivingLongerProgramme@wales.nhs.uk.
URL:https://keepingmewell.com/event/grwp-cerdded-nordig-yn-y-barri-34/2029-10-26/
LOCATION:Knap\, Barri\, CF62 6SG\, United Kingdom
CATEGORIES:Cerdded Nordig,Cymraeg,Gweithgarwch Corfforol
ATTACH;FMTTYPE=image/png:https://keepingmewell.com/wp-content/uploads/2022/12/NWUK-Website-Final-Logo.png
END:VEVENT
BEGIN:VEVENT
DTSTART;TZID=Europe/London:20291101T110000
DTEND;TZID=Europe/London:20291101T120000
DTSTAMP:20260420T023358
CREATED:20230111T114451Z
LAST-MODIFIED:20231024T145927Z
UID:10025422-1888225200-1888228800@keepingmewell.com
SUMMARY:Grwp Cerdded Nordig Caerdydd
DESCRIPTION:Mae cerdded Nordig yn troi taith gerdded yn ymarfer corff. Gan gyfarfod yng Nghaffi Castan yng Nghaeau Llandaf\, mae’r grwp \nCerdded Nordig wythnosol hwn yn gwella iechyd a ffitrwydd ac yn addas ar gyfer pob oedran a lefel ffitrwydd. Dewch a’ch polion eich hun.
URL:https://keepingmewell.com/event/grwp-cerdded-nordig-caerdydd-11/2029-11-01/
LOCATION:Nghaffi Castan\, Nghaeau Llandaf\, Pontcanna\, Caerdydd\, CF11 9QJ
CATEGORIES:Cerdded Nordig,Cymraeg,Gweithgarwch Corfforol
ATTACH;FMTTYPE=image/png:https://keepingmewell.com/wp-content/uploads/2022/12/NWUK-Website-Final-Logo.png
END:VEVENT
BEGIN:VEVENT
DTSTART;TZID=Europe/London:20291102T130000
DTEND;TZID=Europe/London:20291102T140000
DTSTAMP:20260420T023358
CREATED:20230111T110303Z
LAST-MODIFIED:20231025T080057Z
UID:10027237-1888318800-1888322400@keepingmewell.com
SUMMARY:Grwp Cerdded Nordig yn y Barri
DESCRIPTION:Mae cerdded Nordig yn troi taith gerdded yn ymarfer corff. Mae’n addas ar gyfer pob oedran a lefel ffitrwydd. \nMwynhewch fanteision bod yn yr awyr agored\, cadw’n heini a defnyddio’ch cyhyrau tra mewn grwp cymdeithasol\, hamddenol. Mae dechreuwyr yn gallu benthyg polion. \nCyfarfod wrth y blwch post coch yn The Knap. E-bostiwch LivingWell.LivingLongerProgramme@wales.nhs.uk.
URL:https://keepingmewell.com/event/grwp-cerdded-nordig-yn-y-barri-34/2029-11-02/
LOCATION:Knap\, Barri\, CF62 6SG\, United Kingdom
CATEGORIES:Cerdded Nordig,Cymraeg,Gweithgarwch Corfforol
ATTACH;FMTTYPE=image/png:https://keepingmewell.com/wp-content/uploads/2022/12/NWUK-Website-Final-Logo.png
END:VEVENT
BEGIN:VEVENT
DTSTART;TZID=Europe/London:20291108T110000
DTEND;TZID=Europe/London:20291108T120000
DTSTAMP:20260420T023358
CREATED:20230111T114451Z
LAST-MODIFIED:20231024T145927Z
UID:10025423-1888830000-1888833600@keepingmewell.com
SUMMARY:Grwp Cerdded Nordig Caerdydd
DESCRIPTION:Mae cerdded Nordig yn troi taith gerdded yn ymarfer corff. Gan gyfarfod yng Nghaffi Castan yng Nghaeau Llandaf\, mae’r grwp \nCerdded Nordig wythnosol hwn yn gwella iechyd a ffitrwydd ac yn addas ar gyfer pob oedran a lefel ffitrwydd. Dewch a’ch polion eich hun.
URL:https://keepingmewell.com/event/grwp-cerdded-nordig-caerdydd-11/2029-11-08/
LOCATION:Nghaffi Castan\, Nghaeau Llandaf\, Pontcanna\, Caerdydd\, CF11 9QJ
CATEGORIES:Cerdded Nordig,Cymraeg,Gweithgarwch Corfforol
ATTACH;FMTTYPE=image/png:https://keepingmewell.com/wp-content/uploads/2022/12/NWUK-Website-Final-Logo.png
END:VEVENT
BEGIN:VEVENT
DTSTART;TZID=Europe/London:20291109T130000
DTEND;TZID=Europe/London:20291109T140000
DTSTAMP:20260420T023358
CREATED:20230111T110303Z
LAST-MODIFIED:20231025T080057Z
UID:10027238-1888923600-1888927200@keepingmewell.com
SUMMARY:Grwp Cerdded Nordig yn y Barri
DESCRIPTION:Mae cerdded Nordig yn troi taith gerdded yn ymarfer corff. Mae’n addas ar gyfer pob oedran a lefel ffitrwydd. \nMwynhewch fanteision bod yn yr awyr agored\, cadw’n heini a defnyddio’ch cyhyrau tra mewn grwp cymdeithasol\, hamddenol. Mae dechreuwyr yn gallu benthyg polion. \nCyfarfod wrth y blwch post coch yn The Knap. E-bostiwch LivingWell.LivingLongerProgramme@wales.nhs.uk.
URL:https://keepingmewell.com/event/grwp-cerdded-nordig-yn-y-barri-34/2029-11-09/
LOCATION:Knap\, Barri\, CF62 6SG\, United Kingdom
CATEGORIES:Cerdded Nordig,Cymraeg,Gweithgarwch Corfforol
ATTACH;FMTTYPE=image/png:https://keepingmewell.com/wp-content/uploads/2022/12/NWUK-Website-Final-Logo.png
END:VEVENT
BEGIN:VEVENT
DTSTART;TZID=Europe/London:20291115T110000
DTEND;TZID=Europe/London:20291115T120000
DTSTAMP:20260420T023358
CREATED:20230111T114451Z
LAST-MODIFIED:20231024T145927Z
UID:10025424-1889434800-1889438400@keepingmewell.com
SUMMARY:Grwp Cerdded Nordig Caerdydd
DESCRIPTION:Mae cerdded Nordig yn troi taith gerdded yn ymarfer corff. Gan gyfarfod yng Nghaffi Castan yng Nghaeau Llandaf\, mae’r grwp \nCerdded Nordig wythnosol hwn yn gwella iechyd a ffitrwydd ac yn addas ar gyfer pob oedran a lefel ffitrwydd. Dewch a’ch polion eich hun.
URL:https://keepingmewell.com/event/grwp-cerdded-nordig-caerdydd-11/2029-11-15/
LOCATION:Nghaffi Castan\, Nghaeau Llandaf\, Pontcanna\, Caerdydd\, CF11 9QJ
CATEGORIES:Cerdded Nordig,Cymraeg,Gweithgarwch Corfforol
ATTACH;FMTTYPE=image/png:https://keepingmewell.com/wp-content/uploads/2022/12/NWUK-Website-Final-Logo.png
END:VEVENT
BEGIN:VEVENT
DTSTART;TZID=Europe/London:20291116T130000
DTEND;TZID=Europe/London:20291116T140000
DTSTAMP:20260420T023359
CREATED:20230111T110303Z
LAST-MODIFIED:20231025T080057Z
UID:10027239-1889528400-1889532000@keepingmewell.com
SUMMARY:Grwp Cerdded Nordig yn y Barri
DESCRIPTION:Mae cerdded Nordig yn troi taith gerdded yn ymarfer corff. Mae’n addas ar gyfer pob oedran a lefel ffitrwydd. \nMwynhewch fanteision bod yn yr awyr agored\, cadw’n heini a defnyddio’ch cyhyrau tra mewn grwp cymdeithasol\, hamddenol. Mae dechreuwyr yn gallu benthyg polion. \nCyfarfod wrth y blwch post coch yn The Knap. E-bostiwch LivingWell.LivingLongerProgramme@wales.nhs.uk.
URL:https://keepingmewell.com/event/grwp-cerdded-nordig-yn-y-barri-34/2029-11-16/
LOCATION:Knap\, Barri\, CF62 6SG\, United Kingdom
CATEGORIES:Cerdded Nordig,Cymraeg,Gweithgarwch Corfforol
ATTACH;FMTTYPE=image/png:https://keepingmewell.com/wp-content/uploads/2022/12/NWUK-Website-Final-Logo.png
END:VEVENT
BEGIN:VEVENT
DTSTART;TZID=Europe/London:20291122T110000
DTEND;TZID=Europe/London:20291122T120000
DTSTAMP:20260420T023359
CREATED:20230111T114451Z
LAST-MODIFIED:20231024T145927Z
UID:10025425-1890039600-1890043200@keepingmewell.com
SUMMARY:Grwp Cerdded Nordig Caerdydd
DESCRIPTION:Mae cerdded Nordig yn troi taith gerdded yn ymarfer corff. Gan gyfarfod yng Nghaffi Castan yng Nghaeau Llandaf\, mae’r grwp \nCerdded Nordig wythnosol hwn yn gwella iechyd a ffitrwydd ac yn addas ar gyfer pob oedran a lefel ffitrwydd. Dewch a’ch polion eich hun.
URL:https://keepingmewell.com/event/grwp-cerdded-nordig-caerdydd-11/2029-11-22/
LOCATION:Nghaffi Castan\, Nghaeau Llandaf\, Pontcanna\, Caerdydd\, CF11 9QJ
CATEGORIES:Cerdded Nordig,Cymraeg,Gweithgarwch Corfforol
ATTACH;FMTTYPE=image/png:https://keepingmewell.com/wp-content/uploads/2022/12/NWUK-Website-Final-Logo.png
END:VEVENT
BEGIN:VEVENT
DTSTART;TZID=Europe/London:20291123T130000
DTEND;TZID=Europe/London:20291123T140000
DTSTAMP:20260420T023359
CREATED:20230111T110303Z
LAST-MODIFIED:20231025T080057Z
UID:10027240-1890133200-1890136800@keepingmewell.com
SUMMARY:Grwp Cerdded Nordig yn y Barri
DESCRIPTION:Mae cerdded Nordig yn troi taith gerdded yn ymarfer corff. Mae’n addas ar gyfer pob oedran a lefel ffitrwydd. \nMwynhewch fanteision bod yn yr awyr agored\, cadw’n heini a defnyddio’ch cyhyrau tra mewn grwp cymdeithasol\, hamddenol. Mae dechreuwyr yn gallu benthyg polion. \nCyfarfod wrth y blwch post coch yn The Knap. E-bostiwch LivingWell.LivingLongerProgramme@wales.nhs.uk.
URL:https://keepingmewell.com/event/grwp-cerdded-nordig-yn-y-barri-34/2029-11-23/
LOCATION:Knap\, Barri\, CF62 6SG\, United Kingdom
CATEGORIES:Cerdded Nordig,Cymraeg,Gweithgarwch Corfforol
ATTACH;FMTTYPE=image/png:https://keepingmewell.com/wp-content/uploads/2022/12/NWUK-Website-Final-Logo.png
END:VEVENT
BEGIN:VEVENT
DTSTART;TZID=Europe/London:20291129T110000
DTEND;TZID=Europe/London:20291129T120000
DTSTAMP:20260420T023359
CREATED:20230111T114451Z
LAST-MODIFIED:20231024T145927Z
UID:10025426-1890644400-1890648000@keepingmewell.com
SUMMARY:Grwp Cerdded Nordig Caerdydd
DESCRIPTION:Mae cerdded Nordig yn troi taith gerdded yn ymarfer corff. Gan gyfarfod yng Nghaffi Castan yng Nghaeau Llandaf\, mae’r grwp \nCerdded Nordig wythnosol hwn yn gwella iechyd a ffitrwydd ac yn addas ar gyfer pob oedran a lefel ffitrwydd. Dewch a’ch polion eich hun.
URL:https://keepingmewell.com/event/grwp-cerdded-nordig-caerdydd-11/2029-11-29/
LOCATION:Nghaffi Castan\, Nghaeau Llandaf\, Pontcanna\, Caerdydd\, CF11 9QJ
CATEGORIES:Cerdded Nordig,Cymraeg,Gweithgarwch Corfforol
ATTACH;FMTTYPE=image/png:https://keepingmewell.com/wp-content/uploads/2022/12/NWUK-Website-Final-Logo.png
END:VEVENT
BEGIN:VEVENT
DTSTART;TZID=Europe/London:20291130T130000
DTEND;TZID=Europe/London:20291130T140000
DTSTAMP:20260420T023359
CREATED:20230111T110303Z
LAST-MODIFIED:20231025T080057Z
UID:10027241-1890738000-1890741600@keepingmewell.com
SUMMARY:Grwp Cerdded Nordig yn y Barri
DESCRIPTION:Mae cerdded Nordig yn troi taith gerdded yn ymarfer corff. Mae’n addas ar gyfer pob oedran a lefel ffitrwydd. \nMwynhewch fanteision bod yn yr awyr agored\, cadw’n heini a defnyddio’ch cyhyrau tra mewn grwp cymdeithasol\, hamddenol. Mae dechreuwyr yn gallu benthyg polion. \nCyfarfod wrth y blwch post coch yn The Knap. E-bostiwch LivingWell.LivingLongerProgramme@wales.nhs.uk.
URL:https://keepingmewell.com/event/grwp-cerdded-nordig-yn-y-barri-34/2029-11-30/
LOCATION:Knap\, Barri\, CF62 6SG\, United Kingdom
CATEGORIES:Cerdded Nordig,Cymraeg,Gweithgarwch Corfforol
ATTACH;FMTTYPE=image/png:https://keepingmewell.com/wp-content/uploads/2022/12/NWUK-Website-Final-Logo.png
END:VEVENT
BEGIN:VEVENT
DTSTART;TZID=Europe/London:20291206T110000
DTEND;TZID=Europe/London:20291206T120000
DTSTAMP:20260420T023359
CREATED:20230111T114451Z
LAST-MODIFIED:20231024T145927Z
UID:10025427-1891249200-1891252800@keepingmewell.com
SUMMARY:Grwp Cerdded Nordig Caerdydd
DESCRIPTION:Mae cerdded Nordig yn troi taith gerdded yn ymarfer corff. Gan gyfarfod yng Nghaffi Castan yng Nghaeau Llandaf\, mae’r grwp \nCerdded Nordig wythnosol hwn yn gwella iechyd a ffitrwydd ac yn addas ar gyfer pob oedran a lefel ffitrwydd. Dewch a’ch polion eich hun.
URL:https://keepingmewell.com/event/grwp-cerdded-nordig-caerdydd-11/2029-12-06/
LOCATION:Nghaffi Castan\, Nghaeau Llandaf\, Pontcanna\, Caerdydd\, CF11 9QJ
CATEGORIES:Cerdded Nordig,Cymraeg,Gweithgarwch Corfforol
ATTACH;FMTTYPE=image/png:https://keepingmewell.com/wp-content/uploads/2022/12/NWUK-Website-Final-Logo.png
END:VEVENT
BEGIN:VEVENT
DTSTART;TZID=Europe/London:20291207T130000
DTEND;TZID=Europe/London:20291207T140000
DTSTAMP:20260420T023359
CREATED:20230111T110303Z
LAST-MODIFIED:20231025T080057Z
UID:10027242-1891342800-1891346400@keepingmewell.com
SUMMARY:Grwp Cerdded Nordig yn y Barri
DESCRIPTION:Mae cerdded Nordig yn troi taith gerdded yn ymarfer corff. Mae’n addas ar gyfer pob oedran a lefel ffitrwydd. \nMwynhewch fanteision bod yn yr awyr agored\, cadw’n heini a defnyddio’ch cyhyrau tra mewn grwp cymdeithasol\, hamddenol. Mae dechreuwyr yn gallu benthyg polion. \nCyfarfod wrth y blwch post coch yn The Knap. E-bostiwch LivingWell.LivingLongerProgramme@wales.nhs.uk.
URL:https://keepingmewell.com/event/grwp-cerdded-nordig-yn-y-barri-34/2029-12-07/
LOCATION:Knap\, Barri\, CF62 6SG\, United Kingdom
CATEGORIES:Cerdded Nordig,Cymraeg,Gweithgarwch Corfforol
ATTACH;FMTTYPE=image/png:https://keepingmewell.com/wp-content/uploads/2022/12/NWUK-Website-Final-Logo.png
END:VEVENT
BEGIN:VEVENT
DTSTART;TZID=Europe/London:20291213T110000
DTEND;TZID=Europe/London:20291213T120000
DTSTAMP:20260420T023359
CREATED:20230111T114451Z
LAST-MODIFIED:20231024T145927Z
UID:10025428-1891854000-1891857600@keepingmewell.com
SUMMARY:Grwp Cerdded Nordig Caerdydd
DESCRIPTION:Mae cerdded Nordig yn troi taith gerdded yn ymarfer corff. Gan gyfarfod yng Nghaffi Castan yng Nghaeau Llandaf\, mae’r grwp \nCerdded Nordig wythnosol hwn yn gwella iechyd a ffitrwydd ac yn addas ar gyfer pob oedran a lefel ffitrwydd. Dewch a’ch polion eich hun.
URL:https://keepingmewell.com/event/grwp-cerdded-nordig-caerdydd-11/2029-12-13/
LOCATION:Nghaffi Castan\, Nghaeau Llandaf\, Pontcanna\, Caerdydd\, CF11 9QJ
CATEGORIES:Cerdded Nordig,Cymraeg,Gweithgarwch Corfforol
ATTACH;FMTTYPE=image/png:https://keepingmewell.com/wp-content/uploads/2022/12/NWUK-Website-Final-Logo.png
END:VEVENT
BEGIN:VEVENT
DTSTART;TZID=Europe/London:20291214T130000
DTEND;TZID=Europe/London:20291214T140000
DTSTAMP:20260420T023359
CREATED:20230111T110303Z
LAST-MODIFIED:20231025T080057Z
UID:10027243-1891947600-1891951200@keepingmewell.com
SUMMARY:Grwp Cerdded Nordig yn y Barri
DESCRIPTION:Mae cerdded Nordig yn troi taith gerdded yn ymarfer corff. Mae’n addas ar gyfer pob oedran a lefel ffitrwydd. \nMwynhewch fanteision bod yn yr awyr agored\, cadw’n heini a defnyddio’ch cyhyrau tra mewn grwp cymdeithasol\, hamddenol. Mae dechreuwyr yn gallu benthyg polion. \nCyfarfod wrth y blwch post coch yn The Knap. E-bostiwch LivingWell.LivingLongerProgramme@wales.nhs.uk.
URL:https://keepingmewell.com/event/grwp-cerdded-nordig-yn-y-barri-34/2029-12-14/
LOCATION:Knap\, Barri\, CF62 6SG\, United Kingdom
CATEGORIES:Cerdded Nordig,Cymraeg,Gweithgarwch Corfforol
ATTACH;FMTTYPE=image/png:https://keepingmewell.com/wp-content/uploads/2022/12/NWUK-Website-Final-Logo.png
END:VEVENT
BEGIN:VEVENT
DTSTART;TZID=Europe/London:20291220T110000
DTEND;TZID=Europe/London:20291220T120000
DTSTAMP:20260420T023359
CREATED:20230111T114451Z
LAST-MODIFIED:20231024T145927Z
UID:10025429-1892458800-1892462400@keepingmewell.com
SUMMARY:Grwp Cerdded Nordig Caerdydd
DESCRIPTION:Mae cerdded Nordig yn troi taith gerdded yn ymarfer corff. Gan gyfarfod yng Nghaffi Castan yng Nghaeau Llandaf\, mae’r grwp \nCerdded Nordig wythnosol hwn yn gwella iechyd a ffitrwydd ac yn addas ar gyfer pob oedran a lefel ffitrwydd. Dewch a’ch polion eich hun.
URL:https://keepingmewell.com/event/grwp-cerdded-nordig-caerdydd-11/2029-12-20/
LOCATION:Nghaffi Castan\, Nghaeau Llandaf\, Pontcanna\, Caerdydd\, CF11 9QJ
CATEGORIES:Cerdded Nordig,Cymraeg,Gweithgarwch Corfforol
ATTACH;FMTTYPE=image/png:https://keepingmewell.com/wp-content/uploads/2022/12/NWUK-Website-Final-Logo.png
END:VEVENT
BEGIN:VEVENT
DTSTART;TZID=Europe/London:20291221T130000
DTEND;TZID=Europe/London:20291221T140000
DTSTAMP:20260420T023359
CREATED:20230111T110303Z
LAST-MODIFIED:20231025T080057Z
UID:10027244-1892552400-1892556000@keepingmewell.com
SUMMARY:Grwp Cerdded Nordig yn y Barri
DESCRIPTION:Mae cerdded Nordig yn troi taith gerdded yn ymarfer corff. Mae’n addas ar gyfer pob oedran a lefel ffitrwydd. \nMwynhewch fanteision bod yn yr awyr agored\, cadw’n heini a defnyddio’ch cyhyrau tra mewn grwp cymdeithasol\, hamddenol. Mae dechreuwyr yn gallu benthyg polion. \nCyfarfod wrth y blwch post coch yn The Knap. E-bostiwch LivingWell.LivingLongerProgramme@wales.nhs.uk.
URL:https://keepingmewell.com/event/grwp-cerdded-nordig-yn-y-barri-34/2029-12-21/
LOCATION:Knap\, Barri\, CF62 6SG\, United Kingdom
CATEGORIES:Cerdded Nordig,Cymraeg,Gweithgarwch Corfforol
ATTACH;FMTTYPE=image/png:https://keepingmewell.com/wp-content/uploads/2022/12/NWUK-Website-Final-Logo.png
END:VEVENT
BEGIN:VEVENT
DTSTART;TZID=Europe/London:20291227T110000
DTEND;TZID=Europe/London:20291227T120000
DTSTAMP:20260420T023359
CREATED:20230111T114451Z
LAST-MODIFIED:20231024T145927Z
UID:10025430-1893063600-1893067200@keepingmewell.com
SUMMARY:Grwp Cerdded Nordig Caerdydd
DESCRIPTION:Mae cerdded Nordig yn troi taith gerdded yn ymarfer corff. Gan gyfarfod yng Nghaffi Castan yng Nghaeau Llandaf\, mae’r grwp \nCerdded Nordig wythnosol hwn yn gwella iechyd a ffitrwydd ac yn addas ar gyfer pob oedran a lefel ffitrwydd. Dewch a’ch polion eich hun.
URL:https://keepingmewell.com/event/grwp-cerdded-nordig-caerdydd-11/2029-12-27/
LOCATION:Nghaffi Castan\, Nghaeau Llandaf\, Pontcanna\, Caerdydd\, CF11 9QJ
CATEGORIES:Cerdded Nordig,Cymraeg,Gweithgarwch Corfforol
ATTACH;FMTTYPE=image/png:https://keepingmewell.com/wp-content/uploads/2022/12/NWUK-Website-Final-Logo.png
END:VEVENT
BEGIN:VEVENT
DTSTART;TZID=Europe/London:20291228T130000
DTEND;TZID=Europe/London:20291228T140000
DTSTAMP:20260420T023359
CREATED:20230111T110303Z
LAST-MODIFIED:20231025T080057Z
UID:10027245-1893157200-1893160800@keepingmewell.com
SUMMARY:Grwp Cerdded Nordig yn y Barri
DESCRIPTION:Mae cerdded Nordig yn troi taith gerdded yn ymarfer corff. Mae’n addas ar gyfer pob oedran a lefel ffitrwydd. \nMwynhewch fanteision bod yn yr awyr agored\, cadw’n heini a defnyddio’ch cyhyrau tra mewn grwp cymdeithasol\, hamddenol. Mae dechreuwyr yn gallu benthyg polion. \nCyfarfod wrth y blwch post coch yn The Knap. E-bostiwch LivingWell.LivingLongerProgramme@wales.nhs.uk.
URL:https://keepingmewell.com/event/grwp-cerdded-nordig-yn-y-barri-34/2029-12-28/
LOCATION:Knap\, Barri\, CF62 6SG\, United Kingdom
CATEGORIES:Cerdded Nordig,Cymraeg,Gweithgarwch Corfforol
ATTACH;FMTTYPE=image/png:https://keepingmewell.com/wp-content/uploads/2022/12/NWUK-Website-Final-Logo.png
END:VEVENT
BEGIN:VEVENT
DTSTART;TZID=Europe/London:20300103T110000
DTEND;TZID=Europe/London:20300103T120000
DTSTAMP:20260420T023359
CREATED:20230111T114451Z
LAST-MODIFIED:20231024T145927Z
UID:10025431-1893668400-1893672000@keepingmewell.com
SUMMARY:Grwp Cerdded Nordig Caerdydd
DESCRIPTION:Mae cerdded Nordig yn troi taith gerdded yn ymarfer corff. Gan gyfarfod yng Nghaffi Castan yng Nghaeau Llandaf\, mae’r grwp \nCerdded Nordig wythnosol hwn yn gwella iechyd a ffitrwydd ac yn addas ar gyfer pob oedran a lefel ffitrwydd. Dewch a’ch polion eich hun.
URL:https://keepingmewell.com/event/grwp-cerdded-nordig-caerdydd-11/2030-01-03/
LOCATION:Nghaffi Castan\, Nghaeau Llandaf\, Pontcanna\, Caerdydd\, CF11 9QJ
CATEGORIES:Cerdded Nordig,Cymraeg,Gweithgarwch Corfforol
ATTACH;FMTTYPE=image/png:https://keepingmewell.com/wp-content/uploads/2022/12/NWUK-Website-Final-Logo.png
END:VEVENT
BEGIN:VEVENT
DTSTART;TZID=Europe/London:20300104T130000
DTEND;TZID=Europe/London:20300104T140000
DTSTAMP:20260420T023359
CREATED:20230111T110303Z
LAST-MODIFIED:20231025T080057Z
UID:10027246-1893762000-1893765600@keepingmewell.com
SUMMARY:Grwp Cerdded Nordig yn y Barri
DESCRIPTION:Mae cerdded Nordig yn troi taith gerdded yn ymarfer corff. Mae’n addas ar gyfer pob oedran a lefel ffitrwydd. \nMwynhewch fanteision bod yn yr awyr agored\, cadw’n heini a defnyddio’ch cyhyrau tra mewn grwp cymdeithasol\, hamddenol. Mae dechreuwyr yn gallu benthyg polion. \nCyfarfod wrth y blwch post coch yn The Knap. E-bostiwch LivingWell.LivingLongerProgramme@wales.nhs.uk.
URL:https://keepingmewell.com/event/grwp-cerdded-nordig-yn-y-barri-34/2030-01-04/
LOCATION:Knap\, Barri\, CF62 6SG\, United Kingdom
CATEGORIES:Cerdded Nordig,Cymraeg,Gweithgarwch Corfforol
ATTACH;FMTTYPE=image/png:https://keepingmewell.com/wp-content/uploads/2022/12/NWUK-Website-Final-Logo.png
END:VEVENT
BEGIN:VEVENT
DTSTART;TZID=Europe/London:20300110T110000
DTEND;TZID=Europe/London:20300110T120000
DTSTAMP:20260420T023359
CREATED:20230111T114451Z
LAST-MODIFIED:20231024T145927Z
UID:10025432-1894273200-1894276800@keepingmewell.com
SUMMARY:Grwp Cerdded Nordig Caerdydd
DESCRIPTION:Mae cerdded Nordig yn troi taith gerdded yn ymarfer corff. Gan gyfarfod yng Nghaffi Castan yng Nghaeau Llandaf\, mae’r grwp \nCerdded Nordig wythnosol hwn yn gwella iechyd a ffitrwydd ac yn addas ar gyfer pob oedran a lefel ffitrwydd. Dewch a’ch polion eich hun.
URL:https://keepingmewell.com/event/grwp-cerdded-nordig-caerdydd-11/2030-01-10/
LOCATION:Nghaffi Castan\, Nghaeau Llandaf\, Pontcanna\, Caerdydd\, CF11 9QJ
CATEGORIES:Cerdded Nordig,Cymraeg,Gweithgarwch Corfforol
ATTACH;FMTTYPE=image/png:https://keepingmewell.com/wp-content/uploads/2022/12/NWUK-Website-Final-Logo.png
END:VEVENT
BEGIN:VEVENT
DTSTART;TZID=Europe/London:20300111T130000
DTEND;TZID=Europe/London:20300111T140000
DTSTAMP:20260420T023359
CREATED:20230111T110303Z
LAST-MODIFIED:20231025T080057Z
UID:10027247-1894366800-1894370400@keepingmewell.com
SUMMARY:Grwp Cerdded Nordig yn y Barri
DESCRIPTION:Mae cerdded Nordig yn troi taith gerdded yn ymarfer corff. Mae’n addas ar gyfer pob oedran a lefel ffitrwydd. \nMwynhewch fanteision bod yn yr awyr agored\, cadw’n heini a defnyddio’ch cyhyrau tra mewn grwp cymdeithasol\, hamddenol. Mae dechreuwyr yn gallu benthyg polion. \nCyfarfod wrth y blwch post coch yn The Knap. E-bostiwch LivingWell.LivingLongerProgramme@wales.nhs.uk.
URL:https://keepingmewell.com/event/grwp-cerdded-nordig-yn-y-barri-34/2030-01-11/
LOCATION:Knap\, Barri\, CF62 6SG\, United Kingdom
CATEGORIES:Cerdded Nordig,Cymraeg,Gweithgarwch Corfforol
ATTACH;FMTTYPE=image/png:https://keepingmewell.com/wp-content/uploads/2022/12/NWUK-Website-Final-Logo.png
END:VEVENT
END:VCALENDAR