BEGIN:VCALENDAR
VERSION:2.0
PRODID:-//Keeping Me Well - ECPv6.15.20//NONSGML v1.0//EN
CALSCALE:GREGORIAN
METHOD:PUBLISH
X-ORIGINAL-URL:https://keepingmewell.com
X-WR-CALDESC:Events for Keeping Me Well
REFRESH-INTERVAL;VALUE=DURATION:PT1H
X-Robots-Tag:noindex
X-PUBLISHED-TTL:PT1H
BEGIN:VTIMEZONE
TZID:Europe/London
BEGIN:DAYLIGHT
TZOFFSETFROM:+0000
TZOFFSETTO:+0100
TZNAME:BST
DTSTART:20280326T010000
END:DAYLIGHT
BEGIN:STANDARD
TZOFFSETFROM:+0100
TZOFFSETTO:+0000
TZNAME:GMT
DTSTART:20281029T010000
END:STANDARD
BEGIN:DAYLIGHT
TZOFFSETFROM:+0000
TZOFFSETTO:+0100
TZNAME:BST
DTSTART:20290325T010000
END:DAYLIGHT
BEGIN:STANDARD
TZOFFSETFROM:+0100
TZOFFSETTO:+0000
TZNAME:GMT
DTSTART:20291028T010000
END:STANDARD
BEGIN:DAYLIGHT
TZOFFSETFROM:+0000
TZOFFSETTO:+0100
TZNAME:BST
DTSTART:20300331T010000
END:DAYLIGHT
BEGIN:STANDARD
TZOFFSETFROM:+0100
TZOFFSETTO:+0000
TZNAME:GMT
DTSTART:20301027T010000
END:STANDARD
BEGIN:DAYLIGHT
TZOFFSETFROM:+0000
TZOFFSETTO:+0100
TZNAME:BST
DTSTART:20310330T010000
END:DAYLIGHT
BEGIN:STANDARD
TZOFFSETFROM:+0100
TZOFFSETTO:+0000
TZNAME:GMT
DTSTART:20311026T010000
END:STANDARD
END:VTIMEZONE
BEGIN:VEVENT
DTSTART;TZID=Europe/London:20291227T110000
DTEND;TZID=Europe/London:20291227T120000
DTSTAMP:20260419T191305
CREATED:20230111T114451Z
LAST-MODIFIED:20231024T145927Z
UID:10025430-1893063600-1893067200@keepingmewell.com
SUMMARY:Grwp Cerdded Nordig Caerdydd
DESCRIPTION:Mae cerdded Nordig yn troi taith gerdded yn ymarfer corff. Gan gyfarfod yng Nghaffi Castan yng Nghaeau Llandaf\, mae’r grwp \nCerdded Nordig wythnosol hwn yn gwella iechyd a ffitrwydd ac yn addas ar gyfer pob oedran a lefel ffitrwydd. Dewch a’ch polion eich hun.
URL:https://keepingmewell.com/event/grwp-cerdded-nordig-caerdydd-11/2029-12-27/
LOCATION:Nghaffi Castan\, Nghaeau Llandaf\, Pontcanna\, Caerdydd\, CF11 9QJ
CATEGORIES:Cerdded Nordig,Cymraeg,Gweithgarwch Corfforol
ATTACH;FMTTYPE=image/png:https://keepingmewell.com/wp-content/uploads/2022/12/NWUK-Website-Final-Logo.png
END:VEVENT
BEGIN:VEVENT
DTSTART;TZID=Europe/London:20291228T130000
DTEND;TZID=Europe/London:20291228T140000
DTSTAMP:20260419T191305
CREATED:20230111T110303Z
LAST-MODIFIED:20231025T080057Z
UID:10027245-1893157200-1893160800@keepingmewell.com
SUMMARY:Grwp Cerdded Nordig yn y Barri
DESCRIPTION:Mae cerdded Nordig yn troi taith gerdded yn ymarfer corff. Mae’n addas ar gyfer pob oedran a lefel ffitrwydd. \nMwynhewch fanteision bod yn yr awyr agored\, cadw’n heini a defnyddio’ch cyhyrau tra mewn grwp cymdeithasol\, hamddenol. Mae dechreuwyr yn gallu benthyg polion. \nCyfarfod wrth y blwch post coch yn The Knap. E-bostiwch LivingWell.LivingLongerProgramme@wales.nhs.uk.
URL:https://keepingmewell.com/event/grwp-cerdded-nordig-yn-y-barri-34/2029-12-28/
LOCATION:Knap\, Barri\, CF62 6SG\, United Kingdom
CATEGORIES:Cerdded Nordig,Cymraeg,Gweithgarwch Corfforol
ATTACH;FMTTYPE=image/png:https://keepingmewell.com/wp-content/uploads/2022/12/NWUK-Website-Final-Logo.png
END:VEVENT
BEGIN:VEVENT
DTSTART;TZID=Europe/London:20300103T110000
DTEND;TZID=Europe/London:20300103T120000
DTSTAMP:20260419T191305
CREATED:20230111T114451Z
LAST-MODIFIED:20231024T145927Z
UID:10025431-1893668400-1893672000@keepingmewell.com
SUMMARY:Grwp Cerdded Nordig Caerdydd
DESCRIPTION:Mae cerdded Nordig yn troi taith gerdded yn ymarfer corff. Gan gyfarfod yng Nghaffi Castan yng Nghaeau Llandaf\, mae’r grwp \nCerdded Nordig wythnosol hwn yn gwella iechyd a ffitrwydd ac yn addas ar gyfer pob oedran a lefel ffitrwydd. Dewch a’ch polion eich hun.
URL:https://keepingmewell.com/event/grwp-cerdded-nordig-caerdydd-11/2030-01-03/
LOCATION:Nghaffi Castan\, Nghaeau Llandaf\, Pontcanna\, Caerdydd\, CF11 9QJ
CATEGORIES:Cerdded Nordig,Cymraeg,Gweithgarwch Corfforol
ATTACH;FMTTYPE=image/png:https://keepingmewell.com/wp-content/uploads/2022/12/NWUK-Website-Final-Logo.png
END:VEVENT
BEGIN:VEVENT
DTSTART;TZID=Europe/London:20300104T130000
DTEND;TZID=Europe/London:20300104T140000
DTSTAMP:20260419T191305
CREATED:20230111T110303Z
LAST-MODIFIED:20231025T080057Z
UID:10027246-1893762000-1893765600@keepingmewell.com
SUMMARY:Grwp Cerdded Nordig yn y Barri
DESCRIPTION:Mae cerdded Nordig yn troi taith gerdded yn ymarfer corff. Mae’n addas ar gyfer pob oedran a lefel ffitrwydd. \nMwynhewch fanteision bod yn yr awyr agored\, cadw’n heini a defnyddio’ch cyhyrau tra mewn grwp cymdeithasol\, hamddenol. Mae dechreuwyr yn gallu benthyg polion. \nCyfarfod wrth y blwch post coch yn The Knap. E-bostiwch LivingWell.LivingLongerProgramme@wales.nhs.uk.
URL:https://keepingmewell.com/event/grwp-cerdded-nordig-yn-y-barri-34/2030-01-04/
LOCATION:Knap\, Barri\, CF62 6SG\, United Kingdom
CATEGORIES:Cerdded Nordig,Cymraeg,Gweithgarwch Corfforol
ATTACH;FMTTYPE=image/png:https://keepingmewell.com/wp-content/uploads/2022/12/NWUK-Website-Final-Logo.png
END:VEVENT
BEGIN:VEVENT
DTSTART;TZID=Europe/London:20300110T110000
DTEND;TZID=Europe/London:20300110T120000
DTSTAMP:20260419T191305
CREATED:20230111T114451Z
LAST-MODIFIED:20231024T145927Z
UID:10025432-1894273200-1894276800@keepingmewell.com
SUMMARY:Grwp Cerdded Nordig Caerdydd
DESCRIPTION:Mae cerdded Nordig yn troi taith gerdded yn ymarfer corff. Gan gyfarfod yng Nghaffi Castan yng Nghaeau Llandaf\, mae’r grwp \nCerdded Nordig wythnosol hwn yn gwella iechyd a ffitrwydd ac yn addas ar gyfer pob oedran a lefel ffitrwydd. Dewch a’ch polion eich hun.
URL:https://keepingmewell.com/event/grwp-cerdded-nordig-caerdydd-11/2030-01-10/
LOCATION:Nghaffi Castan\, Nghaeau Llandaf\, Pontcanna\, Caerdydd\, CF11 9QJ
CATEGORIES:Cerdded Nordig,Cymraeg,Gweithgarwch Corfforol
ATTACH;FMTTYPE=image/png:https://keepingmewell.com/wp-content/uploads/2022/12/NWUK-Website-Final-Logo.png
END:VEVENT
BEGIN:VEVENT
DTSTART;TZID=Europe/London:20300111T130000
DTEND;TZID=Europe/London:20300111T140000
DTSTAMP:20260419T191305
CREATED:20230111T110303Z
LAST-MODIFIED:20231025T080057Z
UID:10027247-1894366800-1894370400@keepingmewell.com
SUMMARY:Grwp Cerdded Nordig yn y Barri
DESCRIPTION:Mae cerdded Nordig yn troi taith gerdded yn ymarfer corff. Mae’n addas ar gyfer pob oedran a lefel ffitrwydd. \nMwynhewch fanteision bod yn yr awyr agored\, cadw’n heini a defnyddio’ch cyhyrau tra mewn grwp cymdeithasol\, hamddenol. Mae dechreuwyr yn gallu benthyg polion. \nCyfarfod wrth y blwch post coch yn The Knap. E-bostiwch LivingWell.LivingLongerProgramme@wales.nhs.uk.
URL:https://keepingmewell.com/event/grwp-cerdded-nordig-yn-y-barri-34/2030-01-11/
LOCATION:Knap\, Barri\, CF62 6SG\, United Kingdom
CATEGORIES:Cerdded Nordig,Cymraeg,Gweithgarwch Corfforol
ATTACH;FMTTYPE=image/png:https://keepingmewell.com/wp-content/uploads/2022/12/NWUK-Website-Final-Logo.png
END:VEVENT
BEGIN:VEVENT
DTSTART;TZID=Europe/London:20300117T110000
DTEND;TZID=Europe/London:20300117T120000
DTSTAMP:20260419T191305
CREATED:20230111T114451Z
LAST-MODIFIED:20231024T145927Z
UID:10025433-1894878000-1894881600@keepingmewell.com
SUMMARY:Grwp Cerdded Nordig Caerdydd
DESCRIPTION:Mae cerdded Nordig yn troi taith gerdded yn ymarfer corff. Gan gyfarfod yng Nghaffi Castan yng Nghaeau Llandaf\, mae’r grwp \nCerdded Nordig wythnosol hwn yn gwella iechyd a ffitrwydd ac yn addas ar gyfer pob oedran a lefel ffitrwydd. Dewch a’ch polion eich hun.
URL:https://keepingmewell.com/event/grwp-cerdded-nordig-caerdydd-11/2030-01-17/
LOCATION:Nghaffi Castan\, Nghaeau Llandaf\, Pontcanna\, Caerdydd\, CF11 9QJ
CATEGORIES:Cerdded Nordig,Cymraeg,Gweithgarwch Corfforol
ATTACH;FMTTYPE=image/png:https://keepingmewell.com/wp-content/uploads/2022/12/NWUK-Website-Final-Logo.png
END:VEVENT
BEGIN:VEVENT
DTSTART;TZID=Europe/London:20300118T130000
DTEND;TZID=Europe/London:20300118T140000
DTSTAMP:20260419T191305
CREATED:20230111T110303Z
LAST-MODIFIED:20231025T080057Z
UID:10027248-1894971600-1894975200@keepingmewell.com
SUMMARY:Grwp Cerdded Nordig yn y Barri
DESCRIPTION:Mae cerdded Nordig yn troi taith gerdded yn ymarfer corff. Mae’n addas ar gyfer pob oedran a lefel ffitrwydd. \nMwynhewch fanteision bod yn yr awyr agored\, cadw’n heini a defnyddio’ch cyhyrau tra mewn grwp cymdeithasol\, hamddenol. Mae dechreuwyr yn gallu benthyg polion. \nCyfarfod wrth y blwch post coch yn The Knap. E-bostiwch LivingWell.LivingLongerProgramme@wales.nhs.uk.
URL:https://keepingmewell.com/event/grwp-cerdded-nordig-yn-y-barri-34/2030-01-18/
LOCATION:Knap\, Barri\, CF62 6SG\, United Kingdom
CATEGORIES:Cerdded Nordig,Cymraeg,Gweithgarwch Corfforol
ATTACH;FMTTYPE=image/png:https://keepingmewell.com/wp-content/uploads/2022/12/NWUK-Website-Final-Logo.png
END:VEVENT
BEGIN:VEVENT
DTSTART;TZID=Europe/London:20300124T110000
DTEND;TZID=Europe/London:20300124T120000
DTSTAMP:20260419T191305
CREATED:20230111T114451Z
LAST-MODIFIED:20231024T145927Z
UID:10025434-1895482800-1895486400@keepingmewell.com
SUMMARY:Grwp Cerdded Nordig Caerdydd
DESCRIPTION:Mae cerdded Nordig yn troi taith gerdded yn ymarfer corff. Gan gyfarfod yng Nghaffi Castan yng Nghaeau Llandaf\, mae’r grwp \nCerdded Nordig wythnosol hwn yn gwella iechyd a ffitrwydd ac yn addas ar gyfer pob oedran a lefel ffitrwydd. Dewch a’ch polion eich hun.
URL:https://keepingmewell.com/event/grwp-cerdded-nordig-caerdydd-11/2030-01-24/
LOCATION:Nghaffi Castan\, Nghaeau Llandaf\, Pontcanna\, Caerdydd\, CF11 9QJ
CATEGORIES:Cerdded Nordig,Cymraeg,Gweithgarwch Corfforol
ATTACH;FMTTYPE=image/png:https://keepingmewell.com/wp-content/uploads/2022/12/NWUK-Website-Final-Logo.png
END:VEVENT
BEGIN:VEVENT
DTSTART;TZID=Europe/London:20300125T130000
DTEND;TZID=Europe/London:20300125T140000
DTSTAMP:20260419T191305
CREATED:20230111T110303Z
LAST-MODIFIED:20231025T080057Z
UID:10027249-1895576400-1895580000@keepingmewell.com
SUMMARY:Grwp Cerdded Nordig yn y Barri
DESCRIPTION:Mae cerdded Nordig yn troi taith gerdded yn ymarfer corff. Mae’n addas ar gyfer pob oedran a lefel ffitrwydd. \nMwynhewch fanteision bod yn yr awyr agored\, cadw’n heini a defnyddio’ch cyhyrau tra mewn grwp cymdeithasol\, hamddenol. Mae dechreuwyr yn gallu benthyg polion. \nCyfarfod wrth y blwch post coch yn The Knap. E-bostiwch LivingWell.LivingLongerProgramme@wales.nhs.uk.
URL:https://keepingmewell.com/event/grwp-cerdded-nordig-yn-y-barri-34/2030-01-25/
LOCATION:Knap\, Barri\, CF62 6SG\, United Kingdom
CATEGORIES:Cerdded Nordig,Cymraeg,Gweithgarwch Corfforol
ATTACH;FMTTYPE=image/png:https://keepingmewell.com/wp-content/uploads/2022/12/NWUK-Website-Final-Logo.png
END:VEVENT
BEGIN:VEVENT
DTSTART;TZID=Europe/London:20300131T110000
DTEND;TZID=Europe/London:20300131T120000
DTSTAMP:20260419T191305
CREATED:20230111T114451Z
LAST-MODIFIED:20231024T145927Z
UID:10025435-1896087600-1896091200@keepingmewell.com
SUMMARY:Grwp Cerdded Nordig Caerdydd
DESCRIPTION:Mae cerdded Nordig yn troi taith gerdded yn ymarfer corff. Gan gyfarfod yng Nghaffi Castan yng Nghaeau Llandaf\, mae’r grwp \nCerdded Nordig wythnosol hwn yn gwella iechyd a ffitrwydd ac yn addas ar gyfer pob oedran a lefel ffitrwydd. Dewch a’ch polion eich hun.
URL:https://keepingmewell.com/event/grwp-cerdded-nordig-caerdydd-11/2030-01-31/
LOCATION:Nghaffi Castan\, Nghaeau Llandaf\, Pontcanna\, Caerdydd\, CF11 9QJ
CATEGORIES:Cerdded Nordig,Cymraeg,Gweithgarwch Corfforol
ATTACH;FMTTYPE=image/png:https://keepingmewell.com/wp-content/uploads/2022/12/NWUK-Website-Final-Logo.png
END:VEVENT
BEGIN:VEVENT
DTSTART;TZID=Europe/London:20300201T130000
DTEND;TZID=Europe/London:20300201T140000
DTSTAMP:20260419T191305
CREATED:20230111T110303Z
LAST-MODIFIED:20231025T080057Z
UID:10027250-1896181200-1896184800@keepingmewell.com
SUMMARY:Grwp Cerdded Nordig yn y Barri
DESCRIPTION:Mae cerdded Nordig yn troi taith gerdded yn ymarfer corff. Mae’n addas ar gyfer pob oedran a lefel ffitrwydd. \nMwynhewch fanteision bod yn yr awyr agored\, cadw’n heini a defnyddio’ch cyhyrau tra mewn grwp cymdeithasol\, hamddenol. Mae dechreuwyr yn gallu benthyg polion. \nCyfarfod wrth y blwch post coch yn The Knap. E-bostiwch LivingWell.LivingLongerProgramme@wales.nhs.uk.
URL:https://keepingmewell.com/event/grwp-cerdded-nordig-yn-y-barri-34/2030-02-01/
LOCATION:Knap\, Barri\, CF62 6SG\, United Kingdom
CATEGORIES:Cerdded Nordig,Cymraeg,Gweithgarwch Corfforol
ATTACH;FMTTYPE=image/png:https://keepingmewell.com/wp-content/uploads/2022/12/NWUK-Website-Final-Logo.png
END:VEVENT
BEGIN:VEVENT
DTSTART;TZID=Europe/London:20300207T110000
DTEND;TZID=Europe/London:20300207T120000
DTSTAMP:20260419T191305
CREATED:20230111T114451Z
LAST-MODIFIED:20231024T145927Z
UID:10025436-1896692400-1896696000@keepingmewell.com
SUMMARY:Grwp Cerdded Nordig Caerdydd
DESCRIPTION:Mae cerdded Nordig yn troi taith gerdded yn ymarfer corff. Gan gyfarfod yng Nghaffi Castan yng Nghaeau Llandaf\, mae’r grwp \nCerdded Nordig wythnosol hwn yn gwella iechyd a ffitrwydd ac yn addas ar gyfer pob oedran a lefel ffitrwydd. Dewch a’ch polion eich hun.
URL:https://keepingmewell.com/event/grwp-cerdded-nordig-caerdydd-11/2030-02-07/
LOCATION:Nghaffi Castan\, Nghaeau Llandaf\, Pontcanna\, Caerdydd\, CF11 9QJ
CATEGORIES:Cerdded Nordig,Cymraeg,Gweithgarwch Corfforol
ATTACH;FMTTYPE=image/png:https://keepingmewell.com/wp-content/uploads/2022/12/NWUK-Website-Final-Logo.png
END:VEVENT
BEGIN:VEVENT
DTSTART;TZID=Europe/London:20300208T130000
DTEND;TZID=Europe/London:20300208T140000
DTSTAMP:20260419T191305
CREATED:20230111T110303Z
LAST-MODIFIED:20231025T080057Z
UID:10027251-1896786000-1896789600@keepingmewell.com
SUMMARY:Grwp Cerdded Nordig yn y Barri
DESCRIPTION:Mae cerdded Nordig yn troi taith gerdded yn ymarfer corff. Mae’n addas ar gyfer pob oedran a lefel ffitrwydd. \nMwynhewch fanteision bod yn yr awyr agored\, cadw’n heini a defnyddio’ch cyhyrau tra mewn grwp cymdeithasol\, hamddenol. Mae dechreuwyr yn gallu benthyg polion. \nCyfarfod wrth y blwch post coch yn The Knap. E-bostiwch LivingWell.LivingLongerProgramme@wales.nhs.uk.
URL:https://keepingmewell.com/event/grwp-cerdded-nordig-yn-y-barri-34/2030-02-08/
LOCATION:Knap\, Barri\, CF62 6SG\, United Kingdom
CATEGORIES:Cerdded Nordig,Cymraeg,Gweithgarwch Corfforol
ATTACH;FMTTYPE=image/png:https://keepingmewell.com/wp-content/uploads/2022/12/NWUK-Website-Final-Logo.png
END:VEVENT
BEGIN:VEVENT
DTSTART;TZID=Europe/London:20300214T110000
DTEND;TZID=Europe/London:20300214T120000
DTSTAMP:20260419T191305
CREATED:20230111T114451Z
LAST-MODIFIED:20231024T145927Z
UID:10025437-1897297200-1897300800@keepingmewell.com
SUMMARY:Grwp Cerdded Nordig Caerdydd
DESCRIPTION:Mae cerdded Nordig yn troi taith gerdded yn ymarfer corff. Gan gyfarfod yng Nghaffi Castan yng Nghaeau Llandaf\, mae’r grwp \nCerdded Nordig wythnosol hwn yn gwella iechyd a ffitrwydd ac yn addas ar gyfer pob oedran a lefel ffitrwydd. Dewch a’ch polion eich hun.
URL:https://keepingmewell.com/event/grwp-cerdded-nordig-caerdydd-11/2030-02-14/
LOCATION:Nghaffi Castan\, Nghaeau Llandaf\, Pontcanna\, Caerdydd\, CF11 9QJ
CATEGORIES:Cerdded Nordig,Cymraeg,Gweithgarwch Corfforol
ATTACH;FMTTYPE=image/png:https://keepingmewell.com/wp-content/uploads/2022/12/NWUK-Website-Final-Logo.png
END:VEVENT
BEGIN:VEVENT
DTSTART;TZID=Europe/London:20300215T130000
DTEND;TZID=Europe/London:20300215T140000
DTSTAMP:20260419T191305
CREATED:20230111T110303Z
LAST-MODIFIED:20231025T080057Z
UID:10027252-1897390800-1897394400@keepingmewell.com
SUMMARY:Grwp Cerdded Nordig yn y Barri
DESCRIPTION:Mae cerdded Nordig yn troi taith gerdded yn ymarfer corff. Mae’n addas ar gyfer pob oedran a lefel ffitrwydd. \nMwynhewch fanteision bod yn yr awyr agored\, cadw’n heini a defnyddio’ch cyhyrau tra mewn grwp cymdeithasol\, hamddenol. Mae dechreuwyr yn gallu benthyg polion. \nCyfarfod wrth y blwch post coch yn The Knap. E-bostiwch LivingWell.LivingLongerProgramme@wales.nhs.uk.
URL:https://keepingmewell.com/event/grwp-cerdded-nordig-yn-y-barri-34/2030-02-15/
LOCATION:Knap\, Barri\, CF62 6SG\, United Kingdom
CATEGORIES:Cerdded Nordig,Cymraeg,Gweithgarwch Corfforol
ATTACH;FMTTYPE=image/png:https://keepingmewell.com/wp-content/uploads/2022/12/NWUK-Website-Final-Logo.png
END:VEVENT
BEGIN:VEVENT
DTSTART;TZID=Europe/London:20300221T110000
DTEND;TZID=Europe/London:20300221T120000
DTSTAMP:20260419T191305
CREATED:20230111T114451Z
LAST-MODIFIED:20231024T145927Z
UID:10025438-1897902000-1897905600@keepingmewell.com
SUMMARY:Grwp Cerdded Nordig Caerdydd
DESCRIPTION:Mae cerdded Nordig yn troi taith gerdded yn ymarfer corff. Gan gyfarfod yng Nghaffi Castan yng Nghaeau Llandaf\, mae’r grwp \nCerdded Nordig wythnosol hwn yn gwella iechyd a ffitrwydd ac yn addas ar gyfer pob oedran a lefel ffitrwydd. Dewch a’ch polion eich hun.
URL:https://keepingmewell.com/event/grwp-cerdded-nordig-caerdydd-11/2030-02-21/
LOCATION:Nghaffi Castan\, Nghaeau Llandaf\, Pontcanna\, Caerdydd\, CF11 9QJ
CATEGORIES:Cerdded Nordig,Cymraeg,Gweithgarwch Corfforol
ATTACH;FMTTYPE=image/png:https://keepingmewell.com/wp-content/uploads/2022/12/NWUK-Website-Final-Logo.png
END:VEVENT
BEGIN:VEVENT
DTSTART;TZID=Europe/London:20300222T130000
DTEND;TZID=Europe/London:20300222T140000
DTSTAMP:20260419T191305
CREATED:20230111T110303Z
LAST-MODIFIED:20231025T080057Z
UID:10027253-1897995600-1897999200@keepingmewell.com
SUMMARY:Grwp Cerdded Nordig yn y Barri
DESCRIPTION:Mae cerdded Nordig yn troi taith gerdded yn ymarfer corff. Mae’n addas ar gyfer pob oedran a lefel ffitrwydd. \nMwynhewch fanteision bod yn yr awyr agored\, cadw’n heini a defnyddio’ch cyhyrau tra mewn grwp cymdeithasol\, hamddenol. Mae dechreuwyr yn gallu benthyg polion. \nCyfarfod wrth y blwch post coch yn The Knap. E-bostiwch LivingWell.LivingLongerProgramme@wales.nhs.uk.
URL:https://keepingmewell.com/event/grwp-cerdded-nordig-yn-y-barri-34/2030-02-22/
LOCATION:Knap\, Barri\, CF62 6SG\, United Kingdom
CATEGORIES:Cerdded Nordig,Cymraeg,Gweithgarwch Corfforol
ATTACH;FMTTYPE=image/png:https://keepingmewell.com/wp-content/uploads/2022/12/NWUK-Website-Final-Logo.png
END:VEVENT
BEGIN:VEVENT
DTSTART;TZID=Europe/London:20300228T110000
DTEND;TZID=Europe/London:20300228T120000
DTSTAMP:20260419T191305
CREATED:20230111T114451Z
LAST-MODIFIED:20231024T145927Z
UID:10025439-1898506800-1898510400@keepingmewell.com
SUMMARY:Grwp Cerdded Nordig Caerdydd
DESCRIPTION:Mae cerdded Nordig yn troi taith gerdded yn ymarfer corff. Gan gyfarfod yng Nghaffi Castan yng Nghaeau Llandaf\, mae’r grwp \nCerdded Nordig wythnosol hwn yn gwella iechyd a ffitrwydd ac yn addas ar gyfer pob oedran a lefel ffitrwydd. Dewch a’ch polion eich hun.
URL:https://keepingmewell.com/event/grwp-cerdded-nordig-caerdydd-11/2030-02-28/
LOCATION:Nghaffi Castan\, Nghaeau Llandaf\, Pontcanna\, Caerdydd\, CF11 9QJ
CATEGORIES:Cerdded Nordig,Cymraeg,Gweithgarwch Corfforol
ATTACH;FMTTYPE=image/png:https://keepingmewell.com/wp-content/uploads/2022/12/NWUK-Website-Final-Logo.png
END:VEVENT
BEGIN:VEVENT
DTSTART;TZID=Europe/London:20300301T130000
DTEND;TZID=Europe/London:20300301T140000
DTSTAMP:20260419T191305
CREATED:20230111T110303Z
LAST-MODIFIED:20231025T080057Z
UID:10027254-1898600400-1898604000@keepingmewell.com
SUMMARY:Grwp Cerdded Nordig yn y Barri
DESCRIPTION:Mae cerdded Nordig yn troi taith gerdded yn ymarfer corff. Mae’n addas ar gyfer pob oedran a lefel ffitrwydd. \nMwynhewch fanteision bod yn yr awyr agored\, cadw’n heini a defnyddio’ch cyhyrau tra mewn grwp cymdeithasol\, hamddenol. Mae dechreuwyr yn gallu benthyg polion. \nCyfarfod wrth y blwch post coch yn The Knap. E-bostiwch LivingWell.LivingLongerProgramme@wales.nhs.uk.
URL:https://keepingmewell.com/event/grwp-cerdded-nordig-yn-y-barri-34/2030-03-01/
LOCATION:Knap\, Barri\, CF62 6SG\, United Kingdom
CATEGORIES:Cerdded Nordig,Cymraeg,Gweithgarwch Corfforol
ATTACH;FMTTYPE=image/png:https://keepingmewell.com/wp-content/uploads/2022/12/NWUK-Website-Final-Logo.png
END:VEVENT
BEGIN:VEVENT
DTSTART;TZID=Europe/London:20300307T110000
DTEND;TZID=Europe/London:20300307T120000
DTSTAMP:20260419T191305
CREATED:20230111T114451Z
LAST-MODIFIED:20231024T145927Z
UID:10025440-1899111600-1899115200@keepingmewell.com
SUMMARY:Grwp Cerdded Nordig Caerdydd
DESCRIPTION:Mae cerdded Nordig yn troi taith gerdded yn ymarfer corff. Gan gyfarfod yng Nghaffi Castan yng Nghaeau Llandaf\, mae’r grwp \nCerdded Nordig wythnosol hwn yn gwella iechyd a ffitrwydd ac yn addas ar gyfer pob oedran a lefel ffitrwydd. Dewch a’ch polion eich hun.
URL:https://keepingmewell.com/event/grwp-cerdded-nordig-caerdydd-11/2030-03-07/
LOCATION:Nghaffi Castan\, Nghaeau Llandaf\, Pontcanna\, Caerdydd\, CF11 9QJ
CATEGORIES:Cerdded Nordig,Cymraeg,Gweithgarwch Corfforol
ATTACH;FMTTYPE=image/png:https://keepingmewell.com/wp-content/uploads/2022/12/NWUK-Website-Final-Logo.png
END:VEVENT
BEGIN:VEVENT
DTSTART;TZID=Europe/London:20300308T130000
DTEND;TZID=Europe/London:20300308T140000
DTSTAMP:20260419T191305
CREATED:20230111T110303Z
LAST-MODIFIED:20231025T080057Z
UID:10027255-1899205200-1899208800@keepingmewell.com
SUMMARY:Grwp Cerdded Nordig yn y Barri
DESCRIPTION:Mae cerdded Nordig yn troi taith gerdded yn ymarfer corff. Mae’n addas ar gyfer pob oedran a lefel ffitrwydd. \nMwynhewch fanteision bod yn yr awyr agored\, cadw’n heini a defnyddio’ch cyhyrau tra mewn grwp cymdeithasol\, hamddenol. Mae dechreuwyr yn gallu benthyg polion. \nCyfarfod wrth y blwch post coch yn The Knap. E-bostiwch LivingWell.LivingLongerProgramme@wales.nhs.uk.
URL:https://keepingmewell.com/event/grwp-cerdded-nordig-yn-y-barri-34/2030-03-08/
LOCATION:Knap\, Barri\, CF62 6SG\, United Kingdom
CATEGORIES:Cerdded Nordig,Cymraeg,Gweithgarwch Corfforol
ATTACH;FMTTYPE=image/png:https://keepingmewell.com/wp-content/uploads/2022/12/NWUK-Website-Final-Logo.png
END:VEVENT
BEGIN:VEVENT
DTSTART;TZID=Europe/London:20300314T110000
DTEND;TZID=Europe/London:20300314T120000
DTSTAMP:20260419T191305
CREATED:20230111T114451Z
LAST-MODIFIED:20231024T145927Z
UID:10025441-1899716400-1899720000@keepingmewell.com
SUMMARY:Grwp Cerdded Nordig Caerdydd
DESCRIPTION:Mae cerdded Nordig yn troi taith gerdded yn ymarfer corff. Gan gyfarfod yng Nghaffi Castan yng Nghaeau Llandaf\, mae’r grwp \nCerdded Nordig wythnosol hwn yn gwella iechyd a ffitrwydd ac yn addas ar gyfer pob oedran a lefel ffitrwydd. Dewch a’ch polion eich hun.
URL:https://keepingmewell.com/event/grwp-cerdded-nordig-caerdydd-11/2030-03-14/
LOCATION:Nghaffi Castan\, Nghaeau Llandaf\, Pontcanna\, Caerdydd\, CF11 9QJ
CATEGORIES:Cerdded Nordig,Cymraeg,Gweithgarwch Corfforol
ATTACH;FMTTYPE=image/png:https://keepingmewell.com/wp-content/uploads/2022/12/NWUK-Website-Final-Logo.png
END:VEVENT
BEGIN:VEVENT
DTSTART;TZID=Europe/London:20300315T130000
DTEND;TZID=Europe/London:20300315T140000
DTSTAMP:20260419T191305
CREATED:20230111T110303Z
LAST-MODIFIED:20231025T080057Z
UID:10027256-1899810000-1899813600@keepingmewell.com
SUMMARY:Grwp Cerdded Nordig yn y Barri
DESCRIPTION:Mae cerdded Nordig yn troi taith gerdded yn ymarfer corff. Mae’n addas ar gyfer pob oedran a lefel ffitrwydd. \nMwynhewch fanteision bod yn yr awyr agored\, cadw’n heini a defnyddio’ch cyhyrau tra mewn grwp cymdeithasol\, hamddenol. Mae dechreuwyr yn gallu benthyg polion. \nCyfarfod wrth y blwch post coch yn The Knap. E-bostiwch LivingWell.LivingLongerProgramme@wales.nhs.uk.
URL:https://keepingmewell.com/event/grwp-cerdded-nordig-yn-y-barri-34/2030-03-15/
LOCATION:Knap\, Barri\, CF62 6SG\, United Kingdom
CATEGORIES:Cerdded Nordig,Cymraeg,Gweithgarwch Corfforol
ATTACH;FMTTYPE=image/png:https://keepingmewell.com/wp-content/uploads/2022/12/NWUK-Website-Final-Logo.png
END:VEVENT
BEGIN:VEVENT
DTSTART;TZID=Europe/London:20300321T110000
DTEND;TZID=Europe/London:20300321T120000
DTSTAMP:20260419T191305
CREATED:20230111T114451Z
LAST-MODIFIED:20231024T145927Z
UID:10025442-1900321200-1900324800@keepingmewell.com
SUMMARY:Grwp Cerdded Nordig Caerdydd
DESCRIPTION:Mae cerdded Nordig yn troi taith gerdded yn ymarfer corff. Gan gyfarfod yng Nghaffi Castan yng Nghaeau Llandaf\, mae’r grwp \nCerdded Nordig wythnosol hwn yn gwella iechyd a ffitrwydd ac yn addas ar gyfer pob oedran a lefel ffitrwydd. Dewch a’ch polion eich hun.
URL:https://keepingmewell.com/event/grwp-cerdded-nordig-caerdydd-11/2030-03-21/
LOCATION:Nghaffi Castan\, Nghaeau Llandaf\, Pontcanna\, Caerdydd\, CF11 9QJ
CATEGORIES:Cerdded Nordig,Cymraeg,Gweithgarwch Corfforol
ATTACH;FMTTYPE=image/png:https://keepingmewell.com/wp-content/uploads/2022/12/NWUK-Website-Final-Logo.png
END:VEVENT
BEGIN:VEVENT
DTSTART;TZID=Europe/London:20300322T130000
DTEND;TZID=Europe/London:20300322T140000
DTSTAMP:20260419T191305
CREATED:20230111T110303Z
LAST-MODIFIED:20231025T080057Z
UID:10027257-1900414800-1900418400@keepingmewell.com
SUMMARY:Grwp Cerdded Nordig yn y Barri
DESCRIPTION:Mae cerdded Nordig yn troi taith gerdded yn ymarfer corff. Mae’n addas ar gyfer pob oedran a lefel ffitrwydd. \nMwynhewch fanteision bod yn yr awyr agored\, cadw’n heini a defnyddio’ch cyhyrau tra mewn grwp cymdeithasol\, hamddenol. Mae dechreuwyr yn gallu benthyg polion. \nCyfarfod wrth y blwch post coch yn The Knap. E-bostiwch LivingWell.LivingLongerProgramme@wales.nhs.uk.
URL:https://keepingmewell.com/event/grwp-cerdded-nordig-yn-y-barri-34/2030-03-22/
LOCATION:Knap\, Barri\, CF62 6SG\, United Kingdom
CATEGORIES:Cerdded Nordig,Cymraeg,Gweithgarwch Corfforol
ATTACH;FMTTYPE=image/png:https://keepingmewell.com/wp-content/uploads/2022/12/NWUK-Website-Final-Logo.png
END:VEVENT
BEGIN:VEVENT
DTSTART;TZID=Europe/London:20300328T110000
DTEND;TZID=Europe/London:20300328T120000
DTSTAMP:20260419T191305
CREATED:20230111T114451Z
LAST-MODIFIED:20231024T145927Z
UID:10025443-1900926000-1900929600@keepingmewell.com
SUMMARY:Grwp Cerdded Nordig Caerdydd
DESCRIPTION:Mae cerdded Nordig yn troi taith gerdded yn ymarfer corff. Gan gyfarfod yng Nghaffi Castan yng Nghaeau Llandaf\, mae’r grwp \nCerdded Nordig wythnosol hwn yn gwella iechyd a ffitrwydd ac yn addas ar gyfer pob oedran a lefel ffitrwydd. Dewch a’ch polion eich hun.
URL:https://keepingmewell.com/event/grwp-cerdded-nordig-caerdydd-11/2030-03-28/
LOCATION:Nghaffi Castan\, Nghaeau Llandaf\, Pontcanna\, Caerdydd\, CF11 9QJ
CATEGORIES:Cerdded Nordig,Cymraeg,Gweithgarwch Corfforol
ATTACH;FMTTYPE=image/png:https://keepingmewell.com/wp-content/uploads/2022/12/NWUK-Website-Final-Logo.png
END:VEVENT
BEGIN:VEVENT
DTSTART;TZID=Europe/London:20300329T130000
DTEND;TZID=Europe/London:20300329T140000
DTSTAMP:20260419T191305
CREATED:20230111T110303Z
LAST-MODIFIED:20231025T080057Z
UID:10027258-1901019600-1901023200@keepingmewell.com
SUMMARY:Grwp Cerdded Nordig yn y Barri
DESCRIPTION:Mae cerdded Nordig yn troi taith gerdded yn ymarfer corff. Mae’n addas ar gyfer pob oedran a lefel ffitrwydd. \nMwynhewch fanteision bod yn yr awyr agored\, cadw’n heini a defnyddio’ch cyhyrau tra mewn grwp cymdeithasol\, hamddenol. Mae dechreuwyr yn gallu benthyg polion. \nCyfarfod wrth y blwch post coch yn The Knap. E-bostiwch LivingWell.LivingLongerProgramme@wales.nhs.uk.
URL:https://keepingmewell.com/event/grwp-cerdded-nordig-yn-y-barri-34/2030-03-29/
LOCATION:Knap\, Barri\, CF62 6SG\, United Kingdom
CATEGORIES:Cerdded Nordig,Cymraeg,Gweithgarwch Corfforol
ATTACH;FMTTYPE=image/png:https://keepingmewell.com/wp-content/uploads/2022/12/NWUK-Website-Final-Logo.png
END:VEVENT
BEGIN:VEVENT
DTSTART;TZID=Europe/London:20300404T110000
DTEND;TZID=Europe/London:20300404T120000
DTSTAMP:20260419T191305
CREATED:20230111T114451Z
LAST-MODIFIED:20231024T145927Z
UID:10025444-1901530800-1901534400@keepingmewell.com
SUMMARY:Grwp Cerdded Nordig Caerdydd
DESCRIPTION:Mae cerdded Nordig yn troi taith gerdded yn ymarfer corff. Gan gyfarfod yng Nghaffi Castan yng Nghaeau Llandaf\, mae’r grwp \nCerdded Nordig wythnosol hwn yn gwella iechyd a ffitrwydd ac yn addas ar gyfer pob oedran a lefel ffitrwydd. Dewch a’ch polion eich hun.
URL:https://keepingmewell.com/event/grwp-cerdded-nordig-caerdydd-11/2030-04-04/
LOCATION:Nghaffi Castan\, Nghaeau Llandaf\, Pontcanna\, Caerdydd\, CF11 9QJ
CATEGORIES:Cerdded Nordig,Cymraeg,Gweithgarwch Corfforol
ATTACH;FMTTYPE=image/png:https://keepingmewell.com/wp-content/uploads/2022/12/NWUK-Website-Final-Logo.png
END:VEVENT
BEGIN:VEVENT
DTSTART;TZID=Europe/London:20300405T130000
DTEND;TZID=Europe/London:20300405T140000
DTSTAMP:20260419T191305
CREATED:20230111T110303Z
LAST-MODIFIED:20231025T080057Z
UID:10027259-1901624400-1901628000@keepingmewell.com
SUMMARY:Grwp Cerdded Nordig yn y Barri
DESCRIPTION:Mae cerdded Nordig yn troi taith gerdded yn ymarfer corff. Mae’n addas ar gyfer pob oedran a lefel ffitrwydd. \nMwynhewch fanteision bod yn yr awyr agored\, cadw’n heini a defnyddio’ch cyhyrau tra mewn grwp cymdeithasol\, hamddenol. Mae dechreuwyr yn gallu benthyg polion. \nCyfarfod wrth y blwch post coch yn The Knap. E-bostiwch LivingWell.LivingLongerProgramme@wales.nhs.uk.
URL:https://keepingmewell.com/event/grwp-cerdded-nordig-yn-y-barri-34/2030-04-05/
LOCATION:Knap\, Barri\, CF62 6SG\, United Kingdom
CATEGORIES:Cerdded Nordig,Cymraeg,Gweithgarwch Corfforol
ATTACH;FMTTYPE=image/png:https://keepingmewell.com/wp-content/uploads/2022/12/NWUK-Website-Final-Logo.png
END:VEVENT
END:VCALENDAR