BEGIN:VCALENDAR
VERSION:2.0
PRODID:-//Keeping Me Well - ECPv6.15.20//NONSGML v1.0//EN
CALSCALE:GREGORIAN
METHOD:PUBLISH
X-WR-CALNAME:Keeping Me Well
X-ORIGINAL-URL:https://keepingmewell.com
X-WR-CALDESC:Events for Keeping Me Well
REFRESH-INTERVAL;VALUE=DURATION:PT1H
X-Robots-Tag:noindex
X-PUBLISHED-TTL:PT1H
BEGIN:VTIMEZONE
TZID:Europe/London
BEGIN:DAYLIGHT
TZOFFSETFROM:+0000
TZOFFSETTO:+0100
TZNAME:BST
DTSTART:20290325T010000
END:DAYLIGHT
BEGIN:STANDARD
TZOFFSETFROM:+0100
TZOFFSETTO:+0000
TZNAME:GMT
DTSTART:20291028T010000
END:STANDARD
BEGIN:DAYLIGHT
TZOFFSETFROM:+0000
TZOFFSETTO:+0100
TZNAME:BST
DTSTART:20300331T010000
END:DAYLIGHT
BEGIN:STANDARD
TZOFFSETFROM:+0100
TZOFFSETTO:+0000
TZNAME:GMT
DTSTART:20301027T010000
END:STANDARD
BEGIN:DAYLIGHT
TZOFFSETFROM:+0000
TZOFFSETTO:+0100
TZNAME:BST
DTSTART:20310330T010000
END:DAYLIGHT
BEGIN:STANDARD
TZOFFSETFROM:+0100
TZOFFSETTO:+0000
TZNAME:GMT
DTSTART:20311026T010000
END:STANDARD
END:VTIMEZONE
BEGIN:VEVENT
DTSTART;TZID=Europe/London:20300321T110000
DTEND;TZID=Europe/London:20300321T120000
DTSTAMP:20260422T102111
CREATED:20230111T114451Z
LAST-MODIFIED:20231024T145927Z
UID:10025442-1900321200-1900324800@keepingmewell.com
SUMMARY:Grwp Cerdded Nordig Caerdydd
DESCRIPTION:Mae cerdded Nordig yn troi taith gerdded yn ymarfer corff. Gan gyfarfod yng Nghaffi Castan yng Nghaeau Llandaf\, mae’r grwp \nCerdded Nordig wythnosol hwn yn gwella iechyd a ffitrwydd ac yn addas ar gyfer pob oedran a lefel ffitrwydd. Dewch a’ch polion eich hun.
URL:https://keepingmewell.com/event/grwp-cerdded-nordig-caerdydd-11/2030-03-21/
LOCATION:Nghaffi Castan\, Nghaeau Llandaf\, Pontcanna\, Caerdydd\, CF11 9QJ
CATEGORIES:Cerdded Nordig,Cymraeg,Gweithgarwch Corfforol
ATTACH;FMTTYPE=image/png:https://keepingmewell.com/wp-content/uploads/2022/12/NWUK-Website-Final-Logo.png
END:VEVENT
BEGIN:VEVENT
DTSTART;TZID=Europe/London:20300322T130000
DTEND;TZID=Europe/London:20300322T140000
DTSTAMP:20260422T102111
CREATED:20230111T110303Z
LAST-MODIFIED:20231025T080057Z
UID:10027257-1900414800-1900418400@keepingmewell.com
SUMMARY:Grwp Cerdded Nordig yn y Barri
DESCRIPTION:Mae cerdded Nordig yn troi taith gerdded yn ymarfer corff. Mae’n addas ar gyfer pob oedran a lefel ffitrwydd. \nMwynhewch fanteision bod yn yr awyr agored\, cadw’n heini a defnyddio’ch cyhyrau tra mewn grwp cymdeithasol\, hamddenol. Mae dechreuwyr yn gallu benthyg polion. \nCyfarfod wrth y blwch post coch yn The Knap. E-bostiwch LivingWell.LivingLongerProgramme@wales.nhs.uk.
URL:https://keepingmewell.com/event/grwp-cerdded-nordig-yn-y-barri-34/2030-03-22/
LOCATION:Knap\, Barri\, CF62 6SG\, United Kingdom
CATEGORIES:Cerdded Nordig,Cymraeg,Gweithgarwch Corfforol
ATTACH;FMTTYPE=image/png:https://keepingmewell.com/wp-content/uploads/2022/12/NWUK-Website-Final-Logo.png
END:VEVENT
BEGIN:VEVENT
DTSTART;TZID=Europe/London:20300328T110000
DTEND;TZID=Europe/London:20300328T120000
DTSTAMP:20260422T102111
CREATED:20230111T114451Z
LAST-MODIFIED:20231024T145927Z
UID:10025443-1900926000-1900929600@keepingmewell.com
SUMMARY:Grwp Cerdded Nordig Caerdydd
DESCRIPTION:Mae cerdded Nordig yn troi taith gerdded yn ymarfer corff. Gan gyfarfod yng Nghaffi Castan yng Nghaeau Llandaf\, mae’r grwp \nCerdded Nordig wythnosol hwn yn gwella iechyd a ffitrwydd ac yn addas ar gyfer pob oedran a lefel ffitrwydd. Dewch a’ch polion eich hun.
URL:https://keepingmewell.com/event/grwp-cerdded-nordig-caerdydd-11/2030-03-28/
LOCATION:Nghaffi Castan\, Nghaeau Llandaf\, Pontcanna\, Caerdydd\, CF11 9QJ
CATEGORIES:Cerdded Nordig,Cymraeg,Gweithgarwch Corfforol
ATTACH;FMTTYPE=image/png:https://keepingmewell.com/wp-content/uploads/2022/12/NWUK-Website-Final-Logo.png
END:VEVENT
BEGIN:VEVENT
DTSTART;TZID=Europe/London:20300329T130000
DTEND;TZID=Europe/London:20300329T140000
DTSTAMP:20260422T102111
CREATED:20230111T110303Z
LAST-MODIFIED:20231025T080057Z
UID:10027258-1901019600-1901023200@keepingmewell.com
SUMMARY:Grwp Cerdded Nordig yn y Barri
DESCRIPTION:Mae cerdded Nordig yn troi taith gerdded yn ymarfer corff. Mae’n addas ar gyfer pob oedran a lefel ffitrwydd. \nMwynhewch fanteision bod yn yr awyr agored\, cadw’n heini a defnyddio’ch cyhyrau tra mewn grwp cymdeithasol\, hamddenol. Mae dechreuwyr yn gallu benthyg polion. \nCyfarfod wrth y blwch post coch yn The Knap. E-bostiwch LivingWell.LivingLongerProgramme@wales.nhs.uk.
URL:https://keepingmewell.com/event/grwp-cerdded-nordig-yn-y-barri-34/2030-03-29/
LOCATION:Knap\, Barri\, CF62 6SG\, United Kingdom
CATEGORIES:Cerdded Nordig,Cymraeg,Gweithgarwch Corfforol
ATTACH;FMTTYPE=image/png:https://keepingmewell.com/wp-content/uploads/2022/12/NWUK-Website-Final-Logo.png
END:VEVENT
BEGIN:VEVENT
DTSTART;TZID=Europe/London:20300404T110000
DTEND;TZID=Europe/London:20300404T120000
DTSTAMP:20260422T102111
CREATED:20230111T114451Z
LAST-MODIFIED:20231024T145927Z
UID:10025444-1901530800-1901534400@keepingmewell.com
SUMMARY:Grwp Cerdded Nordig Caerdydd
DESCRIPTION:Mae cerdded Nordig yn troi taith gerdded yn ymarfer corff. Gan gyfarfod yng Nghaffi Castan yng Nghaeau Llandaf\, mae’r grwp \nCerdded Nordig wythnosol hwn yn gwella iechyd a ffitrwydd ac yn addas ar gyfer pob oedran a lefel ffitrwydd. Dewch a’ch polion eich hun.
URL:https://keepingmewell.com/event/grwp-cerdded-nordig-caerdydd-11/2030-04-04/
LOCATION:Nghaffi Castan\, Nghaeau Llandaf\, Pontcanna\, Caerdydd\, CF11 9QJ
CATEGORIES:Cerdded Nordig,Cymraeg,Gweithgarwch Corfforol
ATTACH;FMTTYPE=image/png:https://keepingmewell.com/wp-content/uploads/2022/12/NWUK-Website-Final-Logo.png
END:VEVENT
BEGIN:VEVENT
DTSTART;TZID=Europe/London:20300405T130000
DTEND;TZID=Europe/London:20300405T140000
DTSTAMP:20260422T102111
CREATED:20230111T110303Z
LAST-MODIFIED:20231025T080057Z
UID:10027259-1901624400-1901628000@keepingmewell.com
SUMMARY:Grwp Cerdded Nordig yn y Barri
DESCRIPTION:Mae cerdded Nordig yn troi taith gerdded yn ymarfer corff. Mae’n addas ar gyfer pob oedran a lefel ffitrwydd. \nMwynhewch fanteision bod yn yr awyr agored\, cadw’n heini a defnyddio’ch cyhyrau tra mewn grwp cymdeithasol\, hamddenol. Mae dechreuwyr yn gallu benthyg polion. \nCyfarfod wrth y blwch post coch yn The Knap. E-bostiwch LivingWell.LivingLongerProgramme@wales.nhs.uk.
URL:https://keepingmewell.com/event/grwp-cerdded-nordig-yn-y-barri-34/2030-04-05/
LOCATION:Knap\, Barri\, CF62 6SG\, United Kingdom
CATEGORIES:Cerdded Nordig,Cymraeg,Gweithgarwch Corfforol
ATTACH;FMTTYPE=image/png:https://keepingmewell.com/wp-content/uploads/2022/12/NWUK-Website-Final-Logo.png
END:VEVENT
BEGIN:VEVENT
DTSTART;TZID=Europe/London:20300411T110000
DTEND;TZID=Europe/London:20300411T120000
DTSTAMP:20260422T102111
CREATED:20230111T114451Z
LAST-MODIFIED:20231024T145927Z
UID:10025445-1902135600-1902139200@keepingmewell.com
SUMMARY:Grwp Cerdded Nordig Caerdydd
DESCRIPTION:Mae cerdded Nordig yn troi taith gerdded yn ymarfer corff. Gan gyfarfod yng Nghaffi Castan yng Nghaeau Llandaf\, mae’r grwp \nCerdded Nordig wythnosol hwn yn gwella iechyd a ffitrwydd ac yn addas ar gyfer pob oedran a lefel ffitrwydd. Dewch a’ch polion eich hun.
URL:https://keepingmewell.com/event/grwp-cerdded-nordig-caerdydd-11/2030-04-11/
LOCATION:Nghaffi Castan\, Nghaeau Llandaf\, Pontcanna\, Caerdydd\, CF11 9QJ
CATEGORIES:Cerdded Nordig,Cymraeg,Gweithgarwch Corfforol
ATTACH;FMTTYPE=image/png:https://keepingmewell.com/wp-content/uploads/2022/12/NWUK-Website-Final-Logo.png
END:VEVENT
BEGIN:VEVENT
DTSTART;TZID=Europe/London:20300412T130000
DTEND;TZID=Europe/London:20300412T140000
DTSTAMP:20260422T102111
CREATED:20230111T110303Z
LAST-MODIFIED:20231025T080057Z
UID:10027260-1902229200-1902232800@keepingmewell.com
SUMMARY:Grwp Cerdded Nordig yn y Barri
DESCRIPTION:Mae cerdded Nordig yn troi taith gerdded yn ymarfer corff. Mae’n addas ar gyfer pob oedran a lefel ffitrwydd. \nMwynhewch fanteision bod yn yr awyr agored\, cadw’n heini a defnyddio’ch cyhyrau tra mewn grwp cymdeithasol\, hamddenol. Mae dechreuwyr yn gallu benthyg polion. \nCyfarfod wrth y blwch post coch yn The Knap. E-bostiwch LivingWell.LivingLongerProgramme@wales.nhs.uk.
URL:https://keepingmewell.com/event/grwp-cerdded-nordig-yn-y-barri-34/2030-04-12/
LOCATION:Knap\, Barri\, CF62 6SG\, United Kingdom
CATEGORIES:Cerdded Nordig,Cymraeg,Gweithgarwch Corfforol
ATTACH;FMTTYPE=image/png:https://keepingmewell.com/wp-content/uploads/2022/12/NWUK-Website-Final-Logo.png
END:VEVENT
BEGIN:VEVENT
DTSTART;TZID=Europe/London:20300418T110000
DTEND;TZID=Europe/London:20300418T120000
DTSTAMP:20260422T102111
CREATED:20230111T114451Z
LAST-MODIFIED:20231024T145927Z
UID:10025446-1902740400-1902744000@keepingmewell.com
SUMMARY:Grwp Cerdded Nordig Caerdydd
DESCRIPTION:Mae cerdded Nordig yn troi taith gerdded yn ymarfer corff. Gan gyfarfod yng Nghaffi Castan yng Nghaeau Llandaf\, mae’r grwp \nCerdded Nordig wythnosol hwn yn gwella iechyd a ffitrwydd ac yn addas ar gyfer pob oedran a lefel ffitrwydd. Dewch a’ch polion eich hun.
URL:https://keepingmewell.com/event/grwp-cerdded-nordig-caerdydd-11/2030-04-18/
LOCATION:Nghaffi Castan\, Nghaeau Llandaf\, Pontcanna\, Caerdydd\, CF11 9QJ
CATEGORIES:Cerdded Nordig,Cymraeg,Gweithgarwch Corfforol
ATTACH;FMTTYPE=image/png:https://keepingmewell.com/wp-content/uploads/2022/12/NWUK-Website-Final-Logo.png
END:VEVENT
BEGIN:VEVENT
DTSTART;TZID=Europe/London:20300419T130000
DTEND;TZID=Europe/London:20300419T140000
DTSTAMP:20260422T102111
CREATED:20230111T110303Z
LAST-MODIFIED:20231025T080057Z
UID:10027261-1902834000-1902837600@keepingmewell.com
SUMMARY:Grwp Cerdded Nordig yn y Barri
DESCRIPTION:Mae cerdded Nordig yn troi taith gerdded yn ymarfer corff. Mae’n addas ar gyfer pob oedran a lefel ffitrwydd. \nMwynhewch fanteision bod yn yr awyr agored\, cadw’n heini a defnyddio’ch cyhyrau tra mewn grwp cymdeithasol\, hamddenol. Mae dechreuwyr yn gallu benthyg polion. \nCyfarfod wrth y blwch post coch yn The Knap. E-bostiwch LivingWell.LivingLongerProgramme@wales.nhs.uk.
URL:https://keepingmewell.com/event/grwp-cerdded-nordig-yn-y-barri-34/2030-04-19/
LOCATION:Knap\, Barri\, CF62 6SG\, United Kingdom
CATEGORIES:Cerdded Nordig,Cymraeg,Gweithgarwch Corfforol
ATTACH;FMTTYPE=image/png:https://keepingmewell.com/wp-content/uploads/2022/12/NWUK-Website-Final-Logo.png
END:VEVENT
BEGIN:VEVENT
DTSTART;TZID=Europe/London:20300425T110000
DTEND;TZID=Europe/London:20300425T120000
DTSTAMP:20260422T102111
CREATED:20230111T114451Z
LAST-MODIFIED:20231024T145927Z
UID:10025447-1903345200-1903348800@keepingmewell.com
SUMMARY:Grwp Cerdded Nordig Caerdydd
DESCRIPTION:Mae cerdded Nordig yn troi taith gerdded yn ymarfer corff. Gan gyfarfod yng Nghaffi Castan yng Nghaeau Llandaf\, mae’r grwp \nCerdded Nordig wythnosol hwn yn gwella iechyd a ffitrwydd ac yn addas ar gyfer pob oedran a lefel ffitrwydd. Dewch a’ch polion eich hun.
URL:https://keepingmewell.com/event/grwp-cerdded-nordig-caerdydd-11/2030-04-25/
LOCATION:Nghaffi Castan\, Nghaeau Llandaf\, Pontcanna\, Caerdydd\, CF11 9QJ
CATEGORIES:Cerdded Nordig,Cymraeg,Gweithgarwch Corfforol
ATTACH;FMTTYPE=image/png:https://keepingmewell.com/wp-content/uploads/2022/12/NWUK-Website-Final-Logo.png
END:VEVENT
BEGIN:VEVENT
DTSTART;TZID=Europe/London:20300426T130000
DTEND;TZID=Europe/London:20300426T140000
DTSTAMP:20260422T102111
CREATED:20230111T110303Z
LAST-MODIFIED:20231025T080057Z
UID:10027262-1903438800-1903442400@keepingmewell.com
SUMMARY:Grwp Cerdded Nordig yn y Barri
DESCRIPTION:Mae cerdded Nordig yn troi taith gerdded yn ymarfer corff. Mae’n addas ar gyfer pob oedran a lefel ffitrwydd. \nMwynhewch fanteision bod yn yr awyr agored\, cadw’n heini a defnyddio’ch cyhyrau tra mewn grwp cymdeithasol\, hamddenol. Mae dechreuwyr yn gallu benthyg polion. \nCyfarfod wrth y blwch post coch yn The Knap. E-bostiwch LivingWell.LivingLongerProgramme@wales.nhs.uk.
URL:https://keepingmewell.com/event/grwp-cerdded-nordig-yn-y-barri-34/2030-04-26/
LOCATION:Knap\, Barri\, CF62 6SG\, United Kingdom
CATEGORIES:Cerdded Nordig,Cymraeg,Gweithgarwch Corfforol
ATTACH;FMTTYPE=image/png:https://keepingmewell.com/wp-content/uploads/2022/12/NWUK-Website-Final-Logo.png
END:VEVENT
BEGIN:VEVENT
DTSTART;TZID=Europe/London:20300502T110000
DTEND;TZID=Europe/London:20300502T120000
DTSTAMP:20260422T102111
CREATED:20230111T114451Z
LAST-MODIFIED:20231024T145927Z
UID:10025448-1903950000-1903953600@keepingmewell.com
SUMMARY:Grwp Cerdded Nordig Caerdydd
DESCRIPTION:Mae cerdded Nordig yn troi taith gerdded yn ymarfer corff. Gan gyfarfod yng Nghaffi Castan yng Nghaeau Llandaf\, mae’r grwp \nCerdded Nordig wythnosol hwn yn gwella iechyd a ffitrwydd ac yn addas ar gyfer pob oedran a lefel ffitrwydd. Dewch a’ch polion eich hun.
URL:https://keepingmewell.com/event/grwp-cerdded-nordig-caerdydd-11/2030-05-02/
LOCATION:Nghaffi Castan\, Nghaeau Llandaf\, Pontcanna\, Caerdydd\, CF11 9QJ
CATEGORIES:Cerdded Nordig,Cymraeg,Gweithgarwch Corfforol
ATTACH;FMTTYPE=image/png:https://keepingmewell.com/wp-content/uploads/2022/12/NWUK-Website-Final-Logo.png
END:VEVENT
BEGIN:VEVENT
DTSTART;TZID=Europe/London:20300503T130000
DTEND;TZID=Europe/London:20300503T140000
DTSTAMP:20260422T102111
CREATED:20230111T110303Z
LAST-MODIFIED:20231025T080057Z
UID:10027263-1904043600-1904047200@keepingmewell.com
SUMMARY:Grwp Cerdded Nordig yn y Barri
DESCRIPTION:Mae cerdded Nordig yn troi taith gerdded yn ymarfer corff. Mae’n addas ar gyfer pob oedran a lefel ffitrwydd. \nMwynhewch fanteision bod yn yr awyr agored\, cadw’n heini a defnyddio’ch cyhyrau tra mewn grwp cymdeithasol\, hamddenol. Mae dechreuwyr yn gallu benthyg polion. \nCyfarfod wrth y blwch post coch yn The Knap. E-bostiwch LivingWell.LivingLongerProgramme@wales.nhs.uk.
URL:https://keepingmewell.com/event/grwp-cerdded-nordig-yn-y-barri-34/2030-05-03/
LOCATION:Knap\, Barri\, CF62 6SG\, United Kingdom
CATEGORIES:Cerdded Nordig,Cymraeg,Gweithgarwch Corfforol
ATTACH;FMTTYPE=image/png:https://keepingmewell.com/wp-content/uploads/2022/12/NWUK-Website-Final-Logo.png
END:VEVENT
BEGIN:VEVENT
DTSTART;TZID=Europe/London:20300509T110000
DTEND;TZID=Europe/London:20300509T120000
DTSTAMP:20260422T102111
CREATED:20230111T114451Z
LAST-MODIFIED:20231024T145927Z
UID:10025449-1904554800-1904558400@keepingmewell.com
SUMMARY:Grwp Cerdded Nordig Caerdydd
DESCRIPTION:Mae cerdded Nordig yn troi taith gerdded yn ymarfer corff. Gan gyfarfod yng Nghaffi Castan yng Nghaeau Llandaf\, mae’r grwp \nCerdded Nordig wythnosol hwn yn gwella iechyd a ffitrwydd ac yn addas ar gyfer pob oedran a lefel ffitrwydd. Dewch a’ch polion eich hun.
URL:https://keepingmewell.com/event/grwp-cerdded-nordig-caerdydd-11/2030-05-09/
LOCATION:Nghaffi Castan\, Nghaeau Llandaf\, Pontcanna\, Caerdydd\, CF11 9QJ
CATEGORIES:Cerdded Nordig,Cymraeg,Gweithgarwch Corfforol
ATTACH;FMTTYPE=image/png:https://keepingmewell.com/wp-content/uploads/2022/12/NWUK-Website-Final-Logo.png
END:VEVENT
BEGIN:VEVENT
DTSTART;TZID=Europe/London:20300510T130000
DTEND;TZID=Europe/London:20300510T140000
DTSTAMP:20260422T102111
CREATED:20230111T110303Z
LAST-MODIFIED:20231025T080057Z
UID:10027264-1904648400-1904652000@keepingmewell.com
SUMMARY:Grwp Cerdded Nordig yn y Barri
DESCRIPTION:Mae cerdded Nordig yn troi taith gerdded yn ymarfer corff. Mae’n addas ar gyfer pob oedran a lefel ffitrwydd. \nMwynhewch fanteision bod yn yr awyr agored\, cadw’n heini a defnyddio’ch cyhyrau tra mewn grwp cymdeithasol\, hamddenol. Mae dechreuwyr yn gallu benthyg polion. \nCyfarfod wrth y blwch post coch yn The Knap. E-bostiwch LivingWell.LivingLongerProgramme@wales.nhs.uk.
URL:https://keepingmewell.com/event/grwp-cerdded-nordig-yn-y-barri-34/2030-05-10/
LOCATION:Knap\, Barri\, CF62 6SG\, United Kingdom
CATEGORIES:Cerdded Nordig,Cymraeg,Gweithgarwch Corfforol
ATTACH;FMTTYPE=image/png:https://keepingmewell.com/wp-content/uploads/2022/12/NWUK-Website-Final-Logo.png
END:VEVENT
BEGIN:VEVENT
DTSTART;TZID=Europe/London:20300516T110000
DTEND;TZID=Europe/London:20300516T120000
DTSTAMP:20260422T102111
CREATED:20230111T114451Z
LAST-MODIFIED:20231024T145927Z
UID:10025450-1905159600-1905163200@keepingmewell.com
SUMMARY:Grwp Cerdded Nordig Caerdydd
DESCRIPTION:Mae cerdded Nordig yn troi taith gerdded yn ymarfer corff. Gan gyfarfod yng Nghaffi Castan yng Nghaeau Llandaf\, mae’r grwp \nCerdded Nordig wythnosol hwn yn gwella iechyd a ffitrwydd ac yn addas ar gyfer pob oedran a lefel ffitrwydd. Dewch a’ch polion eich hun.
URL:https://keepingmewell.com/event/grwp-cerdded-nordig-caerdydd-11/2030-05-16/
LOCATION:Nghaffi Castan\, Nghaeau Llandaf\, Pontcanna\, Caerdydd\, CF11 9QJ
CATEGORIES:Cerdded Nordig,Cymraeg,Gweithgarwch Corfforol
ATTACH;FMTTYPE=image/png:https://keepingmewell.com/wp-content/uploads/2022/12/NWUK-Website-Final-Logo.png
END:VEVENT
BEGIN:VEVENT
DTSTART;TZID=Europe/London:20300517T130000
DTEND;TZID=Europe/London:20300517T140000
DTSTAMP:20260422T102111
CREATED:20230111T110303Z
LAST-MODIFIED:20231025T080057Z
UID:10027265-1905253200-1905256800@keepingmewell.com
SUMMARY:Grwp Cerdded Nordig yn y Barri
DESCRIPTION:Mae cerdded Nordig yn troi taith gerdded yn ymarfer corff. Mae’n addas ar gyfer pob oedran a lefel ffitrwydd. \nMwynhewch fanteision bod yn yr awyr agored\, cadw’n heini a defnyddio’ch cyhyrau tra mewn grwp cymdeithasol\, hamddenol. Mae dechreuwyr yn gallu benthyg polion. \nCyfarfod wrth y blwch post coch yn The Knap. E-bostiwch LivingWell.LivingLongerProgramme@wales.nhs.uk.
URL:https://keepingmewell.com/event/grwp-cerdded-nordig-yn-y-barri-34/2030-05-17/
LOCATION:Knap\, Barri\, CF62 6SG\, United Kingdom
CATEGORIES:Cerdded Nordig,Cymraeg,Gweithgarwch Corfforol
ATTACH;FMTTYPE=image/png:https://keepingmewell.com/wp-content/uploads/2022/12/NWUK-Website-Final-Logo.png
END:VEVENT
BEGIN:VEVENT
DTSTART;TZID=Europe/London:20300523T110000
DTEND;TZID=Europe/London:20300523T120000
DTSTAMP:20260422T102111
CREATED:20230111T114451Z
LAST-MODIFIED:20231024T145927Z
UID:10025451-1905764400-1905768000@keepingmewell.com
SUMMARY:Grwp Cerdded Nordig Caerdydd
DESCRIPTION:Mae cerdded Nordig yn troi taith gerdded yn ymarfer corff. Gan gyfarfod yng Nghaffi Castan yng Nghaeau Llandaf\, mae’r grwp \nCerdded Nordig wythnosol hwn yn gwella iechyd a ffitrwydd ac yn addas ar gyfer pob oedran a lefel ffitrwydd. Dewch a’ch polion eich hun.
URL:https://keepingmewell.com/event/grwp-cerdded-nordig-caerdydd-11/2030-05-23/
LOCATION:Nghaffi Castan\, Nghaeau Llandaf\, Pontcanna\, Caerdydd\, CF11 9QJ
CATEGORIES:Cerdded Nordig,Cymraeg,Gweithgarwch Corfforol
ATTACH;FMTTYPE=image/png:https://keepingmewell.com/wp-content/uploads/2022/12/NWUK-Website-Final-Logo.png
END:VEVENT
BEGIN:VEVENT
DTSTART;TZID=Europe/London:20300524T130000
DTEND;TZID=Europe/London:20300524T140000
DTSTAMP:20260422T102111
CREATED:20230111T110303Z
LAST-MODIFIED:20231025T080057Z
UID:10027266-1905858000-1905861600@keepingmewell.com
SUMMARY:Grwp Cerdded Nordig yn y Barri
DESCRIPTION:Mae cerdded Nordig yn troi taith gerdded yn ymarfer corff. Mae’n addas ar gyfer pob oedran a lefel ffitrwydd. \nMwynhewch fanteision bod yn yr awyr agored\, cadw’n heini a defnyddio’ch cyhyrau tra mewn grwp cymdeithasol\, hamddenol. Mae dechreuwyr yn gallu benthyg polion. \nCyfarfod wrth y blwch post coch yn The Knap. E-bostiwch LivingWell.LivingLongerProgramme@wales.nhs.uk.
URL:https://keepingmewell.com/event/grwp-cerdded-nordig-yn-y-barri-34/2030-05-24/
LOCATION:Knap\, Barri\, CF62 6SG\, United Kingdom
CATEGORIES:Cerdded Nordig,Cymraeg,Gweithgarwch Corfforol
ATTACH;FMTTYPE=image/png:https://keepingmewell.com/wp-content/uploads/2022/12/NWUK-Website-Final-Logo.png
END:VEVENT
BEGIN:VEVENT
DTSTART;TZID=Europe/London:20300530T110000
DTEND;TZID=Europe/London:20300530T120000
DTSTAMP:20260422T102111
CREATED:20230111T114451Z
LAST-MODIFIED:20231024T145927Z
UID:10025452-1906369200-1906372800@keepingmewell.com
SUMMARY:Grwp Cerdded Nordig Caerdydd
DESCRIPTION:Mae cerdded Nordig yn troi taith gerdded yn ymarfer corff. Gan gyfarfod yng Nghaffi Castan yng Nghaeau Llandaf\, mae’r grwp \nCerdded Nordig wythnosol hwn yn gwella iechyd a ffitrwydd ac yn addas ar gyfer pob oedran a lefel ffitrwydd. Dewch a’ch polion eich hun.
URL:https://keepingmewell.com/event/grwp-cerdded-nordig-caerdydd-11/2030-05-30/
LOCATION:Nghaffi Castan\, Nghaeau Llandaf\, Pontcanna\, Caerdydd\, CF11 9QJ
CATEGORIES:Cerdded Nordig,Cymraeg,Gweithgarwch Corfforol
ATTACH;FMTTYPE=image/png:https://keepingmewell.com/wp-content/uploads/2022/12/NWUK-Website-Final-Logo.png
END:VEVENT
BEGIN:VEVENT
DTSTART;TZID=Europe/London:20300531T130000
DTEND;TZID=Europe/London:20300531T140000
DTSTAMP:20260422T102111
CREATED:20230111T110303Z
LAST-MODIFIED:20231025T080057Z
UID:10027267-1906462800-1906466400@keepingmewell.com
SUMMARY:Grwp Cerdded Nordig yn y Barri
DESCRIPTION:Mae cerdded Nordig yn troi taith gerdded yn ymarfer corff. Mae’n addas ar gyfer pob oedran a lefel ffitrwydd. \nMwynhewch fanteision bod yn yr awyr agored\, cadw’n heini a defnyddio’ch cyhyrau tra mewn grwp cymdeithasol\, hamddenol. Mae dechreuwyr yn gallu benthyg polion. \nCyfarfod wrth y blwch post coch yn The Knap. E-bostiwch LivingWell.LivingLongerProgramme@wales.nhs.uk.
URL:https://keepingmewell.com/event/grwp-cerdded-nordig-yn-y-barri-34/2030-05-31/
LOCATION:Knap\, Barri\, CF62 6SG\, United Kingdom
CATEGORIES:Cerdded Nordig,Cymraeg,Gweithgarwch Corfforol
ATTACH;FMTTYPE=image/png:https://keepingmewell.com/wp-content/uploads/2022/12/NWUK-Website-Final-Logo.png
END:VEVENT
BEGIN:VEVENT
DTSTART;TZID=Europe/London:20300606T110000
DTEND;TZID=Europe/London:20300606T120000
DTSTAMP:20260422T102111
CREATED:20230111T114451Z
LAST-MODIFIED:20231024T145927Z
UID:10025453-1906974000-1906977600@keepingmewell.com
SUMMARY:Grwp Cerdded Nordig Caerdydd
DESCRIPTION:Mae cerdded Nordig yn troi taith gerdded yn ymarfer corff. Gan gyfarfod yng Nghaffi Castan yng Nghaeau Llandaf\, mae’r grwp \nCerdded Nordig wythnosol hwn yn gwella iechyd a ffitrwydd ac yn addas ar gyfer pob oedran a lefel ffitrwydd. Dewch a’ch polion eich hun.
URL:https://keepingmewell.com/event/grwp-cerdded-nordig-caerdydd-11/2030-06-06/
LOCATION:Nghaffi Castan\, Nghaeau Llandaf\, Pontcanna\, Caerdydd\, CF11 9QJ
CATEGORIES:Cerdded Nordig,Cymraeg,Gweithgarwch Corfforol
ATTACH;FMTTYPE=image/png:https://keepingmewell.com/wp-content/uploads/2022/12/NWUK-Website-Final-Logo.png
END:VEVENT
BEGIN:VEVENT
DTSTART;TZID=Europe/London:20300607T130000
DTEND;TZID=Europe/London:20300607T140000
DTSTAMP:20260422T102111
CREATED:20230111T110303Z
LAST-MODIFIED:20231025T080057Z
UID:10027268-1907067600-1907071200@keepingmewell.com
SUMMARY:Grwp Cerdded Nordig yn y Barri
DESCRIPTION:Mae cerdded Nordig yn troi taith gerdded yn ymarfer corff. Mae’n addas ar gyfer pob oedran a lefel ffitrwydd. \nMwynhewch fanteision bod yn yr awyr agored\, cadw’n heini a defnyddio’ch cyhyrau tra mewn grwp cymdeithasol\, hamddenol. Mae dechreuwyr yn gallu benthyg polion. \nCyfarfod wrth y blwch post coch yn The Knap. E-bostiwch LivingWell.LivingLongerProgramme@wales.nhs.uk.
URL:https://keepingmewell.com/event/grwp-cerdded-nordig-yn-y-barri-34/2030-06-07/
LOCATION:Knap\, Barri\, CF62 6SG\, United Kingdom
CATEGORIES:Cerdded Nordig,Cymraeg,Gweithgarwch Corfforol
ATTACH;FMTTYPE=image/png:https://keepingmewell.com/wp-content/uploads/2022/12/NWUK-Website-Final-Logo.png
END:VEVENT
BEGIN:VEVENT
DTSTART;TZID=Europe/London:20300613T110000
DTEND;TZID=Europe/London:20300613T120000
DTSTAMP:20260422T102111
CREATED:20230111T114451Z
LAST-MODIFIED:20231024T145927Z
UID:10025454-1907578800-1907582400@keepingmewell.com
SUMMARY:Grwp Cerdded Nordig Caerdydd
DESCRIPTION:Mae cerdded Nordig yn troi taith gerdded yn ymarfer corff. Gan gyfarfod yng Nghaffi Castan yng Nghaeau Llandaf\, mae’r grwp \nCerdded Nordig wythnosol hwn yn gwella iechyd a ffitrwydd ac yn addas ar gyfer pob oedran a lefel ffitrwydd. Dewch a’ch polion eich hun.
URL:https://keepingmewell.com/event/grwp-cerdded-nordig-caerdydd-11/2030-06-13/
LOCATION:Nghaffi Castan\, Nghaeau Llandaf\, Pontcanna\, Caerdydd\, CF11 9QJ
CATEGORIES:Cerdded Nordig,Cymraeg,Gweithgarwch Corfforol
ATTACH;FMTTYPE=image/png:https://keepingmewell.com/wp-content/uploads/2022/12/NWUK-Website-Final-Logo.png
END:VEVENT
BEGIN:VEVENT
DTSTART;TZID=Europe/London:20300614T130000
DTEND;TZID=Europe/London:20300614T140000
DTSTAMP:20260422T102111
CREATED:20230111T110303Z
LAST-MODIFIED:20231025T080057Z
UID:10027269-1907672400-1907676000@keepingmewell.com
SUMMARY:Grwp Cerdded Nordig yn y Barri
DESCRIPTION:Mae cerdded Nordig yn troi taith gerdded yn ymarfer corff. Mae’n addas ar gyfer pob oedran a lefel ffitrwydd. \nMwynhewch fanteision bod yn yr awyr agored\, cadw’n heini a defnyddio’ch cyhyrau tra mewn grwp cymdeithasol\, hamddenol. Mae dechreuwyr yn gallu benthyg polion. \nCyfarfod wrth y blwch post coch yn The Knap. E-bostiwch LivingWell.LivingLongerProgramme@wales.nhs.uk.
URL:https://keepingmewell.com/event/grwp-cerdded-nordig-yn-y-barri-34/2030-06-14/
LOCATION:Knap\, Barri\, CF62 6SG\, United Kingdom
CATEGORIES:Cerdded Nordig,Cymraeg,Gweithgarwch Corfforol
ATTACH;FMTTYPE=image/png:https://keepingmewell.com/wp-content/uploads/2022/12/NWUK-Website-Final-Logo.png
END:VEVENT
BEGIN:VEVENT
DTSTART;TZID=Europe/London:20300620T110000
DTEND;TZID=Europe/London:20300620T120000
DTSTAMP:20260422T102111
CREATED:20230111T114451Z
LAST-MODIFIED:20231024T145927Z
UID:10025455-1908183600-1908187200@keepingmewell.com
SUMMARY:Grwp Cerdded Nordig Caerdydd
DESCRIPTION:Mae cerdded Nordig yn troi taith gerdded yn ymarfer corff. Gan gyfarfod yng Nghaffi Castan yng Nghaeau Llandaf\, mae’r grwp \nCerdded Nordig wythnosol hwn yn gwella iechyd a ffitrwydd ac yn addas ar gyfer pob oedran a lefel ffitrwydd. Dewch a’ch polion eich hun.
URL:https://keepingmewell.com/event/grwp-cerdded-nordig-caerdydd-11/2030-06-20/
LOCATION:Nghaffi Castan\, Nghaeau Llandaf\, Pontcanna\, Caerdydd\, CF11 9QJ
CATEGORIES:Cerdded Nordig,Cymraeg,Gweithgarwch Corfforol
ATTACH;FMTTYPE=image/png:https://keepingmewell.com/wp-content/uploads/2022/12/NWUK-Website-Final-Logo.png
END:VEVENT
BEGIN:VEVENT
DTSTART;TZID=Europe/London:20300621T130000
DTEND;TZID=Europe/London:20300621T140000
DTSTAMP:20260422T102111
CREATED:20230111T110303Z
LAST-MODIFIED:20231025T080057Z
UID:10027270-1908277200-1908280800@keepingmewell.com
SUMMARY:Grwp Cerdded Nordig yn y Barri
DESCRIPTION:Mae cerdded Nordig yn troi taith gerdded yn ymarfer corff. Mae’n addas ar gyfer pob oedran a lefel ffitrwydd. \nMwynhewch fanteision bod yn yr awyr agored\, cadw’n heini a defnyddio’ch cyhyrau tra mewn grwp cymdeithasol\, hamddenol. Mae dechreuwyr yn gallu benthyg polion. \nCyfarfod wrth y blwch post coch yn The Knap. E-bostiwch LivingWell.LivingLongerProgramme@wales.nhs.uk.
URL:https://keepingmewell.com/event/grwp-cerdded-nordig-yn-y-barri-34/2030-06-21/
LOCATION:Knap\, Barri\, CF62 6SG\, United Kingdom
CATEGORIES:Cerdded Nordig,Cymraeg,Gweithgarwch Corfforol
ATTACH;FMTTYPE=image/png:https://keepingmewell.com/wp-content/uploads/2022/12/NWUK-Website-Final-Logo.png
END:VEVENT
BEGIN:VEVENT
DTSTART;TZID=Europe/London:20300627T110000
DTEND;TZID=Europe/London:20300627T120000
DTSTAMP:20260422T102111
CREATED:20230111T114451Z
LAST-MODIFIED:20231024T145927Z
UID:10025456-1908788400-1908792000@keepingmewell.com
SUMMARY:Grwp Cerdded Nordig Caerdydd
DESCRIPTION:Mae cerdded Nordig yn troi taith gerdded yn ymarfer corff. Gan gyfarfod yng Nghaffi Castan yng Nghaeau Llandaf\, mae’r grwp \nCerdded Nordig wythnosol hwn yn gwella iechyd a ffitrwydd ac yn addas ar gyfer pob oedran a lefel ffitrwydd. Dewch a’ch polion eich hun.
URL:https://keepingmewell.com/event/grwp-cerdded-nordig-caerdydd-11/2030-06-27/
LOCATION:Nghaffi Castan\, Nghaeau Llandaf\, Pontcanna\, Caerdydd\, CF11 9QJ
CATEGORIES:Cerdded Nordig,Cymraeg,Gweithgarwch Corfforol
ATTACH;FMTTYPE=image/png:https://keepingmewell.com/wp-content/uploads/2022/12/NWUK-Website-Final-Logo.png
END:VEVENT
BEGIN:VEVENT
DTSTART;TZID=Europe/London:20300628T130000
DTEND;TZID=Europe/London:20300628T140000
DTSTAMP:20260422T102111
CREATED:20230111T110303Z
LAST-MODIFIED:20231025T080057Z
UID:10027271-1908882000-1908885600@keepingmewell.com
SUMMARY:Grwp Cerdded Nordig yn y Barri
DESCRIPTION:Mae cerdded Nordig yn troi taith gerdded yn ymarfer corff. Mae’n addas ar gyfer pob oedran a lefel ffitrwydd. \nMwynhewch fanteision bod yn yr awyr agored\, cadw’n heini a defnyddio’ch cyhyrau tra mewn grwp cymdeithasol\, hamddenol. Mae dechreuwyr yn gallu benthyg polion. \nCyfarfod wrth y blwch post coch yn The Knap. E-bostiwch LivingWell.LivingLongerProgramme@wales.nhs.uk.
URL:https://keepingmewell.com/event/grwp-cerdded-nordig-yn-y-barri-34/2030-06-28/
LOCATION:Knap\, Barri\, CF62 6SG\, United Kingdom
CATEGORIES:Cerdded Nordig,Cymraeg,Gweithgarwch Corfforol
ATTACH;FMTTYPE=image/png:https://keepingmewell.com/wp-content/uploads/2022/12/NWUK-Website-Final-Logo.png
END:VEVENT
END:VCALENDAR