BEGIN:VCALENDAR
VERSION:2.0
PRODID:-//Keeping Me Well - ECPv6.15.20//NONSGML v1.0//EN
CALSCALE:GREGORIAN
METHOD:PUBLISH
X-ORIGINAL-URL:https://keepingmewell.com
X-WR-CALDESC:Events for Keeping Me Well
REFRESH-INTERVAL;VALUE=DURATION:PT1H
X-Robots-Tag:noindex
X-PUBLISHED-TTL:PT1H
BEGIN:VTIMEZONE
TZID:Europe/London
BEGIN:DAYLIGHT
TZOFFSETFROM:+0000
TZOFFSETTO:+0100
TZNAME:BST
DTSTART:20300331T010000
END:DAYLIGHT
BEGIN:STANDARD
TZOFFSETFROM:+0100
TZOFFSETTO:+0000
TZNAME:GMT
DTSTART:20301027T010000
END:STANDARD
BEGIN:DAYLIGHT
TZOFFSETFROM:+0000
TZOFFSETTO:+0100
TZNAME:BST
DTSTART:20310330T010000
END:DAYLIGHT
BEGIN:STANDARD
TZOFFSETFROM:+0100
TZOFFSETTO:+0000
TZNAME:GMT
DTSTART:20311026T010000
END:STANDARD
BEGIN:DAYLIGHT
TZOFFSETFROM:+0000
TZOFFSETTO:+0100
TZNAME:BST
DTSTART:20320328T010000
END:DAYLIGHT
BEGIN:STANDARD
TZOFFSETFROM:+0100
TZOFFSETTO:+0000
TZNAME:GMT
DTSTART:20321031T010000
END:STANDARD
END:VTIMEZONE
BEGIN:VEVENT
DTSTART;TZID=Europe/London:20310410T110000
DTEND;TZID=Europe/London:20310410T120000
DTSTAMP:20260424T175037
CREATED:20230111T114451Z
LAST-MODIFIED:20231024T145927Z
UID:10036066-1933585200-1933588800@keepingmewell.com
SUMMARY:Grwp Cerdded Nordig Caerdydd
DESCRIPTION:Mae cerdded Nordig yn troi taith gerdded yn ymarfer corff. Gan gyfarfod yng Nghaffi Castan yng Nghaeau Llandaf\, mae’r grwp \nCerdded Nordig wythnosol hwn yn gwella iechyd a ffitrwydd ac yn addas ar gyfer pob oedran a lefel ffitrwydd. Dewch a’ch polion eich hun.
URL:https://keepingmewell.com/event/grwp-cerdded-nordig-caerdydd-11/2031-04-10/
LOCATION:Nghaffi Castan\, Nghaeau Llandaf\, Pontcanna\, Caerdydd\, CF11 9QJ
CATEGORIES:Cerdded Nordig,Cymraeg,Gweithgarwch Corfforol
ATTACH;FMTTYPE=image/png:https://keepingmewell.com/wp-content/uploads/2022/12/NWUK-Website-Final-Logo.png
END:VEVENT
BEGIN:VEVENT
DTSTART;TZID=Europe/London:20310411T130000
DTEND;TZID=Europe/London:20310411T140000
DTSTAMP:20260424T175037
CREATED:20230111T110303Z
LAST-MODIFIED:20231025T080057Z
UID:10036089-1933678800-1933682400@keepingmewell.com
SUMMARY:Grwp Cerdded Nordig yn y Barri
DESCRIPTION:Mae cerdded Nordig yn troi taith gerdded yn ymarfer corff. Mae’n addas ar gyfer pob oedran a lefel ffitrwydd. \nMwynhewch fanteision bod yn yr awyr agored\, cadw’n heini a defnyddio’ch cyhyrau tra mewn grwp cymdeithasol\, hamddenol. Mae dechreuwyr yn gallu benthyg polion. \nCyfarfod wrth y blwch post coch yn The Knap. E-bostiwch LivingWell.LivingLongerProgramme@wales.nhs.uk.
URL:https://keepingmewell.com/event/grwp-cerdded-nordig-yn-y-barri-34/2031-04-11/
LOCATION:Knap\, Barri\, CF62 6SG\, United Kingdom
CATEGORIES:Cerdded Nordig,Cymraeg,Gweithgarwch Corfforol
ATTACH;FMTTYPE=image/png:https://keepingmewell.com/wp-content/uploads/2022/12/NWUK-Website-Final-Logo.png
END:VEVENT
BEGIN:VEVENT
DTSTART;TZID=Europe/London:20310417T110000
DTEND;TZID=Europe/London:20310417T120000
DTSTAMP:20260424T175037
CREATED:20230111T114451Z
LAST-MODIFIED:20231024T145927Z
UID:10036129-1934190000-1934193600@keepingmewell.com
SUMMARY:Grwp Cerdded Nordig Caerdydd
DESCRIPTION:Mae cerdded Nordig yn troi taith gerdded yn ymarfer corff. Gan gyfarfod yng Nghaffi Castan yng Nghaeau Llandaf\, mae’r grwp \nCerdded Nordig wythnosol hwn yn gwella iechyd a ffitrwydd ac yn addas ar gyfer pob oedran a lefel ffitrwydd. Dewch a’ch polion eich hun.
URL:https://keepingmewell.com/event/grwp-cerdded-nordig-caerdydd-11/2031-04-17/
LOCATION:Nghaffi Castan\, Nghaeau Llandaf\, Pontcanna\, Caerdydd\, CF11 9QJ
CATEGORIES:Cerdded Nordig,Cymraeg,Gweithgarwch Corfforol
ATTACH;FMTTYPE=image/png:https://keepingmewell.com/wp-content/uploads/2022/12/NWUK-Website-Final-Logo.png
END:VEVENT
BEGIN:VEVENT
DTSTART;TZID=Europe/London:20310418T130000
DTEND;TZID=Europe/London:20310418T140000
DTSTAMP:20260424T175037
CREATED:20230111T110303Z
LAST-MODIFIED:20231025T080057Z
UID:10036151-1934283600-1934287200@keepingmewell.com
SUMMARY:Grwp Cerdded Nordig yn y Barri
DESCRIPTION:Mae cerdded Nordig yn troi taith gerdded yn ymarfer corff. Mae’n addas ar gyfer pob oedran a lefel ffitrwydd. \nMwynhewch fanteision bod yn yr awyr agored\, cadw’n heini a defnyddio’ch cyhyrau tra mewn grwp cymdeithasol\, hamddenol. Mae dechreuwyr yn gallu benthyg polion. \nCyfarfod wrth y blwch post coch yn The Knap. E-bostiwch LivingWell.LivingLongerProgramme@wales.nhs.uk.
URL:https://keepingmewell.com/event/grwp-cerdded-nordig-yn-y-barri-34/2031-04-18/
LOCATION:Knap\, Barri\, CF62 6SG\, United Kingdom
CATEGORIES:Cerdded Nordig,Cymraeg,Gweithgarwch Corfforol
ATTACH;FMTTYPE=image/png:https://keepingmewell.com/wp-content/uploads/2022/12/NWUK-Website-Final-Logo.png
END:VEVENT
END:VCALENDAR