BEGIN:VCALENDAR
VERSION:2.0
PRODID:-//Keeping Me Well - ECPv6.15.20//NONSGML v1.0//EN
CALSCALE:GREGORIAN
METHOD:PUBLISH
X-ORIGINAL-URL:https://keepingmewell.com
X-WR-CALDESC:Events for Keeping Me Well
REFRESH-INTERVAL;VALUE=DURATION:PT1H
X-Robots-Tag:noindex
X-PUBLISHED-TTL:PT1H
BEGIN:VTIMEZONE
TZID:Europe/London
BEGIN:DAYLIGHT
TZOFFSETFROM:+0000
TZOFFSETTO:+0100
TZNAME:BST
DTSTART:20250330T010000
END:DAYLIGHT
BEGIN:STANDARD
TZOFFSETFROM:+0100
TZOFFSETTO:+0000
TZNAME:GMT
DTSTART:20251026T010000
END:STANDARD
BEGIN:DAYLIGHT
TZOFFSETFROM:+0000
TZOFFSETTO:+0100
TZNAME:BST
DTSTART:20260329T010000
END:DAYLIGHT
BEGIN:STANDARD
TZOFFSETFROM:+0100
TZOFFSETTO:+0000
TZNAME:GMT
DTSTART:20261025T010000
END:STANDARD
BEGIN:DAYLIGHT
TZOFFSETFROM:+0000
TZOFFSETTO:+0100
TZNAME:BST
DTSTART:20270328T010000
END:DAYLIGHT
BEGIN:STANDARD
TZOFFSETFROM:+0100
TZOFFSETTO:+0000
TZNAME:GMT
DTSTART:20271031T010000
END:STANDARD
END:VTIMEZONE
BEGIN:VEVENT
DTSTART;TZID=Europe/London:20260402T090000
DTEND;TZID=Europe/London:20260402T100000
DTSTAMP:20260424T050613
CREATED:20230823T144612Z
LAST-MODIFIED:20231024T133834Z
UID:10014933-1775120400-1775124000@keepingmewell.com
SUMMARY:Sesiynau ymarfer corff Good Boost yn Barri
DESCRIPTION:Un ffordd o gadw’n heini a chael eich cymalau i symud wrth aros am lawdriniaeth yw gwneud ymarferion yn y dwr fel nofio\, cerdded yn y pwll neu ddosbarthiadau ymarfer corff yn y pwll. Mae unigolion yn defnyddio tabledau sy’n gwrthsefyll dwr i’w harwain drwy raglen ymarfer corff sydd wedi’i chynllunio o gwmpas eu hanghenion. Gwneir hyn mewn sesiwn grwp gyda phobl yn gweithio drwy eu set eu hunain o ymarferion ar eu cyflymder eu hunain.
URL:https://keepingmewell.com/event/sesiynau-ymarfer-corff-good-boost-yn-y-dwr-67/2026-04-02/
LOCATION:Canolfan Hamdden y Barri\, Stryd Greenwood\, Y Barri\, CF63 4JJ\, United Kingdom
CATEGORIES:Cymraeg,Gweithgarwch Corfforol,Sesiynau Good Boost
ATTACH;FMTTYPE=image/jpeg:https://keepingmewell.com/wp-content/uploads/2022/10/Good-boost-logo.jpg
END:VEVENT
BEGIN:VEVENT
DTSTART;TZID=Europe/London:20260402T093000
DTEND;TZID=Europe/London:20260402T103000
DTSTAMP:20260424T050613
CREATED:20231018T114558Z
LAST-MODIFIED:20231018T114558Z
UID:10005844-1775122200-1775125800@keepingmewell.com
SUMMARY:Lleihau Achosion o Gwympo i rai dros 50 oed
DESCRIPTION:Wedi’i gynllunio’n benodol ar gyfer cyfranogwyr sy’n 50 oed ac yn h?n. Mae’r dosbarth Lleihau Achosion o Gwympo 50+ ar gyfer y rhai sy’n dymuno meithrin gwydnwch\, cryfhau ac osgoi anafiadau. Cynhelir y dosbarth yn Stiwdio 1 Cyncoed ar Gampws Cyncoed Met Caerdydd. Trefnwch ymlaen llaw ar ap Met Active y gellir ei lawrlwytho yma: https://www.cardiffmet.ac.uk/about/sport/membership/Pages/Fitness-Classes.aspx. Mae sesiynau yn £3 yr un.
URL:https://keepingmewell.com/event/lleihau-achosion-o-gwympo-i-rai-dros-50-oed-26/2026-04-02/
LOCATION:Met Caerdydd\, Campws Cyncoed\, Prifysgol Metropolitan Caerdydd\, Ffordd Cyncoed\, Caerdydd\, CF23 6XD
CATEGORIES:Cymraeg,Dros 50 oed,Gweithgarwch Corfforol,Lleihau Achosion
ATTACH;FMTTYPE=image/jpeg:https://keepingmewell.com/wp-content/uploads/2023/03/Met-Active-EN.jpg
END:VEVENT
BEGIN:VEVENT
DTSTART;TZID=Europe/London:20260402T093000
DTEND;TZID=Europe/London:20260402T103000
DTSTAMP:20260424T050613
CREATED:20231024T100157Z
LAST-MODIFIED:20231024T100157Z
UID:10008458-1775122200-1775125800@keepingmewell.com
SUMMARY:ESCAPEE yn Llanisien
DESCRIPTION:Mae digwyddiadau ESCAPEE yn sesiynau ymarfer corff dilynol i bobl sydd wedi cyflawni’r rhaglen Escape Pain ar gyfer poen clun\, pen-glin neu gefn. \nMae croeso i chi alw heibio a chymryd rhan mewn ymarfer corff sydd wedi’i gynllunio i wella eich symudiad a’ch swyddogaeth. \nYng Nghanolfan Hamdden Llanisien bob dydd Iau\, 9.30am.
URL:https://keepingmewell.com/event/escapee-yn-llanisien/2026-04-02/
LOCATION:Canolfan Hamdden Llanisien\, Rhodfa Ty Glas\, Llanisien\, Caerdydd\, CF14 5EB\, United Kingdom
CATEGORIES:Cymraeg,Cymru Arthritis,ESCAPEE CY,Gweithgarwch Corfforol
ATTACH;FMTTYPE=image/jpeg:https://keepingmewell.com/wp-content/uploads/2022/12/Better-Escape-logos.jpg
END:VEVENT
BEGIN:VEVENT
DTSTART;TZID=Europe/London:20260402T103000
DTEND;TZID=Europe/London:20260402T111500
DTSTAMP:20260424T050613
CREATED:20231016T085150Z
LAST-MODIFIED:20231016T085344Z
UID:10003414-1775125800-1775128500@keepingmewell.com
SUMMARY:Mae’r Forget-me-not Chorus - Zoom
DESCRIPTION:Ydych chi’n chwilio am gr?p i’ch cefnogi wrth i chi wynebu heriau dementia? Ymunwch â’n cymuned ni!\nMae ein cyfarfodydd yn cael eu cynnal bob wythnos\, ac maent yn ffordd hamddenol a hwyliog o gwrdd â phobl eraill sy’n gwybod sut beth yw byw gyda dementia neu ochr yn ochr ag ef. \nP’un a ydych yn methu â theithio neu os nad oes gennych sesiwn wyneb yn wyneb yn agos atoch chi\, ymunwch â ni o gysur eich cartref eich hun. \nGellir cyrchu Zoom o’r mwyafrif o ddyfeisiau\, ac os oes angen cymorth arnoch chi mae cefnogaeth ar gael. \nA pheidiwch â phoeni\, rydyn ni i gyd yn defnyddio’r botwm tawelu pan rydyn ni’n canu! \nMae aelodaeth yn rhad ac am ddim ac nid oes angen atgyfeiriad arnoch. \nCysylltwch â Rachel – rachel@forgetmenotchorus.com\, 029 2236 2077
URL:https://keepingmewell.com/event/maer-forget-me-not-chorus-zoom-15/2026-04-02/
LOCATION:Sesiwn Ar-lein
CATEGORIES:Cymraeg,Demensia,Gofalwyr,Lles
ATTACH;FMTTYPE=image/jpeg:https://keepingmewell.com/wp-content/uploads/2023/04/Forget-Me-Not-Cardiff.jpg
ORGANIZER;CN="Forget Me Not Chorus":MAILTO:hello@forgetmenotchorus.com
END:VEVENT
BEGIN:VEVENT
DTSTART;TZID=Europe/London:20260402T110000
DTEND;TZID=Europe/London:20260402T120000
DTSTAMP:20260424T050613
CREATED:20230111T114451Z
LAST-MODIFIED:20231024T145927Z
UID:10017279-1775127600-1775131200@keepingmewell.com
SUMMARY:Grwp Cerdded Nordig Caerdydd
DESCRIPTION:Mae cerdded Nordig yn troi taith gerdded yn ymarfer corff. Gan gyfarfod yng Nghaffi Castan yng Nghaeau Llandaf\, mae’r grwp \nCerdded Nordig wythnosol hwn yn gwella iechyd a ffitrwydd ac yn addas ar gyfer pob oedran a lefel ffitrwydd. Dewch a’ch polion eich hun.
URL:https://keepingmewell.com/event/grwp-cerdded-nordig-caerdydd-11/2026-04-02/
LOCATION:Nghaffi Castan\, Nghaeau Llandaf\, Pontcanna\, Caerdydd\, CF11 9QJ
CATEGORIES:Cerdded Nordig,Cymraeg,Gweithgarwch Corfforol
ATTACH;FMTTYPE=image/png:https://keepingmewell.com/wp-content/uploads/2022/12/NWUK-Website-Final-Logo.png
END:VEVENT
BEGIN:VEVENT
DTSTART;TZID=Europe/London:20260402T110000
DTEND;TZID=Europe/London:20260402T120000
DTSTAMP:20260424T050613
CREATED:20230823T151313Z
LAST-MODIFIED:20231024T134233Z
UID:10015453-1775127600-1775131200@keepingmewell.com
SUMMARY:Sesiynau ymarfer corff Good Boost yn Trelái
DESCRIPTION:Un ffordd o gadw’n heini a chael eich cymalau i symud wrth aros am lawdriniaeth yw gwneud ymarferion yn y dwr fel nofio\, cerdded yn y pwll neu ddosbarthiadau ymarfer corff yn y pwll. Mae unigolion yn defnyddio tabledau sy’n gwrthsefyll dwr i’w harwain drwy raglen ymarfer corff sydd wedi’i chynllunio o gwmpas eu hanghenion. Gwneir hyn mewn sesiwn grwp gyda phobl yn gweithio drwy eu set eu hunain o ymarferion ar eu cyflymder eu hunain.
URL:https://keepingmewell.com/event/sesiynau-ymarfer-corff-good-boost-yn-y-dwr-102/2026-04-02/
LOCATION:Canolfan Hamdden Y Gorllewin\, Caerau Lane\, Caerdydd\, CF5 5HJ
CATEGORIES:Cymraeg,Gweithgarwch Corfforol,Sesiynau Good Boost
ATTACH;FMTTYPE=image/jpeg:https://keepingmewell.com/wp-content/uploads/2022/10/Good-boost-logo.jpg
END:VEVENT
BEGIN:VEVENT
DTSTART;TZID=Europe/London:20260402T113000
DTEND;TZID=Europe/London:20260402T121500
DTSTAMP:20260424T050613
CREATED:20230823T134926Z
LAST-MODIFIED:20231024T115543Z
UID:10011048-1775129400-1775132100@keepingmewell.com
SUMMARY:ESCAPEE yn Penarth
DESCRIPTION:Mae digwyddiadau ESCAPEE yn sesiynau ymarfer corff dilynol i bobl sydd wedi cyflawni’r rhaglen Escape Pain ar gyfer poen clun\, pen-glin neu gefn. \nMae croeso i chi alw heibio a chymryd rhan mewn ymarfer corff sydd wedi’i gynllunio i wella eich symudiad a’ch swyddogaeth. \nYng Nghanolfan Hamdden y Penarth bob dydd Iau\, 11.30am.
URL:https://keepingmewell.com/event/escapee-221/2026-04-02/
LOCATION:Canolfan Hamdden y Penarth\, Heol Andrew\, Cogan\, Penarth\, CF64 2NS\, United Kingdom
CATEGORIES:Cymraeg,Cymru Arthritis,ESCAPEE CY,Gweithgarwch Corfforol
ATTACH;FMTTYPE=image/jpeg:https://keepingmewell.com/wp-content/uploads/2022/12/Leisure-Centre-Escape-logos.jpg
END:VEVENT
BEGIN:VEVENT
DTSTART;TZID=Europe/London:20260402T140000
DTEND;TZID=Europe/London:20260402T160000
DTSTAMP:20260424T050613
CREATED:20231024T145616Z
LAST-MODIFIED:20231024T145616Z
UID:10017018-1775138400-1775145600@keepingmewell.com
SUMMARY:Clwb Cymdeithasol Memory Lane
DESCRIPTION:Gweithgareddau am ddim gan gynnwys cyrlio dan do a cherddoriaeth i bobl y mae dementia yn effithio arnynt a’u gofalwyr. \nBob Dydd Iau 2-4pm Canoflan Gymunedol Cathays Os hoffech chi ymuno new gael unrhyw cwestiynau\, ffoniwch new e-bostiwch Phill 029 2037 3144 Phill.Racz@cathays.org
URL:https://keepingmewell.com/event/clwb-cymdeithasol-memory-lane/2026-04-02/
LOCATION:Canolfan Gymunedol Cathays\, 38 Teras Cathays\, Cathays\, Caerdydd\, CF24 4HX\, United Kingdom
CATEGORIES:Cymraeg,Demensia,Gofalwyr,Iechyd meddwl
ATTACH;FMTTYPE=image/jpeg:https://keepingmewell.com/wp-content/uploads/2022/11/neurons-gf30f28b0c_640.jpg
END:VEVENT
BEGIN:VEVENT
DTSTART;TZID=Europe/London:20260402T143000
DTEND;TZID=Europe/London:20260402T153000
DTSTAMP:20260424T050613
CREATED:20230823T143123Z
LAST-MODIFIED:20231024T124529Z
UID:10013122-1775140200-1775143800@keepingmewell.com
SUMMARY:ESCAPEE yn Trelái
DESCRIPTION:Mae digwyddiadau ESCAPEE yn sesiynau ymarfer corff dilynol i bobl sydd wedi cyflawni’r rhaglen Escape Pain ar gyfer poen clun\, pen-glin neu gefn. \nMae croeso i chi alw heibio a chymryd rhan mewn ymarfer corff sydd wedi’i gynllunio i wella eich symudiad a’ch swyddogaeth. \nYng Nghanolfan Hamdden y Gorllewin bob dydd Iau\, 2.30am.
URL:https://keepingmewell.com/event/escapee-255/2026-04-02/
LOCATION:Canolfan Hamdden Y Gorllewin\, Caerau Lane\, Caerdydd\, CF5 5HJ
CATEGORIES:Cymraeg,Cymru Arthritis,ESCAPEE CY,Gweithgarwch Corfforol
ATTACH;FMTTYPE=image/jpeg:https://keepingmewell.com/wp-content/uploads/2022/12/Better-Escape-logos.jpg
END:VEVENT
BEGIN:VEVENT
DTSTART;TZID=Europe/London:20260402T183000
DTEND;TZID=Europe/London:20260402T203000
DTSTAMP:20260424T050613
CREATED:20231016T093355Z
LAST-MODIFIED:20231016T093657Z
UID:10004455-1775154600-1775161800@keepingmewell.com
SUMMARY:Mae’r Forget-me-not Chorus
DESCRIPTION:Ydych chi’n chwilio am grwp yn Penarth i’ch cefnogi wrth i chi wynebu heriau dementia? Ymunwch â’n cymuned ni!\nMae ein cyfarfodydd yn cael eu cynnal bob wythnos\, ac maent yn ffordd hamddenol a hwyliog o gwrdd â phobl eraill sy’n gwybod sut beth yw byw gyda dementia neu ochr yn ochr ag ef. \nMae aelodaeth yn rhad ac am ddim ac nid oes angen atgyfeiriad arnoch. \nCysylltwch â Helen ar 029 2236 2064 neu helen@forgetmenotchorus.com \nSylwer nad yw FMNC yn gysylltiedig â’r eglwys nac unrhyw grwp crefyddol arall\, ac yn syml\, yn llogi’r lleoliad. \nRhy bell o gartref? Gallwch hefyd ymuno â ni o unrhyw le yn y DU gyda sesiynau ar-lein FMNC. Cyswyllt â hello@forgetmenotchorus am fwy o wybodaeth.
URL:https://keepingmewell.com/event/maer-forget-me-not-chorus-32/2026-04-02/
LOCATION:Eglwys Unedig Elfed Avenue\, Elfed Avenue\, Penarth\, CF64 3LX\, United Kingdom
CATEGORIES:Cymraeg,Demensia,Gofalwyr,Lles
ATTACH;FMTTYPE=image/jpeg:https://keepingmewell.com/wp-content/uploads/2023/04/Forget-Me-Not.jpg
ORGANIZER;CN="Forget Me Not Chorus":MAILTO:hello@forgetmenotchorus.com
END:VEVENT
END:VCALENDAR