BEGIN:VCALENDAR
VERSION:2.0
PRODID:-//Keeping Me Well - ECPv6.15.20//NONSGML v1.0//EN
CALSCALE:GREGORIAN
METHOD:PUBLISH
X-ORIGINAL-URL:https://keepingmewell.com
X-WR-CALDESC:Events for Keeping Me Well
REFRESH-INTERVAL;VALUE=DURATION:PT1H
X-Robots-Tag:noindex
X-PUBLISHED-TTL:PT1H
BEGIN:VTIMEZONE
TZID:Europe/London
BEGIN:DAYLIGHT
TZOFFSETFROM:+0000
TZOFFSETTO:+0100
TZNAME:BST
DTSTART:20250330T010000
END:DAYLIGHT
BEGIN:STANDARD
TZOFFSETFROM:+0100
TZOFFSETTO:+0000
TZNAME:GMT
DTSTART:20251026T010000
END:STANDARD
BEGIN:DAYLIGHT
TZOFFSETFROM:+0000
TZOFFSETTO:+0100
TZNAME:BST
DTSTART:20260329T010000
END:DAYLIGHT
BEGIN:STANDARD
TZOFFSETFROM:+0100
TZOFFSETTO:+0000
TZNAME:GMT
DTSTART:20261025T010000
END:STANDARD
BEGIN:DAYLIGHT
TZOFFSETFROM:+0000
TZOFFSETTO:+0100
TZNAME:BST
DTSTART:20270328T010000
END:DAYLIGHT
BEGIN:STANDARD
TZOFFSETFROM:+0100
TZOFFSETTO:+0000
TZNAME:GMT
DTSTART:20271031T010000
END:STANDARD
END:VTIMEZONE
BEGIN:VEVENT
DTSTART;TZID=Europe/London:20260101T093000
DTEND;TZID=Europe/London:20260101T103000
DTSTAMP:20260420T003128
CREATED:20231018T114558Z
LAST-MODIFIED:20231018T114558Z
UID:10005831-1767259800-1767263400@keepingmewell.com
SUMMARY:Lleihau Achosion o Gwympo i rai dros 50 oed
DESCRIPTION:Wedi’i gynllunio’n benodol ar gyfer cyfranogwyr sy’n 50 oed ac yn h?n. Mae’r dosbarth Lleihau Achosion o Gwympo 50+ ar gyfer y rhai sy’n dymuno meithrin gwydnwch\, cryfhau ac osgoi anafiadau. Cynhelir y dosbarth yn Stiwdio 1 Cyncoed ar Gampws Cyncoed Met Caerdydd. Trefnwch ymlaen llaw ar ap Met Active y gellir ei lawrlwytho yma: https://www.cardiffmet.ac.uk/about/sport/membership/Pages/Fitness-Classes.aspx. Mae sesiynau yn £3 yr un.
URL:https://keepingmewell.com/event/lleihau-achosion-o-gwympo-i-rai-dros-50-oed-26/2026-01-01/
LOCATION:Met Caerdydd\, Campws Cyncoed\, Prifysgol Metropolitan Caerdydd\, Ffordd Cyncoed\, Caerdydd\, CF23 6XD
CATEGORIES:Cymraeg,Dros 50 oed,Gweithgarwch Corfforol,Lleihau Achosion
ATTACH;FMTTYPE=image/jpeg:https://keepingmewell.com/wp-content/uploads/2023/03/Met-Active-EN.jpg
END:VEVENT
BEGIN:VEVENT
DTSTART;TZID=Europe/London:20260102T093000
DTEND;TZID=Europe/London:20260102T103000
DTSTAMP:20260420T003128
CREATED:20230327T111957Z
LAST-MODIFIED:20231024T141547Z
UID:10016482-1767346200-1767349800@keepingmewell.com
SUMMARY:Ffitrwydd Gweithredol i rai dros 50 oed
DESCRIPTION:Wedi’i gynllunio’n benodol ar gyfer cyfranogwyr sy’n 50 oed ac yn h?n. Mae Ffitrwydd Gweithredol 50+ ar gyfer y rhai sy’n dymuno cryfhau\, dysgu sut i godi pwysau ac osgoi anafiadau. Cynhelir y dosbarth yn Stiwdio 1 Cyncoed ar Gampws Cyncoed Met Caerdydd. \nTrefnwch ymlaen llaw ar ap Met Active y gellir ei lawrlwytho yma. Mae sesiynau yn £3 yr un.
URL:https://keepingmewell.com/event/ffitrwydd-gweithredol-i-rai-dros-50-oed/2026-01-02/
LOCATION:Met Caerdydd\, Campws Cyncoed\, Prifysgol Metropolitan Caerdydd\, Ffordd Cyncoed\, Caerdydd\, CF23 6XD
CATEGORIES:Cymraeg,Dros 50 oed,Ffitrwydd Gweithredol,Gweithgarwch Corfforol
ATTACH;FMTTYPE=image/jpeg:https://keepingmewell.com/wp-content/uploads/2023/03/Met-Active-EN.jpg
END:VEVENT
BEGIN:VEVENT
DTSTART;TZID=Europe/London:20260102T111500
DTEND;TZID=Europe/London:20260102T121500
DTSTAMP:20260420T003128
CREATED:20231025T103337Z
LAST-MODIFIED:20231109T142444Z
UID:10019890-1767352500-1767356100@keepingmewell.com
SUMMARY:Sesiwn ffitrwydd wedi'i theilwra ar gyfer pobl 75 oed
DESCRIPTION:Ffitrwydd gyda Ffrinidau – 75+ oed \nBore Gwener – Am ddim. \nBob yn ail wythnos. Rhaid cofrestru o flaen llaw. \nI gofrestru: Rachel at rachel@mentercaerdydd.cymru.
URL:https://keepingmewell.com/event/sesiwn-ffitrwydd-wedii-theilwra-ar-gyfer-pobl-75-oed/2026-01-02/
LOCATION:Canolfan Genedlaethol Chwaraeon Cymru\, Gerddi Sophia\, Caerdydd\, CF11 9SW\, United Kingdom
CATEGORIES:Cymraeg,Dros 50 oed,Gweithgarwch Corfforol
ATTACH;FMTTYPE=image/jpeg:https://keepingmewell.com/wp-content/uploads/2023/01/Menter-Caerdydd.jpg
END:VEVENT
BEGIN:VEVENT
DTSTART;TZID=Europe/London:20260106T093000
DTEND;TZID=Europe/London:20260106T223000
DTSTAMP:20260420T003128
CREATED:20231025T101015Z
LAST-MODIFIED:20231025T101015Z
UID:10019372-1767691800-1767738600@keepingmewell.com
SUMMARY:Bocsiomarfer i rai dros 50 oed
DESCRIPTION:Wedi’i gynllunio’n benodol ar gyfer cyfranogwyr sy’n 50 oed ac yn h?n. Mae Bocsiomarfer 50+ ar gyfer y rhai sy’n dymuno gwella eu ffitrwydd aerobig a chael hwyl wrth wneud hynny. \nCynhelir y dosbarth yn Stiwdio 1 Cyncoed ar Gampws Cyncoed Met Caerdydd. Trefnwch ymlaen llaw ar ap Met Active y gellir ei lawrlwytho yma. Mae sesiynau yn £3 yr un.
URL:https://keepingmewell.com/event/bocsiomarfer-i-rai-dros-50-oed/2026-01-06/
LOCATION:Met Caerdydd\, Campws Cyncoed\, Prifysgol Metropolitan Caerdydd\, Ffordd Cyncoed\, Caerdydd\, CF23 6XD
CATEGORIES:Bocsiomarfer,Cymraeg,Dros 50 oed,Gweithgarwch Corfforol
ATTACH;FMTTYPE=image/jpeg:https://keepingmewell.com/wp-content/uploads/2023/03/Met-Active-EN.jpg
END:VEVENT
BEGIN:VEVENT
DTSTART;TZID=Europe/London:20260106T100000
DTEND;TZID=Europe/London:20260106T111500
DTSTAMP:20260420T003128
CREATED:20231025T110457Z
LAST-MODIFIED:20231025T110457Z
UID:10020408-1767693600-1767698100@keepingmewell.com
SUMMARY:Elderfit - Ymarferion Cryfder a Chydbwysedd
DESCRIPTION:Y dosbarthiadau poblogaidd sy’n helpu pobl gyda’u cydbwysedd\, eu cryfder a’u hyder. \nMae Elderfit yn gwmni budd cymunedol a sefydlwyd gan Gareth Bartlett a Tom Scaife\, ffrindiau sydd wedi treulio 30 mlynedd rhyngddynt yn y diwydiant ffitrwydd. Mae eu sesiynau yn tynnu ar amrywiaeth o dechnegau ymarfer syml ond effeithiol gan ddefnyddio cadeiriau a bandiau gwrthiant. \nMae llawer o’r hyn a ddysgir yn y dosbarth wedi’i gynllunio i bobl ei ddefnyddio gartref ac yn eu bywydau bob dydd\, gan eu helpu i roi hwb i’w hyder ac osgoi cwympiadau cas. \nGall unrhyw un dros 50 oed fynychu dosbarthiadau\, ac mae’r sesiwn “blasu” gyntaf yn rhad ac am ddim.
URL:https://keepingmewell.com/event/elderfit-ymarferion-cryfder-a-chydbwysedd/2026-01-06/
LOCATION:Neuadd Goffa Llandochau\, Heol Penlan. Llandochau\,\, Penarth\, CF64 2LT\, United Kingdom
CATEGORIES:Cymraeg,Dros 50 oed,Gweithgarwch Corfforol
ATTACH;FMTTYPE=image/png:https://keepingmewell.com/wp-content/uploads/2023/10/Elderfit.png
ORGANIZER;CN="Eldrefit":MAILTO:gareth.elderfit@gmail.com
END:VEVENT
BEGIN:VEVENT
DTSTART;TZID=Europe/London:20260107T100000
DTEND;TZID=Europe/London:20260107T120000
DTSTAMP:20260420T003128
CREATED:20231020T110013Z
LAST-MODIFIED:20231020T110855Z
UID:10007924-1767780000-1767787200@keepingmewell.com
SUMMARY:Atgofion Chwaraeon @ Hyb Tredelerch
DESCRIPTION:Rydym yn cyfarfod bob dydd Mercher 10am – 12pm. Yn y Sefydliad Atgofion Chwaraeon rydym yn helpu pobl ym mhobman i gadw mewn cysylltiad a chael hwyl – gan ddefnyddio atgofion o chwaraeon.\nRydyn ni’n sgwrsio am chwaraeon ac yn eu cofio. Rydym yn tanio atgofion cadarnhaol. Ac rydyn ni’n helpu pawb i deimlo’n rhan o’r tîm! \nI gael gwybod sut i gymryd rhan\, anfonwch e-bost at Jane.Clemence2@cardiff.gov.uk
URL:https://keepingmewell.com/event/atgofion-chwaraeon-hyb-tredelerch/2026-01-07/
LOCATION:Hyb Tredelerch\, Fford Llanstephen\, Caerdydd\, CF3 3JA\, United Kingdom
CATEGORIES:Cymraeg,Demensia,Dros 50 oed,Lles
ATTACH;FMTTYPE=image/jpeg:https://keepingmewell.com/wp-content/uploads/2023/10/RugbyBall.jpg
END:VEVENT
BEGIN:VEVENT
DTSTART;TZID=Europe/London:20260108T093000
DTEND;TZID=Europe/London:20260108T103000
DTSTAMP:20260420T003128
CREATED:20231018T114558Z
LAST-MODIFIED:20231018T114558Z
UID:10005832-1767864600-1767868200@keepingmewell.com
SUMMARY:Lleihau Achosion o Gwympo i rai dros 50 oed
DESCRIPTION:Wedi’i gynllunio’n benodol ar gyfer cyfranogwyr sy’n 50 oed ac yn h?n. Mae’r dosbarth Lleihau Achosion o Gwympo 50+ ar gyfer y rhai sy’n dymuno meithrin gwydnwch\, cryfhau ac osgoi anafiadau. Cynhelir y dosbarth yn Stiwdio 1 Cyncoed ar Gampws Cyncoed Met Caerdydd. Trefnwch ymlaen llaw ar ap Met Active y gellir ei lawrlwytho yma: https://www.cardiffmet.ac.uk/about/sport/membership/Pages/Fitness-Classes.aspx. Mae sesiynau yn £3 yr un.
URL:https://keepingmewell.com/event/lleihau-achosion-o-gwympo-i-rai-dros-50-oed-26/2026-01-08/
LOCATION:Met Caerdydd\, Campws Cyncoed\, Prifysgol Metropolitan Caerdydd\, Ffordd Cyncoed\, Caerdydd\, CF23 6XD
CATEGORIES:Cymraeg,Dros 50 oed,Gweithgarwch Corfforol,Lleihau Achosion
ATTACH;FMTTYPE=image/jpeg:https://keepingmewell.com/wp-content/uploads/2023/03/Met-Active-EN.jpg
END:VEVENT
BEGIN:VEVENT
DTSTART;TZID=Europe/London:20260109T093000
DTEND;TZID=Europe/London:20260109T103000
DTSTAMP:20260420T003128
CREATED:20230327T111957Z
LAST-MODIFIED:20231024T141547Z
UID:10016483-1767951000-1767954600@keepingmewell.com
SUMMARY:Ffitrwydd Gweithredol i rai dros 50 oed
DESCRIPTION:Wedi’i gynllunio’n benodol ar gyfer cyfranogwyr sy’n 50 oed ac yn h?n. Mae Ffitrwydd Gweithredol 50+ ar gyfer y rhai sy’n dymuno cryfhau\, dysgu sut i godi pwysau ac osgoi anafiadau. Cynhelir y dosbarth yn Stiwdio 1 Cyncoed ar Gampws Cyncoed Met Caerdydd. \nTrefnwch ymlaen llaw ar ap Met Active y gellir ei lawrlwytho yma. Mae sesiynau yn £3 yr un.
URL:https://keepingmewell.com/event/ffitrwydd-gweithredol-i-rai-dros-50-oed/2026-01-09/
LOCATION:Met Caerdydd\, Campws Cyncoed\, Prifysgol Metropolitan Caerdydd\, Ffordd Cyncoed\, Caerdydd\, CF23 6XD
CATEGORIES:Cymraeg,Dros 50 oed,Ffitrwydd Gweithredol,Gweithgarwch Corfforol
ATTACH;FMTTYPE=image/jpeg:https://keepingmewell.com/wp-content/uploads/2023/03/Met-Active-EN.jpg
END:VEVENT
BEGIN:VEVENT
DTSTART;TZID=Europe/London:20260109T111500
DTEND;TZID=Europe/London:20260109T121500
DTSTAMP:20260420T003128
CREATED:20231025T103337Z
LAST-MODIFIED:20231109T142444Z
UID:10019891-1767957300-1767960900@keepingmewell.com
SUMMARY:Sesiwn ffitrwydd wedi'i theilwra ar gyfer pobl 75 oed
DESCRIPTION:Ffitrwydd gyda Ffrinidau – 75+ oed \nBore Gwener – Am ddim. \nBob yn ail wythnos. Rhaid cofrestru o flaen llaw. \nI gofrestru: Rachel at rachel@mentercaerdydd.cymru.
URL:https://keepingmewell.com/event/sesiwn-ffitrwydd-wedii-theilwra-ar-gyfer-pobl-75-oed/2026-01-09/
LOCATION:Canolfan Genedlaethol Chwaraeon Cymru\, Gerddi Sophia\, Caerdydd\, CF11 9SW\, United Kingdom
CATEGORIES:Cymraeg,Dros 50 oed,Gweithgarwch Corfforol
ATTACH;FMTTYPE=image/jpeg:https://keepingmewell.com/wp-content/uploads/2023/01/Menter-Caerdydd.jpg
END:VEVENT
BEGIN:VEVENT
DTSTART;TZID=Europe/London:20260113T093000
DTEND;TZID=Europe/London:20260113T223000
DTSTAMP:20260420T003128
CREATED:20231025T101015Z
LAST-MODIFIED:20231025T101015Z
UID:10019373-1768296600-1768343400@keepingmewell.com
SUMMARY:Bocsiomarfer i rai dros 50 oed
DESCRIPTION:Wedi’i gynllunio’n benodol ar gyfer cyfranogwyr sy’n 50 oed ac yn h?n. Mae Bocsiomarfer 50+ ar gyfer y rhai sy’n dymuno gwella eu ffitrwydd aerobig a chael hwyl wrth wneud hynny. \nCynhelir y dosbarth yn Stiwdio 1 Cyncoed ar Gampws Cyncoed Met Caerdydd. Trefnwch ymlaen llaw ar ap Met Active y gellir ei lawrlwytho yma. Mae sesiynau yn £3 yr un.
URL:https://keepingmewell.com/event/bocsiomarfer-i-rai-dros-50-oed/2026-01-13/
LOCATION:Met Caerdydd\, Campws Cyncoed\, Prifysgol Metropolitan Caerdydd\, Ffordd Cyncoed\, Caerdydd\, CF23 6XD
CATEGORIES:Bocsiomarfer,Cymraeg,Dros 50 oed,Gweithgarwch Corfforol
ATTACH;FMTTYPE=image/jpeg:https://keepingmewell.com/wp-content/uploads/2023/03/Met-Active-EN.jpg
END:VEVENT
BEGIN:VEVENT
DTSTART;TZID=Europe/London:20260113T100000
DTEND;TZID=Europe/London:20260113T111500
DTSTAMP:20260420T003128
CREATED:20231025T110457Z
LAST-MODIFIED:20231025T110457Z
UID:10020409-1768298400-1768302900@keepingmewell.com
SUMMARY:Elderfit - Ymarferion Cryfder a Chydbwysedd
DESCRIPTION:Y dosbarthiadau poblogaidd sy’n helpu pobl gyda’u cydbwysedd\, eu cryfder a’u hyder. \nMae Elderfit yn gwmni budd cymunedol a sefydlwyd gan Gareth Bartlett a Tom Scaife\, ffrindiau sydd wedi treulio 30 mlynedd rhyngddynt yn y diwydiant ffitrwydd. Mae eu sesiynau yn tynnu ar amrywiaeth o dechnegau ymarfer syml ond effeithiol gan ddefnyddio cadeiriau a bandiau gwrthiant. \nMae llawer o’r hyn a ddysgir yn y dosbarth wedi’i gynllunio i bobl ei ddefnyddio gartref ac yn eu bywydau bob dydd\, gan eu helpu i roi hwb i’w hyder ac osgoi cwympiadau cas. \nGall unrhyw un dros 50 oed fynychu dosbarthiadau\, ac mae’r sesiwn “blasu” gyntaf yn rhad ac am ddim.
URL:https://keepingmewell.com/event/elderfit-ymarferion-cryfder-a-chydbwysedd/2026-01-13/
LOCATION:Neuadd Goffa Llandochau\, Heol Penlan. Llandochau\,\, Penarth\, CF64 2LT\, United Kingdom
CATEGORIES:Cymraeg,Dros 50 oed,Gweithgarwch Corfforol
ATTACH;FMTTYPE=image/png:https://keepingmewell.com/wp-content/uploads/2023/10/Elderfit.png
ORGANIZER;CN="Eldrefit":MAILTO:gareth.elderfit@gmail.com
END:VEVENT
BEGIN:VEVENT
DTSTART;TZID=Europe/London:20260114T100000
DTEND;TZID=Europe/London:20260114T120000
DTSTAMP:20260420T003128
CREATED:20231020T110013Z
LAST-MODIFIED:20231020T110855Z
UID:10007925-1768384800-1768392000@keepingmewell.com
SUMMARY:Atgofion Chwaraeon @ Hyb Tredelerch
DESCRIPTION:Rydym yn cyfarfod bob dydd Mercher 10am – 12pm. Yn y Sefydliad Atgofion Chwaraeon rydym yn helpu pobl ym mhobman i gadw mewn cysylltiad a chael hwyl – gan ddefnyddio atgofion o chwaraeon.\nRydyn ni’n sgwrsio am chwaraeon ac yn eu cofio. Rydym yn tanio atgofion cadarnhaol. Ac rydyn ni’n helpu pawb i deimlo’n rhan o’r tîm! \nI gael gwybod sut i gymryd rhan\, anfonwch e-bost at Jane.Clemence2@cardiff.gov.uk
URL:https://keepingmewell.com/event/atgofion-chwaraeon-hyb-tredelerch/2026-01-14/
LOCATION:Hyb Tredelerch\, Fford Llanstephen\, Caerdydd\, CF3 3JA\, United Kingdom
CATEGORIES:Cymraeg,Demensia,Dros 50 oed,Lles
ATTACH;FMTTYPE=image/jpeg:https://keepingmewell.com/wp-content/uploads/2023/10/RugbyBall.jpg
END:VEVENT
BEGIN:VEVENT
DTSTART;TZID=Europe/London:20260115T093000
DTEND;TZID=Europe/London:20260115T103000
DTSTAMP:20260420T003128
CREATED:20231018T114558Z
LAST-MODIFIED:20231018T114558Z
UID:10005833-1768469400-1768473000@keepingmewell.com
SUMMARY:Lleihau Achosion o Gwympo i rai dros 50 oed
DESCRIPTION:Wedi’i gynllunio’n benodol ar gyfer cyfranogwyr sy’n 50 oed ac yn h?n. Mae’r dosbarth Lleihau Achosion o Gwympo 50+ ar gyfer y rhai sy’n dymuno meithrin gwydnwch\, cryfhau ac osgoi anafiadau. Cynhelir y dosbarth yn Stiwdio 1 Cyncoed ar Gampws Cyncoed Met Caerdydd. Trefnwch ymlaen llaw ar ap Met Active y gellir ei lawrlwytho yma: https://www.cardiffmet.ac.uk/about/sport/membership/Pages/Fitness-Classes.aspx. Mae sesiynau yn £3 yr un.
URL:https://keepingmewell.com/event/lleihau-achosion-o-gwympo-i-rai-dros-50-oed-26/2026-01-15/
LOCATION:Met Caerdydd\, Campws Cyncoed\, Prifysgol Metropolitan Caerdydd\, Ffordd Cyncoed\, Caerdydd\, CF23 6XD
CATEGORIES:Cymraeg,Dros 50 oed,Gweithgarwch Corfforol,Lleihau Achosion
ATTACH;FMTTYPE=image/jpeg:https://keepingmewell.com/wp-content/uploads/2023/03/Met-Active-EN.jpg
END:VEVENT
BEGIN:VEVENT
DTSTART;TZID=Europe/London:20260116T093000
DTEND;TZID=Europe/London:20260116T103000
DTSTAMP:20260420T003128
CREATED:20230327T111957Z
LAST-MODIFIED:20231024T141547Z
UID:10016484-1768555800-1768559400@keepingmewell.com
SUMMARY:Ffitrwydd Gweithredol i rai dros 50 oed
DESCRIPTION:Wedi’i gynllunio’n benodol ar gyfer cyfranogwyr sy’n 50 oed ac yn h?n. Mae Ffitrwydd Gweithredol 50+ ar gyfer y rhai sy’n dymuno cryfhau\, dysgu sut i godi pwysau ac osgoi anafiadau. Cynhelir y dosbarth yn Stiwdio 1 Cyncoed ar Gampws Cyncoed Met Caerdydd. \nTrefnwch ymlaen llaw ar ap Met Active y gellir ei lawrlwytho yma. Mae sesiynau yn £3 yr un.
URL:https://keepingmewell.com/event/ffitrwydd-gweithredol-i-rai-dros-50-oed/2026-01-16/
LOCATION:Met Caerdydd\, Campws Cyncoed\, Prifysgol Metropolitan Caerdydd\, Ffordd Cyncoed\, Caerdydd\, CF23 6XD
CATEGORIES:Cymraeg,Dros 50 oed,Ffitrwydd Gweithredol,Gweithgarwch Corfforol
ATTACH;FMTTYPE=image/jpeg:https://keepingmewell.com/wp-content/uploads/2023/03/Met-Active-EN.jpg
END:VEVENT
BEGIN:VEVENT
DTSTART;TZID=Europe/London:20260116T111500
DTEND;TZID=Europe/London:20260116T121500
DTSTAMP:20260420T003128
CREATED:20231025T103337Z
LAST-MODIFIED:20231109T142444Z
UID:10019892-1768562100-1768565700@keepingmewell.com
SUMMARY:Sesiwn ffitrwydd wedi'i theilwra ar gyfer pobl 75 oed
DESCRIPTION:Ffitrwydd gyda Ffrinidau – 75+ oed \nBore Gwener – Am ddim. \nBob yn ail wythnos. Rhaid cofrestru o flaen llaw. \nI gofrestru: Rachel at rachel@mentercaerdydd.cymru.
URL:https://keepingmewell.com/event/sesiwn-ffitrwydd-wedii-theilwra-ar-gyfer-pobl-75-oed/2026-01-16/
LOCATION:Canolfan Genedlaethol Chwaraeon Cymru\, Gerddi Sophia\, Caerdydd\, CF11 9SW\, United Kingdom
CATEGORIES:Cymraeg,Dros 50 oed,Gweithgarwch Corfforol
ATTACH;FMTTYPE=image/jpeg:https://keepingmewell.com/wp-content/uploads/2023/01/Menter-Caerdydd.jpg
END:VEVENT
BEGIN:VEVENT
DTSTART;TZID=Europe/London:20260120T093000
DTEND;TZID=Europe/London:20260120T223000
DTSTAMP:20260420T003128
CREATED:20231025T101015Z
LAST-MODIFIED:20231025T101015Z
UID:10019374-1768901400-1768948200@keepingmewell.com
SUMMARY:Bocsiomarfer i rai dros 50 oed
DESCRIPTION:Wedi’i gynllunio’n benodol ar gyfer cyfranogwyr sy’n 50 oed ac yn h?n. Mae Bocsiomarfer 50+ ar gyfer y rhai sy’n dymuno gwella eu ffitrwydd aerobig a chael hwyl wrth wneud hynny. \nCynhelir y dosbarth yn Stiwdio 1 Cyncoed ar Gampws Cyncoed Met Caerdydd. Trefnwch ymlaen llaw ar ap Met Active y gellir ei lawrlwytho yma. Mae sesiynau yn £3 yr un.
URL:https://keepingmewell.com/event/bocsiomarfer-i-rai-dros-50-oed/2026-01-20/
LOCATION:Met Caerdydd\, Campws Cyncoed\, Prifysgol Metropolitan Caerdydd\, Ffordd Cyncoed\, Caerdydd\, CF23 6XD
CATEGORIES:Bocsiomarfer,Cymraeg,Dros 50 oed,Gweithgarwch Corfforol
ATTACH;FMTTYPE=image/jpeg:https://keepingmewell.com/wp-content/uploads/2023/03/Met-Active-EN.jpg
END:VEVENT
BEGIN:VEVENT
DTSTART;TZID=Europe/London:20260120T100000
DTEND;TZID=Europe/London:20260120T111500
DTSTAMP:20260420T003128
CREATED:20231025T110457Z
LAST-MODIFIED:20231025T110457Z
UID:10020410-1768903200-1768907700@keepingmewell.com
SUMMARY:Elderfit - Ymarferion Cryfder a Chydbwysedd
DESCRIPTION:Y dosbarthiadau poblogaidd sy’n helpu pobl gyda’u cydbwysedd\, eu cryfder a’u hyder. \nMae Elderfit yn gwmni budd cymunedol a sefydlwyd gan Gareth Bartlett a Tom Scaife\, ffrindiau sydd wedi treulio 30 mlynedd rhyngddynt yn y diwydiant ffitrwydd. Mae eu sesiynau yn tynnu ar amrywiaeth o dechnegau ymarfer syml ond effeithiol gan ddefnyddio cadeiriau a bandiau gwrthiant. \nMae llawer o’r hyn a ddysgir yn y dosbarth wedi’i gynllunio i bobl ei ddefnyddio gartref ac yn eu bywydau bob dydd\, gan eu helpu i roi hwb i’w hyder ac osgoi cwympiadau cas. \nGall unrhyw un dros 50 oed fynychu dosbarthiadau\, ac mae’r sesiwn “blasu” gyntaf yn rhad ac am ddim.
URL:https://keepingmewell.com/event/elderfit-ymarferion-cryfder-a-chydbwysedd/2026-01-20/
LOCATION:Neuadd Goffa Llandochau\, Heol Penlan. Llandochau\,\, Penarth\, CF64 2LT\, United Kingdom
CATEGORIES:Cymraeg,Dros 50 oed,Gweithgarwch Corfforol
ATTACH;FMTTYPE=image/png:https://keepingmewell.com/wp-content/uploads/2023/10/Elderfit.png
ORGANIZER;CN="Eldrefit":MAILTO:gareth.elderfit@gmail.com
END:VEVENT
BEGIN:VEVENT
DTSTART;TZID=Europe/London:20260121T100000
DTEND;TZID=Europe/London:20260121T120000
DTSTAMP:20260420T003128
CREATED:20231020T110013Z
LAST-MODIFIED:20231020T110855Z
UID:10007926-1768989600-1768996800@keepingmewell.com
SUMMARY:Atgofion Chwaraeon @ Hyb Tredelerch
DESCRIPTION:Rydym yn cyfarfod bob dydd Mercher 10am – 12pm. Yn y Sefydliad Atgofion Chwaraeon rydym yn helpu pobl ym mhobman i gadw mewn cysylltiad a chael hwyl – gan ddefnyddio atgofion o chwaraeon.\nRydyn ni’n sgwrsio am chwaraeon ac yn eu cofio. Rydym yn tanio atgofion cadarnhaol. Ac rydyn ni’n helpu pawb i deimlo’n rhan o’r tîm! \nI gael gwybod sut i gymryd rhan\, anfonwch e-bost at Jane.Clemence2@cardiff.gov.uk
URL:https://keepingmewell.com/event/atgofion-chwaraeon-hyb-tredelerch/2026-01-21/
LOCATION:Hyb Tredelerch\, Fford Llanstephen\, Caerdydd\, CF3 3JA\, United Kingdom
CATEGORIES:Cymraeg,Demensia,Dros 50 oed,Lles
ATTACH;FMTTYPE=image/jpeg:https://keepingmewell.com/wp-content/uploads/2023/10/RugbyBall.jpg
END:VEVENT
BEGIN:VEVENT
DTSTART;TZID=Europe/London:20260122T093000
DTEND;TZID=Europe/London:20260122T103000
DTSTAMP:20260420T003128
CREATED:20231018T114558Z
LAST-MODIFIED:20231018T114558Z
UID:10005834-1769074200-1769077800@keepingmewell.com
SUMMARY:Lleihau Achosion o Gwympo i rai dros 50 oed
DESCRIPTION:Wedi’i gynllunio’n benodol ar gyfer cyfranogwyr sy’n 50 oed ac yn h?n. Mae’r dosbarth Lleihau Achosion o Gwympo 50+ ar gyfer y rhai sy’n dymuno meithrin gwydnwch\, cryfhau ac osgoi anafiadau. Cynhelir y dosbarth yn Stiwdio 1 Cyncoed ar Gampws Cyncoed Met Caerdydd. Trefnwch ymlaen llaw ar ap Met Active y gellir ei lawrlwytho yma: https://www.cardiffmet.ac.uk/about/sport/membership/Pages/Fitness-Classes.aspx. Mae sesiynau yn £3 yr un.
URL:https://keepingmewell.com/event/lleihau-achosion-o-gwympo-i-rai-dros-50-oed-26/2026-01-22/
LOCATION:Met Caerdydd\, Campws Cyncoed\, Prifysgol Metropolitan Caerdydd\, Ffordd Cyncoed\, Caerdydd\, CF23 6XD
CATEGORIES:Cymraeg,Dros 50 oed,Gweithgarwch Corfforol,Lleihau Achosion
ATTACH;FMTTYPE=image/jpeg:https://keepingmewell.com/wp-content/uploads/2023/03/Met-Active-EN.jpg
END:VEVENT
BEGIN:VEVENT
DTSTART;TZID=Europe/London:20260123T093000
DTEND;TZID=Europe/London:20260123T103000
DTSTAMP:20260420T003128
CREATED:20230327T111957Z
LAST-MODIFIED:20231024T141547Z
UID:10016485-1769160600-1769164200@keepingmewell.com
SUMMARY:Ffitrwydd Gweithredol i rai dros 50 oed
DESCRIPTION:Wedi’i gynllunio’n benodol ar gyfer cyfranogwyr sy’n 50 oed ac yn h?n. Mae Ffitrwydd Gweithredol 50+ ar gyfer y rhai sy’n dymuno cryfhau\, dysgu sut i godi pwysau ac osgoi anafiadau. Cynhelir y dosbarth yn Stiwdio 1 Cyncoed ar Gampws Cyncoed Met Caerdydd. \nTrefnwch ymlaen llaw ar ap Met Active y gellir ei lawrlwytho yma. Mae sesiynau yn £3 yr un.
URL:https://keepingmewell.com/event/ffitrwydd-gweithredol-i-rai-dros-50-oed/2026-01-23/
LOCATION:Met Caerdydd\, Campws Cyncoed\, Prifysgol Metropolitan Caerdydd\, Ffordd Cyncoed\, Caerdydd\, CF23 6XD
CATEGORIES:Cymraeg,Dros 50 oed,Ffitrwydd Gweithredol,Gweithgarwch Corfforol
ATTACH;FMTTYPE=image/jpeg:https://keepingmewell.com/wp-content/uploads/2023/03/Met-Active-EN.jpg
END:VEVENT
BEGIN:VEVENT
DTSTART;TZID=Europe/London:20260123T111500
DTEND;TZID=Europe/London:20260123T121500
DTSTAMP:20260420T003128
CREATED:20231025T103337Z
LAST-MODIFIED:20231109T142444Z
UID:10019893-1769166900-1769170500@keepingmewell.com
SUMMARY:Sesiwn ffitrwydd wedi'i theilwra ar gyfer pobl 75 oed
DESCRIPTION:Ffitrwydd gyda Ffrinidau – 75+ oed \nBore Gwener – Am ddim. \nBob yn ail wythnos. Rhaid cofrestru o flaen llaw. \nI gofrestru: Rachel at rachel@mentercaerdydd.cymru.
URL:https://keepingmewell.com/event/sesiwn-ffitrwydd-wedii-theilwra-ar-gyfer-pobl-75-oed/2026-01-23/
LOCATION:Canolfan Genedlaethol Chwaraeon Cymru\, Gerddi Sophia\, Caerdydd\, CF11 9SW\, United Kingdom
CATEGORIES:Cymraeg,Dros 50 oed,Gweithgarwch Corfforol
ATTACH;FMTTYPE=image/jpeg:https://keepingmewell.com/wp-content/uploads/2023/01/Menter-Caerdydd.jpg
END:VEVENT
BEGIN:VEVENT
DTSTART;TZID=Europe/London:20260127T093000
DTEND;TZID=Europe/London:20260127T223000
DTSTAMP:20260420T003128
CREATED:20231025T101015Z
LAST-MODIFIED:20231025T101015Z
UID:10019375-1769506200-1769553000@keepingmewell.com
SUMMARY:Bocsiomarfer i rai dros 50 oed
DESCRIPTION:Wedi’i gynllunio’n benodol ar gyfer cyfranogwyr sy’n 50 oed ac yn h?n. Mae Bocsiomarfer 50+ ar gyfer y rhai sy’n dymuno gwella eu ffitrwydd aerobig a chael hwyl wrth wneud hynny. \nCynhelir y dosbarth yn Stiwdio 1 Cyncoed ar Gampws Cyncoed Met Caerdydd. Trefnwch ymlaen llaw ar ap Met Active y gellir ei lawrlwytho yma. Mae sesiynau yn £3 yr un.
URL:https://keepingmewell.com/event/bocsiomarfer-i-rai-dros-50-oed/2026-01-27/
LOCATION:Met Caerdydd\, Campws Cyncoed\, Prifysgol Metropolitan Caerdydd\, Ffordd Cyncoed\, Caerdydd\, CF23 6XD
CATEGORIES:Bocsiomarfer,Cymraeg,Dros 50 oed,Gweithgarwch Corfforol
ATTACH;FMTTYPE=image/jpeg:https://keepingmewell.com/wp-content/uploads/2023/03/Met-Active-EN.jpg
END:VEVENT
BEGIN:VEVENT
DTSTART;TZID=Europe/London:20260127T100000
DTEND;TZID=Europe/London:20260127T111500
DTSTAMP:20260420T003128
CREATED:20231025T110457Z
LAST-MODIFIED:20231025T110457Z
UID:10020411-1769508000-1769512500@keepingmewell.com
SUMMARY:Elderfit - Ymarferion Cryfder a Chydbwysedd
DESCRIPTION:Y dosbarthiadau poblogaidd sy’n helpu pobl gyda’u cydbwysedd\, eu cryfder a’u hyder. \nMae Elderfit yn gwmni budd cymunedol a sefydlwyd gan Gareth Bartlett a Tom Scaife\, ffrindiau sydd wedi treulio 30 mlynedd rhyngddynt yn y diwydiant ffitrwydd. Mae eu sesiynau yn tynnu ar amrywiaeth o dechnegau ymarfer syml ond effeithiol gan ddefnyddio cadeiriau a bandiau gwrthiant. \nMae llawer o’r hyn a ddysgir yn y dosbarth wedi’i gynllunio i bobl ei ddefnyddio gartref ac yn eu bywydau bob dydd\, gan eu helpu i roi hwb i’w hyder ac osgoi cwympiadau cas. \nGall unrhyw un dros 50 oed fynychu dosbarthiadau\, ac mae’r sesiwn “blasu” gyntaf yn rhad ac am ddim.
URL:https://keepingmewell.com/event/elderfit-ymarferion-cryfder-a-chydbwysedd/2026-01-27/
LOCATION:Neuadd Goffa Llandochau\, Heol Penlan. Llandochau\,\, Penarth\, CF64 2LT\, United Kingdom
CATEGORIES:Cymraeg,Dros 50 oed,Gweithgarwch Corfforol
ATTACH;FMTTYPE=image/png:https://keepingmewell.com/wp-content/uploads/2023/10/Elderfit.png
ORGANIZER;CN="Eldrefit":MAILTO:gareth.elderfit@gmail.com
END:VEVENT
BEGIN:VEVENT
DTSTART;TZID=Europe/London:20260128T100000
DTEND;TZID=Europe/London:20260128T120000
DTSTAMP:20260420T003128
CREATED:20231020T110013Z
LAST-MODIFIED:20231020T110855Z
UID:10007927-1769594400-1769601600@keepingmewell.com
SUMMARY:Atgofion Chwaraeon @ Hyb Tredelerch
DESCRIPTION:Rydym yn cyfarfod bob dydd Mercher 10am – 12pm. Yn y Sefydliad Atgofion Chwaraeon rydym yn helpu pobl ym mhobman i gadw mewn cysylltiad a chael hwyl – gan ddefnyddio atgofion o chwaraeon.\nRydyn ni’n sgwrsio am chwaraeon ac yn eu cofio. Rydym yn tanio atgofion cadarnhaol. Ac rydyn ni’n helpu pawb i deimlo’n rhan o’r tîm! \nI gael gwybod sut i gymryd rhan\, anfonwch e-bost at Jane.Clemence2@cardiff.gov.uk
URL:https://keepingmewell.com/event/atgofion-chwaraeon-hyb-tredelerch/2026-01-28/
LOCATION:Hyb Tredelerch\, Fford Llanstephen\, Caerdydd\, CF3 3JA\, United Kingdom
CATEGORIES:Cymraeg,Demensia,Dros 50 oed,Lles
ATTACH;FMTTYPE=image/jpeg:https://keepingmewell.com/wp-content/uploads/2023/10/RugbyBall.jpg
END:VEVENT
BEGIN:VEVENT
DTSTART;TZID=Europe/London:20260129T093000
DTEND;TZID=Europe/London:20260129T103000
DTSTAMP:20260420T003128
CREATED:20231018T114558Z
LAST-MODIFIED:20231018T114558Z
UID:10005835-1769679000-1769682600@keepingmewell.com
SUMMARY:Lleihau Achosion o Gwympo i rai dros 50 oed
DESCRIPTION:Wedi’i gynllunio’n benodol ar gyfer cyfranogwyr sy’n 50 oed ac yn h?n. Mae’r dosbarth Lleihau Achosion o Gwympo 50+ ar gyfer y rhai sy’n dymuno meithrin gwydnwch\, cryfhau ac osgoi anafiadau. Cynhelir y dosbarth yn Stiwdio 1 Cyncoed ar Gampws Cyncoed Met Caerdydd. Trefnwch ymlaen llaw ar ap Met Active y gellir ei lawrlwytho yma: https://www.cardiffmet.ac.uk/about/sport/membership/Pages/Fitness-Classes.aspx. Mae sesiynau yn £3 yr un.
URL:https://keepingmewell.com/event/lleihau-achosion-o-gwympo-i-rai-dros-50-oed-26/2026-01-29/
LOCATION:Met Caerdydd\, Campws Cyncoed\, Prifysgol Metropolitan Caerdydd\, Ffordd Cyncoed\, Caerdydd\, CF23 6XD
CATEGORIES:Cymraeg,Dros 50 oed,Gweithgarwch Corfforol,Lleihau Achosion
ATTACH;FMTTYPE=image/jpeg:https://keepingmewell.com/wp-content/uploads/2023/03/Met-Active-EN.jpg
END:VEVENT
BEGIN:VEVENT
DTSTART;TZID=Europe/London:20260130T093000
DTEND;TZID=Europe/London:20260130T103000
DTSTAMP:20260420T003128
CREATED:20230327T111957Z
LAST-MODIFIED:20231024T141547Z
UID:10016486-1769765400-1769769000@keepingmewell.com
SUMMARY:Ffitrwydd Gweithredol i rai dros 50 oed
DESCRIPTION:Wedi’i gynllunio’n benodol ar gyfer cyfranogwyr sy’n 50 oed ac yn h?n. Mae Ffitrwydd Gweithredol 50+ ar gyfer y rhai sy’n dymuno cryfhau\, dysgu sut i godi pwysau ac osgoi anafiadau. Cynhelir y dosbarth yn Stiwdio 1 Cyncoed ar Gampws Cyncoed Met Caerdydd. \nTrefnwch ymlaen llaw ar ap Met Active y gellir ei lawrlwytho yma. Mae sesiynau yn £3 yr un.
URL:https://keepingmewell.com/event/ffitrwydd-gweithredol-i-rai-dros-50-oed/2026-01-30/
LOCATION:Met Caerdydd\, Campws Cyncoed\, Prifysgol Metropolitan Caerdydd\, Ffordd Cyncoed\, Caerdydd\, CF23 6XD
CATEGORIES:Cymraeg,Dros 50 oed,Ffitrwydd Gweithredol,Gweithgarwch Corfforol
ATTACH;FMTTYPE=image/jpeg:https://keepingmewell.com/wp-content/uploads/2023/03/Met-Active-EN.jpg
END:VEVENT
BEGIN:VEVENT
DTSTART;TZID=Europe/London:20260130T111500
DTEND;TZID=Europe/London:20260130T121500
DTSTAMP:20260420T003128
CREATED:20231025T103337Z
LAST-MODIFIED:20231109T142444Z
UID:10019894-1769771700-1769775300@keepingmewell.com
SUMMARY:Sesiwn ffitrwydd wedi'i theilwra ar gyfer pobl 75 oed
DESCRIPTION:Ffitrwydd gyda Ffrinidau – 75+ oed \nBore Gwener – Am ddim. \nBob yn ail wythnos. Rhaid cofrestru o flaen llaw. \nI gofrestru: Rachel at rachel@mentercaerdydd.cymru.
URL:https://keepingmewell.com/event/sesiwn-ffitrwydd-wedii-theilwra-ar-gyfer-pobl-75-oed/2026-01-30/
LOCATION:Canolfan Genedlaethol Chwaraeon Cymru\, Gerddi Sophia\, Caerdydd\, CF11 9SW\, United Kingdom
CATEGORIES:Cymraeg,Dros 50 oed,Gweithgarwch Corfforol
ATTACH;FMTTYPE=image/jpeg:https://keepingmewell.com/wp-content/uploads/2023/01/Menter-Caerdydd.jpg
END:VEVENT
END:VCALENDAR