BEGIN:VCALENDAR
VERSION:2.0
PRODID:-//Keeping Me Well - ECPv6.15.20//NONSGML v1.0//EN
CALSCALE:GREGORIAN
METHOD:PUBLISH
X-WR-CALNAME:Keeping Me Well
X-ORIGINAL-URL:https://keepingmewell.com
X-WR-CALDESC:Events for Keeping Me Well
REFRESH-INTERVAL;VALUE=DURATION:PT1H
X-Robots-Tag:noindex
X-PUBLISHED-TTL:PT1H
BEGIN:VTIMEZONE
TZID:Europe/London
BEGIN:DAYLIGHT
TZOFFSETFROM:+0000
TZOFFSETTO:+0100
TZNAME:BST
DTSTART:20250330T010000
END:DAYLIGHT
BEGIN:STANDARD
TZOFFSETFROM:+0100
TZOFFSETTO:+0000
TZNAME:GMT
DTSTART:20251026T010000
END:STANDARD
BEGIN:DAYLIGHT
TZOFFSETFROM:+0000
TZOFFSETTO:+0100
TZNAME:BST
DTSTART:20260329T010000
END:DAYLIGHT
BEGIN:STANDARD
TZOFFSETFROM:+0100
TZOFFSETTO:+0000
TZNAME:GMT
DTSTART:20261025T010000
END:STANDARD
BEGIN:DAYLIGHT
TZOFFSETFROM:+0000
TZOFFSETTO:+0100
TZNAME:BST
DTSTART:20270328T010000
END:DAYLIGHT
BEGIN:STANDARD
TZOFFSETFROM:+0100
TZOFFSETTO:+0000
TZNAME:GMT
DTSTART:20271031T010000
END:STANDARD
END:VTIMEZONE
BEGIN:VEVENT
DTSTART;TZID=Europe/London:20261028T110000
DTEND;TZID=Europe/London:20261028T120000
DTSTAMP:20260424T163648
CREATED:20230823T113441Z
LAST-MODIFIED:20231024T123725Z
UID:10012635-1793185200-1793188800@keepingmewell.com
SUMMARY:ESCAPEE event in Llanrumney
DESCRIPTION:The ESCAPEE events are follow-up exercise sessions for people who have attended the Escape Pain programme for hip\, knee or back pain. \nYou are welcome to drop-in and take part in exercise designed to improve your movement and function. \nAt Eastern Leisure Centre every Wednesday\, 11am.
URL:https://keepingmewell.com/event/escapee-event-151/2026-10-28/
LOCATION:Eastern Leisure Centre\, Llanrumney Avenue\, Cardiff\, CF3 4DN\, United Kingdom
CATEGORIES:Arthritis,English,ESCAPEE,Physical Activity
ATTACH;FMTTYPE=image/jpeg:https://keepingmewell.com/wp-content/uploads/2022/12/Better-Escape-logos.jpg
END:VEVENT
BEGIN:VEVENT
DTSTART;TZID=Europe/London:20261029T093000
DTEND;TZID=Europe/London:20261029T103000
DTSTAMP:20260424T163648
CREATED:20231023T132809Z
LAST-MODIFIED:20231023T134537Z
UID:10008228-1793266200-1793269800@keepingmewell.com
SUMMARY:ESCAPEE Event in Llanishen
DESCRIPTION:The ESCAPEE events are follow-up exercise sessions for people who have attended the Escape Pain programme for hip\, knee or back pain. \nYou are welcome to drop-in and take part in exercise designed to improve your movement and function. \nAt Llanishen Leisure Centre every Thursday\, 9.30am.
URL:https://keepingmewell.com/event/escapee-event-in-llanishen/2026-10-29/
LOCATION:Llanishen Leisure Centre\, Ty Glas Avenue\, Llanishen\, Cardiff\, CF14 5EB\, United Kingdom
CATEGORIES:Arthritis,English,ESCAPEE,Physical Activity
ATTACH;FMTTYPE=image/jpeg:https://keepingmewell.com/wp-content/uploads/2022/12/Better-Escape-logos.jpg
END:VEVENT
BEGIN:VEVENT
DTSTART;TZID=Europe/London:20261029T113000
DTEND;TZID=Europe/London:20261029T121500
DTSTAMP:20260424T163648
CREATED:20230823T134207Z
LAST-MODIFIED:20231024T114559Z
UID:10010819-1793273400-1793276100@keepingmewell.com
SUMMARY:ESCAPEE event in Penarth
DESCRIPTION:The ESCAPEE events are follow-up exercise sessions for people who have attended the Escape Pain programme for hip\, knee or back pain. \nYou are welcome to drop-in and take part in exercise designed to improve your movement and function. \nAt Penarth Leisure Centre every Thursday\, 11.30am-12.15pm.
URL:https://keepingmewell.com/event/escapee-event-201/2026-10-29/
LOCATION:Penarth Leisure Centre\, Andrew Road\, Cogan\, Penarth\, CF64 2NS\, United Kingdom
CATEGORIES:Arthritis,English,ESCAPEE,Physical Activity
ATTACH;FMTTYPE=image/jpeg:https://keepingmewell.com/wp-content/uploads/2022/12/Leisure-Centre-Escape-logos.jpg
END:VEVENT
BEGIN:VEVENT
DTSTART;TZID=Europe/London:20261029T143000
DTEND;TZID=Europe/London:20261029T153000
DTSTAMP:20260424T163648
CREATED:20230823T141300Z
LAST-MODIFIED:20231024T120056Z
UID:10011337-1793284200-1793287800@keepingmewell.com
SUMMARY:ESCAPEE event in Ely
DESCRIPTION:The ESCAPEE events are follow-up exercise sessions for people who have attended the Escape Pain programme for hip\, knee or back pain. \nYou are welcome to drop-in and take part in exercise designed to improve your movement and function. \nAt Western Leisure Centre every Thursday\, 2.30pm-3.30pm.
URL:https://keepingmewell.com/event/escapee-event-234/2026-10-29/
LOCATION:Western Leisure Centre\, Careau Lane\, Cardiff\, CF5 5HJ\, United Kingdom
CATEGORIES:Arthritis,English,ESCAPEE,Physical Health
ATTACH;FMTTYPE=image/jpeg:https://keepingmewell.com/wp-content/uploads/2022/12/Better-Escape-logos.jpg
END:VEVENT
BEGIN:VEVENT
DTSTART;TZID=Europe/London:20261030T103000
DTEND;TZID=Europe/London:20261030T113000
DTSTAMP:20260424T163648
CREATED:20231024T101140Z
LAST-MODIFIED:20231024T101140Z
UID:10009007-1793356200-1793359800@keepingmewell.com
SUMMARY:ESCAPEE Event in Fairwater
DESCRIPTION:The ESCAPEE events are follow-up exercise sessions for people who have attended the Escape Pain programme for hip\, knee or back pain. \nYou are welcome to drop-in and take part in exercise designed to improve your movement and function. \nAt Fairwater Leisure Centre every Friday\, 10.30-11.30am.
URL:https://keepingmewell.com/event/escapee-event-in-fairwater/2026-10-30/
LOCATION:Fairwater Leisure Centre\, Waterhall Road\, Cardiff\, CF5 3LL\, United Kingdom
CATEGORIES:Arthritis,English,ESCAPEE,Physical Activity
ATTACH;FMTTYPE=image/jpeg:https://keepingmewell.com/wp-content/uploads/2022/12/Better-Escape-logos.jpg
END:VEVENT
BEGIN:VEVENT
DTSTART;TZID=Europe/London:20261030T120000
DTEND;TZID=Europe/London:20261030T130000
DTSTAMP:20260424T163648
CREATED:20230823T111928Z
LAST-MODIFIED:20231024T125111Z
UID:10013410-1793361600-1793365200@keepingmewell.com
SUMMARY:ESCAPEE event in Llanrumney
DESCRIPTION:The ESCAPEE events are follow-up exercise sessions for people who have attended the Escape Pain programme for hip\, knee or back pain. \nYou are welcome to drop-in and take part in exercise designed to improve your movement and function. \nAt Eastern Leisure Centre every Friday\, 12noon.
URL:https://keepingmewell.com/event/escapee-event-105/2026-10-30/
LOCATION:Eastern Leisure Centre\, Llanrumney Avenue\, Cardiff\, CF3 4DN\, United Kingdom
CATEGORIES:Arthritis,English,ESCAPEE,Physical Activity
ATTACH;FMTTYPE=image/jpeg:https://keepingmewell.com/wp-content/uploads/2022/12/Better-Escape-logos.jpg
END:VEVENT
BEGIN:VEVENT
DTSTART;TZID=Europe/London:20261102T110000
DTEND;TZID=Europe/London:20261102T120000
DTSTAMP:20260424T163648
CREATED:20231024T103936Z
LAST-MODIFIED:20231024T104119Z
UID:10009945-1793617200-1793620800@keepingmewell.com
SUMMARY:ESCAPEE event in Llanrumney
DESCRIPTION:The ESCAPEE events are follow-up exercise sessions for people who have attended the Escape Pain programme for hip\, knee or back pain. \nYou are welcome to drop-in and take part in exercise designed to improve your movement and function. \nAt Eastern Leisure Centre every Monday\, 11.00am\, every Wednesday 11.00am and every Friday at 12noon.
URL:https://keepingmewell.com/event/escapee-event-in-llanrumney/2026-11-02/
LOCATION:Eastern Leisure Centre\, Llanrumney Avenue\, Cardiff\, CF3 4DN\, United Kingdom
CATEGORIES:English,ESCAPEE,Physical Activity
ATTACH;FMTTYPE=image/jpeg:https://keepingmewell.com/wp-content/uploads/2022/12/Better-Escape-logos.jpg
END:VEVENT
BEGIN:VEVENT
DTSTART;TZID=Europe/London:20261102T113000
DTEND;TZID=Europe/London:20261102T121500
DTSTAMP:20260424T163648
CREATED:20231024T113426Z
LAST-MODIFIED:20231024T113426Z
UID:10010560-1793619000-1793621700@keepingmewell.com
SUMMARY:ESCAPEE event in Penarth
DESCRIPTION:The ESCAPEE events are follow-up exercise sessions for people who have attended the Escape Pain programme for hip\, knee or back pain. \nYou are welcome to drop-in and take part in exercise designed to improve your movement and function. \nAt Penarth Leisure Centre every Monday\, 11.30am-12.15pm.
URL:https://keepingmewell.com/event/escapee-event-in-penarth/2026-11-02/
LOCATION:Penarth Leisure Centre\, Andrew Road\, Cogan\, Penarth\, CF64 2NS\, United Kingdom
CATEGORIES:Arthritis,English,ESCAPEE,Physical Activity
ATTACH;FMTTYPE=image/jpeg:https://keepingmewell.com/wp-content/uploads/2022/12/Leisure-Centre-Escape-logos.jpg
END:VEVENT
BEGIN:VEVENT
DTSTART;TZID=Europe/London:20261103T123000
DTEND;TZID=Europe/London:20261103T131500
DTSTAMP:20260424T163648
CREATED:20230823T121551Z
LAST-MODIFIED:20231024T120452Z
UID:10011599-1793709000-1793711700@keepingmewell.com
SUMMARY:ESCAPEE event in Barry
DESCRIPTION:The ESCAPEE events are follow-up exercise sessions for people who have attended the Escape Pain programme for hip\, knee or back pain. \nYou are welcome to drop-in and take part in exercise designed to improve your movement and function. \nAt Barry Leisure Centre every Tuesday\, 12.30pm.
URL:https://keepingmewell.com/event/escapee-event-167/2026-11-03/
LOCATION:Barry Leisure Centre\, Greenwood Street\, Barry\, CF63 4JJ\, United Kingdom
CATEGORIES:Arthritis,English,ESCAPEE,Physical Activity
ATTACH;FMTTYPE=image/jpeg:https://keepingmewell.com/wp-content/uploads/2022/12/Leisure-Centre-Escape-logos.jpg
END:VEVENT
BEGIN:VEVENT
DTSTART;TZID=Europe/London:20261103T143000
DTEND;TZID=Europe/London:20261103T153000
DTSTAMP:20260424T163648
CREATED:20230823T141020Z
LAST-MODIFIED:20231024T122534Z
UID:10012118-1793716200-1793719800@keepingmewell.com
SUMMARY:ESCAPEE event in Ely
DESCRIPTION:The ESCAPEE events are follow-up exercise sessions for people who have attended the Escape Pain programme for hip\, knee or back pain. \nYou are welcome to drop-in and take part in exercise designed to improve your movement and function. \nAt Western Leisure Centre every Tuesday\, 2.30pm.
URL:https://keepingmewell.com/event/escapee-event-216/2026-11-03/
LOCATION:Western Leisure Centre\, Careau Lane\, Cardiff\, CF5 5HJ\, United Kingdom
CATEGORIES:Arthritis,English,ESCAPEE,Physical Health
ATTACH;FMTTYPE=image/jpeg:https://keepingmewell.com/wp-content/uploads/2022/12/Better-Escape-logos.jpg
END:VEVENT
BEGIN:VEVENT
DTSTART;TZID=Europe/London:20261104T110000
DTEND;TZID=Europe/London:20261104T120000
DTSTAMP:20260424T163648
CREATED:20230823T113441Z
LAST-MODIFIED:20231024T123725Z
UID:10012636-1793790000-1793793600@keepingmewell.com
SUMMARY:ESCAPEE event in Llanrumney
DESCRIPTION:The ESCAPEE events are follow-up exercise sessions for people who have attended the Escape Pain programme for hip\, knee or back pain. \nYou are welcome to drop-in and take part in exercise designed to improve your movement and function. \nAt Eastern Leisure Centre every Wednesday\, 11am.
URL:https://keepingmewell.com/event/escapee-event-151/2026-11-04/
LOCATION:Eastern Leisure Centre\, Llanrumney Avenue\, Cardiff\, CF3 4DN\, United Kingdom
CATEGORIES:Arthritis,English,ESCAPEE,Physical Activity
ATTACH;FMTTYPE=image/jpeg:https://keepingmewell.com/wp-content/uploads/2022/12/Better-Escape-logos.jpg
END:VEVENT
BEGIN:VEVENT
DTSTART;TZID=Europe/London:20261105T093000
DTEND;TZID=Europe/London:20261105T103000
DTSTAMP:20260424T163648
CREATED:20231023T132809Z
LAST-MODIFIED:20231023T134537Z
UID:10008229-1793871000-1793874600@keepingmewell.com
SUMMARY:ESCAPEE Event in Llanishen
DESCRIPTION:The ESCAPEE events are follow-up exercise sessions for people who have attended the Escape Pain programme for hip\, knee or back pain. \nYou are welcome to drop-in and take part in exercise designed to improve your movement and function. \nAt Llanishen Leisure Centre every Thursday\, 9.30am.
URL:https://keepingmewell.com/event/escapee-event-in-llanishen/2026-11-05/
LOCATION:Llanishen Leisure Centre\, Ty Glas Avenue\, Llanishen\, Cardiff\, CF14 5EB\, United Kingdom
CATEGORIES:Arthritis,English,ESCAPEE,Physical Activity
ATTACH;FMTTYPE=image/jpeg:https://keepingmewell.com/wp-content/uploads/2022/12/Better-Escape-logos.jpg
END:VEVENT
BEGIN:VEVENT
DTSTART;TZID=Europe/London:20261105T113000
DTEND;TZID=Europe/London:20261105T121500
DTSTAMP:20260424T163648
CREATED:20230823T134207Z
LAST-MODIFIED:20231024T114559Z
UID:10010820-1793878200-1793880900@keepingmewell.com
SUMMARY:ESCAPEE event in Penarth
DESCRIPTION:The ESCAPEE events are follow-up exercise sessions for people who have attended the Escape Pain programme for hip\, knee or back pain. \nYou are welcome to drop-in and take part in exercise designed to improve your movement and function. \nAt Penarth Leisure Centre every Thursday\, 11.30am-12.15pm.
URL:https://keepingmewell.com/event/escapee-event-201/2026-11-05/
LOCATION:Penarth Leisure Centre\, Andrew Road\, Cogan\, Penarth\, CF64 2NS\, United Kingdom
CATEGORIES:Arthritis,English,ESCAPEE,Physical Activity
ATTACH;FMTTYPE=image/jpeg:https://keepingmewell.com/wp-content/uploads/2022/12/Leisure-Centre-Escape-logos.jpg
END:VEVENT
BEGIN:VEVENT
DTSTART;TZID=Europe/London:20261105T143000
DTEND;TZID=Europe/London:20261105T153000
DTSTAMP:20260424T163648
CREATED:20230823T141300Z
LAST-MODIFIED:20231024T120056Z
UID:10011338-1793889000-1793892600@keepingmewell.com
SUMMARY:ESCAPEE event in Ely
DESCRIPTION:The ESCAPEE events are follow-up exercise sessions for people who have attended the Escape Pain programme for hip\, knee or back pain. \nYou are welcome to drop-in and take part in exercise designed to improve your movement and function. \nAt Western Leisure Centre every Thursday\, 2.30pm-3.30pm.
URL:https://keepingmewell.com/event/escapee-event-234/2026-11-05/
LOCATION:Western Leisure Centre\, Careau Lane\, Cardiff\, CF5 5HJ\, United Kingdom
CATEGORIES:Arthritis,English,ESCAPEE,Physical Health
ATTACH;FMTTYPE=image/jpeg:https://keepingmewell.com/wp-content/uploads/2022/12/Better-Escape-logos.jpg
END:VEVENT
BEGIN:VEVENT
DTSTART;TZID=Europe/London:20261106T103000
DTEND;TZID=Europe/London:20261106T113000
DTSTAMP:20260424T163648
CREATED:20231024T101140Z
LAST-MODIFIED:20231024T101140Z
UID:10009008-1793961000-1793964600@keepingmewell.com
SUMMARY:ESCAPEE Event in Fairwater
DESCRIPTION:The ESCAPEE events are follow-up exercise sessions for people who have attended the Escape Pain programme for hip\, knee or back pain. \nYou are welcome to drop-in and take part in exercise designed to improve your movement and function. \nAt Fairwater Leisure Centre every Friday\, 10.30-11.30am.
URL:https://keepingmewell.com/event/escapee-event-in-fairwater/2026-11-06/
LOCATION:Fairwater Leisure Centre\, Waterhall Road\, Cardiff\, CF5 3LL\, United Kingdom
CATEGORIES:Arthritis,English,ESCAPEE,Physical Activity
ATTACH;FMTTYPE=image/jpeg:https://keepingmewell.com/wp-content/uploads/2022/12/Better-Escape-logos.jpg
END:VEVENT
BEGIN:VEVENT
DTSTART;TZID=Europe/London:20261106T120000
DTEND;TZID=Europe/London:20261106T130000
DTSTAMP:20260424T163648
CREATED:20230823T111928Z
LAST-MODIFIED:20231024T125111Z
UID:10013411-1793966400-1793970000@keepingmewell.com
SUMMARY:ESCAPEE event in Llanrumney
DESCRIPTION:The ESCAPEE events are follow-up exercise sessions for people who have attended the Escape Pain programme for hip\, knee or back pain. \nYou are welcome to drop-in and take part in exercise designed to improve your movement and function. \nAt Eastern Leisure Centre every Friday\, 12noon.
URL:https://keepingmewell.com/event/escapee-event-105/2026-11-06/
LOCATION:Eastern Leisure Centre\, Llanrumney Avenue\, Cardiff\, CF3 4DN\, United Kingdom
CATEGORIES:Arthritis,English,ESCAPEE,Physical Activity
ATTACH;FMTTYPE=image/jpeg:https://keepingmewell.com/wp-content/uploads/2022/12/Better-Escape-logos.jpg
END:VEVENT
BEGIN:VEVENT
DTSTART;TZID=Europe/London:20261109T110000
DTEND;TZID=Europe/London:20261109T120000
DTSTAMP:20260424T163648
CREATED:20231024T103936Z
LAST-MODIFIED:20231024T104119Z
UID:10009947-1794222000-1794225600@keepingmewell.com
SUMMARY:ESCAPEE event in Llanrumney
DESCRIPTION:The ESCAPEE events are follow-up exercise sessions for people who have attended the Escape Pain programme for hip\, knee or back pain. \nYou are welcome to drop-in and take part in exercise designed to improve your movement and function. \nAt Eastern Leisure Centre every Monday\, 11.00am\, every Wednesday 11.00am and every Friday at 12noon.
URL:https://keepingmewell.com/event/escapee-event-in-llanrumney/2026-11-09/
LOCATION:Eastern Leisure Centre\, Llanrumney Avenue\, Cardiff\, CF3 4DN\, United Kingdom
CATEGORIES:English,ESCAPEE,Physical Activity
ATTACH;FMTTYPE=image/jpeg:https://keepingmewell.com/wp-content/uploads/2022/12/Better-Escape-logos.jpg
END:VEVENT
BEGIN:VEVENT
DTSTART;TZID=Europe/London:20261109T113000
DTEND;TZID=Europe/London:20261109T121500
DTSTAMP:20260424T163648
CREATED:20231024T113426Z
LAST-MODIFIED:20231024T113426Z
UID:10010561-1794223800-1794226500@keepingmewell.com
SUMMARY:ESCAPEE event in Penarth
DESCRIPTION:The ESCAPEE events are follow-up exercise sessions for people who have attended the Escape Pain programme for hip\, knee or back pain. \nYou are welcome to drop-in and take part in exercise designed to improve your movement and function. \nAt Penarth Leisure Centre every Monday\, 11.30am-12.15pm.
URL:https://keepingmewell.com/event/escapee-event-in-penarth/2026-11-09/
LOCATION:Penarth Leisure Centre\, Andrew Road\, Cogan\, Penarth\, CF64 2NS\, United Kingdom
CATEGORIES:Arthritis,English,ESCAPEE,Physical Activity
ATTACH;FMTTYPE=image/jpeg:https://keepingmewell.com/wp-content/uploads/2022/12/Leisure-Centre-Escape-logos.jpg
END:VEVENT
BEGIN:VEVENT
DTSTART;TZID=Europe/London:20261110T123000
DTEND;TZID=Europe/London:20261110T131500
DTSTAMP:20260424T163648
CREATED:20230823T121551Z
LAST-MODIFIED:20231024T120452Z
UID:10011600-1794313800-1794316500@keepingmewell.com
SUMMARY:ESCAPEE event in Barry
DESCRIPTION:The ESCAPEE events are follow-up exercise sessions for people who have attended the Escape Pain programme for hip\, knee or back pain. \nYou are welcome to drop-in and take part in exercise designed to improve your movement and function. \nAt Barry Leisure Centre every Tuesday\, 12.30pm.
URL:https://keepingmewell.com/event/escapee-event-167/2026-11-10/
LOCATION:Barry Leisure Centre\, Greenwood Street\, Barry\, CF63 4JJ\, United Kingdom
CATEGORIES:Arthritis,English,ESCAPEE,Physical Activity
ATTACH;FMTTYPE=image/jpeg:https://keepingmewell.com/wp-content/uploads/2022/12/Leisure-Centre-Escape-logos.jpg
END:VEVENT
BEGIN:VEVENT
DTSTART;TZID=Europe/London:20261110T143000
DTEND;TZID=Europe/London:20261110T153000
DTSTAMP:20260424T163648
CREATED:20230823T141020Z
LAST-MODIFIED:20231024T122534Z
UID:10012119-1794321000-1794324600@keepingmewell.com
SUMMARY:ESCAPEE event in Ely
DESCRIPTION:The ESCAPEE events are follow-up exercise sessions for people who have attended the Escape Pain programme for hip\, knee or back pain. \nYou are welcome to drop-in and take part in exercise designed to improve your movement and function. \nAt Western Leisure Centre every Tuesday\, 2.30pm.
URL:https://keepingmewell.com/event/escapee-event-216/2026-11-10/
LOCATION:Western Leisure Centre\, Careau Lane\, Cardiff\, CF5 5HJ\, United Kingdom
CATEGORIES:Arthritis,English,ESCAPEE,Physical Health
ATTACH;FMTTYPE=image/jpeg:https://keepingmewell.com/wp-content/uploads/2022/12/Better-Escape-logos.jpg
END:VEVENT
BEGIN:VEVENT
DTSTART;TZID=Europe/London:20261111T110000
DTEND;TZID=Europe/London:20261111T120000
DTSTAMP:20260424T163648
CREATED:20230823T113441Z
LAST-MODIFIED:20231024T123725Z
UID:10012637-1794394800-1794398400@keepingmewell.com
SUMMARY:ESCAPEE event in Llanrumney
DESCRIPTION:The ESCAPEE events are follow-up exercise sessions for people who have attended the Escape Pain programme for hip\, knee or back pain. \nYou are welcome to drop-in and take part in exercise designed to improve your movement and function. \nAt Eastern Leisure Centre every Wednesday\, 11am.
URL:https://keepingmewell.com/event/escapee-event-151/2026-11-11/
LOCATION:Eastern Leisure Centre\, Llanrumney Avenue\, Cardiff\, CF3 4DN\, United Kingdom
CATEGORIES:Arthritis,English,ESCAPEE,Physical Activity
ATTACH;FMTTYPE=image/jpeg:https://keepingmewell.com/wp-content/uploads/2022/12/Better-Escape-logos.jpg
END:VEVENT
BEGIN:VEVENT
DTSTART;TZID=Europe/London:20261112T093000
DTEND;TZID=Europe/London:20261112T103000
DTSTAMP:20260424T163648
CREATED:20231023T132809Z
LAST-MODIFIED:20231023T134537Z
UID:10008230-1794475800-1794479400@keepingmewell.com
SUMMARY:ESCAPEE Event in Llanishen
DESCRIPTION:The ESCAPEE events are follow-up exercise sessions for people who have attended the Escape Pain programme for hip\, knee or back pain. \nYou are welcome to drop-in and take part in exercise designed to improve your movement and function. \nAt Llanishen Leisure Centre every Thursday\, 9.30am.
URL:https://keepingmewell.com/event/escapee-event-in-llanishen/2026-11-12/
LOCATION:Llanishen Leisure Centre\, Ty Glas Avenue\, Llanishen\, Cardiff\, CF14 5EB\, United Kingdom
CATEGORIES:Arthritis,English,ESCAPEE,Physical Activity
ATTACH;FMTTYPE=image/jpeg:https://keepingmewell.com/wp-content/uploads/2022/12/Better-Escape-logos.jpg
END:VEVENT
BEGIN:VEVENT
DTSTART;TZID=Europe/London:20261112T113000
DTEND;TZID=Europe/London:20261112T121500
DTSTAMP:20260424T163648
CREATED:20230823T134207Z
LAST-MODIFIED:20231024T114559Z
UID:10010821-1794483000-1794485700@keepingmewell.com
SUMMARY:ESCAPEE event in Penarth
DESCRIPTION:The ESCAPEE events are follow-up exercise sessions for people who have attended the Escape Pain programme for hip\, knee or back pain. \nYou are welcome to drop-in and take part in exercise designed to improve your movement and function. \nAt Penarth Leisure Centre every Thursday\, 11.30am-12.15pm.
URL:https://keepingmewell.com/event/escapee-event-201/2026-11-12/
LOCATION:Penarth Leisure Centre\, Andrew Road\, Cogan\, Penarth\, CF64 2NS\, United Kingdom
CATEGORIES:Arthritis,English,ESCAPEE,Physical Activity
ATTACH;FMTTYPE=image/jpeg:https://keepingmewell.com/wp-content/uploads/2022/12/Leisure-Centre-Escape-logos.jpg
END:VEVENT
BEGIN:VEVENT
DTSTART;TZID=Europe/London:20261112T143000
DTEND;TZID=Europe/London:20261112T153000
DTSTAMP:20260424T163648
CREATED:20230823T141300Z
LAST-MODIFIED:20231024T120056Z
UID:10011339-1794493800-1794497400@keepingmewell.com
SUMMARY:ESCAPEE event in Ely
DESCRIPTION:The ESCAPEE events are follow-up exercise sessions for people who have attended the Escape Pain programme for hip\, knee or back pain. \nYou are welcome to drop-in and take part in exercise designed to improve your movement and function. \nAt Western Leisure Centre every Thursday\, 2.30pm-3.30pm.
URL:https://keepingmewell.com/event/escapee-event-234/2026-11-12/
LOCATION:Western Leisure Centre\, Careau Lane\, Cardiff\, CF5 5HJ\, United Kingdom
CATEGORIES:Arthritis,English,ESCAPEE,Physical Health
ATTACH;FMTTYPE=image/jpeg:https://keepingmewell.com/wp-content/uploads/2022/12/Better-Escape-logos.jpg
END:VEVENT
BEGIN:VEVENT
DTSTART;TZID=Europe/London:20261113T103000
DTEND;TZID=Europe/London:20261113T113000
DTSTAMP:20260424T163648
CREATED:20231024T101140Z
LAST-MODIFIED:20231024T101140Z
UID:10009009-1794565800-1794569400@keepingmewell.com
SUMMARY:ESCAPEE Event in Fairwater
DESCRIPTION:The ESCAPEE events are follow-up exercise sessions for people who have attended the Escape Pain programme for hip\, knee or back pain. \nYou are welcome to drop-in and take part in exercise designed to improve your movement and function. \nAt Fairwater Leisure Centre every Friday\, 10.30-11.30am.
URL:https://keepingmewell.com/event/escapee-event-in-fairwater/2026-11-13/
LOCATION:Fairwater Leisure Centre\, Waterhall Road\, Cardiff\, CF5 3LL\, United Kingdom
CATEGORIES:Arthritis,English,ESCAPEE,Physical Activity
ATTACH;FMTTYPE=image/jpeg:https://keepingmewell.com/wp-content/uploads/2022/12/Better-Escape-logos.jpg
END:VEVENT
BEGIN:VEVENT
DTSTART;TZID=Europe/London:20261113T120000
DTEND;TZID=Europe/London:20261113T130000
DTSTAMP:20260424T163648
CREATED:20230823T111928Z
LAST-MODIFIED:20231024T125111Z
UID:10013412-1794571200-1794574800@keepingmewell.com
SUMMARY:ESCAPEE event in Llanrumney
DESCRIPTION:The ESCAPEE events are follow-up exercise sessions for people who have attended the Escape Pain programme for hip\, knee or back pain. \nYou are welcome to drop-in and take part in exercise designed to improve your movement and function. \nAt Eastern Leisure Centre every Friday\, 12noon.
URL:https://keepingmewell.com/event/escapee-event-105/2026-11-13/
LOCATION:Eastern Leisure Centre\, Llanrumney Avenue\, Cardiff\, CF3 4DN\, United Kingdom
CATEGORIES:Arthritis,English,ESCAPEE,Physical Activity
ATTACH;FMTTYPE=image/jpeg:https://keepingmewell.com/wp-content/uploads/2022/12/Better-Escape-logos.jpg
END:VEVENT
BEGIN:VEVENT
DTSTART;TZID=Europe/London:20261116T110000
DTEND;TZID=Europe/London:20261116T120000
DTSTAMP:20260424T163648
CREATED:20231024T103936Z
LAST-MODIFIED:20231024T104119Z
UID:10009949-1794826800-1794830400@keepingmewell.com
SUMMARY:ESCAPEE event in Llanrumney
DESCRIPTION:The ESCAPEE events are follow-up exercise sessions for people who have attended the Escape Pain programme for hip\, knee or back pain. \nYou are welcome to drop-in and take part in exercise designed to improve your movement and function. \nAt Eastern Leisure Centre every Monday\, 11.00am\, every Wednesday 11.00am and every Friday at 12noon.
URL:https://keepingmewell.com/event/escapee-event-in-llanrumney/2026-11-16/
LOCATION:Eastern Leisure Centre\, Llanrumney Avenue\, Cardiff\, CF3 4DN\, United Kingdom
CATEGORIES:English,ESCAPEE,Physical Activity
ATTACH;FMTTYPE=image/jpeg:https://keepingmewell.com/wp-content/uploads/2022/12/Better-Escape-logos.jpg
END:VEVENT
BEGIN:VEVENT
DTSTART;TZID=Europe/London:20261116T113000
DTEND;TZID=Europe/London:20261116T121500
DTSTAMP:20260424T163648
CREATED:20231024T113426Z
LAST-MODIFIED:20231024T113426Z
UID:10010562-1794828600-1794831300@keepingmewell.com
SUMMARY:ESCAPEE event in Penarth
DESCRIPTION:The ESCAPEE events are follow-up exercise sessions for people who have attended the Escape Pain programme for hip\, knee or back pain. \nYou are welcome to drop-in and take part in exercise designed to improve your movement and function. \nAt Penarth Leisure Centre every Monday\, 11.30am-12.15pm.
URL:https://keepingmewell.com/event/escapee-event-in-penarth/2026-11-16/
LOCATION:Penarth Leisure Centre\, Andrew Road\, Cogan\, Penarth\, CF64 2NS\, United Kingdom
CATEGORIES:Arthritis,English,ESCAPEE,Physical Activity
ATTACH;FMTTYPE=image/jpeg:https://keepingmewell.com/wp-content/uploads/2022/12/Leisure-Centre-Escape-logos.jpg
END:VEVENT
BEGIN:VEVENT
DTSTART;TZID=Europe/London:20261117T123000
DTEND;TZID=Europe/London:20261117T131500
DTSTAMP:20260424T163648
CREATED:20230823T121551Z
LAST-MODIFIED:20231024T120452Z
UID:10011601-1794918600-1794921300@keepingmewell.com
SUMMARY:ESCAPEE event in Barry
DESCRIPTION:The ESCAPEE events are follow-up exercise sessions for people who have attended the Escape Pain programme for hip\, knee or back pain. \nYou are welcome to drop-in and take part in exercise designed to improve your movement and function. \nAt Barry Leisure Centre every Tuesday\, 12.30pm.
URL:https://keepingmewell.com/event/escapee-event-167/2026-11-17/
LOCATION:Barry Leisure Centre\, Greenwood Street\, Barry\, CF63 4JJ\, United Kingdom
CATEGORIES:Arthritis,English,ESCAPEE,Physical Activity
ATTACH;FMTTYPE=image/jpeg:https://keepingmewell.com/wp-content/uploads/2022/12/Leisure-Centre-Escape-logos.jpg
END:VEVENT
BEGIN:VEVENT
DTSTART;TZID=Europe/London:20261117T143000
DTEND;TZID=Europe/London:20261117T153000
DTSTAMP:20260424T163648
CREATED:20230823T141020Z
LAST-MODIFIED:20231024T122534Z
UID:10012120-1794925800-1794929400@keepingmewell.com
SUMMARY:ESCAPEE event in Ely
DESCRIPTION:The ESCAPEE events are follow-up exercise sessions for people who have attended the Escape Pain programme for hip\, knee or back pain. \nYou are welcome to drop-in and take part in exercise designed to improve your movement and function. \nAt Western Leisure Centre every Tuesday\, 2.30pm.
URL:https://keepingmewell.com/event/escapee-event-216/2026-11-17/
LOCATION:Western Leisure Centre\, Careau Lane\, Cardiff\, CF5 5HJ\, United Kingdom
CATEGORIES:Arthritis,English,ESCAPEE,Physical Health
ATTACH;FMTTYPE=image/jpeg:https://keepingmewell.com/wp-content/uploads/2022/12/Better-Escape-logos.jpg
END:VEVENT
END:VCALENDAR