BEGIN:VCALENDAR
VERSION:2.0
PRODID:-//Keeping Me Well - ECPv6.15.20//NONSGML v1.0//EN
CALSCALE:GREGORIAN
METHOD:PUBLISH
X-WR-CALNAME:Keeping Me Well
X-ORIGINAL-URL:https://keepingmewell.com
X-WR-CALDESC:Events for Keeping Me Well
REFRESH-INTERVAL;VALUE=DURATION:PT1H
X-Robots-Tag:noindex
X-PUBLISHED-TTL:PT1H
BEGIN:VTIMEZONE
TZID:Europe/London
BEGIN:DAYLIGHT
TZOFFSETFROM:+0000
TZOFFSETTO:+0100
TZNAME:BST
DTSTART:20260329T010000
END:DAYLIGHT
BEGIN:STANDARD
TZOFFSETFROM:+0100
TZOFFSETTO:+0000
TZNAME:GMT
DTSTART:20261025T010000
END:STANDARD
BEGIN:DAYLIGHT
TZOFFSETFROM:+0000
TZOFFSETTO:+0100
TZNAME:BST
DTSTART:20270328T010000
END:DAYLIGHT
BEGIN:STANDARD
TZOFFSETFROM:+0100
TZOFFSETTO:+0000
TZNAME:GMT
DTSTART:20271031T010000
END:STANDARD
BEGIN:DAYLIGHT
TZOFFSETFROM:+0000
TZOFFSETTO:+0100
TZNAME:BST
DTSTART:20280326T010000
END:DAYLIGHT
BEGIN:STANDARD
TZOFFSETFROM:+0100
TZOFFSETTO:+0000
TZNAME:GMT
DTSTART:20281029T010000
END:STANDARD
END:VTIMEZONE
BEGIN:VEVENT
DTSTART;TZID=Europe/London:20270115T103000
DTEND;TZID=Europe/London:20270115T113000
DTSTAMP:20260421T194831
CREATED:20231024T101903Z
LAST-MODIFIED:20231024T101903Z
UID:10009537-1800009000-1800012600@keepingmewell.com
SUMMARY:ESCAPEE yn y Tyllgoed
DESCRIPTION:Mae digwyddiadau ESCAPEE yn sesiynau ymarfer corff dilynol i bobl sydd wedi cyflawni’r rhaglen Escape Pain ar gyfer poen clun\, pen-glin neu gefn. \nMae croeso i chi alw heibio a chymryd rhan mewn ymarfer corff sydd wedi’i gynllunio i wella eich symudiad a’ch swyddogaeth. \nYng Nghanolfan Hamdden y Tyllgoed bob dydd Gwener\, 10.30am.
URL:https://keepingmewell.com/event/escapee-yn-y-tyllgoed/2027-01-15/
LOCATION:Canolfan Hamdden y Tyllgoed\, Heol Waterhall\, y Tyllgoed\, Caerdydd\, CF5 3LL
CATEGORIES:Cymraeg,Cymru Arthritis,ESCAPEE CY,Gweithgarwch Corfforol
ATTACH;FMTTYPE=image/jpeg:https://keepingmewell.com/wp-content/uploads/2022/12/Better-Escape-logos.jpg
END:VEVENT
BEGIN:VEVENT
DTSTART;TZID=Europe/London:20270115T120000
DTEND;TZID=Europe/London:20270115T130000
DTSTAMP:20260421T194831
CREATED:20230823T112636Z
LAST-MODIFIED:20231024T130819Z
UID:10013679-1800014400-1800018000@keepingmewell.com
SUMMARY:ESCAPEE yn Llanrhymni
DESCRIPTION:Mae digwyddiadau ESCAPEE yn sesiynau ymarfer corff dilynol i bobl sydd wedi cyflawni’r rhaglen Escape Pain ar gyfer poen clun\, pen-glin neu gefn. \nMae croeso i chi alw heibio a chymryd rhan mewn ymarfer corff sydd wedi’i gynllunio i wella eich symudiad a’ch swyddogaeth. \nYng Nghanolfan Hamdden y Dwyrain bob dydd Gwener\, 12noon.
URL:https://keepingmewell.com/event/escapee-72/2027-01-15/
LOCATION:Canolfan Hamdden Y Dwyrain\, Rhodfa Llanrhymni\, Llanrhymni\, Caerdydd\, CF3 4DN
CATEGORIES:Cymraeg,Cymru Arthritis,ESCAPEE CY,Gweithgarwch Corfforol
ATTACH;FMTTYPE=image/jpeg:https://keepingmewell.com/wp-content/uploads/2022/12/Leisure-Centre-Escape-logos.jpg
END:VEVENT
BEGIN:VEVENT
DTSTART;TZID=Europe/London:20270118T110000
DTEND;TZID=Europe/London:20270118T120000
DTSTAMP:20260421T194831
CREATED:20230823T120701Z
LAST-MODIFIED:20231024T131154Z
UID:10013934-1800270000-1800273600@keepingmewell.com
SUMMARY:ESCAPEE yn Llanrhymni
DESCRIPTION:Mae digwyddiadau ESCAPEE yn sesiynau ymarfer corff dilynol i bobl sydd wedi cyflawni’r rhaglen Escape Pain ar gyfer poen clun\, pen-glin neu gefn. \nMae croeso i chi alw heibio a chymryd rhan mewn ymarfer corff sydd wedi’i gynllunio i wella eich symudiad a’ch swyddogaeth. \nYng Nghanolfan Hamdden y Dwyrain bob dydd Llun\, 11.00am.
URL:https://keepingmewell.com/event/escapee-102/2027-01-18/
LOCATION:Canolfan Hamdden Y Dwyrain\, Rhodfa Llanrhymni\, Llanrhymni\, Caerdydd\, CF3 4DN
CATEGORIES:Cymraeg,Cymru Arthritis,ESCAPEE CY,Gweithgarwch Corfforol
ATTACH;FMTTYPE=image/jpeg:https://keepingmewell.com/wp-content/uploads/2022/12/Leisure-Centre-Escape-logos.jpg
END:VEVENT
BEGIN:VEVENT
DTSTART;TZID=Europe/London:20270118T113000
DTEND;TZID=Europe/London:20270118T121500
DTSTAMP:20260421T194831
CREATED:20231024T113013Z
LAST-MODIFIED:20231024T113013Z
UID:10010315-1800271800-1800274500@keepingmewell.com
SUMMARY:ESCAPEE yn Penarth
DESCRIPTION:Mae digwyddiadau ESCAPEE yn sesiynau ymarfer corff dilynol i bobl sydd wedi cyflawni’r rhaglen Escape Pain ar gyfer poen clun\, pen-glin neu gefn. \nMae croeso i chi alw heibio a chymryd rhan mewn ymarfer corff sydd wedi’i gynllunio i wella eich symudiad a’ch swyddogaeth. \nYng Nghanolfan Hamdden y Penarth bob dydd Llun\, 11.30am.
URL:https://keepingmewell.com/event/escapee-yn-penarth/2027-01-18/
LOCATION:Canolfan Hamdden y Penarth\, Heol Andrew\, Cogan\, Penarth\, CF64 2NS\, United Kingdom
CATEGORIES:Cymraeg,Cymru Arthritis,ESCAPEE CY,Gweithgarwch Corfforol
ATTACH;FMTTYPE=image/jpeg:https://keepingmewell.com/wp-content/uploads/2022/12/Leisure-Centre-Escape-logos.jpg
END:VEVENT
BEGIN:VEVENT
DTSTART;TZID=Europe/London:20270119T123000
DTEND;TZID=Europe/London:20270119T131500
DTSTAMP:20260421T194831
CREATED:20230823T123233Z
LAST-MODIFIED:20231024T121148Z
UID:10011870-1800361800-1800364500@keepingmewell.com
SUMMARY:ESCAPEE yn Barri
DESCRIPTION:Mae digwyddiadau ESCAPEE yn sesiynau ymarfer corff dilynol i bobl sydd wedi cyflawni’r rhaglen Escape Pain ar gyfer poen clun\, pen-glin neu gefn. \nMae croeso i chi alw heibio a chymryd rhan mewn ymarfer corff sydd wedi’i gynllunio i wella eich symudiad a’ch swyddogaeth. \nYng Nghanolfan Hamdden y Barri bob dydd Mawrth\, 12.30am.
URL:https://keepingmewell.com/event/escapee-187/2027-01-19/
LOCATION:Canolfan Hamdden y Barri\, Stryd Greenwood\, Y Barri\, CF63 4JJ\, United Kingdom
CATEGORIES:Cymraeg,Cymru Arthritis,ESCAPEE CY,Gweithgarwch Corfforol
ATTACH;FMTTYPE=image/jpeg:https://keepingmewell.com/wp-content/uploads/2022/12/Leisure-Centre-Escape-logos.jpg
END:VEVENT
BEGIN:VEVENT
DTSTART;TZID=Europe/London:20270119T143000
DTEND;TZID=Europe/London:20270119T153000
DTSTAMP:20260421T194831
CREATED:20230823T142738Z
LAST-MODIFIED:20231024T124634Z
UID:10012388-1800369000-1800372600@keepingmewell.com
SUMMARY:ESCAPEE yn Trelái
DESCRIPTION:Mae digwyddiadau ESCAPEE yn sesiynau ymarfer corff dilynol i bobl sydd wedi cyflawni’r rhaglen Escape Pain ar gyfer poen clun\, pen-glin neu gefn. \nMae croeso i chi alw heibio a chymryd rhan mewn ymarfer corff sydd wedi’i gynllunio i wella eich symudiad a’ch swyddogaeth. \nYng Nghanolfan Hamdden y Gorllewin bob dydd Mawrth\, 2.30pm.
URL:https://keepingmewell.com/event/escapee-237/2027-01-19/
LOCATION:Canolfan Hamdden Y Gorllewin\, Caerau Lane\, Caerdydd\, CF5 5HJ
CATEGORIES:Cymraeg,Cymru Arthritis,ESCAPEE CY,Gweithgarwch Corfforol
ATTACH;FMTTYPE=image/jpeg:https://keepingmewell.com/wp-content/uploads/2022/12/Better-Escape-logos.jpg
END:VEVENT
BEGIN:VEVENT
DTSTART;TZID=Europe/London:20270120T110000
DTEND;TZID=Europe/London:20270120T120000
DTSTAMP:20260421T194831
CREATED:20230823T120817Z
LAST-MODIFIED:20231024T124159Z
UID:10012905-1800442800-1800446400@keepingmewell.com
SUMMARY:ESCAPEE yn Llanrhymni
DESCRIPTION:Mae digwyddiadau ESCAPEE yn sesiynau ymarfer corff dilynol i bobl sydd wedi cyflawni’r rhaglen Escape Pain ar gyfer poen clun\, pen-glin neu gefn. \nMae croeso i chi alw heibio a chymryd rhan mewn ymarfer corff sydd wedi’i gynllunio i wella eich symudiad a’ch swyddogaeth. \nYng Nghanolfan Hamdden y Dwyrain bob dydd Mercher\, 11.00am.
URL:https://keepingmewell.com/event/escapee-145/2027-01-20/
LOCATION:Canolfan Hamdden Y Dwyrain\, Rhodfa Llanrhymni\, Llanrhymni\, Caerdydd\, CF3 4DN
CATEGORIES:Cymraeg,Cymru Arthritis,ESCAPEE CY,Gweithgarwch Corfforol
ATTACH;FMTTYPE=image/jpeg:https://keepingmewell.com/wp-content/uploads/2022/12/Leisure-Centre-Escape-logos.jpg
END:VEVENT
BEGIN:VEVENT
DTSTART;TZID=Europe/London:20270121T093000
DTEND;TZID=Europe/London:20270121T103000
DTSTAMP:20260421T194831
CREATED:20231024T100157Z
LAST-MODIFIED:20231024T100157Z
UID:10008500-1800523800-1800527400@keepingmewell.com
SUMMARY:ESCAPEE yn Llanisien
DESCRIPTION:Mae digwyddiadau ESCAPEE yn sesiynau ymarfer corff dilynol i bobl sydd wedi cyflawni’r rhaglen Escape Pain ar gyfer poen clun\, pen-glin neu gefn. \nMae croeso i chi alw heibio a chymryd rhan mewn ymarfer corff sydd wedi’i gynllunio i wella eich symudiad a’ch swyddogaeth. \nYng Nghanolfan Hamdden Llanisien bob dydd Iau\, 9.30am.
URL:https://keepingmewell.com/event/escapee-yn-llanisien/2027-01-21/
LOCATION:Canolfan Hamdden Llanisien\, Rhodfa Ty Glas\, Llanisien\, Caerdydd\, CF14 5EB\, United Kingdom
CATEGORIES:Cymraeg,Cymru Arthritis,ESCAPEE CY,Gweithgarwch Corfforol
ATTACH;FMTTYPE=image/jpeg:https://keepingmewell.com/wp-content/uploads/2022/12/Better-Escape-logos.jpg
END:VEVENT
BEGIN:VEVENT
DTSTART;TZID=Europe/London:20270121T113000
DTEND;TZID=Europe/London:20270121T121500
DTSTAMP:20260421T194831
CREATED:20230823T134926Z
LAST-MODIFIED:20231024T115543Z
UID:10011090-1800531000-1800533700@keepingmewell.com
SUMMARY:ESCAPEE yn Penarth
DESCRIPTION:Mae digwyddiadau ESCAPEE yn sesiynau ymarfer corff dilynol i bobl sydd wedi cyflawni’r rhaglen Escape Pain ar gyfer poen clun\, pen-glin neu gefn. \nMae croeso i chi alw heibio a chymryd rhan mewn ymarfer corff sydd wedi’i gynllunio i wella eich symudiad a’ch swyddogaeth. \nYng Nghanolfan Hamdden y Penarth bob dydd Iau\, 11.30am.
URL:https://keepingmewell.com/event/escapee-221/2027-01-21/
LOCATION:Canolfan Hamdden y Penarth\, Heol Andrew\, Cogan\, Penarth\, CF64 2NS\, United Kingdom
CATEGORIES:Cymraeg,Cymru Arthritis,ESCAPEE CY,Gweithgarwch Corfforol
ATTACH;FMTTYPE=image/jpeg:https://keepingmewell.com/wp-content/uploads/2022/12/Leisure-Centre-Escape-logos.jpg
END:VEVENT
BEGIN:VEVENT
DTSTART;TZID=Europe/London:20270121T143000
DTEND;TZID=Europe/London:20270121T153000
DTSTAMP:20260421T194831
CREATED:20230823T143123Z
LAST-MODIFIED:20231024T124529Z
UID:10013164-1800541800-1800545400@keepingmewell.com
SUMMARY:ESCAPEE yn Trelái
DESCRIPTION:Mae digwyddiadau ESCAPEE yn sesiynau ymarfer corff dilynol i bobl sydd wedi cyflawni’r rhaglen Escape Pain ar gyfer poen clun\, pen-glin neu gefn. \nMae croeso i chi alw heibio a chymryd rhan mewn ymarfer corff sydd wedi’i gynllunio i wella eich symudiad a’ch swyddogaeth. \nYng Nghanolfan Hamdden y Gorllewin bob dydd Iau\, 2.30am.
URL:https://keepingmewell.com/event/escapee-255/2027-01-21/
LOCATION:Canolfan Hamdden Y Gorllewin\, Caerau Lane\, Caerdydd\, CF5 5HJ
CATEGORIES:Cymraeg,Cymru Arthritis,ESCAPEE CY,Gweithgarwch Corfforol
ATTACH;FMTTYPE=image/jpeg:https://keepingmewell.com/wp-content/uploads/2022/12/Better-Escape-logos.jpg
END:VEVENT
BEGIN:VEVENT
DTSTART;TZID=Europe/London:20270122T103000
DTEND;TZID=Europe/London:20270122T113000
DTSTAMP:20260421T194831
CREATED:20231024T101903Z
LAST-MODIFIED:20231024T101903Z
UID:10009538-1800613800-1800617400@keepingmewell.com
SUMMARY:ESCAPEE yn y Tyllgoed
DESCRIPTION:Mae digwyddiadau ESCAPEE yn sesiynau ymarfer corff dilynol i bobl sydd wedi cyflawni’r rhaglen Escape Pain ar gyfer poen clun\, pen-glin neu gefn. \nMae croeso i chi alw heibio a chymryd rhan mewn ymarfer corff sydd wedi’i gynllunio i wella eich symudiad a’ch swyddogaeth. \nYng Nghanolfan Hamdden y Tyllgoed bob dydd Gwener\, 10.30am.
URL:https://keepingmewell.com/event/escapee-yn-y-tyllgoed/2027-01-22/
LOCATION:Canolfan Hamdden y Tyllgoed\, Heol Waterhall\, y Tyllgoed\, Caerdydd\, CF5 3LL
CATEGORIES:Cymraeg,Cymru Arthritis,ESCAPEE CY,Gweithgarwch Corfforol
ATTACH;FMTTYPE=image/jpeg:https://keepingmewell.com/wp-content/uploads/2022/12/Better-Escape-logos.jpg
END:VEVENT
BEGIN:VEVENT
DTSTART;TZID=Europe/London:20270122T120000
DTEND;TZID=Europe/London:20270122T130000
DTSTAMP:20260421T194831
CREATED:20230823T112636Z
LAST-MODIFIED:20231024T130819Z
UID:10013680-1800619200-1800622800@keepingmewell.com
SUMMARY:ESCAPEE yn Llanrhymni
DESCRIPTION:Mae digwyddiadau ESCAPEE yn sesiynau ymarfer corff dilynol i bobl sydd wedi cyflawni’r rhaglen Escape Pain ar gyfer poen clun\, pen-glin neu gefn. \nMae croeso i chi alw heibio a chymryd rhan mewn ymarfer corff sydd wedi’i gynllunio i wella eich symudiad a’ch swyddogaeth. \nYng Nghanolfan Hamdden y Dwyrain bob dydd Gwener\, 12noon.
URL:https://keepingmewell.com/event/escapee-72/2027-01-22/
LOCATION:Canolfan Hamdden Y Dwyrain\, Rhodfa Llanrhymni\, Llanrhymni\, Caerdydd\, CF3 4DN
CATEGORIES:Cymraeg,Cymru Arthritis,ESCAPEE CY,Gweithgarwch Corfforol
ATTACH;FMTTYPE=image/jpeg:https://keepingmewell.com/wp-content/uploads/2022/12/Leisure-Centre-Escape-logos.jpg
END:VEVENT
BEGIN:VEVENT
DTSTART;TZID=Europe/London:20270125T110000
DTEND;TZID=Europe/London:20270125T120000
DTSTAMP:20260421T194831
CREATED:20230823T120701Z
LAST-MODIFIED:20231024T131154Z
UID:10013935-1800874800-1800878400@keepingmewell.com
SUMMARY:ESCAPEE yn Llanrhymni
DESCRIPTION:Mae digwyddiadau ESCAPEE yn sesiynau ymarfer corff dilynol i bobl sydd wedi cyflawni’r rhaglen Escape Pain ar gyfer poen clun\, pen-glin neu gefn. \nMae croeso i chi alw heibio a chymryd rhan mewn ymarfer corff sydd wedi’i gynllunio i wella eich symudiad a’ch swyddogaeth. \nYng Nghanolfan Hamdden y Dwyrain bob dydd Llun\, 11.00am.
URL:https://keepingmewell.com/event/escapee-102/2027-01-25/
LOCATION:Canolfan Hamdden Y Dwyrain\, Rhodfa Llanrhymni\, Llanrhymni\, Caerdydd\, CF3 4DN
CATEGORIES:Cymraeg,Cymru Arthritis,ESCAPEE CY,Gweithgarwch Corfforol
ATTACH;FMTTYPE=image/jpeg:https://keepingmewell.com/wp-content/uploads/2022/12/Leisure-Centre-Escape-logos.jpg
END:VEVENT
BEGIN:VEVENT
DTSTART;TZID=Europe/London:20270125T113000
DTEND;TZID=Europe/London:20270125T121500
DTSTAMP:20260421T194831
CREATED:20231024T113013Z
LAST-MODIFIED:20231024T113013Z
UID:10010316-1800876600-1800879300@keepingmewell.com
SUMMARY:ESCAPEE yn Penarth
DESCRIPTION:Mae digwyddiadau ESCAPEE yn sesiynau ymarfer corff dilynol i bobl sydd wedi cyflawni’r rhaglen Escape Pain ar gyfer poen clun\, pen-glin neu gefn. \nMae croeso i chi alw heibio a chymryd rhan mewn ymarfer corff sydd wedi’i gynllunio i wella eich symudiad a’ch swyddogaeth. \nYng Nghanolfan Hamdden y Penarth bob dydd Llun\, 11.30am.
URL:https://keepingmewell.com/event/escapee-yn-penarth/2027-01-25/
LOCATION:Canolfan Hamdden y Penarth\, Heol Andrew\, Cogan\, Penarth\, CF64 2NS\, United Kingdom
CATEGORIES:Cymraeg,Cymru Arthritis,ESCAPEE CY,Gweithgarwch Corfforol
ATTACH;FMTTYPE=image/jpeg:https://keepingmewell.com/wp-content/uploads/2022/12/Leisure-Centre-Escape-logos.jpg
END:VEVENT
BEGIN:VEVENT
DTSTART;TZID=Europe/London:20270126T123000
DTEND;TZID=Europe/London:20270126T131500
DTSTAMP:20260421T194831
CREATED:20230823T123233Z
LAST-MODIFIED:20231024T121148Z
UID:10011871-1800966600-1800969300@keepingmewell.com
SUMMARY:ESCAPEE yn Barri
DESCRIPTION:Mae digwyddiadau ESCAPEE yn sesiynau ymarfer corff dilynol i bobl sydd wedi cyflawni’r rhaglen Escape Pain ar gyfer poen clun\, pen-glin neu gefn. \nMae croeso i chi alw heibio a chymryd rhan mewn ymarfer corff sydd wedi’i gynllunio i wella eich symudiad a’ch swyddogaeth. \nYng Nghanolfan Hamdden y Barri bob dydd Mawrth\, 12.30am.
URL:https://keepingmewell.com/event/escapee-187/2027-01-26/
LOCATION:Canolfan Hamdden y Barri\, Stryd Greenwood\, Y Barri\, CF63 4JJ\, United Kingdom
CATEGORIES:Cymraeg,Cymru Arthritis,ESCAPEE CY,Gweithgarwch Corfforol
ATTACH;FMTTYPE=image/jpeg:https://keepingmewell.com/wp-content/uploads/2022/12/Leisure-Centre-Escape-logos.jpg
END:VEVENT
BEGIN:VEVENT
DTSTART;TZID=Europe/London:20270126T143000
DTEND;TZID=Europe/London:20270126T153000
DTSTAMP:20260421T194831
CREATED:20230823T142738Z
LAST-MODIFIED:20231024T124634Z
UID:10012389-1800973800-1800977400@keepingmewell.com
SUMMARY:ESCAPEE yn Trelái
DESCRIPTION:Mae digwyddiadau ESCAPEE yn sesiynau ymarfer corff dilynol i bobl sydd wedi cyflawni’r rhaglen Escape Pain ar gyfer poen clun\, pen-glin neu gefn. \nMae croeso i chi alw heibio a chymryd rhan mewn ymarfer corff sydd wedi’i gynllunio i wella eich symudiad a’ch swyddogaeth. \nYng Nghanolfan Hamdden y Gorllewin bob dydd Mawrth\, 2.30pm.
URL:https://keepingmewell.com/event/escapee-237/2027-01-26/
LOCATION:Canolfan Hamdden Y Gorllewin\, Caerau Lane\, Caerdydd\, CF5 5HJ
CATEGORIES:Cymraeg,Cymru Arthritis,ESCAPEE CY,Gweithgarwch Corfforol
ATTACH;FMTTYPE=image/jpeg:https://keepingmewell.com/wp-content/uploads/2022/12/Better-Escape-logos.jpg
END:VEVENT
BEGIN:VEVENT
DTSTART;TZID=Europe/London:20270127T110000
DTEND;TZID=Europe/London:20270127T120000
DTSTAMP:20260421T194831
CREATED:20230823T120817Z
LAST-MODIFIED:20231024T124159Z
UID:10012906-1801047600-1801051200@keepingmewell.com
SUMMARY:ESCAPEE yn Llanrhymni
DESCRIPTION:Mae digwyddiadau ESCAPEE yn sesiynau ymarfer corff dilynol i bobl sydd wedi cyflawni’r rhaglen Escape Pain ar gyfer poen clun\, pen-glin neu gefn. \nMae croeso i chi alw heibio a chymryd rhan mewn ymarfer corff sydd wedi’i gynllunio i wella eich symudiad a’ch swyddogaeth. \nYng Nghanolfan Hamdden y Dwyrain bob dydd Mercher\, 11.00am.
URL:https://keepingmewell.com/event/escapee-145/2027-01-27/
LOCATION:Canolfan Hamdden Y Dwyrain\, Rhodfa Llanrhymni\, Llanrhymni\, Caerdydd\, CF3 4DN
CATEGORIES:Cymraeg,Cymru Arthritis,ESCAPEE CY,Gweithgarwch Corfforol
ATTACH;FMTTYPE=image/jpeg:https://keepingmewell.com/wp-content/uploads/2022/12/Leisure-Centre-Escape-logos.jpg
END:VEVENT
BEGIN:VEVENT
DTSTART;TZID=Europe/London:20270128T093000
DTEND;TZID=Europe/London:20270128T103000
DTSTAMP:20260421T194831
CREATED:20231024T100157Z
LAST-MODIFIED:20231024T100157Z
UID:10008501-1801128600-1801132200@keepingmewell.com
SUMMARY:ESCAPEE yn Llanisien
DESCRIPTION:Mae digwyddiadau ESCAPEE yn sesiynau ymarfer corff dilynol i bobl sydd wedi cyflawni’r rhaglen Escape Pain ar gyfer poen clun\, pen-glin neu gefn. \nMae croeso i chi alw heibio a chymryd rhan mewn ymarfer corff sydd wedi’i gynllunio i wella eich symudiad a’ch swyddogaeth. \nYng Nghanolfan Hamdden Llanisien bob dydd Iau\, 9.30am.
URL:https://keepingmewell.com/event/escapee-yn-llanisien/2027-01-28/
LOCATION:Canolfan Hamdden Llanisien\, Rhodfa Ty Glas\, Llanisien\, Caerdydd\, CF14 5EB\, United Kingdom
CATEGORIES:Cymraeg,Cymru Arthritis,ESCAPEE CY,Gweithgarwch Corfforol
ATTACH;FMTTYPE=image/jpeg:https://keepingmewell.com/wp-content/uploads/2022/12/Better-Escape-logos.jpg
END:VEVENT
BEGIN:VEVENT
DTSTART;TZID=Europe/London:20270128T113000
DTEND;TZID=Europe/London:20270128T121500
DTSTAMP:20260421T194831
CREATED:20230823T134926Z
LAST-MODIFIED:20231024T115543Z
UID:10011091-1801135800-1801138500@keepingmewell.com
SUMMARY:ESCAPEE yn Penarth
DESCRIPTION:Mae digwyddiadau ESCAPEE yn sesiynau ymarfer corff dilynol i bobl sydd wedi cyflawni’r rhaglen Escape Pain ar gyfer poen clun\, pen-glin neu gefn. \nMae croeso i chi alw heibio a chymryd rhan mewn ymarfer corff sydd wedi’i gynllunio i wella eich symudiad a’ch swyddogaeth. \nYng Nghanolfan Hamdden y Penarth bob dydd Iau\, 11.30am.
URL:https://keepingmewell.com/event/escapee-221/2027-01-28/
LOCATION:Canolfan Hamdden y Penarth\, Heol Andrew\, Cogan\, Penarth\, CF64 2NS\, United Kingdom
CATEGORIES:Cymraeg,Cymru Arthritis,ESCAPEE CY,Gweithgarwch Corfforol
ATTACH;FMTTYPE=image/jpeg:https://keepingmewell.com/wp-content/uploads/2022/12/Leisure-Centre-Escape-logos.jpg
END:VEVENT
BEGIN:VEVENT
DTSTART;TZID=Europe/London:20270128T143000
DTEND;TZID=Europe/London:20270128T153000
DTSTAMP:20260421T194831
CREATED:20230823T143123Z
LAST-MODIFIED:20231024T124529Z
UID:10013165-1801146600-1801150200@keepingmewell.com
SUMMARY:ESCAPEE yn Trelái
DESCRIPTION:Mae digwyddiadau ESCAPEE yn sesiynau ymarfer corff dilynol i bobl sydd wedi cyflawni’r rhaglen Escape Pain ar gyfer poen clun\, pen-glin neu gefn. \nMae croeso i chi alw heibio a chymryd rhan mewn ymarfer corff sydd wedi’i gynllunio i wella eich symudiad a’ch swyddogaeth. \nYng Nghanolfan Hamdden y Gorllewin bob dydd Iau\, 2.30am.
URL:https://keepingmewell.com/event/escapee-255/2027-01-28/
LOCATION:Canolfan Hamdden Y Gorllewin\, Caerau Lane\, Caerdydd\, CF5 5HJ
CATEGORIES:Cymraeg,Cymru Arthritis,ESCAPEE CY,Gweithgarwch Corfforol
ATTACH;FMTTYPE=image/jpeg:https://keepingmewell.com/wp-content/uploads/2022/12/Better-Escape-logos.jpg
END:VEVENT
BEGIN:VEVENT
DTSTART;TZID=Europe/London:20270129T103000
DTEND;TZID=Europe/London:20270129T113000
DTSTAMP:20260421T194831
CREATED:20231024T101903Z
LAST-MODIFIED:20231024T101903Z
UID:10009539-1801218600-1801222200@keepingmewell.com
SUMMARY:ESCAPEE yn y Tyllgoed
DESCRIPTION:Mae digwyddiadau ESCAPEE yn sesiynau ymarfer corff dilynol i bobl sydd wedi cyflawni’r rhaglen Escape Pain ar gyfer poen clun\, pen-glin neu gefn. \nMae croeso i chi alw heibio a chymryd rhan mewn ymarfer corff sydd wedi’i gynllunio i wella eich symudiad a’ch swyddogaeth. \nYng Nghanolfan Hamdden y Tyllgoed bob dydd Gwener\, 10.30am.
URL:https://keepingmewell.com/event/escapee-yn-y-tyllgoed/2027-01-29/
LOCATION:Canolfan Hamdden y Tyllgoed\, Heol Waterhall\, y Tyllgoed\, Caerdydd\, CF5 3LL
CATEGORIES:Cymraeg,Cymru Arthritis,ESCAPEE CY,Gweithgarwch Corfforol
ATTACH;FMTTYPE=image/jpeg:https://keepingmewell.com/wp-content/uploads/2022/12/Better-Escape-logos.jpg
END:VEVENT
BEGIN:VEVENT
DTSTART;TZID=Europe/London:20270129T120000
DTEND;TZID=Europe/London:20270129T130000
DTSTAMP:20260421T194831
CREATED:20230823T112636Z
LAST-MODIFIED:20231024T130819Z
UID:10013681-1801224000-1801227600@keepingmewell.com
SUMMARY:ESCAPEE yn Llanrhymni
DESCRIPTION:Mae digwyddiadau ESCAPEE yn sesiynau ymarfer corff dilynol i bobl sydd wedi cyflawni’r rhaglen Escape Pain ar gyfer poen clun\, pen-glin neu gefn. \nMae croeso i chi alw heibio a chymryd rhan mewn ymarfer corff sydd wedi’i gynllunio i wella eich symudiad a’ch swyddogaeth. \nYng Nghanolfan Hamdden y Dwyrain bob dydd Gwener\, 12noon.
URL:https://keepingmewell.com/event/escapee-72/2027-01-29/
LOCATION:Canolfan Hamdden Y Dwyrain\, Rhodfa Llanrhymni\, Llanrhymni\, Caerdydd\, CF3 4DN
CATEGORIES:Cymraeg,Cymru Arthritis,ESCAPEE CY,Gweithgarwch Corfforol
ATTACH;FMTTYPE=image/jpeg:https://keepingmewell.com/wp-content/uploads/2022/12/Leisure-Centre-Escape-logos.jpg
END:VEVENT
BEGIN:VEVENT
DTSTART;TZID=Europe/London:20270201T110000
DTEND;TZID=Europe/London:20270201T120000
DTSTAMP:20260421T194831
CREATED:20230823T120701Z
LAST-MODIFIED:20231024T131154Z
UID:10013936-1801479600-1801483200@keepingmewell.com
SUMMARY:ESCAPEE yn Llanrhymni
DESCRIPTION:Mae digwyddiadau ESCAPEE yn sesiynau ymarfer corff dilynol i bobl sydd wedi cyflawni’r rhaglen Escape Pain ar gyfer poen clun\, pen-glin neu gefn. \nMae croeso i chi alw heibio a chymryd rhan mewn ymarfer corff sydd wedi’i gynllunio i wella eich symudiad a’ch swyddogaeth. \nYng Nghanolfan Hamdden y Dwyrain bob dydd Llun\, 11.00am.
URL:https://keepingmewell.com/event/escapee-102/2027-02-01/
LOCATION:Canolfan Hamdden Y Dwyrain\, Rhodfa Llanrhymni\, Llanrhymni\, Caerdydd\, CF3 4DN
CATEGORIES:Cymraeg,Cymru Arthritis,ESCAPEE CY,Gweithgarwch Corfforol
ATTACH;FMTTYPE=image/jpeg:https://keepingmewell.com/wp-content/uploads/2022/12/Leisure-Centre-Escape-logos.jpg
END:VEVENT
BEGIN:VEVENT
DTSTART;TZID=Europe/London:20270201T113000
DTEND;TZID=Europe/London:20270201T121500
DTSTAMP:20260421T194831
CREATED:20231024T113013Z
LAST-MODIFIED:20231024T113013Z
UID:10010317-1801481400-1801484100@keepingmewell.com
SUMMARY:ESCAPEE yn Penarth
DESCRIPTION:Mae digwyddiadau ESCAPEE yn sesiynau ymarfer corff dilynol i bobl sydd wedi cyflawni’r rhaglen Escape Pain ar gyfer poen clun\, pen-glin neu gefn. \nMae croeso i chi alw heibio a chymryd rhan mewn ymarfer corff sydd wedi’i gynllunio i wella eich symudiad a’ch swyddogaeth. \nYng Nghanolfan Hamdden y Penarth bob dydd Llun\, 11.30am.
URL:https://keepingmewell.com/event/escapee-yn-penarth/2027-02-01/
LOCATION:Canolfan Hamdden y Penarth\, Heol Andrew\, Cogan\, Penarth\, CF64 2NS\, United Kingdom
CATEGORIES:Cymraeg,Cymru Arthritis,ESCAPEE CY,Gweithgarwch Corfforol
ATTACH;FMTTYPE=image/jpeg:https://keepingmewell.com/wp-content/uploads/2022/12/Leisure-Centre-Escape-logos.jpg
END:VEVENT
BEGIN:VEVENT
DTSTART;TZID=Europe/London:20270202T123000
DTEND;TZID=Europe/London:20270202T131500
DTSTAMP:20260421T194831
CREATED:20230823T123233Z
LAST-MODIFIED:20231024T121148Z
UID:10011872-1801571400-1801574100@keepingmewell.com
SUMMARY:ESCAPEE yn Barri
DESCRIPTION:Mae digwyddiadau ESCAPEE yn sesiynau ymarfer corff dilynol i bobl sydd wedi cyflawni’r rhaglen Escape Pain ar gyfer poen clun\, pen-glin neu gefn. \nMae croeso i chi alw heibio a chymryd rhan mewn ymarfer corff sydd wedi’i gynllunio i wella eich symudiad a’ch swyddogaeth. \nYng Nghanolfan Hamdden y Barri bob dydd Mawrth\, 12.30am.
URL:https://keepingmewell.com/event/escapee-187/2027-02-02/
LOCATION:Canolfan Hamdden y Barri\, Stryd Greenwood\, Y Barri\, CF63 4JJ\, United Kingdom
CATEGORIES:Cymraeg,Cymru Arthritis,ESCAPEE CY,Gweithgarwch Corfforol
ATTACH;FMTTYPE=image/jpeg:https://keepingmewell.com/wp-content/uploads/2022/12/Leisure-Centre-Escape-logos.jpg
END:VEVENT
BEGIN:VEVENT
DTSTART;TZID=Europe/London:20270202T143000
DTEND;TZID=Europe/London:20270202T153000
DTSTAMP:20260421T194831
CREATED:20230823T142738Z
LAST-MODIFIED:20231024T124634Z
UID:10012390-1801578600-1801582200@keepingmewell.com
SUMMARY:ESCAPEE yn Trelái
DESCRIPTION:Mae digwyddiadau ESCAPEE yn sesiynau ymarfer corff dilynol i bobl sydd wedi cyflawni’r rhaglen Escape Pain ar gyfer poen clun\, pen-glin neu gefn. \nMae croeso i chi alw heibio a chymryd rhan mewn ymarfer corff sydd wedi’i gynllunio i wella eich symudiad a’ch swyddogaeth. \nYng Nghanolfan Hamdden y Gorllewin bob dydd Mawrth\, 2.30pm.
URL:https://keepingmewell.com/event/escapee-237/2027-02-02/
LOCATION:Canolfan Hamdden Y Gorllewin\, Caerau Lane\, Caerdydd\, CF5 5HJ
CATEGORIES:Cymraeg,Cymru Arthritis,ESCAPEE CY,Gweithgarwch Corfforol
ATTACH;FMTTYPE=image/jpeg:https://keepingmewell.com/wp-content/uploads/2022/12/Better-Escape-logos.jpg
END:VEVENT
BEGIN:VEVENT
DTSTART;TZID=Europe/London:20270203T110000
DTEND;TZID=Europe/London:20270203T120000
DTSTAMP:20260421T194831
CREATED:20230823T120817Z
LAST-MODIFIED:20231024T124159Z
UID:10012907-1801652400-1801656000@keepingmewell.com
SUMMARY:ESCAPEE yn Llanrhymni
DESCRIPTION:Mae digwyddiadau ESCAPEE yn sesiynau ymarfer corff dilynol i bobl sydd wedi cyflawni’r rhaglen Escape Pain ar gyfer poen clun\, pen-glin neu gefn. \nMae croeso i chi alw heibio a chymryd rhan mewn ymarfer corff sydd wedi’i gynllunio i wella eich symudiad a’ch swyddogaeth. \nYng Nghanolfan Hamdden y Dwyrain bob dydd Mercher\, 11.00am.
URL:https://keepingmewell.com/event/escapee-145/2027-02-03/
LOCATION:Canolfan Hamdden Y Dwyrain\, Rhodfa Llanrhymni\, Llanrhymni\, Caerdydd\, CF3 4DN
CATEGORIES:Cymraeg,Cymru Arthritis,ESCAPEE CY,Gweithgarwch Corfforol
ATTACH;FMTTYPE=image/jpeg:https://keepingmewell.com/wp-content/uploads/2022/12/Leisure-Centre-Escape-logos.jpg
END:VEVENT
BEGIN:VEVENT
DTSTART;TZID=Europe/London:20270204T093000
DTEND;TZID=Europe/London:20270204T103000
DTSTAMP:20260421T194831
CREATED:20231024T100157Z
LAST-MODIFIED:20231024T100157Z
UID:10008502-1801733400-1801737000@keepingmewell.com
SUMMARY:ESCAPEE yn Llanisien
DESCRIPTION:Mae digwyddiadau ESCAPEE yn sesiynau ymarfer corff dilynol i bobl sydd wedi cyflawni’r rhaglen Escape Pain ar gyfer poen clun\, pen-glin neu gefn. \nMae croeso i chi alw heibio a chymryd rhan mewn ymarfer corff sydd wedi’i gynllunio i wella eich symudiad a’ch swyddogaeth. \nYng Nghanolfan Hamdden Llanisien bob dydd Iau\, 9.30am.
URL:https://keepingmewell.com/event/escapee-yn-llanisien/2027-02-04/
LOCATION:Canolfan Hamdden Llanisien\, Rhodfa Ty Glas\, Llanisien\, Caerdydd\, CF14 5EB\, United Kingdom
CATEGORIES:Cymraeg,Cymru Arthritis,ESCAPEE CY,Gweithgarwch Corfforol
ATTACH;FMTTYPE=image/jpeg:https://keepingmewell.com/wp-content/uploads/2022/12/Better-Escape-logos.jpg
END:VEVENT
BEGIN:VEVENT
DTSTART;TZID=Europe/London:20270204T113000
DTEND;TZID=Europe/London:20270204T121500
DTSTAMP:20260421T194831
CREATED:20230823T134926Z
LAST-MODIFIED:20231024T115543Z
UID:10011092-1801740600-1801743300@keepingmewell.com
SUMMARY:ESCAPEE yn Penarth
DESCRIPTION:Mae digwyddiadau ESCAPEE yn sesiynau ymarfer corff dilynol i bobl sydd wedi cyflawni’r rhaglen Escape Pain ar gyfer poen clun\, pen-glin neu gefn. \nMae croeso i chi alw heibio a chymryd rhan mewn ymarfer corff sydd wedi’i gynllunio i wella eich symudiad a’ch swyddogaeth. \nYng Nghanolfan Hamdden y Penarth bob dydd Iau\, 11.30am.
URL:https://keepingmewell.com/event/escapee-221/2027-02-04/
LOCATION:Canolfan Hamdden y Penarth\, Heol Andrew\, Cogan\, Penarth\, CF64 2NS\, United Kingdom
CATEGORIES:Cymraeg,Cymru Arthritis,ESCAPEE CY,Gweithgarwch Corfforol
ATTACH;FMTTYPE=image/jpeg:https://keepingmewell.com/wp-content/uploads/2022/12/Leisure-Centre-Escape-logos.jpg
END:VEVENT
BEGIN:VEVENT
DTSTART;TZID=Europe/London:20270204T143000
DTEND;TZID=Europe/London:20270204T153000
DTSTAMP:20260421T194831
CREATED:20230823T143123Z
LAST-MODIFIED:20231024T124529Z
UID:10013166-1801751400-1801755000@keepingmewell.com
SUMMARY:ESCAPEE yn Trelái
DESCRIPTION:Mae digwyddiadau ESCAPEE yn sesiynau ymarfer corff dilynol i bobl sydd wedi cyflawni’r rhaglen Escape Pain ar gyfer poen clun\, pen-glin neu gefn. \nMae croeso i chi alw heibio a chymryd rhan mewn ymarfer corff sydd wedi’i gynllunio i wella eich symudiad a’ch swyddogaeth. \nYng Nghanolfan Hamdden y Gorllewin bob dydd Iau\, 2.30am.
URL:https://keepingmewell.com/event/escapee-255/2027-02-04/
LOCATION:Canolfan Hamdden Y Gorllewin\, Caerau Lane\, Caerdydd\, CF5 5HJ
CATEGORIES:Cymraeg,Cymru Arthritis,ESCAPEE CY,Gweithgarwch Corfforol
ATTACH;FMTTYPE=image/jpeg:https://keepingmewell.com/wp-content/uploads/2022/12/Better-Escape-logos.jpg
END:VEVENT
END:VCALENDAR