BEGIN:VCALENDAR
VERSION:2.0
PRODID:-//Keeping Me Well - ECPv6.15.20//NONSGML v1.0//EN
CALSCALE:GREGORIAN
METHOD:PUBLISH
X-ORIGINAL-URL:https://keepingmewell.com
X-WR-CALDESC:Events for Keeping Me Well
REFRESH-INTERVAL;VALUE=DURATION:PT1H
X-Robots-Tag:noindex
X-PUBLISHED-TTL:PT1H
BEGIN:VTIMEZONE
TZID:Europe/London
BEGIN:DAYLIGHT
TZOFFSETFROM:+0000
TZOFFSETTO:+0100
TZNAME:BST
DTSTART:20260329T010000
END:DAYLIGHT
BEGIN:STANDARD
TZOFFSETFROM:+0100
TZOFFSETTO:+0000
TZNAME:GMT
DTSTART:20261025T010000
END:STANDARD
BEGIN:DAYLIGHT
TZOFFSETFROM:+0000
TZOFFSETTO:+0100
TZNAME:BST
DTSTART:20270328T010000
END:DAYLIGHT
BEGIN:STANDARD
TZOFFSETFROM:+0100
TZOFFSETTO:+0000
TZNAME:GMT
DTSTART:20271031T010000
END:STANDARD
BEGIN:DAYLIGHT
TZOFFSETFROM:+0000
TZOFFSETTO:+0100
TZNAME:BST
DTSTART:20280326T010000
END:DAYLIGHT
BEGIN:STANDARD
TZOFFSETFROM:+0100
TZOFFSETTO:+0000
TZNAME:GMT
DTSTART:20281029T010000
END:STANDARD
END:VTIMEZONE
BEGIN:VEVENT
DTSTART;TZID=Europe/London:20270303T110000
DTEND;TZID=Europe/London:20270303T120000
DTSTAMP:20260424T145529
CREATED:20230823T120817Z
LAST-MODIFIED:20231024T124159Z
UID:10012911-1804071600-1804075200@keepingmewell.com
SUMMARY:ESCAPEE yn Llanrhymni
DESCRIPTION:Mae digwyddiadau ESCAPEE yn sesiynau ymarfer corff dilynol i bobl sydd wedi cyflawni’r rhaglen Escape Pain ar gyfer poen clun\, pen-glin neu gefn. \nMae croeso i chi alw heibio a chymryd rhan mewn ymarfer corff sydd wedi’i gynllunio i wella eich symudiad a’ch swyddogaeth. \nYng Nghanolfan Hamdden y Dwyrain bob dydd Mercher\, 11.00am.
URL:https://keepingmewell.com/event/escapee-145/2027-03-03/
LOCATION:Canolfan Hamdden Y Dwyrain\, Rhodfa Llanrhymni\, Llanrhymni\, Caerdydd\, CF3 4DN
CATEGORIES:Cymraeg,Cymru Arthritis,ESCAPEE CY,Gweithgarwch Corfforol
ATTACH;FMTTYPE=image/jpeg:https://keepingmewell.com/wp-content/uploads/2022/12/Leisure-Centre-Escape-logos.jpg
END:VEVENT
BEGIN:VEVENT
DTSTART;TZID=Europe/London:20270304T093000
DTEND;TZID=Europe/London:20270304T103000
DTSTAMP:20260424T145529
CREATED:20231024T100157Z
LAST-MODIFIED:20231024T100157Z
UID:10008506-1804152600-1804156200@keepingmewell.com
SUMMARY:ESCAPEE yn Llanisien
DESCRIPTION:Mae digwyddiadau ESCAPEE yn sesiynau ymarfer corff dilynol i bobl sydd wedi cyflawni’r rhaglen Escape Pain ar gyfer poen clun\, pen-glin neu gefn. \nMae croeso i chi alw heibio a chymryd rhan mewn ymarfer corff sydd wedi’i gynllunio i wella eich symudiad a’ch swyddogaeth. \nYng Nghanolfan Hamdden Llanisien bob dydd Iau\, 9.30am.
URL:https://keepingmewell.com/event/escapee-yn-llanisien/2027-03-04/
LOCATION:Canolfan Hamdden Llanisien\, Rhodfa Ty Glas\, Llanisien\, Caerdydd\, CF14 5EB\, United Kingdom
CATEGORIES:Cymraeg,Cymru Arthritis,ESCAPEE CY,Gweithgarwch Corfforol
ATTACH;FMTTYPE=image/jpeg:https://keepingmewell.com/wp-content/uploads/2022/12/Better-Escape-logos.jpg
END:VEVENT
BEGIN:VEVENT
DTSTART;TZID=Europe/London:20270304T113000
DTEND;TZID=Europe/London:20270304T121500
DTSTAMP:20260424T145529
CREATED:20230823T134926Z
LAST-MODIFIED:20231024T115543Z
UID:10011096-1804159800-1804162500@keepingmewell.com
SUMMARY:ESCAPEE yn Penarth
DESCRIPTION:Mae digwyddiadau ESCAPEE yn sesiynau ymarfer corff dilynol i bobl sydd wedi cyflawni’r rhaglen Escape Pain ar gyfer poen clun\, pen-glin neu gefn. \nMae croeso i chi alw heibio a chymryd rhan mewn ymarfer corff sydd wedi’i gynllunio i wella eich symudiad a’ch swyddogaeth. \nYng Nghanolfan Hamdden y Penarth bob dydd Iau\, 11.30am.
URL:https://keepingmewell.com/event/escapee-221/2027-03-04/
LOCATION:Canolfan Hamdden y Penarth\, Heol Andrew\, Cogan\, Penarth\, CF64 2NS\, United Kingdom
CATEGORIES:Cymraeg,Cymru Arthritis,ESCAPEE CY,Gweithgarwch Corfforol
ATTACH;FMTTYPE=image/jpeg:https://keepingmewell.com/wp-content/uploads/2022/12/Leisure-Centre-Escape-logos.jpg
END:VEVENT
BEGIN:VEVENT
DTSTART;TZID=Europe/London:20270304T143000
DTEND;TZID=Europe/London:20270304T153000
DTSTAMP:20260424T145529
CREATED:20230823T143123Z
LAST-MODIFIED:20231024T124529Z
UID:10013170-1804170600-1804174200@keepingmewell.com
SUMMARY:ESCAPEE yn Trelái
DESCRIPTION:Mae digwyddiadau ESCAPEE yn sesiynau ymarfer corff dilynol i bobl sydd wedi cyflawni’r rhaglen Escape Pain ar gyfer poen clun\, pen-glin neu gefn. \nMae croeso i chi alw heibio a chymryd rhan mewn ymarfer corff sydd wedi’i gynllunio i wella eich symudiad a’ch swyddogaeth. \nYng Nghanolfan Hamdden y Gorllewin bob dydd Iau\, 2.30am.
URL:https://keepingmewell.com/event/escapee-255/2027-03-04/
LOCATION:Canolfan Hamdden Y Gorllewin\, Caerau Lane\, Caerdydd\, CF5 5HJ
CATEGORIES:Cymraeg,Cymru Arthritis,ESCAPEE CY,Gweithgarwch Corfforol
ATTACH;FMTTYPE=image/jpeg:https://keepingmewell.com/wp-content/uploads/2022/12/Better-Escape-logos.jpg
END:VEVENT
BEGIN:VEVENT
DTSTART;TZID=Europe/London:20270305T103000
DTEND;TZID=Europe/London:20270305T113000
DTSTAMP:20260424T145529
CREATED:20231024T101903Z
LAST-MODIFIED:20231024T101903Z
UID:10009544-1804242600-1804246200@keepingmewell.com
SUMMARY:ESCAPEE yn y Tyllgoed
DESCRIPTION:Mae digwyddiadau ESCAPEE yn sesiynau ymarfer corff dilynol i bobl sydd wedi cyflawni’r rhaglen Escape Pain ar gyfer poen clun\, pen-glin neu gefn. \nMae croeso i chi alw heibio a chymryd rhan mewn ymarfer corff sydd wedi’i gynllunio i wella eich symudiad a’ch swyddogaeth. \nYng Nghanolfan Hamdden y Tyllgoed bob dydd Gwener\, 10.30am.
URL:https://keepingmewell.com/event/escapee-yn-y-tyllgoed/2027-03-05/
LOCATION:Canolfan Hamdden y Tyllgoed\, Heol Waterhall\, y Tyllgoed\, Caerdydd\, CF5 3LL
CATEGORIES:Cymraeg,Cymru Arthritis,ESCAPEE CY,Gweithgarwch Corfforol
ATTACH;FMTTYPE=image/jpeg:https://keepingmewell.com/wp-content/uploads/2022/12/Better-Escape-logos.jpg
END:VEVENT
BEGIN:VEVENT
DTSTART;TZID=Europe/London:20270305T120000
DTEND;TZID=Europe/London:20270305T130000
DTSTAMP:20260424T145529
CREATED:20230823T112636Z
LAST-MODIFIED:20231024T130819Z
UID:10013686-1804248000-1804251600@keepingmewell.com
SUMMARY:ESCAPEE yn Llanrhymni
DESCRIPTION:Mae digwyddiadau ESCAPEE yn sesiynau ymarfer corff dilynol i bobl sydd wedi cyflawni’r rhaglen Escape Pain ar gyfer poen clun\, pen-glin neu gefn. \nMae croeso i chi alw heibio a chymryd rhan mewn ymarfer corff sydd wedi’i gynllunio i wella eich symudiad a’ch swyddogaeth. \nYng Nghanolfan Hamdden y Dwyrain bob dydd Gwener\, 12noon.
URL:https://keepingmewell.com/event/escapee-72/2027-03-05/
LOCATION:Canolfan Hamdden Y Dwyrain\, Rhodfa Llanrhymni\, Llanrhymni\, Caerdydd\, CF3 4DN
CATEGORIES:Cymraeg,Cymru Arthritis,ESCAPEE CY,Gweithgarwch Corfforol
ATTACH;FMTTYPE=image/jpeg:https://keepingmewell.com/wp-content/uploads/2022/12/Leisure-Centre-Escape-logos.jpg
END:VEVENT
BEGIN:VEVENT
DTSTART;TZID=Europe/London:20270308T110000
DTEND;TZID=Europe/London:20270308T120000
DTSTAMP:20260424T145529
CREATED:20230823T120701Z
LAST-MODIFIED:20231024T131154Z
UID:10013941-1804503600-1804507200@keepingmewell.com
SUMMARY:ESCAPEE yn Llanrhymni
DESCRIPTION:Mae digwyddiadau ESCAPEE yn sesiynau ymarfer corff dilynol i bobl sydd wedi cyflawni’r rhaglen Escape Pain ar gyfer poen clun\, pen-glin neu gefn. \nMae croeso i chi alw heibio a chymryd rhan mewn ymarfer corff sydd wedi’i gynllunio i wella eich symudiad a’ch swyddogaeth. \nYng Nghanolfan Hamdden y Dwyrain bob dydd Llun\, 11.00am.
URL:https://keepingmewell.com/event/escapee-102/2027-03-08/
LOCATION:Canolfan Hamdden Y Dwyrain\, Rhodfa Llanrhymni\, Llanrhymni\, Caerdydd\, CF3 4DN
CATEGORIES:Cymraeg,Cymru Arthritis,ESCAPEE CY,Gweithgarwch Corfforol
ATTACH;FMTTYPE=image/jpeg:https://keepingmewell.com/wp-content/uploads/2022/12/Leisure-Centre-Escape-logos.jpg
END:VEVENT
BEGIN:VEVENT
DTSTART;TZID=Europe/London:20270308T113000
DTEND;TZID=Europe/London:20270308T121500
DTSTAMP:20260424T145529
CREATED:20231024T113013Z
LAST-MODIFIED:20231024T113013Z
UID:10010322-1804505400-1804508100@keepingmewell.com
SUMMARY:ESCAPEE yn Penarth
DESCRIPTION:Mae digwyddiadau ESCAPEE yn sesiynau ymarfer corff dilynol i bobl sydd wedi cyflawni’r rhaglen Escape Pain ar gyfer poen clun\, pen-glin neu gefn. \nMae croeso i chi alw heibio a chymryd rhan mewn ymarfer corff sydd wedi’i gynllunio i wella eich symudiad a’ch swyddogaeth. \nYng Nghanolfan Hamdden y Penarth bob dydd Llun\, 11.30am.
URL:https://keepingmewell.com/event/escapee-yn-penarth/2027-03-08/
LOCATION:Canolfan Hamdden y Penarth\, Heol Andrew\, Cogan\, Penarth\, CF64 2NS\, United Kingdom
CATEGORIES:Cymraeg,Cymru Arthritis,ESCAPEE CY,Gweithgarwch Corfforol
ATTACH;FMTTYPE=image/jpeg:https://keepingmewell.com/wp-content/uploads/2022/12/Leisure-Centre-Escape-logos.jpg
END:VEVENT
BEGIN:VEVENT
DTSTART;TZID=Europe/London:20270309T123000
DTEND;TZID=Europe/London:20270309T131500
DTSTAMP:20260424T145529
CREATED:20230823T123233Z
LAST-MODIFIED:20231024T121148Z
UID:10011877-1804595400-1804598100@keepingmewell.com
SUMMARY:ESCAPEE yn Barri
DESCRIPTION:Mae digwyddiadau ESCAPEE yn sesiynau ymarfer corff dilynol i bobl sydd wedi cyflawni’r rhaglen Escape Pain ar gyfer poen clun\, pen-glin neu gefn. \nMae croeso i chi alw heibio a chymryd rhan mewn ymarfer corff sydd wedi’i gynllunio i wella eich symudiad a’ch swyddogaeth. \nYng Nghanolfan Hamdden y Barri bob dydd Mawrth\, 12.30am.
URL:https://keepingmewell.com/event/escapee-187/2027-03-09/
LOCATION:Canolfan Hamdden y Barri\, Stryd Greenwood\, Y Barri\, CF63 4JJ\, United Kingdom
CATEGORIES:Cymraeg,Cymru Arthritis,ESCAPEE CY,Gweithgarwch Corfforol
ATTACH;FMTTYPE=image/jpeg:https://keepingmewell.com/wp-content/uploads/2022/12/Leisure-Centre-Escape-logos.jpg
END:VEVENT
BEGIN:VEVENT
DTSTART;TZID=Europe/London:20270309T143000
DTEND;TZID=Europe/London:20270309T153000
DTSTAMP:20260424T145529
CREATED:20230823T142738Z
LAST-MODIFIED:20231024T124634Z
UID:10012395-1804602600-1804606200@keepingmewell.com
SUMMARY:ESCAPEE yn Trelái
DESCRIPTION:Mae digwyddiadau ESCAPEE yn sesiynau ymarfer corff dilynol i bobl sydd wedi cyflawni’r rhaglen Escape Pain ar gyfer poen clun\, pen-glin neu gefn. \nMae croeso i chi alw heibio a chymryd rhan mewn ymarfer corff sydd wedi’i gynllunio i wella eich symudiad a’ch swyddogaeth. \nYng Nghanolfan Hamdden y Gorllewin bob dydd Mawrth\, 2.30pm.
URL:https://keepingmewell.com/event/escapee-237/2027-03-09/
LOCATION:Canolfan Hamdden Y Gorllewin\, Caerau Lane\, Caerdydd\, CF5 5HJ
CATEGORIES:Cymraeg,Cymru Arthritis,ESCAPEE CY,Gweithgarwch Corfforol
ATTACH;FMTTYPE=image/jpeg:https://keepingmewell.com/wp-content/uploads/2022/12/Better-Escape-logos.jpg
END:VEVENT
BEGIN:VEVENT
DTSTART;TZID=Europe/London:20270310T110000
DTEND;TZID=Europe/London:20270310T120000
DTSTAMP:20260424T145529
CREATED:20230823T120817Z
LAST-MODIFIED:20231024T124159Z
UID:10012912-1804676400-1804680000@keepingmewell.com
SUMMARY:ESCAPEE yn Llanrhymni
DESCRIPTION:Mae digwyddiadau ESCAPEE yn sesiynau ymarfer corff dilynol i bobl sydd wedi cyflawni’r rhaglen Escape Pain ar gyfer poen clun\, pen-glin neu gefn. \nMae croeso i chi alw heibio a chymryd rhan mewn ymarfer corff sydd wedi’i gynllunio i wella eich symudiad a’ch swyddogaeth. \nYng Nghanolfan Hamdden y Dwyrain bob dydd Mercher\, 11.00am.
URL:https://keepingmewell.com/event/escapee-145/2027-03-10/
LOCATION:Canolfan Hamdden Y Dwyrain\, Rhodfa Llanrhymni\, Llanrhymni\, Caerdydd\, CF3 4DN
CATEGORIES:Cymraeg,Cymru Arthritis,ESCAPEE CY,Gweithgarwch Corfforol
ATTACH;FMTTYPE=image/jpeg:https://keepingmewell.com/wp-content/uploads/2022/12/Leisure-Centre-Escape-logos.jpg
END:VEVENT
BEGIN:VEVENT
DTSTART;TZID=Europe/London:20270311T093000
DTEND;TZID=Europe/London:20270311T103000
DTSTAMP:20260424T145529
CREATED:20231024T100157Z
LAST-MODIFIED:20231024T100157Z
UID:10008507-1804757400-1804761000@keepingmewell.com
SUMMARY:ESCAPEE yn Llanisien
DESCRIPTION:Mae digwyddiadau ESCAPEE yn sesiynau ymarfer corff dilynol i bobl sydd wedi cyflawni’r rhaglen Escape Pain ar gyfer poen clun\, pen-glin neu gefn. \nMae croeso i chi alw heibio a chymryd rhan mewn ymarfer corff sydd wedi’i gynllunio i wella eich symudiad a’ch swyddogaeth. \nYng Nghanolfan Hamdden Llanisien bob dydd Iau\, 9.30am.
URL:https://keepingmewell.com/event/escapee-yn-llanisien/2027-03-11/
LOCATION:Canolfan Hamdden Llanisien\, Rhodfa Ty Glas\, Llanisien\, Caerdydd\, CF14 5EB\, United Kingdom
CATEGORIES:Cymraeg,Cymru Arthritis,ESCAPEE CY,Gweithgarwch Corfforol
ATTACH;FMTTYPE=image/jpeg:https://keepingmewell.com/wp-content/uploads/2022/12/Better-Escape-logos.jpg
END:VEVENT
BEGIN:VEVENT
DTSTART;TZID=Europe/London:20270311T113000
DTEND;TZID=Europe/London:20270311T121500
DTSTAMP:20260424T145529
CREATED:20230823T134926Z
LAST-MODIFIED:20231024T115543Z
UID:10011097-1804764600-1804767300@keepingmewell.com
SUMMARY:ESCAPEE yn Penarth
DESCRIPTION:Mae digwyddiadau ESCAPEE yn sesiynau ymarfer corff dilynol i bobl sydd wedi cyflawni’r rhaglen Escape Pain ar gyfer poen clun\, pen-glin neu gefn. \nMae croeso i chi alw heibio a chymryd rhan mewn ymarfer corff sydd wedi’i gynllunio i wella eich symudiad a’ch swyddogaeth. \nYng Nghanolfan Hamdden y Penarth bob dydd Iau\, 11.30am.
URL:https://keepingmewell.com/event/escapee-221/2027-03-11/
LOCATION:Canolfan Hamdden y Penarth\, Heol Andrew\, Cogan\, Penarth\, CF64 2NS\, United Kingdom
CATEGORIES:Cymraeg,Cymru Arthritis,ESCAPEE CY,Gweithgarwch Corfforol
ATTACH;FMTTYPE=image/jpeg:https://keepingmewell.com/wp-content/uploads/2022/12/Leisure-Centre-Escape-logos.jpg
END:VEVENT
BEGIN:VEVENT
DTSTART;TZID=Europe/London:20270311T143000
DTEND;TZID=Europe/London:20270311T153000
DTSTAMP:20260424T145529
CREATED:20230823T143123Z
LAST-MODIFIED:20231024T124529Z
UID:10013171-1804775400-1804779000@keepingmewell.com
SUMMARY:ESCAPEE yn Trelái
DESCRIPTION:Mae digwyddiadau ESCAPEE yn sesiynau ymarfer corff dilynol i bobl sydd wedi cyflawni’r rhaglen Escape Pain ar gyfer poen clun\, pen-glin neu gefn. \nMae croeso i chi alw heibio a chymryd rhan mewn ymarfer corff sydd wedi’i gynllunio i wella eich symudiad a’ch swyddogaeth. \nYng Nghanolfan Hamdden y Gorllewin bob dydd Iau\, 2.30am.
URL:https://keepingmewell.com/event/escapee-255/2027-03-11/
LOCATION:Canolfan Hamdden Y Gorllewin\, Caerau Lane\, Caerdydd\, CF5 5HJ
CATEGORIES:Cymraeg,Cymru Arthritis,ESCAPEE CY,Gweithgarwch Corfforol
ATTACH;FMTTYPE=image/jpeg:https://keepingmewell.com/wp-content/uploads/2022/12/Better-Escape-logos.jpg
END:VEVENT
BEGIN:VEVENT
DTSTART;TZID=Europe/London:20270312T103000
DTEND;TZID=Europe/London:20270312T113000
DTSTAMP:20260424T145529
CREATED:20231024T101903Z
LAST-MODIFIED:20231024T101903Z
UID:10009545-1804847400-1804851000@keepingmewell.com
SUMMARY:ESCAPEE yn y Tyllgoed
DESCRIPTION:Mae digwyddiadau ESCAPEE yn sesiynau ymarfer corff dilynol i bobl sydd wedi cyflawni’r rhaglen Escape Pain ar gyfer poen clun\, pen-glin neu gefn. \nMae croeso i chi alw heibio a chymryd rhan mewn ymarfer corff sydd wedi’i gynllunio i wella eich symudiad a’ch swyddogaeth. \nYng Nghanolfan Hamdden y Tyllgoed bob dydd Gwener\, 10.30am.
URL:https://keepingmewell.com/event/escapee-yn-y-tyllgoed/2027-03-12/
LOCATION:Canolfan Hamdden y Tyllgoed\, Heol Waterhall\, y Tyllgoed\, Caerdydd\, CF5 3LL
CATEGORIES:Cymraeg,Cymru Arthritis,ESCAPEE CY,Gweithgarwch Corfforol
ATTACH;FMTTYPE=image/jpeg:https://keepingmewell.com/wp-content/uploads/2022/12/Better-Escape-logos.jpg
END:VEVENT
BEGIN:VEVENT
DTSTART;TZID=Europe/London:20270312T120000
DTEND;TZID=Europe/London:20270312T130000
DTSTAMP:20260424T145529
CREATED:20230823T112636Z
LAST-MODIFIED:20231024T130819Z
UID:10013687-1804852800-1804856400@keepingmewell.com
SUMMARY:ESCAPEE yn Llanrhymni
DESCRIPTION:Mae digwyddiadau ESCAPEE yn sesiynau ymarfer corff dilynol i bobl sydd wedi cyflawni’r rhaglen Escape Pain ar gyfer poen clun\, pen-glin neu gefn. \nMae croeso i chi alw heibio a chymryd rhan mewn ymarfer corff sydd wedi’i gynllunio i wella eich symudiad a’ch swyddogaeth. \nYng Nghanolfan Hamdden y Dwyrain bob dydd Gwener\, 12noon.
URL:https://keepingmewell.com/event/escapee-72/2027-03-12/
LOCATION:Canolfan Hamdden Y Dwyrain\, Rhodfa Llanrhymni\, Llanrhymni\, Caerdydd\, CF3 4DN
CATEGORIES:Cymraeg,Cymru Arthritis,ESCAPEE CY,Gweithgarwch Corfforol
ATTACH;FMTTYPE=image/jpeg:https://keepingmewell.com/wp-content/uploads/2022/12/Leisure-Centre-Escape-logos.jpg
END:VEVENT
BEGIN:VEVENT
DTSTART;TZID=Europe/London:20270315T110000
DTEND;TZID=Europe/London:20270315T120000
DTSTAMP:20260424T145529
CREATED:20230823T120701Z
LAST-MODIFIED:20231024T131154Z
UID:10013942-1805108400-1805112000@keepingmewell.com
SUMMARY:ESCAPEE yn Llanrhymni
DESCRIPTION:Mae digwyddiadau ESCAPEE yn sesiynau ymarfer corff dilynol i bobl sydd wedi cyflawni’r rhaglen Escape Pain ar gyfer poen clun\, pen-glin neu gefn. \nMae croeso i chi alw heibio a chymryd rhan mewn ymarfer corff sydd wedi’i gynllunio i wella eich symudiad a’ch swyddogaeth. \nYng Nghanolfan Hamdden y Dwyrain bob dydd Llun\, 11.00am.
URL:https://keepingmewell.com/event/escapee-102/2027-03-15/
LOCATION:Canolfan Hamdden Y Dwyrain\, Rhodfa Llanrhymni\, Llanrhymni\, Caerdydd\, CF3 4DN
CATEGORIES:Cymraeg,Cymru Arthritis,ESCAPEE CY,Gweithgarwch Corfforol
ATTACH;FMTTYPE=image/jpeg:https://keepingmewell.com/wp-content/uploads/2022/12/Leisure-Centre-Escape-logos.jpg
END:VEVENT
BEGIN:VEVENT
DTSTART;TZID=Europe/London:20270315T113000
DTEND;TZID=Europe/London:20270315T121500
DTSTAMP:20260424T145529
CREATED:20231024T113013Z
LAST-MODIFIED:20231024T113013Z
UID:10010323-1805110200-1805112900@keepingmewell.com
SUMMARY:ESCAPEE yn Penarth
DESCRIPTION:Mae digwyddiadau ESCAPEE yn sesiynau ymarfer corff dilynol i bobl sydd wedi cyflawni’r rhaglen Escape Pain ar gyfer poen clun\, pen-glin neu gefn. \nMae croeso i chi alw heibio a chymryd rhan mewn ymarfer corff sydd wedi’i gynllunio i wella eich symudiad a’ch swyddogaeth. \nYng Nghanolfan Hamdden y Penarth bob dydd Llun\, 11.30am.
URL:https://keepingmewell.com/event/escapee-yn-penarth/2027-03-15/
LOCATION:Canolfan Hamdden y Penarth\, Heol Andrew\, Cogan\, Penarth\, CF64 2NS\, United Kingdom
CATEGORIES:Cymraeg,Cymru Arthritis,ESCAPEE CY,Gweithgarwch Corfforol
ATTACH;FMTTYPE=image/jpeg:https://keepingmewell.com/wp-content/uploads/2022/12/Leisure-Centre-Escape-logos.jpg
END:VEVENT
BEGIN:VEVENT
DTSTART;TZID=Europe/London:20270316T123000
DTEND;TZID=Europe/London:20270316T131500
DTSTAMP:20260424T145529
CREATED:20230823T123233Z
LAST-MODIFIED:20231024T121148Z
UID:10011878-1805200200-1805202900@keepingmewell.com
SUMMARY:ESCAPEE yn Barri
DESCRIPTION:Mae digwyddiadau ESCAPEE yn sesiynau ymarfer corff dilynol i bobl sydd wedi cyflawni’r rhaglen Escape Pain ar gyfer poen clun\, pen-glin neu gefn. \nMae croeso i chi alw heibio a chymryd rhan mewn ymarfer corff sydd wedi’i gynllunio i wella eich symudiad a’ch swyddogaeth. \nYng Nghanolfan Hamdden y Barri bob dydd Mawrth\, 12.30am.
URL:https://keepingmewell.com/event/escapee-187/2027-03-16/
LOCATION:Canolfan Hamdden y Barri\, Stryd Greenwood\, Y Barri\, CF63 4JJ\, United Kingdom
CATEGORIES:Cymraeg,Cymru Arthritis,ESCAPEE CY,Gweithgarwch Corfforol
ATTACH;FMTTYPE=image/jpeg:https://keepingmewell.com/wp-content/uploads/2022/12/Leisure-Centre-Escape-logos.jpg
END:VEVENT
BEGIN:VEVENT
DTSTART;TZID=Europe/London:20270316T143000
DTEND;TZID=Europe/London:20270316T153000
DTSTAMP:20260424T145529
CREATED:20230823T142738Z
LAST-MODIFIED:20231024T124634Z
UID:10012396-1805207400-1805211000@keepingmewell.com
SUMMARY:ESCAPEE yn Trelái
DESCRIPTION:Mae digwyddiadau ESCAPEE yn sesiynau ymarfer corff dilynol i bobl sydd wedi cyflawni’r rhaglen Escape Pain ar gyfer poen clun\, pen-glin neu gefn. \nMae croeso i chi alw heibio a chymryd rhan mewn ymarfer corff sydd wedi’i gynllunio i wella eich symudiad a’ch swyddogaeth. \nYng Nghanolfan Hamdden y Gorllewin bob dydd Mawrth\, 2.30pm.
URL:https://keepingmewell.com/event/escapee-237/2027-03-16/
LOCATION:Canolfan Hamdden Y Gorllewin\, Caerau Lane\, Caerdydd\, CF5 5HJ
CATEGORIES:Cymraeg,Cymru Arthritis,ESCAPEE CY,Gweithgarwch Corfforol
ATTACH;FMTTYPE=image/jpeg:https://keepingmewell.com/wp-content/uploads/2022/12/Better-Escape-logos.jpg
END:VEVENT
BEGIN:VEVENT
DTSTART;TZID=Europe/London:20270317T110000
DTEND;TZID=Europe/London:20270317T120000
DTSTAMP:20260424T145529
CREATED:20230823T120817Z
LAST-MODIFIED:20231024T124159Z
UID:10012913-1805281200-1805284800@keepingmewell.com
SUMMARY:ESCAPEE yn Llanrhymni
DESCRIPTION:Mae digwyddiadau ESCAPEE yn sesiynau ymarfer corff dilynol i bobl sydd wedi cyflawni’r rhaglen Escape Pain ar gyfer poen clun\, pen-glin neu gefn. \nMae croeso i chi alw heibio a chymryd rhan mewn ymarfer corff sydd wedi’i gynllunio i wella eich symudiad a’ch swyddogaeth. \nYng Nghanolfan Hamdden y Dwyrain bob dydd Mercher\, 11.00am.
URL:https://keepingmewell.com/event/escapee-145/2027-03-17/
LOCATION:Canolfan Hamdden Y Dwyrain\, Rhodfa Llanrhymni\, Llanrhymni\, Caerdydd\, CF3 4DN
CATEGORIES:Cymraeg,Cymru Arthritis,ESCAPEE CY,Gweithgarwch Corfforol
ATTACH;FMTTYPE=image/jpeg:https://keepingmewell.com/wp-content/uploads/2022/12/Leisure-Centre-Escape-logos.jpg
END:VEVENT
BEGIN:VEVENT
DTSTART;TZID=Europe/London:20270318T093000
DTEND;TZID=Europe/London:20270318T103000
DTSTAMP:20260424T145529
CREATED:20231024T100157Z
LAST-MODIFIED:20231024T100157Z
UID:10008508-1805362200-1805365800@keepingmewell.com
SUMMARY:ESCAPEE yn Llanisien
DESCRIPTION:Mae digwyddiadau ESCAPEE yn sesiynau ymarfer corff dilynol i bobl sydd wedi cyflawni’r rhaglen Escape Pain ar gyfer poen clun\, pen-glin neu gefn. \nMae croeso i chi alw heibio a chymryd rhan mewn ymarfer corff sydd wedi’i gynllunio i wella eich symudiad a’ch swyddogaeth. \nYng Nghanolfan Hamdden Llanisien bob dydd Iau\, 9.30am.
URL:https://keepingmewell.com/event/escapee-yn-llanisien/2027-03-18/
LOCATION:Canolfan Hamdden Llanisien\, Rhodfa Ty Glas\, Llanisien\, Caerdydd\, CF14 5EB\, United Kingdom
CATEGORIES:Cymraeg,Cymru Arthritis,ESCAPEE CY,Gweithgarwch Corfforol
ATTACH;FMTTYPE=image/jpeg:https://keepingmewell.com/wp-content/uploads/2022/12/Better-Escape-logos.jpg
END:VEVENT
BEGIN:VEVENT
DTSTART;TZID=Europe/London:20270318T113000
DTEND;TZID=Europe/London:20270318T121500
DTSTAMP:20260424T145529
CREATED:20230823T134926Z
LAST-MODIFIED:20231024T115543Z
UID:10011098-1805369400-1805372100@keepingmewell.com
SUMMARY:ESCAPEE yn Penarth
DESCRIPTION:Mae digwyddiadau ESCAPEE yn sesiynau ymarfer corff dilynol i bobl sydd wedi cyflawni’r rhaglen Escape Pain ar gyfer poen clun\, pen-glin neu gefn. \nMae croeso i chi alw heibio a chymryd rhan mewn ymarfer corff sydd wedi’i gynllunio i wella eich symudiad a’ch swyddogaeth. \nYng Nghanolfan Hamdden y Penarth bob dydd Iau\, 11.30am.
URL:https://keepingmewell.com/event/escapee-221/2027-03-18/
LOCATION:Canolfan Hamdden y Penarth\, Heol Andrew\, Cogan\, Penarth\, CF64 2NS\, United Kingdom
CATEGORIES:Cymraeg,Cymru Arthritis,ESCAPEE CY,Gweithgarwch Corfforol
ATTACH;FMTTYPE=image/jpeg:https://keepingmewell.com/wp-content/uploads/2022/12/Leisure-Centre-Escape-logos.jpg
END:VEVENT
BEGIN:VEVENT
DTSTART;TZID=Europe/London:20270318T143000
DTEND;TZID=Europe/London:20270318T153000
DTSTAMP:20260424T145529
CREATED:20230823T143123Z
LAST-MODIFIED:20231024T124529Z
UID:10013172-1805380200-1805383800@keepingmewell.com
SUMMARY:ESCAPEE yn Trelái
DESCRIPTION:Mae digwyddiadau ESCAPEE yn sesiynau ymarfer corff dilynol i bobl sydd wedi cyflawni’r rhaglen Escape Pain ar gyfer poen clun\, pen-glin neu gefn. \nMae croeso i chi alw heibio a chymryd rhan mewn ymarfer corff sydd wedi’i gynllunio i wella eich symudiad a’ch swyddogaeth. \nYng Nghanolfan Hamdden y Gorllewin bob dydd Iau\, 2.30am.
URL:https://keepingmewell.com/event/escapee-255/2027-03-18/
LOCATION:Canolfan Hamdden Y Gorllewin\, Caerau Lane\, Caerdydd\, CF5 5HJ
CATEGORIES:Cymraeg,Cymru Arthritis,ESCAPEE CY,Gweithgarwch Corfforol
ATTACH;FMTTYPE=image/jpeg:https://keepingmewell.com/wp-content/uploads/2022/12/Better-Escape-logos.jpg
END:VEVENT
BEGIN:VEVENT
DTSTART;TZID=Europe/London:20270319T103000
DTEND;TZID=Europe/London:20270319T113000
DTSTAMP:20260424T145529
CREATED:20231024T101903Z
LAST-MODIFIED:20231024T101903Z
UID:10009546-1805452200-1805455800@keepingmewell.com
SUMMARY:ESCAPEE yn y Tyllgoed
DESCRIPTION:Mae digwyddiadau ESCAPEE yn sesiynau ymarfer corff dilynol i bobl sydd wedi cyflawni’r rhaglen Escape Pain ar gyfer poen clun\, pen-glin neu gefn. \nMae croeso i chi alw heibio a chymryd rhan mewn ymarfer corff sydd wedi’i gynllunio i wella eich symudiad a’ch swyddogaeth. \nYng Nghanolfan Hamdden y Tyllgoed bob dydd Gwener\, 10.30am.
URL:https://keepingmewell.com/event/escapee-yn-y-tyllgoed/2027-03-19/
LOCATION:Canolfan Hamdden y Tyllgoed\, Heol Waterhall\, y Tyllgoed\, Caerdydd\, CF5 3LL
CATEGORIES:Cymraeg,Cymru Arthritis,ESCAPEE CY,Gweithgarwch Corfforol
ATTACH;FMTTYPE=image/jpeg:https://keepingmewell.com/wp-content/uploads/2022/12/Better-Escape-logos.jpg
END:VEVENT
BEGIN:VEVENT
DTSTART;TZID=Europe/London:20270319T120000
DTEND;TZID=Europe/London:20270319T130000
DTSTAMP:20260424T145529
CREATED:20230823T112636Z
LAST-MODIFIED:20231024T130819Z
UID:10013688-1805457600-1805461200@keepingmewell.com
SUMMARY:ESCAPEE yn Llanrhymni
DESCRIPTION:Mae digwyddiadau ESCAPEE yn sesiynau ymarfer corff dilynol i bobl sydd wedi cyflawni’r rhaglen Escape Pain ar gyfer poen clun\, pen-glin neu gefn. \nMae croeso i chi alw heibio a chymryd rhan mewn ymarfer corff sydd wedi’i gynllunio i wella eich symudiad a’ch swyddogaeth. \nYng Nghanolfan Hamdden y Dwyrain bob dydd Gwener\, 12noon.
URL:https://keepingmewell.com/event/escapee-72/2027-03-19/
LOCATION:Canolfan Hamdden Y Dwyrain\, Rhodfa Llanrhymni\, Llanrhymni\, Caerdydd\, CF3 4DN
CATEGORIES:Cymraeg,Cymru Arthritis,ESCAPEE CY,Gweithgarwch Corfforol
ATTACH;FMTTYPE=image/jpeg:https://keepingmewell.com/wp-content/uploads/2022/12/Leisure-Centre-Escape-logos.jpg
END:VEVENT
BEGIN:VEVENT
DTSTART;TZID=Europe/London:20270322T110000
DTEND;TZID=Europe/London:20270322T120000
DTSTAMP:20260424T145529
CREATED:20230823T120701Z
LAST-MODIFIED:20231024T131154Z
UID:10013943-1805713200-1805716800@keepingmewell.com
SUMMARY:ESCAPEE yn Llanrhymni
DESCRIPTION:Mae digwyddiadau ESCAPEE yn sesiynau ymarfer corff dilynol i bobl sydd wedi cyflawni’r rhaglen Escape Pain ar gyfer poen clun\, pen-glin neu gefn. \nMae croeso i chi alw heibio a chymryd rhan mewn ymarfer corff sydd wedi’i gynllunio i wella eich symudiad a’ch swyddogaeth. \nYng Nghanolfan Hamdden y Dwyrain bob dydd Llun\, 11.00am.
URL:https://keepingmewell.com/event/escapee-102/2027-03-22/
LOCATION:Canolfan Hamdden Y Dwyrain\, Rhodfa Llanrhymni\, Llanrhymni\, Caerdydd\, CF3 4DN
CATEGORIES:Cymraeg,Cymru Arthritis,ESCAPEE CY,Gweithgarwch Corfforol
ATTACH;FMTTYPE=image/jpeg:https://keepingmewell.com/wp-content/uploads/2022/12/Leisure-Centre-Escape-logos.jpg
END:VEVENT
BEGIN:VEVENT
DTSTART;TZID=Europe/London:20270322T113000
DTEND;TZID=Europe/London:20270322T121500
DTSTAMP:20260424T145529
CREATED:20231024T113013Z
LAST-MODIFIED:20231024T113013Z
UID:10010324-1805715000-1805717700@keepingmewell.com
SUMMARY:ESCAPEE yn Penarth
DESCRIPTION:Mae digwyddiadau ESCAPEE yn sesiynau ymarfer corff dilynol i bobl sydd wedi cyflawni’r rhaglen Escape Pain ar gyfer poen clun\, pen-glin neu gefn. \nMae croeso i chi alw heibio a chymryd rhan mewn ymarfer corff sydd wedi’i gynllunio i wella eich symudiad a’ch swyddogaeth. \nYng Nghanolfan Hamdden y Penarth bob dydd Llun\, 11.30am.
URL:https://keepingmewell.com/event/escapee-yn-penarth/2027-03-22/
LOCATION:Canolfan Hamdden y Penarth\, Heol Andrew\, Cogan\, Penarth\, CF64 2NS\, United Kingdom
CATEGORIES:Cymraeg,Cymru Arthritis,ESCAPEE CY,Gweithgarwch Corfforol
ATTACH;FMTTYPE=image/jpeg:https://keepingmewell.com/wp-content/uploads/2022/12/Leisure-Centre-Escape-logos.jpg
END:VEVENT
BEGIN:VEVENT
DTSTART;TZID=Europe/London:20270323T123000
DTEND;TZID=Europe/London:20270323T131500
DTSTAMP:20260424T145529
CREATED:20230823T123233Z
LAST-MODIFIED:20231024T121148Z
UID:10011879-1805805000-1805807700@keepingmewell.com
SUMMARY:ESCAPEE yn Barri
DESCRIPTION:Mae digwyddiadau ESCAPEE yn sesiynau ymarfer corff dilynol i bobl sydd wedi cyflawni’r rhaglen Escape Pain ar gyfer poen clun\, pen-glin neu gefn. \nMae croeso i chi alw heibio a chymryd rhan mewn ymarfer corff sydd wedi’i gynllunio i wella eich symudiad a’ch swyddogaeth. \nYng Nghanolfan Hamdden y Barri bob dydd Mawrth\, 12.30am.
URL:https://keepingmewell.com/event/escapee-187/2027-03-23/
LOCATION:Canolfan Hamdden y Barri\, Stryd Greenwood\, Y Barri\, CF63 4JJ\, United Kingdom
CATEGORIES:Cymraeg,Cymru Arthritis,ESCAPEE CY,Gweithgarwch Corfforol
ATTACH;FMTTYPE=image/jpeg:https://keepingmewell.com/wp-content/uploads/2022/12/Leisure-Centre-Escape-logos.jpg
END:VEVENT
BEGIN:VEVENT
DTSTART;TZID=Europe/London:20270323T143000
DTEND;TZID=Europe/London:20270323T153000
DTSTAMP:20260424T145529
CREATED:20230823T142738Z
LAST-MODIFIED:20231024T124634Z
UID:10012397-1805812200-1805815800@keepingmewell.com
SUMMARY:ESCAPEE yn Trelái
DESCRIPTION:Mae digwyddiadau ESCAPEE yn sesiynau ymarfer corff dilynol i bobl sydd wedi cyflawni’r rhaglen Escape Pain ar gyfer poen clun\, pen-glin neu gefn. \nMae croeso i chi alw heibio a chymryd rhan mewn ymarfer corff sydd wedi’i gynllunio i wella eich symudiad a’ch swyddogaeth. \nYng Nghanolfan Hamdden y Gorllewin bob dydd Mawrth\, 2.30pm.
URL:https://keepingmewell.com/event/escapee-237/2027-03-23/
LOCATION:Canolfan Hamdden Y Gorllewin\, Caerau Lane\, Caerdydd\, CF5 5HJ
CATEGORIES:Cymraeg,Cymru Arthritis,ESCAPEE CY,Gweithgarwch Corfforol
ATTACH;FMTTYPE=image/jpeg:https://keepingmewell.com/wp-content/uploads/2022/12/Better-Escape-logos.jpg
END:VEVENT
END:VCALENDAR