BEGIN:VCALENDAR
VERSION:2.0
PRODID:-//Keeping Me Well - ECPv6.15.20//NONSGML v1.0//EN
CALSCALE:GREGORIAN
METHOD:PUBLISH
X-ORIGINAL-URL:https://keepingmewell.com
X-WR-CALDESC:Events for Keeping Me Well
REFRESH-INTERVAL;VALUE=DURATION:PT1H
X-Robots-Tag:noindex
X-PUBLISHED-TTL:PT1H
BEGIN:VTIMEZONE
TZID:Europe/London
BEGIN:DAYLIGHT
TZOFFSETFROM:+0000
TZOFFSETTO:+0100
TZNAME:BST
DTSTART:20240331T010000
END:DAYLIGHT
BEGIN:STANDARD
TZOFFSETFROM:+0100
TZOFFSETTO:+0000
TZNAME:GMT
DTSTART:20241027T010000
END:STANDARD
BEGIN:DAYLIGHT
TZOFFSETFROM:+0000
TZOFFSETTO:+0100
TZNAME:BST
DTSTART:20250330T010000
END:DAYLIGHT
BEGIN:STANDARD
TZOFFSETFROM:+0100
TZOFFSETTO:+0000
TZNAME:GMT
DTSTART:20251026T010000
END:STANDARD
BEGIN:DAYLIGHT
TZOFFSETFROM:+0000
TZOFFSETTO:+0100
TZNAME:BST
DTSTART:20260329T010000
END:DAYLIGHT
BEGIN:STANDARD
TZOFFSETFROM:+0100
TZOFFSETTO:+0000
TZNAME:GMT
DTSTART:20261025T010000
END:STANDARD
BEGIN:DAYLIGHT
TZOFFSETFROM:+0000
TZOFFSETTO:+0100
TZNAME:BST
DTSTART:20270328T010000
END:DAYLIGHT
BEGIN:STANDARD
TZOFFSETFROM:+0100
TZOFFSETTO:+0000
TZNAME:GMT
DTSTART:20271031T010000
END:STANDARD
END:VTIMEZONE
BEGIN:VEVENT
DTSTART;TZID=Europe/London:20260417T093000
DTEND;TZID=Europe/London:20260417T103000
DTSTAMP:20260423T181702
CREATED:20230327T111957Z
LAST-MODIFIED:20231024T141547Z
UID:10016497-1776418200-1776421800@keepingmewell.com
SUMMARY:Ffitrwydd Gweithredol i rai dros 50 oed
DESCRIPTION:Wedi’i gynllunio’n benodol ar gyfer cyfranogwyr sy’n 50 oed ac yn h?n. Mae Ffitrwydd Gweithredol 50+ ar gyfer y rhai sy’n dymuno cryfhau\, dysgu sut i godi pwysau ac osgoi anafiadau. Cynhelir y dosbarth yn Stiwdio 1 Cyncoed ar Gampws Cyncoed Met Caerdydd. \nTrefnwch ymlaen llaw ar ap Met Active y gellir ei lawrlwytho yma. Mae sesiynau yn £3 yr un.
URL:https://keepingmewell.com/event/ffitrwydd-gweithredol-i-rai-dros-50-oed/2026-04-17/
LOCATION:Met Caerdydd\, Campws Cyncoed\, Prifysgol Metropolitan Caerdydd\, Ffordd Cyncoed\, Caerdydd\, CF23 6XD
CATEGORIES:Cymraeg,Dros 50 oed,Ffitrwydd Gweithredol,Gweithgarwch Corfforol
ATTACH;FMTTYPE=image/jpeg:https://keepingmewell.com/wp-content/uploads/2023/03/Met-Active-EN.jpg
END:VEVENT
BEGIN:VEVENT
DTSTART;TZID=Europe/London:20260410T093000
DTEND;TZID=Europe/London:20260410T103000
DTSTAMP:20260423T181702
CREATED:20230327T111957Z
LAST-MODIFIED:20231024T141547Z
UID:10016496-1775813400-1775817000@keepingmewell.com
SUMMARY:Ffitrwydd Gweithredol i rai dros 50 oed
DESCRIPTION:Wedi’i gynllunio’n benodol ar gyfer cyfranogwyr sy’n 50 oed ac yn h?n. Mae Ffitrwydd Gweithredol 50+ ar gyfer y rhai sy’n dymuno cryfhau\, dysgu sut i godi pwysau ac osgoi anafiadau. Cynhelir y dosbarth yn Stiwdio 1 Cyncoed ar Gampws Cyncoed Met Caerdydd. \nTrefnwch ymlaen llaw ar ap Met Active y gellir ei lawrlwytho yma. Mae sesiynau yn £3 yr un.
URL:https://keepingmewell.com/event/ffitrwydd-gweithredol-i-rai-dros-50-oed/2026-04-10/
LOCATION:Met Caerdydd\, Campws Cyncoed\, Prifysgol Metropolitan Caerdydd\, Ffordd Cyncoed\, Caerdydd\, CF23 6XD
CATEGORIES:Cymraeg,Dros 50 oed,Ffitrwydd Gweithredol,Gweithgarwch Corfforol
ATTACH;FMTTYPE=image/jpeg:https://keepingmewell.com/wp-content/uploads/2023/03/Met-Active-EN.jpg
END:VEVENT
BEGIN:VEVENT
DTSTART;TZID=Europe/London:20260403T093000
DTEND;TZID=Europe/London:20260403T103000
DTSTAMP:20260423T181702
CREATED:20230327T111957Z
LAST-MODIFIED:20231024T141547Z
UID:10016495-1775208600-1775212200@keepingmewell.com
SUMMARY:Ffitrwydd Gweithredol i rai dros 50 oed
DESCRIPTION:Wedi’i gynllunio’n benodol ar gyfer cyfranogwyr sy’n 50 oed ac yn h?n. Mae Ffitrwydd Gweithredol 50+ ar gyfer y rhai sy’n dymuno cryfhau\, dysgu sut i godi pwysau ac osgoi anafiadau. Cynhelir y dosbarth yn Stiwdio 1 Cyncoed ar Gampws Cyncoed Met Caerdydd. \nTrefnwch ymlaen llaw ar ap Met Active y gellir ei lawrlwytho yma. Mae sesiynau yn £3 yr un.
URL:https://keepingmewell.com/event/ffitrwydd-gweithredol-i-rai-dros-50-oed/2026-04-03/
LOCATION:Met Caerdydd\, Campws Cyncoed\, Prifysgol Metropolitan Caerdydd\, Ffordd Cyncoed\, Caerdydd\, CF23 6XD
CATEGORIES:Cymraeg,Dros 50 oed,Ffitrwydd Gweithredol,Gweithgarwch Corfforol
ATTACH;FMTTYPE=image/jpeg:https://keepingmewell.com/wp-content/uploads/2023/03/Met-Active-EN.jpg
END:VEVENT
BEGIN:VEVENT
DTSTART;TZID=Europe/London:20260327T093000
DTEND;TZID=Europe/London:20260327T103000
DTSTAMP:20260423T181702
CREATED:20230327T111957Z
LAST-MODIFIED:20231024T141547Z
UID:10016494-1774603800-1774607400@keepingmewell.com
SUMMARY:Ffitrwydd Gweithredol i rai dros 50 oed
DESCRIPTION:Wedi’i gynllunio’n benodol ar gyfer cyfranogwyr sy’n 50 oed ac yn h?n. Mae Ffitrwydd Gweithredol 50+ ar gyfer y rhai sy’n dymuno cryfhau\, dysgu sut i godi pwysau ac osgoi anafiadau. Cynhelir y dosbarth yn Stiwdio 1 Cyncoed ar Gampws Cyncoed Met Caerdydd. \nTrefnwch ymlaen llaw ar ap Met Active y gellir ei lawrlwytho yma. Mae sesiynau yn £3 yr un.
URL:https://keepingmewell.com/event/ffitrwydd-gweithredol-i-rai-dros-50-oed/2026-03-27/
LOCATION:Met Caerdydd\, Campws Cyncoed\, Prifysgol Metropolitan Caerdydd\, Ffordd Cyncoed\, Caerdydd\, CF23 6XD
CATEGORIES:Cymraeg,Dros 50 oed,Ffitrwydd Gweithredol,Gweithgarwch Corfforol
ATTACH;FMTTYPE=image/jpeg:https://keepingmewell.com/wp-content/uploads/2023/03/Met-Active-EN.jpg
END:VEVENT
BEGIN:VEVENT
DTSTART;TZID=Europe/London:20260320T093000
DTEND;TZID=Europe/London:20260320T103000
DTSTAMP:20260423T181702
CREATED:20230327T111957Z
LAST-MODIFIED:20231024T141547Z
UID:10016493-1773999000-1774002600@keepingmewell.com
SUMMARY:Ffitrwydd Gweithredol i rai dros 50 oed
DESCRIPTION:Wedi’i gynllunio’n benodol ar gyfer cyfranogwyr sy’n 50 oed ac yn h?n. Mae Ffitrwydd Gweithredol 50+ ar gyfer y rhai sy’n dymuno cryfhau\, dysgu sut i godi pwysau ac osgoi anafiadau. Cynhelir y dosbarth yn Stiwdio 1 Cyncoed ar Gampws Cyncoed Met Caerdydd. \nTrefnwch ymlaen llaw ar ap Met Active y gellir ei lawrlwytho yma. Mae sesiynau yn £3 yr un.
URL:https://keepingmewell.com/event/ffitrwydd-gweithredol-i-rai-dros-50-oed/2026-03-20/
LOCATION:Met Caerdydd\, Campws Cyncoed\, Prifysgol Metropolitan Caerdydd\, Ffordd Cyncoed\, Caerdydd\, CF23 6XD
CATEGORIES:Cymraeg,Dros 50 oed,Ffitrwydd Gweithredol,Gweithgarwch Corfforol
ATTACH;FMTTYPE=image/jpeg:https://keepingmewell.com/wp-content/uploads/2023/03/Met-Active-EN.jpg
END:VEVENT
BEGIN:VEVENT
DTSTART;TZID=Europe/London:20260313T093000
DTEND;TZID=Europe/London:20260313T103000
DTSTAMP:20260423T181702
CREATED:20230327T111957Z
LAST-MODIFIED:20231024T141547Z
UID:10016492-1773394200-1773397800@keepingmewell.com
SUMMARY:Ffitrwydd Gweithredol i rai dros 50 oed
DESCRIPTION:Wedi’i gynllunio’n benodol ar gyfer cyfranogwyr sy’n 50 oed ac yn h?n. Mae Ffitrwydd Gweithredol 50+ ar gyfer y rhai sy’n dymuno cryfhau\, dysgu sut i godi pwysau ac osgoi anafiadau. Cynhelir y dosbarth yn Stiwdio 1 Cyncoed ar Gampws Cyncoed Met Caerdydd. \nTrefnwch ymlaen llaw ar ap Met Active y gellir ei lawrlwytho yma. Mae sesiynau yn £3 yr un.
URL:https://keepingmewell.com/event/ffitrwydd-gweithredol-i-rai-dros-50-oed/2026-03-13/
LOCATION:Met Caerdydd\, Campws Cyncoed\, Prifysgol Metropolitan Caerdydd\, Ffordd Cyncoed\, Caerdydd\, CF23 6XD
CATEGORIES:Cymraeg,Dros 50 oed,Ffitrwydd Gweithredol,Gweithgarwch Corfforol
ATTACH;FMTTYPE=image/jpeg:https://keepingmewell.com/wp-content/uploads/2023/03/Met-Active-EN.jpg
END:VEVENT
BEGIN:VEVENT
DTSTART;TZID=Europe/London:20260306T093000
DTEND;TZID=Europe/London:20260306T103000
DTSTAMP:20260423T181702
CREATED:20230327T111957Z
LAST-MODIFIED:20231024T141547Z
UID:10016491-1772789400-1772793000@keepingmewell.com
SUMMARY:Ffitrwydd Gweithredol i rai dros 50 oed
DESCRIPTION:Wedi’i gynllunio’n benodol ar gyfer cyfranogwyr sy’n 50 oed ac yn h?n. Mae Ffitrwydd Gweithredol 50+ ar gyfer y rhai sy’n dymuno cryfhau\, dysgu sut i godi pwysau ac osgoi anafiadau. Cynhelir y dosbarth yn Stiwdio 1 Cyncoed ar Gampws Cyncoed Met Caerdydd. \nTrefnwch ymlaen llaw ar ap Met Active y gellir ei lawrlwytho yma. Mae sesiynau yn £3 yr un.
URL:https://keepingmewell.com/event/ffitrwydd-gweithredol-i-rai-dros-50-oed/2026-03-06/
LOCATION:Met Caerdydd\, Campws Cyncoed\, Prifysgol Metropolitan Caerdydd\, Ffordd Cyncoed\, Caerdydd\, CF23 6XD
CATEGORIES:Cymraeg,Dros 50 oed,Ffitrwydd Gweithredol,Gweithgarwch Corfforol
ATTACH;FMTTYPE=image/jpeg:https://keepingmewell.com/wp-content/uploads/2023/03/Met-Active-EN.jpg
END:VEVENT
BEGIN:VEVENT
DTSTART;TZID=Europe/London:20260227T093000
DTEND;TZID=Europe/London:20260227T103000
DTSTAMP:20260423T181702
CREATED:20230327T111957Z
LAST-MODIFIED:20231024T141547Z
UID:10016490-1772184600-1772188200@keepingmewell.com
SUMMARY:Ffitrwydd Gweithredol i rai dros 50 oed
DESCRIPTION:Wedi’i gynllunio’n benodol ar gyfer cyfranogwyr sy’n 50 oed ac yn h?n. Mae Ffitrwydd Gweithredol 50+ ar gyfer y rhai sy’n dymuno cryfhau\, dysgu sut i godi pwysau ac osgoi anafiadau. Cynhelir y dosbarth yn Stiwdio 1 Cyncoed ar Gampws Cyncoed Met Caerdydd. \nTrefnwch ymlaen llaw ar ap Met Active y gellir ei lawrlwytho yma. Mae sesiynau yn £3 yr un.
URL:https://keepingmewell.com/event/ffitrwydd-gweithredol-i-rai-dros-50-oed/2026-02-27/
LOCATION:Met Caerdydd\, Campws Cyncoed\, Prifysgol Metropolitan Caerdydd\, Ffordd Cyncoed\, Caerdydd\, CF23 6XD
CATEGORIES:Cymraeg,Dros 50 oed,Ffitrwydd Gweithredol,Gweithgarwch Corfforol
ATTACH;FMTTYPE=image/jpeg:https://keepingmewell.com/wp-content/uploads/2023/03/Met-Active-EN.jpg
END:VEVENT
BEGIN:VEVENT
DTSTART;TZID=Europe/London:20260220T093000
DTEND;TZID=Europe/London:20260220T103000
DTSTAMP:20260423T181702
CREATED:20230327T111957Z
LAST-MODIFIED:20231024T141547Z
UID:10016489-1771579800-1771583400@keepingmewell.com
SUMMARY:Ffitrwydd Gweithredol i rai dros 50 oed
DESCRIPTION:Wedi’i gynllunio’n benodol ar gyfer cyfranogwyr sy’n 50 oed ac yn h?n. Mae Ffitrwydd Gweithredol 50+ ar gyfer y rhai sy’n dymuno cryfhau\, dysgu sut i godi pwysau ac osgoi anafiadau. Cynhelir y dosbarth yn Stiwdio 1 Cyncoed ar Gampws Cyncoed Met Caerdydd. \nTrefnwch ymlaen llaw ar ap Met Active y gellir ei lawrlwytho yma. Mae sesiynau yn £3 yr un.
URL:https://keepingmewell.com/event/ffitrwydd-gweithredol-i-rai-dros-50-oed/2026-02-20/
LOCATION:Met Caerdydd\, Campws Cyncoed\, Prifysgol Metropolitan Caerdydd\, Ffordd Cyncoed\, Caerdydd\, CF23 6XD
CATEGORIES:Cymraeg,Dros 50 oed,Ffitrwydd Gweithredol,Gweithgarwch Corfforol
ATTACH;FMTTYPE=image/jpeg:https://keepingmewell.com/wp-content/uploads/2023/03/Met-Active-EN.jpg
END:VEVENT
BEGIN:VEVENT
DTSTART;TZID=Europe/London:20260213T093000
DTEND;TZID=Europe/London:20260213T103000
DTSTAMP:20260423T181702
CREATED:20230327T111957Z
LAST-MODIFIED:20231024T141547Z
UID:10016488-1770975000-1770978600@keepingmewell.com
SUMMARY:Ffitrwydd Gweithredol i rai dros 50 oed
DESCRIPTION:Wedi’i gynllunio’n benodol ar gyfer cyfranogwyr sy’n 50 oed ac yn h?n. Mae Ffitrwydd Gweithredol 50+ ar gyfer y rhai sy’n dymuno cryfhau\, dysgu sut i godi pwysau ac osgoi anafiadau. Cynhelir y dosbarth yn Stiwdio 1 Cyncoed ar Gampws Cyncoed Met Caerdydd. \nTrefnwch ymlaen llaw ar ap Met Active y gellir ei lawrlwytho yma. Mae sesiynau yn £3 yr un.
URL:https://keepingmewell.com/event/ffitrwydd-gweithredol-i-rai-dros-50-oed/2026-02-13/
LOCATION:Met Caerdydd\, Campws Cyncoed\, Prifysgol Metropolitan Caerdydd\, Ffordd Cyncoed\, Caerdydd\, CF23 6XD
CATEGORIES:Cymraeg,Dros 50 oed,Ffitrwydd Gweithredol,Gweithgarwch Corfforol
ATTACH;FMTTYPE=image/jpeg:https://keepingmewell.com/wp-content/uploads/2023/03/Met-Active-EN.jpg
END:VEVENT
BEGIN:VEVENT
DTSTART;TZID=Europe/London:20260206T093000
DTEND;TZID=Europe/London:20260206T103000
DTSTAMP:20260423T181702
CREATED:20230327T111957Z
LAST-MODIFIED:20231024T141547Z
UID:10016487-1770370200-1770373800@keepingmewell.com
SUMMARY:Ffitrwydd Gweithredol i rai dros 50 oed
DESCRIPTION:Wedi’i gynllunio’n benodol ar gyfer cyfranogwyr sy’n 50 oed ac yn h?n. Mae Ffitrwydd Gweithredol 50+ ar gyfer y rhai sy’n dymuno cryfhau\, dysgu sut i godi pwysau ac osgoi anafiadau. Cynhelir y dosbarth yn Stiwdio 1 Cyncoed ar Gampws Cyncoed Met Caerdydd. \nTrefnwch ymlaen llaw ar ap Met Active y gellir ei lawrlwytho yma. Mae sesiynau yn £3 yr un.
URL:https://keepingmewell.com/event/ffitrwydd-gweithredol-i-rai-dros-50-oed/2026-02-06/
LOCATION:Met Caerdydd\, Campws Cyncoed\, Prifysgol Metropolitan Caerdydd\, Ffordd Cyncoed\, Caerdydd\, CF23 6XD
CATEGORIES:Cymraeg,Dros 50 oed,Ffitrwydd Gweithredol,Gweithgarwch Corfforol
ATTACH;FMTTYPE=image/jpeg:https://keepingmewell.com/wp-content/uploads/2023/03/Met-Active-EN.jpg
END:VEVENT
BEGIN:VEVENT
DTSTART;TZID=Europe/London:20260130T093000
DTEND;TZID=Europe/London:20260130T103000
DTSTAMP:20260423T181702
CREATED:20230327T111957Z
LAST-MODIFIED:20231024T141547Z
UID:10016486-1769765400-1769769000@keepingmewell.com
SUMMARY:Ffitrwydd Gweithredol i rai dros 50 oed
DESCRIPTION:Wedi’i gynllunio’n benodol ar gyfer cyfranogwyr sy’n 50 oed ac yn h?n. Mae Ffitrwydd Gweithredol 50+ ar gyfer y rhai sy’n dymuno cryfhau\, dysgu sut i godi pwysau ac osgoi anafiadau. Cynhelir y dosbarth yn Stiwdio 1 Cyncoed ar Gampws Cyncoed Met Caerdydd. \nTrefnwch ymlaen llaw ar ap Met Active y gellir ei lawrlwytho yma. Mae sesiynau yn £3 yr un.
URL:https://keepingmewell.com/event/ffitrwydd-gweithredol-i-rai-dros-50-oed/2026-01-30/
LOCATION:Met Caerdydd\, Campws Cyncoed\, Prifysgol Metropolitan Caerdydd\, Ffordd Cyncoed\, Caerdydd\, CF23 6XD
CATEGORIES:Cymraeg,Dros 50 oed,Ffitrwydd Gweithredol,Gweithgarwch Corfforol
ATTACH;FMTTYPE=image/jpeg:https://keepingmewell.com/wp-content/uploads/2023/03/Met-Active-EN.jpg
END:VEVENT
BEGIN:VEVENT
DTSTART;TZID=Europe/London:20260123T093000
DTEND;TZID=Europe/London:20260123T103000
DTSTAMP:20260423T181702
CREATED:20230327T111957Z
LAST-MODIFIED:20231024T141547Z
UID:10016485-1769160600-1769164200@keepingmewell.com
SUMMARY:Ffitrwydd Gweithredol i rai dros 50 oed
DESCRIPTION:Wedi’i gynllunio’n benodol ar gyfer cyfranogwyr sy’n 50 oed ac yn h?n. Mae Ffitrwydd Gweithredol 50+ ar gyfer y rhai sy’n dymuno cryfhau\, dysgu sut i godi pwysau ac osgoi anafiadau. Cynhelir y dosbarth yn Stiwdio 1 Cyncoed ar Gampws Cyncoed Met Caerdydd. \nTrefnwch ymlaen llaw ar ap Met Active y gellir ei lawrlwytho yma. Mae sesiynau yn £3 yr un.
URL:https://keepingmewell.com/event/ffitrwydd-gweithredol-i-rai-dros-50-oed/2026-01-23/
LOCATION:Met Caerdydd\, Campws Cyncoed\, Prifysgol Metropolitan Caerdydd\, Ffordd Cyncoed\, Caerdydd\, CF23 6XD
CATEGORIES:Cymraeg,Dros 50 oed,Ffitrwydd Gweithredol,Gweithgarwch Corfforol
ATTACH;FMTTYPE=image/jpeg:https://keepingmewell.com/wp-content/uploads/2023/03/Met-Active-EN.jpg
END:VEVENT
BEGIN:VEVENT
DTSTART;TZID=Europe/London:20260116T093000
DTEND;TZID=Europe/London:20260116T103000
DTSTAMP:20260423T181702
CREATED:20230327T111957Z
LAST-MODIFIED:20231024T141547Z
UID:10016484-1768555800-1768559400@keepingmewell.com
SUMMARY:Ffitrwydd Gweithredol i rai dros 50 oed
DESCRIPTION:Wedi’i gynllunio’n benodol ar gyfer cyfranogwyr sy’n 50 oed ac yn h?n. Mae Ffitrwydd Gweithredol 50+ ar gyfer y rhai sy’n dymuno cryfhau\, dysgu sut i godi pwysau ac osgoi anafiadau. Cynhelir y dosbarth yn Stiwdio 1 Cyncoed ar Gampws Cyncoed Met Caerdydd. \nTrefnwch ymlaen llaw ar ap Met Active y gellir ei lawrlwytho yma. Mae sesiynau yn £3 yr un.
URL:https://keepingmewell.com/event/ffitrwydd-gweithredol-i-rai-dros-50-oed/2026-01-16/
LOCATION:Met Caerdydd\, Campws Cyncoed\, Prifysgol Metropolitan Caerdydd\, Ffordd Cyncoed\, Caerdydd\, CF23 6XD
CATEGORIES:Cymraeg,Dros 50 oed,Ffitrwydd Gweithredol,Gweithgarwch Corfforol
ATTACH;FMTTYPE=image/jpeg:https://keepingmewell.com/wp-content/uploads/2023/03/Met-Active-EN.jpg
END:VEVENT
BEGIN:VEVENT
DTSTART;TZID=Europe/London:20260109T093000
DTEND;TZID=Europe/London:20260109T103000
DTSTAMP:20260423T181702
CREATED:20230327T111957Z
LAST-MODIFIED:20231024T141547Z
UID:10016483-1767951000-1767954600@keepingmewell.com
SUMMARY:Ffitrwydd Gweithredol i rai dros 50 oed
DESCRIPTION:Wedi’i gynllunio’n benodol ar gyfer cyfranogwyr sy’n 50 oed ac yn h?n. Mae Ffitrwydd Gweithredol 50+ ar gyfer y rhai sy’n dymuno cryfhau\, dysgu sut i godi pwysau ac osgoi anafiadau. Cynhelir y dosbarth yn Stiwdio 1 Cyncoed ar Gampws Cyncoed Met Caerdydd. \nTrefnwch ymlaen llaw ar ap Met Active y gellir ei lawrlwytho yma. Mae sesiynau yn £3 yr un.
URL:https://keepingmewell.com/event/ffitrwydd-gweithredol-i-rai-dros-50-oed/2026-01-09/
LOCATION:Met Caerdydd\, Campws Cyncoed\, Prifysgol Metropolitan Caerdydd\, Ffordd Cyncoed\, Caerdydd\, CF23 6XD
CATEGORIES:Cymraeg,Dros 50 oed,Ffitrwydd Gweithredol,Gweithgarwch Corfforol
ATTACH;FMTTYPE=image/jpeg:https://keepingmewell.com/wp-content/uploads/2023/03/Met-Active-EN.jpg
END:VEVENT
BEGIN:VEVENT
DTSTART;TZID=Europe/London:20260102T093000
DTEND;TZID=Europe/London:20260102T103000
DTSTAMP:20260423T181702
CREATED:20230327T111957Z
LAST-MODIFIED:20231024T141547Z
UID:10016482-1767346200-1767349800@keepingmewell.com
SUMMARY:Ffitrwydd Gweithredol i rai dros 50 oed
DESCRIPTION:Wedi’i gynllunio’n benodol ar gyfer cyfranogwyr sy’n 50 oed ac yn h?n. Mae Ffitrwydd Gweithredol 50+ ar gyfer y rhai sy’n dymuno cryfhau\, dysgu sut i godi pwysau ac osgoi anafiadau. Cynhelir y dosbarth yn Stiwdio 1 Cyncoed ar Gampws Cyncoed Met Caerdydd. \nTrefnwch ymlaen llaw ar ap Met Active y gellir ei lawrlwytho yma. Mae sesiynau yn £3 yr un.
URL:https://keepingmewell.com/event/ffitrwydd-gweithredol-i-rai-dros-50-oed/2026-01-02/
LOCATION:Met Caerdydd\, Campws Cyncoed\, Prifysgol Metropolitan Caerdydd\, Ffordd Cyncoed\, Caerdydd\, CF23 6XD
CATEGORIES:Cymraeg,Dros 50 oed,Ffitrwydd Gweithredol,Gweithgarwch Corfforol
ATTACH;FMTTYPE=image/jpeg:https://keepingmewell.com/wp-content/uploads/2023/03/Met-Active-EN.jpg
END:VEVENT
BEGIN:VEVENT
DTSTART;TZID=Europe/London:20251226T093000
DTEND;TZID=Europe/London:20251226T103000
DTSTAMP:20260423T181702
CREATED:20230327T111957Z
LAST-MODIFIED:20231024T141547Z
UID:10016481-1766741400-1766745000@keepingmewell.com
SUMMARY:Ffitrwydd Gweithredol i rai dros 50 oed
DESCRIPTION:Wedi’i gynllunio’n benodol ar gyfer cyfranogwyr sy’n 50 oed ac yn h?n. Mae Ffitrwydd Gweithredol 50+ ar gyfer y rhai sy’n dymuno cryfhau\, dysgu sut i godi pwysau ac osgoi anafiadau. Cynhelir y dosbarth yn Stiwdio 1 Cyncoed ar Gampws Cyncoed Met Caerdydd. \nTrefnwch ymlaen llaw ar ap Met Active y gellir ei lawrlwytho yma. Mae sesiynau yn £3 yr un.
URL:https://keepingmewell.com/event/ffitrwydd-gweithredol-i-rai-dros-50-oed/2025-12-26/
LOCATION:Met Caerdydd\, Campws Cyncoed\, Prifysgol Metropolitan Caerdydd\, Ffordd Cyncoed\, Caerdydd\, CF23 6XD
CATEGORIES:Cymraeg,Dros 50 oed,Ffitrwydd Gweithredol,Gweithgarwch Corfforol
ATTACH;FMTTYPE=image/jpeg:https://keepingmewell.com/wp-content/uploads/2023/03/Met-Active-EN.jpg
END:VEVENT
BEGIN:VEVENT
DTSTART;TZID=Europe/London:20251219T093000
DTEND;TZID=Europe/London:20251219T103000
DTSTAMP:20260423T181702
CREATED:20230327T111957Z
LAST-MODIFIED:20231024T141547Z
UID:10016480-1766136600-1766140200@keepingmewell.com
SUMMARY:Ffitrwydd Gweithredol i rai dros 50 oed
DESCRIPTION:Wedi’i gynllunio’n benodol ar gyfer cyfranogwyr sy’n 50 oed ac yn h?n. Mae Ffitrwydd Gweithredol 50+ ar gyfer y rhai sy’n dymuno cryfhau\, dysgu sut i godi pwysau ac osgoi anafiadau. Cynhelir y dosbarth yn Stiwdio 1 Cyncoed ar Gampws Cyncoed Met Caerdydd. \nTrefnwch ymlaen llaw ar ap Met Active y gellir ei lawrlwytho yma. Mae sesiynau yn £3 yr un.
URL:https://keepingmewell.com/event/ffitrwydd-gweithredol-i-rai-dros-50-oed/2025-12-19/
LOCATION:Met Caerdydd\, Campws Cyncoed\, Prifysgol Metropolitan Caerdydd\, Ffordd Cyncoed\, Caerdydd\, CF23 6XD
CATEGORIES:Cymraeg,Dros 50 oed,Ffitrwydd Gweithredol,Gweithgarwch Corfforol
ATTACH;FMTTYPE=image/jpeg:https://keepingmewell.com/wp-content/uploads/2023/03/Met-Active-EN.jpg
END:VEVENT
END:VCALENDAR