BEGIN:VCALENDAR
VERSION:2.0
PRODID:-//Keeping Me Well - ECPv6.15.20//NONSGML v1.0//EN
CALSCALE:GREGORIAN
METHOD:PUBLISH
X-WR-CALNAME:Keeping Me Well
X-ORIGINAL-URL:https://keepingmewell.com
X-WR-CALDESC:Events for Keeping Me Well
REFRESH-INTERVAL;VALUE=DURATION:PT1H
X-Robots-Tag:noindex
X-PUBLISHED-TTL:PT1H
BEGIN:VTIMEZONE
TZID:Europe/London
BEGIN:DAYLIGHT
TZOFFSETFROM:+0000
TZOFFSETTO:+0100
TZNAME:BST
DTSTART:20270328T010000
END:DAYLIGHT
BEGIN:STANDARD
TZOFFSETFROM:+0100
TZOFFSETTO:+0000
TZNAME:GMT
DTSTART:20271031T010000
END:STANDARD
BEGIN:DAYLIGHT
TZOFFSETFROM:+0000
TZOFFSETTO:+0100
TZNAME:BST
DTSTART:20280326T010000
END:DAYLIGHT
BEGIN:STANDARD
TZOFFSETFROM:+0100
TZOFFSETTO:+0000
TZNAME:GMT
DTSTART:20281029T010000
END:STANDARD
BEGIN:DAYLIGHT
TZOFFSETFROM:+0000
TZOFFSETTO:+0100
TZNAME:BST
DTSTART:20290325T010000
END:DAYLIGHT
BEGIN:STANDARD
TZOFFSETFROM:+0100
TZOFFSETTO:+0000
TZNAME:GMT
DTSTART:20291028T010000
END:STANDARD
END:VTIMEZONE
BEGIN:VEVENT
DTSTART;TZID=Europe/London:20280908T103000
DTEND;TZID=Europe/London:20280908T113000
DTSTAMP:20260419T194602
CREATED:20230721T104713Z
LAST-MODIFIED:20231025T075056Z
UID:10017667-1852021800-1852025400@keepingmewell.com
SUMMARY:Cerdded er Lles Iechyd @ Hyb Rhydypennau
DESCRIPTION:Ymunwch â ni am dro ysgafn am 30 – 45 munud o amgylch ardal Rhydypennau / Lakeside. \nGan ddechrau ac yn gorffen wrth y fynedfa i Hyb Rhydypennau. Yna darperir lluniaeth. \nDydd Gwener 10.30am
URL:https://keepingmewell.com/event/cerdded-er-lles-iechyd-hyb-rhydypennau-27/2028-09-08/
LOCATION:Hyb Rhydypennau\, Llandennis Road\, Caerdydd\, CF23 6EG\, United Kingdom
CATEGORIES:Cerdded,Cymraeg,Gweithgarwch Corfforol,Hyb
ATTACH;FMTTYPE=image/png:https://keepingmewell.com/wp-content/uploads/2023/01/Cardiff-Hubs.png
END:VEVENT
BEGIN:VEVENT
DTSTART;TZID=Europe/London:20280911T103000
DTEND;TZID=Europe/London:20280911T113000
DTSTAMP:20260419T194602
CREATED:20231016T102837Z
LAST-MODIFIED:20231016T102837Z
UID:10005096-1852281000-1852284600@keepingmewell.com
SUMMARY:Caffi Dementia @ Hyb Grangetown
DESCRIPTION:Rhannwch frecwast o De\, Coffi\, Tost\, bisgedi a ffrwythau. Mwynhewch sesiwn ymarfer cadair am 10 munud i baratoi ar gyfer gweithgaredd yr wythnos – lliwio oedolion\, gemau bwrdd\, cardiau chwarae\, crefftau neu gelf. \nYna ymunwch â sesiwn canu gyda rhai o ganeuon mwyaf poblogaidd y 1960au. \nCroeso i bawb gan gynnwys gofalwyr.
URL:https://keepingmewell.com/event/caffi-dementia-hyb-grangetown-27/2028-09-11/
LOCATION:Hyb Grangetown\, Plas Havelock\, Grangetown\, Caerdydd\, CF11 6PA\, United Kingdom
CATEGORIES:Cymraeg,Demensia,Gofalwyr,Hyb,Iechyd meddwl
ATTACH;FMTTYPE=image/png:https://keepingmewell.com/wp-content/uploads/2023/01/Cardiff-Hubs.png
END:VEVENT
BEGIN:VEVENT
DTSTART;TZID=Europe/London:20280915T103000
DTEND;TZID=Europe/London:20280915T113000
DTSTAMP:20260419T194602
CREATED:20230721T104713Z
LAST-MODIFIED:20231025T075056Z
UID:10017668-1852626600-1852630200@keepingmewell.com
SUMMARY:Cerdded er Lles Iechyd @ Hyb Rhydypennau
DESCRIPTION:Ymunwch â ni am dro ysgafn am 30 – 45 munud o amgylch ardal Rhydypennau / Lakeside. \nGan ddechrau ac yn gorffen wrth y fynedfa i Hyb Rhydypennau. Yna darperir lluniaeth. \nDydd Gwener 10.30am
URL:https://keepingmewell.com/event/cerdded-er-lles-iechyd-hyb-rhydypennau-27/2028-09-15/
LOCATION:Hyb Rhydypennau\, Llandennis Road\, Caerdydd\, CF23 6EG\, United Kingdom
CATEGORIES:Cerdded,Cymraeg,Gweithgarwch Corfforol,Hyb
ATTACH;FMTTYPE=image/png:https://keepingmewell.com/wp-content/uploads/2023/01/Cardiff-Hubs.png
END:VEVENT
BEGIN:VEVENT
DTSTART;TZID=Europe/London:20280918T103000
DTEND;TZID=Europe/London:20280918T113000
DTSTAMP:20260419T194602
CREATED:20231016T102837Z
LAST-MODIFIED:20231016T102837Z
UID:10005097-1852885800-1852889400@keepingmewell.com
SUMMARY:Caffi Dementia @ Hyb Grangetown
DESCRIPTION:Rhannwch frecwast o De\, Coffi\, Tost\, bisgedi a ffrwythau. Mwynhewch sesiwn ymarfer cadair am 10 munud i baratoi ar gyfer gweithgaredd yr wythnos – lliwio oedolion\, gemau bwrdd\, cardiau chwarae\, crefftau neu gelf. \nYna ymunwch â sesiwn canu gyda rhai o ganeuon mwyaf poblogaidd y 1960au. \nCroeso i bawb gan gynnwys gofalwyr.
URL:https://keepingmewell.com/event/caffi-dementia-hyb-grangetown-27/2028-09-18/
LOCATION:Hyb Grangetown\, Plas Havelock\, Grangetown\, Caerdydd\, CF11 6PA\, United Kingdom
CATEGORIES:Cymraeg,Demensia,Gofalwyr,Hyb,Iechyd meddwl
ATTACH;FMTTYPE=image/png:https://keepingmewell.com/wp-content/uploads/2023/01/Cardiff-Hubs.png
END:VEVENT
BEGIN:VEVENT
DTSTART;TZID=Europe/London:20280922T103000
DTEND;TZID=Europe/London:20280922T113000
DTSTAMP:20260419T194602
CREATED:20230721T104713Z
LAST-MODIFIED:20231025T075056Z
UID:10017669-1853231400-1853235000@keepingmewell.com
SUMMARY:Cerdded er Lles Iechyd @ Hyb Rhydypennau
DESCRIPTION:Ymunwch â ni am dro ysgafn am 30 – 45 munud o amgylch ardal Rhydypennau / Lakeside. \nGan ddechrau ac yn gorffen wrth y fynedfa i Hyb Rhydypennau. Yna darperir lluniaeth. \nDydd Gwener 10.30am
URL:https://keepingmewell.com/event/cerdded-er-lles-iechyd-hyb-rhydypennau-27/2028-09-22/
LOCATION:Hyb Rhydypennau\, Llandennis Road\, Caerdydd\, CF23 6EG\, United Kingdom
CATEGORIES:Cerdded,Cymraeg,Gweithgarwch Corfforol,Hyb
ATTACH;FMTTYPE=image/png:https://keepingmewell.com/wp-content/uploads/2023/01/Cardiff-Hubs.png
END:VEVENT
BEGIN:VEVENT
DTSTART;TZID=Europe/London:20280925T103000
DTEND;TZID=Europe/London:20280925T113000
DTSTAMP:20260419T194602
CREATED:20231016T102837Z
LAST-MODIFIED:20231016T102837Z
UID:10005098-1853490600-1853494200@keepingmewell.com
SUMMARY:Caffi Dementia @ Hyb Grangetown
DESCRIPTION:Rhannwch frecwast o De\, Coffi\, Tost\, bisgedi a ffrwythau. Mwynhewch sesiwn ymarfer cadair am 10 munud i baratoi ar gyfer gweithgaredd yr wythnos – lliwio oedolion\, gemau bwrdd\, cardiau chwarae\, crefftau neu gelf. \nYna ymunwch â sesiwn canu gyda rhai o ganeuon mwyaf poblogaidd y 1960au. \nCroeso i bawb gan gynnwys gofalwyr.
URL:https://keepingmewell.com/event/caffi-dementia-hyb-grangetown-27/2028-09-25/
LOCATION:Hyb Grangetown\, Plas Havelock\, Grangetown\, Caerdydd\, CF11 6PA\, United Kingdom
CATEGORIES:Cymraeg,Demensia,Gofalwyr,Hyb,Iechyd meddwl
ATTACH;FMTTYPE=image/png:https://keepingmewell.com/wp-content/uploads/2023/01/Cardiff-Hubs.png
END:VEVENT
BEGIN:VEVENT
DTSTART;TZID=Europe/London:20280929T103000
DTEND;TZID=Europe/London:20280929T113000
DTSTAMP:20260419T194602
CREATED:20230721T104713Z
LAST-MODIFIED:20231025T075056Z
UID:10017670-1853836200-1853839800@keepingmewell.com
SUMMARY:Cerdded er Lles Iechyd @ Hyb Rhydypennau
DESCRIPTION:Ymunwch â ni am dro ysgafn am 30 – 45 munud o amgylch ardal Rhydypennau / Lakeside. \nGan ddechrau ac yn gorffen wrth y fynedfa i Hyb Rhydypennau. Yna darperir lluniaeth. \nDydd Gwener 10.30am
URL:https://keepingmewell.com/event/cerdded-er-lles-iechyd-hyb-rhydypennau-27/2028-09-29/
LOCATION:Hyb Rhydypennau\, Llandennis Road\, Caerdydd\, CF23 6EG\, United Kingdom
CATEGORIES:Cerdded,Cymraeg,Gweithgarwch Corfforol,Hyb
ATTACH;FMTTYPE=image/png:https://keepingmewell.com/wp-content/uploads/2023/01/Cardiff-Hubs.png
END:VEVENT
BEGIN:VEVENT
DTSTART;TZID=Europe/London:20281002T103000
DTEND;TZID=Europe/London:20281002T113000
DTSTAMP:20260419T194602
CREATED:20231016T102837Z
LAST-MODIFIED:20231016T102837Z
UID:10005099-1854095400-1854099000@keepingmewell.com
SUMMARY:Caffi Dementia @ Hyb Grangetown
DESCRIPTION:Rhannwch frecwast o De\, Coffi\, Tost\, bisgedi a ffrwythau. Mwynhewch sesiwn ymarfer cadair am 10 munud i baratoi ar gyfer gweithgaredd yr wythnos – lliwio oedolion\, gemau bwrdd\, cardiau chwarae\, crefftau neu gelf. \nYna ymunwch â sesiwn canu gyda rhai o ganeuon mwyaf poblogaidd y 1960au. \nCroeso i bawb gan gynnwys gofalwyr.
URL:https://keepingmewell.com/event/caffi-dementia-hyb-grangetown-27/2028-10-02/
LOCATION:Hyb Grangetown\, Plas Havelock\, Grangetown\, Caerdydd\, CF11 6PA\, United Kingdom
CATEGORIES:Cymraeg,Demensia,Gofalwyr,Hyb,Iechyd meddwl
ATTACH;FMTTYPE=image/png:https://keepingmewell.com/wp-content/uploads/2023/01/Cardiff-Hubs.png
END:VEVENT
BEGIN:VEVENT
DTSTART;TZID=Europe/London:20281006T103000
DTEND;TZID=Europe/London:20281006T113000
DTSTAMP:20260419T194602
CREATED:20230721T104713Z
LAST-MODIFIED:20231025T075056Z
UID:10017671-1854441000-1854444600@keepingmewell.com
SUMMARY:Cerdded er Lles Iechyd @ Hyb Rhydypennau
DESCRIPTION:Ymunwch â ni am dro ysgafn am 30 – 45 munud o amgylch ardal Rhydypennau / Lakeside. \nGan ddechrau ac yn gorffen wrth y fynedfa i Hyb Rhydypennau. Yna darperir lluniaeth. \nDydd Gwener 10.30am
URL:https://keepingmewell.com/event/cerdded-er-lles-iechyd-hyb-rhydypennau-27/2028-10-06/
LOCATION:Hyb Rhydypennau\, Llandennis Road\, Caerdydd\, CF23 6EG\, United Kingdom
CATEGORIES:Cerdded,Cymraeg,Gweithgarwch Corfforol,Hyb
ATTACH;FMTTYPE=image/png:https://keepingmewell.com/wp-content/uploads/2023/01/Cardiff-Hubs.png
END:VEVENT
BEGIN:VEVENT
DTSTART;TZID=Europe/London:20281009T103000
DTEND;TZID=Europe/London:20281009T113000
DTSTAMP:20260419T194602
CREATED:20231016T102837Z
LAST-MODIFIED:20231016T102837Z
UID:10005100-1854700200-1854703800@keepingmewell.com
SUMMARY:Caffi Dementia @ Hyb Grangetown
DESCRIPTION:Rhannwch frecwast o De\, Coffi\, Tost\, bisgedi a ffrwythau. Mwynhewch sesiwn ymarfer cadair am 10 munud i baratoi ar gyfer gweithgaredd yr wythnos – lliwio oedolion\, gemau bwrdd\, cardiau chwarae\, crefftau neu gelf. \nYna ymunwch â sesiwn canu gyda rhai o ganeuon mwyaf poblogaidd y 1960au. \nCroeso i bawb gan gynnwys gofalwyr.
URL:https://keepingmewell.com/event/caffi-dementia-hyb-grangetown-27/2028-10-09/
LOCATION:Hyb Grangetown\, Plas Havelock\, Grangetown\, Caerdydd\, CF11 6PA\, United Kingdom
CATEGORIES:Cymraeg,Demensia,Gofalwyr,Hyb,Iechyd meddwl
ATTACH;FMTTYPE=image/png:https://keepingmewell.com/wp-content/uploads/2023/01/Cardiff-Hubs.png
END:VEVENT
BEGIN:VEVENT
DTSTART;TZID=Europe/London:20281013T103000
DTEND;TZID=Europe/London:20281013T113000
DTSTAMP:20260419T194602
CREATED:20230721T104713Z
LAST-MODIFIED:20231025T075056Z
UID:10017672-1855045800-1855049400@keepingmewell.com
SUMMARY:Cerdded er Lles Iechyd @ Hyb Rhydypennau
DESCRIPTION:Ymunwch â ni am dro ysgafn am 30 – 45 munud o amgylch ardal Rhydypennau / Lakeside. \nGan ddechrau ac yn gorffen wrth y fynedfa i Hyb Rhydypennau. Yna darperir lluniaeth. \nDydd Gwener 10.30am
URL:https://keepingmewell.com/event/cerdded-er-lles-iechyd-hyb-rhydypennau-27/2028-10-13/
LOCATION:Hyb Rhydypennau\, Llandennis Road\, Caerdydd\, CF23 6EG\, United Kingdom
CATEGORIES:Cerdded,Cymraeg,Gweithgarwch Corfforol,Hyb
ATTACH;FMTTYPE=image/png:https://keepingmewell.com/wp-content/uploads/2023/01/Cardiff-Hubs.png
END:VEVENT
BEGIN:VEVENT
DTSTART;TZID=Europe/London:20281016T103000
DTEND;TZID=Europe/London:20281016T113000
DTSTAMP:20260419T194602
CREATED:20231016T102837Z
LAST-MODIFIED:20231016T102837Z
UID:10005101-1855305000-1855308600@keepingmewell.com
SUMMARY:Caffi Dementia @ Hyb Grangetown
DESCRIPTION:Rhannwch frecwast o De\, Coffi\, Tost\, bisgedi a ffrwythau. Mwynhewch sesiwn ymarfer cadair am 10 munud i baratoi ar gyfer gweithgaredd yr wythnos – lliwio oedolion\, gemau bwrdd\, cardiau chwarae\, crefftau neu gelf. \nYna ymunwch â sesiwn canu gyda rhai o ganeuon mwyaf poblogaidd y 1960au. \nCroeso i bawb gan gynnwys gofalwyr.
URL:https://keepingmewell.com/event/caffi-dementia-hyb-grangetown-27/2028-10-16/
LOCATION:Hyb Grangetown\, Plas Havelock\, Grangetown\, Caerdydd\, CF11 6PA\, United Kingdom
CATEGORIES:Cymraeg,Demensia,Gofalwyr,Hyb,Iechyd meddwl
ATTACH;FMTTYPE=image/png:https://keepingmewell.com/wp-content/uploads/2023/01/Cardiff-Hubs.png
END:VEVENT
BEGIN:VEVENT
DTSTART;TZID=Europe/London:20281020T103000
DTEND;TZID=Europe/London:20281020T113000
DTSTAMP:20260419T194602
CREATED:20230721T104713Z
LAST-MODIFIED:20231025T075056Z
UID:10017673-1855650600-1855654200@keepingmewell.com
SUMMARY:Cerdded er Lles Iechyd @ Hyb Rhydypennau
DESCRIPTION:Ymunwch â ni am dro ysgafn am 30 – 45 munud o amgylch ardal Rhydypennau / Lakeside. \nGan ddechrau ac yn gorffen wrth y fynedfa i Hyb Rhydypennau. Yna darperir lluniaeth. \nDydd Gwener 10.30am
URL:https://keepingmewell.com/event/cerdded-er-lles-iechyd-hyb-rhydypennau-27/2028-10-20/
LOCATION:Hyb Rhydypennau\, Llandennis Road\, Caerdydd\, CF23 6EG\, United Kingdom
CATEGORIES:Cerdded,Cymraeg,Gweithgarwch Corfforol,Hyb
ATTACH;FMTTYPE=image/png:https://keepingmewell.com/wp-content/uploads/2023/01/Cardiff-Hubs.png
END:VEVENT
BEGIN:VEVENT
DTSTART;TZID=Europe/London:20281023T103000
DTEND;TZID=Europe/London:20281023T113000
DTSTAMP:20260419T194602
CREATED:20231016T102837Z
LAST-MODIFIED:20231016T102837Z
UID:10022319-1855909800-1855913400@keepingmewell.com
SUMMARY:Caffi Dementia @ Hyb Grangetown
DESCRIPTION:Rhannwch frecwast o De\, Coffi\, Tost\, bisgedi a ffrwythau. Mwynhewch sesiwn ymarfer cadair am 10 munud i baratoi ar gyfer gweithgaredd yr wythnos – lliwio oedolion\, gemau bwrdd\, cardiau chwarae\, crefftau neu gelf. \nYna ymunwch â sesiwn canu gyda rhai o ganeuon mwyaf poblogaidd y 1960au. \nCroeso i bawb gan gynnwys gofalwyr.
URL:https://keepingmewell.com/event/caffi-dementia-hyb-grangetown-27/2028-10-23/
LOCATION:Hyb Grangetown\, Plas Havelock\, Grangetown\, Caerdydd\, CF11 6PA\, United Kingdom
CATEGORIES:Cymraeg,Demensia,Gofalwyr,Hyb,Iechyd meddwl
ATTACH;FMTTYPE=image/png:https://keepingmewell.com/wp-content/uploads/2023/01/Cardiff-Hubs.png
END:VEVENT
BEGIN:VEVENT
DTSTART;TZID=Europe/London:20281027T103000
DTEND;TZID=Europe/London:20281027T113000
DTSTAMP:20260419T194602
CREATED:20230721T104713Z
LAST-MODIFIED:20231025T075056Z
UID:10022484-1856255400-1856259000@keepingmewell.com
SUMMARY:Cerdded er Lles Iechyd @ Hyb Rhydypennau
DESCRIPTION:Ymunwch â ni am dro ysgafn am 30 – 45 munud o amgylch ardal Rhydypennau / Lakeside. \nGan ddechrau ac yn gorffen wrth y fynedfa i Hyb Rhydypennau. Yna darperir lluniaeth. \nDydd Gwener 10.30am
URL:https://keepingmewell.com/event/cerdded-er-lles-iechyd-hyb-rhydypennau-27/2028-10-27/
LOCATION:Hyb Rhydypennau\, Llandennis Road\, Caerdydd\, CF23 6EG\, United Kingdom
CATEGORIES:Cerdded,Cymraeg,Gweithgarwch Corfforol,Hyb
ATTACH;FMTTYPE=image/png:https://keepingmewell.com/wp-content/uploads/2023/01/Cardiff-Hubs.png
END:VEVENT
BEGIN:VEVENT
DTSTART;TZID=Europe/London:20281030T103000
DTEND;TZID=Europe/London:20281030T113000
DTSTAMP:20260419T194602
CREATED:20231016T102837Z
LAST-MODIFIED:20231016T102837Z
UID:10022320-1856514600-1856518200@keepingmewell.com
SUMMARY:Caffi Dementia @ Hyb Grangetown
DESCRIPTION:Rhannwch frecwast o De\, Coffi\, Tost\, bisgedi a ffrwythau. Mwynhewch sesiwn ymarfer cadair am 10 munud i baratoi ar gyfer gweithgaredd yr wythnos – lliwio oedolion\, gemau bwrdd\, cardiau chwarae\, crefftau neu gelf. \nYna ymunwch â sesiwn canu gyda rhai o ganeuon mwyaf poblogaidd y 1960au. \nCroeso i bawb gan gynnwys gofalwyr.
URL:https://keepingmewell.com/event/caffi-dementia-hyb-grangetown-27/2028-10-30/
LOCATION:Hyb Grangetown\, Plas Havelock\, Grangetown\, Caerdydd\, CF11 6PA\, United Kingdom
CATEGORIES:Cymraeg,Demensia,Gofalwyr,Hyb,Iechyd meddwl
ATTACH;FMTTYPE=image/png:https://keepingmewell.com/wp-content/uploads/2023/01/Cardiff-Hubs.png
END:VEVENT
BEGIN:VEVENT
DTSTART;TZID=Europe/London:20281103T103000
DTEND;TZID=Europe/London:20281103T113000
DTSTAMP:20260419T194602
CREATED:20230721T104713Z
LAST-MODIFIED:20231025T075056Z
UID:10022485-1856860200-1856863800@keepingmewell.com
SUMMARY:Cerdded er Lles Iechyd @ Hyb Rhydypennau
DESCRIPTION:Ymunwch â ni am dro ysgafn am 30 – 45 munud o amgylch ardal Rhydypennau / Lakeside. \nGan ddechrau ac yn gorffen wrth y fynedfa i Hyb Rhydypennau. Yna darperir lluniaeth. \nDydd Gwener 10.30am
URL:https://keepingmewell.com/event/cerdded-er-lles-iechyd-hyb-rhydypennau-27/2028-11-03/
LOCATION:Hyb Rhydypennau\, Llandennis Road\, Caerdydd\, CF23 6EG\, United Kingdom
CATEGORIES:Cerdded,Cymraeg,Gweithgarwch Corfforol,Hyb
ATTACH;FMTTYPE=image/png:https://keepingmewell.com/wp-content/uploads/2023/01/Cardiff-Hubs.png
END:VEVENT
BEGIN:VEVENT
DTSTART;TZID=Europe/London:20281106T103000
DTEND;TZID=Europe/London:20281106T113000
DTSTAMP:20260419T194602
CREATED:20231016T102837Z
LAST-MODIFIED:20231016T102837Z
UID:10022321-1857119400-1857123000@keepingmewell.com
SUMMARY:Caffi Dementia @ Hyb Grangetown
DESCRIPTION:Rhannwch frecwast o De\, Coffi\, Tost\, bisgedi a ffrwythau. Mwynhewch sesiwn ymarfer cadair am 10 munud i baratoi ar gyfer gweithgaredd yr wythnos – lliwio oedolion\, gemau bwrdd\, cardiau chwarae\, crefftau neu gelf. \nYna ymunwch â sesiwn canu gyda rhai o ganeuon mwyaf poblogaidd y 1960au. \nCroeso i bawb gan gynnwys gofalwyr.
URL:https://keepingmewell.com/event/caffi-dementia-hyb-grangetown-27/2028-11-06/
LOCATION:Hyb Grangetown\, Plas Havelock\, Grangetown\, Caerdydd\, CF11 6PA\, United Kingdom
CATEGORIES:Cymraeg,Demensia,Gofalwyr,Hyb,Iechyd meddwl
ATTACH;FMTTYPE=image/png:https://keepingmewell.com/wp-content/uploads/2023/01/Cardiff-Hubs.png
END:VEVENT
BEGIN:VEVENT
DTSTART;TZID=Europe/London:20281110T103000
DTEND;TZID=Europe/London:20281110T113000
DTSTAMP:20260419T194602
CREATED:20230721T104713Z
LAST-MODIFIED:20231025T075056Z
UID:10022486-1857465000-1857468600@keepingmewell.com
SUMMARY:Cerdded er Lles Iechyd @ Hyb Rhydypennau
DESCRIPTION:Ymunwch â ni am dro ysgafn am 30 – 45 munud o amgylch ardal Rhydypennau / Lakeside. \nGan ddechrau ac yn gorffen wrth y fynedfa i Hyb Rhydypennau. Yna darperir lluniaeth. \nDydd Gwener 10.30am
URL:https://keepingmewell.com/event/cerdded-er-lles-iechyd-hyb-rhydypennau-27/2028-11-10/
LOCATION:Hyb Rhydypennau\, Llandennis Road\, Caerdydd\, CF23 6EG\, United Kingdom
CATEGORIES:Cerdded,Cymraeg,Gweithgarwch Corfforol,Hyb
ATTACH;FMTTYPE=image/png:https://keepingmewell.com/wp-content/uploads/2023/01/Cardiff-Hubs.png
END:VEVENT
BEGIN:VEVENT
DTSTART;TZID=Europe/London:20281113T103000
DTEND;TZID=Europe/London:20281113T113000
DTSTAMP:20260419T194602
CREATED:20231016T102837Z
LAST-MODIFIED:20231016T102837Z
UID:10022322-1857724200-1857727800@keepingmewell.com
SUMMARY:Caffi Dementia @ Hyb Grangetown
DESCRIPTION:Rhannwch frecwast o De\, Coffi\, Tost\, bisgedi a ffrwythau. Mwynhewch sesiwn ymarfer cadair am 10 munud i baratoi ar gyfer gweithgaredd yr wythnos – lliwio oedolion\, gemau bwrdd\, cardiau chwarae\, crefftau neu gelf. \nYna ymunwch â sesiwn canu gyda rhai o ganeuon mwyaf poblogaidd y 1960au. \nCroeso i bawb gan gynnwys gofalwyr.
URL:https://keepingmewell.com/event/caffi-dementia-hyb-grangetown-27/2028-11-13/
LOCATION:Hyb Grangetown\, Plas Havelock\, Grangetown\, Caerdydd\, CF11 6PA\, United Kingdom
CATEGORIES:Cymraeg,Demensia,Gofalwyr,Hyb,Iechyd meddwl
ATTACH;FMTTYPE=image/png:https://keepingmewell.com/wp-content/uploads/2023/01/Cardiff-Hubs.png
END:VEVENT
BEGIN:VEVENT
DTSTART;TZID=Europe/London:20281117T103000
DTEND;TZID=Europe/London:20281117T113000
DTSTAMP:20260419T194602
CREATED:20230721T104713Z
LAST-MODIFIED:20231025T075056Z
UID:10022487-1858069800-1858073400@keepingmewell.com
SUMMARY:Cerdded er Lles Iechyd @ Hyb Rhydypennau
DESCRIPTION:Ymunwch â ni am dro ysgafn am 30 – 45 munud o amgylch ardal Rhydypennau / Lakeside. \nGan ddechrau ac yn gorffen wrth y fynedfa i Hyb Rhydypennau. Yna darperir lluniaeth. \nDydd Gwener 10.30am
URL:https://keepingmewell.com/event/cerdded-er-lles-iechyd-hyb-rhydypennau-27/2028-11-17/
LOCATION:Hyb Rhydypennau\, Llandennis Road\, Caerdydd\, CF23 6EG\, United Kingdom
CATEGORIES:Cerdded,Cymraeg,Gweithgarwch Corfforol,Hyb
ATTACH;FMTTYPE=image/png:https://keepingmewell.com/wp-content/uploads/2023/01/Cardiff-Hubs.png
END:VEVENT
BEGIN:VEVENT
DTSTART;TZID=Europe/London:20281120T103000
DTEND;TZID=Europe/London:20281120T113000
DTSTAMP:20260419T194602
CREATED:20231016T102837Z
LAST-MODIFIED:20231016T102837Z
UID:10022323-1858329000-1858332600@keepingmewell.com
SUMMARY:Caffi Dementia @ Hyb Grangetown
DESCRIPTION:Rhannwch frecwast o De\, Coffi\, Tost\, bisgedi a ffrwythau. Mwynhewch sesiwn ymarfer cadair am 10 munud i baratoi ar gyfer gweithgaredd yr wythnos – lliwio oedolion\, gemau bwrdd\, cardiau chwarae\, crefftau neu gelf. \nYna ymunwch â sesiwn canu gyda rhai o ganeuon mwyaf poblogaidd y 1960au. \nCroeso i bawb gan gynnwys gofalwyr.
URL:https://keepingmewell.com/event/caffi-dementia-hyb-grangetown-27/2028-11-20/
LOCATION:Hyb Grangetown\, Plas Havelock\, Grangetown\, Caerdydd\, CF11 6PA\, United Kingdom
CATEGORIES:Cymraeg,Demensia,Gofalwyr,Hyb,Iechyd meddwl
ATTACH;FMTTYPE=image/png:https://keepingmewell.com/wp-content/uploads/2023/01/Cardiff-Hubs.png
END:VEVENT
BEGIN:VEVENT
DTSTART;TZID=Europe/London:20281124T103000
DTEND;TZID=Europe/London:20281124T113000
DTSTAMP:20260419T194602
CREATED:20230721T104713Z
LAST-MODIFIED:20231025T075056Z
UID:10022488-1858674600-1858678200@keepingmewell.com
SUMMARY:Cerdded er Lles Iechyd @ Hyb Rhydypennau
DESCRIPTION:Ymunwch â ni am dro ysgafn am 30 – 45 munud o amgylch ardal Rhydypennau / Lakeside. \nGan ddechrau ac yn gorffen wrth y fynedfa i Hyb Rhydypennau. Yna darperir lluniaeth. \nDydd Gwener 10.30am
URL:https://keepingmewell.com/event/cerdded-er-lles-iechyd-hyb-rhydypennau-27/2028-11-24/
LOCATION:Hyb Rhydypennau\, Llandennis Road\, Caerdydd\, CF23 6EG\, United Kingdom
CATEGORIES:Cerdded,Cymraeg,Gweithgarwch Corfforol,Hyb
ATTACH;FMTTYPE=image/png:https://keepingmewell.com/wp-content/uploads/2023/01/Cardiff-Hubs.png
END:VEVENT
BEGIN:VEVENT
DTSTART;TZID=Europe/London:20281127T103000
DTEND;TZID=Europe/London:20281127T113000
DTSTAMP:20260419T194602
CREATED:20231016T102837Z
LAST-MODIFIED:20231016T102837Z
UID:10022538-1858933800-1858937400@keepingmewell.com
SUMMARY:Caffi Dementia @ Hyb Grangetown
DESCRIPTION:Rhannwch frecwast o De\, Coffi\, Tost\, bisgedi a ffrwythau. Mwynhewch sesiwn ymarfer cadair am 10 munud i baratoi ar gyfer gweithgaredd yr wythnos – lliwio oedolion\, gemau bwrdd\, cardiau chwarae\, crefftau neu gelf. \nYna ymunwch â sesiwn canu gyda rhai o ganeuon mwyaf poblogaidd y 1960au. \nCroeso i bawb gan gynnwys gofalwyr.
URL:https://keepingmewell.com/event/caffi-dementia-hyb-grangetown-27/2028-11-27/
LOCATION:Hyb Grangetown\, Plas Havelock\, Grangetown\, Caerdydd\, CF11 6PA\, United Kingdom
CATEGORIES:Cymraeg,Demensia,Gofalwyr,Hyb,Iechyd meddwl
ATTACH;FMTTYPE=image/png:https://keepingmewell.com/wp-content/uploads/2023/01/Cardiff-Hubs.png
END:VEVENT
BEGIN:VEVENT
DTSTART;TZID=Europe/London:20281201T103000
DTEND;TZID=Europe/London:20281201T113000
DTSTAMP:20260419T194602
CREATED:20230721T104713Z
LAST-MODIFIED:20231025T075056Z
UID:10022625-1859279400-1859283000@keepingmewell.com
SUMMARY:Cerdded er Lles Iechyd @ Hyb Rhydypennau
DESCRIPTION:Ymunwch â ni am dro ysgafn am 30 – 45 munud o amgylch ardal Rhydypennau / Lakeside. \nGan ddechrau ac yn gorffen wrth y fynedfa i Hyb Rhydypennau. Yna darperir lluniaeth. \nDydd Gwener 10.30am
URL:https://keepingmewell.com/event/cerdded-er-lles-iechyd-hyb-rhydypennau-27/2028-12-01/
LOCATION:Hyb Rhydypennau\, Llandennis Road\, Caerdydd\, CF23 6EG\, United Kingdom
CATEGORIES:Cerdded,Cymraeg,Gweithgarwch Corfforol,Hyb
ATTACH;FMTTYPE=image/png:https://keepingmewell.com/wp-content/uploads/2023/01/Cardiff-Hubs.png
END:VEVENT
BEGIN:VEVENT
DTSTART;TZID=Europe/London:20281204T103000
DTEND;TZID=Europe/London:20281204T113000
DTSTAMP:20260419T194602
CREATED:20231016T102837Z
LAST-MODIFIED:20231016T102837Z
UID:10022632-1859538600-1859542200@keepingmewell.com
SUMMARY:Caffi Dementia @ Hyb Grangetown
DESCRIPTION:Rhannwch frecwast o De\, Coffi\, Tost\, bisgedi a ffrwythau. Mwynhewch sesiwn ymarfer cadair am 10 munud i baratoi ar gyfer gweithgaredd yr wythnos – lliwio oedolion\, gemau bwrdd\, cardiau chwarae\, crefftau neu gelf. \nYna ymunwch â sesiwn canu gyda rhai o ganeuon mwyaf poblogaidd y 1960au. \nCroeso i bawb gan gynnwys gofalwyr.
URL:https://keepingmewell.com/event/caffi-dementia-hyb-grangetown-27/2028-12-04/
LOCATION:Hyb Grangetown\, Plas Havelock\, Grangetown\, Caerdydd\, CF11 6PA\, United Kingdom
CATEGORIES:Cymraeg,Demensia,Gofalwyr,Hyb,Iechyd meddwl
ATTACH;FMTTYPE=image/png:https://keepingmewell.com/wp-content/uploads/2023/01/Cardiff-Hubs.png
END:VEVENT
BEGIN:VEVENT
DTSTART;TZID=Europe/London:20281208T103000
DTEND;TZID=Europe/London:20281208T113000
DTSTAMP:20260419T194602
CREATED:20230721T104713Z
LAST-MODIFIED:20231025T075056Z
UID:10022820-1859884200-1859887800@keepingmewell.com
SUMMARY:Cerdded er Lles Iechyd @ Hyb Rhydypennau
DESCRIPTION:Ymunwch â ni am dro ysgafn am 30 – 45 munud o amgylch ardal Rhydypennau / Lakeside. \nGan ddechrau ac yn gorffen wrth y fynedfa i Hyb Rhydypennau. Yna darperir lluniaeth. \nDydd Gwener 10.30am
URL:https://keepingmewell.com/event/cerdded-er-lles-iechyd-hyb-rhydypennau-27/2028-12-08/
LOCATION:Hyb Rhydypennau\, Llandennis Road\, Caerdydd\, CF23 6EG\, United Kingdom
CATEGORIES:Cerdded,Cymraeg,Gweithgarwch Corfforol,Hyb
ATTACH;FMTTYPE=image/png:https://keepingmewell.com/wp-content/uploads/2023/01/Cardiff-Hubs.png
END:VEVENT
BEGIN:VEVENT
DTSTART;TZID=Europe/London:20281211T103000
DTEND;TZID=Europe/London:20281211T113000
DTSTAMP:20260419T194602
CREATED:20231016T102837Z
LAST-MODIFIED:20231016T102837Z
UID:10022900-1860143400-1860147000@keepingmewell.com
SUMMARY:Caffi Dementia @ Hyb Grangetown
DESCRIPTION:Rhannwch frecwast o De\, Coffi\, Tost\, bisgedi a ffrwythau. Mwynhewch sesiwn ymarfer cadair am 10 munud i baratoi ar gyfer gweithgaredd yr wythnos – lliwio oedolion\, gemau bwrdd\, cardiau chwarae\, crefftau neu gelf. \nYna ymunwch â sesiwn canu gyda rhai o ganeuon mwyaf poblogaidd y 1960au. \nCroeso i bawb gan gynnwys gofalwyr.
URL:https://keepingmewell.com/event/caffi-dementia-hyb-grangetown-27/2028-12-11/
LOCATION:Hyb Grangetown\, Plas Havelock\, Grangetown\, Caerdydd\, CF11 6PA\, United Kingdom
CATEGORIES:Cymraeg,Demensia,Gofalwyr,Hyb,Iechyd meddwl
ATTACH;FMTTYPE=image/png:https://keepingmewell.com/wp-content/uploads/2023/01/Cardiff-Hubs.png
END:VEVENT
BEGIN:VEVENT
DTSTART;TZID=Europe/London:20281215T103000
DTEND;TZID=Europe/London:20281215T113000
DTSTAMP:20260419T194602
CREATED:20230721T104713Z
LAST-MODIFIED:20231025T075056Z
UID:10022821-1860489000-1860492600@keepingmewell.com
SUMMARY:Cerdded er Lles Iechyd @ Hyb Rhydypennau
DESCRIPTION:Ymunwch â ni am dro ysgafn am 30 – 45 munud o amgylch ardal Rhydypennau / Lakeside. \nGan ddechrau ac yn gorffen wrth y fynedfa i Hyb Rhydypennau. Yna darperir lluniaeth. \nDydd Gwener 10.30am
URL:https://keepingmewell.com/event/cerdded-er-lles-iechyd-hyb-rhydypennau-27/2028-12-15/
LOCATION:Hyb Rhydypennau\, Llandennis Road\, Caerdydd\, CF23 6EG\, United Kingdom
CATEGORIES:Cerdded,Cymraeg,Gweithgarwch Corfforol,Hyb
ATTACH;FMTTYPE=image/png:https://keepingmewell.com/wp-content/uploads/2023/01/Cardiff-Hubs.png
END:VEVENT
BEGIN:VEVENT
DTSTART;TZID=Europe/London:20281218T103000
DTEND;TZID=Europe/London:20281218T113000
DTSTAMP:20260419T194602
CREATED:20231016T102837Z
LAST-MODIFIED:20231016T102837Z
UID:10022901-1860748200-1860751800@keepingmewell.com
SUMMARY:Caffi Dementia @ Hyb Grangetown
DESCRIPTION:Rhannwch frecwast o De\, Coffi\, Tost\, bisgedi a ffrwythau. Mwynhewch sesiwn ymarfer cadair am 10 munud i baratoi ar gyfer gweithgaredd yr wythnos – lliwio oedolion\, gemau bwrdd\, cardiau chwarae\, crefftau neu gelf. \nYna ymunwch â sesiwn canu gyda rhai o ganeuon mwyaf poblogaidd y 1960au. \nCroeso i bawb gan gynnwys gofalwyr.
URL:https://keepingmewell.com/event/caffi-dementia-hyb-grangetown-27/2028-12-18/
LOCATION:Hyb Grangetown\, Plas Havelock\, Grangetown\, Caerdydd\, CF11 6PA\, United Kingdom
CATEGORIES:Cymraeg,Demensia,Gofalwyr,Hyb,Iechyd meddwl
ATTACH;FMTTYPE=image/png:https://keepingmewell.com/wp-content/uploads/2023/01/Cardiff-Hubs.png
END:VEVENT
END:VCALENDAR