BEGIN:VCALENDAR
VERSION:2.0
PRODID:-//Keeping Me Well - ECPv6.15.20//NONSGML v1.0//EN
CALSCALE:GREGORIAN
METHOD:PUBLISH
X-WR-CALNAME:Keeping Me Well
X-ORIGINAL-URL:https://keepingmewell.com
X-WR-CALDESC:Events for Keeping Me Well
REFRESH-INTERVAL;VALUE=DURATION:PT1H
X-Robots-Tag:noindex
X-PUBLISHED-TTL:PT1H
BEGIN:VTIMEZONE
TZID:Europe/London
BEGIN:DAYLIGHT
TZOFFSETFROM:+0000
TZOFFSETTO:+0100
TZNAME:BST
DTSTART:20280326T010000
END:DAYLIGHT
BEGIN:STANDARD
TZOFFSETFROM:+0100
TZOFFSETTO:+0000
TZNAME:GMT
DTSTART:20281029T010000
END:STANDARD
BEGIN:DAYLIGHT
TZOFFSETFROM:+0000
TZOFFSETTO:+0100
TZNAME:BST
DTSTART:20290325T010000
END:DAYLIGHT
BEGIN:STANDARD
TZOFFSETFROM:+0100
TZOFFSETTO:+0000
TZNAME:GMT
DTSTART:20291028T010000
END:STANDARD
BEGIN:DAYLIGHT
TZOFFSETFROM:+0000
TZOFFSETTO:+0100
TZNAME:BST
DTSTART:20300331T010000
END:DAYLIGHT
BEGIN:STANDARD
TZOFFSETFROM:+0100
TZOFFSETTO:+0000
TZNAME:GMT
DTSTART:20301027T010000
END:STANDARD
END:VTIMEZONE
BEGIN:VEVENT
DTSTART;TZID=Europe/London:20290305T103000
DTEND;TZID=Europe/London:20290305T113000
DTSTAMP:20260419T204805
CREATED:20231016T102837Z
LAST-MODIFIED:20231016T102837Z
UID:10027280-1867401000-1867404600@keepingmewell.com
SUMMARY:Caffi Dementia @ Hyb Grangetown
DESCRIPTION:Rhannwch frecwast o De\, Coffi\, Tost\, bisgedi a ffrwythau. Mwynhewch sesiwn ymarfer cadair am 10 munud i baratoi ar gyfer gweithgaredd yr wythnos – lliwio oedolion\, gemau bwrdd\, cardiau chwarae\, crefftau neu gelf. \nYna ymunwch â sesiwn canu gyda rhai o ganeuon mwyaf poblogaidd y 1960au. \nCroeso i bawb gan gynnwys gofalwyr.
URL:https://keepingmewell.com/event/caffi-dementia-hyb-grangetown-27/2029-03-05/
LOCATION:Hyb Grangetown\, Plas Havelock\, Grangetown\, Caerdydd\, CF11 6PA\, United Kingdom
CATEGORIES:Cymraeg,Demensia,Gofalwyr,Hyb,Iechyd meddwl
ATTACH;FMTTYPE=image/png:https://keepingmewell.com/wp-content/uploads/2023/01/Cardiff-Hubs.png
END:VEVENT
BEGIN:VEVENT
DTSTART;TZID=Europe/London:20290309T103000
DTEND;TZID=Europe/London:20290309T113000
DTSTAMP:20260419T204805
CREATED:20230721T104713Z
LAST-MODIFIED:20231025T075056Z
UID:10026579-1867746600-1867750200@keepingmewell.com
SUMMARY:Cerdded er Lles Iechyd @ Hyb Rhydypennau
DESCRIPTION:Ymunwch â ni am dro ysgafn am 30 – 45 munud o amgylch ardal Rhydypennau / Lakeside. \nGan ddechrau ac yn gorffen wrth y fynedfa i Hyb Rhydypennau. Yna darperir lluniaeth. \nDydd Gwener 10.30am
URL:https://keepingmewell.com/event/cerdded-er-lles-iechyd-hyb-rhydypennau-27/2029-03-09/
LOCATION:Hyb Rhydypennau\, Llandennis Road\, Caerdydd\, CF23 6EG\, United Kingdom
CATEGORIES:Cerdded,Cymraeg,Gweithgarwch Corfforol,Hyb
ATTACH;FMTTYPE=image/png:https://keepingmewell.com/wp-content/uploads/2023/01/Cardiff-Hubs.png
END:VEVENT
BEGIN:VEVENT
DTSTART;TZID=Europe/London:20290312T103000
DTEND;TZID=Europe/London:20290312T113000
DTSTAMP:20260419T204805
CREATED:20231016T102837Z
LAST-MODIFIED:20231016T102837Z
UID:10027281-1868005800-1868009400@keepingmewell.com
SUMMARY:Caffi Dementia @ Hyb Grangetown
DESCRIPTION:Rhannwch frecwast o De\, Coffi\, Tost\, bisgedi a ffrwythau. Mwynhewch sesiwn ymarfer cadair am 10 munud i baratoi ar gyfer gweithgaredd yr wythnos – lliwio oedolion\, gemau bwrdd\, cardiau chwarae\, crefftau neu gelf. \nYna ymunwch â sesiwn canu gyda rhai o ganeuon mwyaf poblogaidd y 1960au. \nCroeso i bawb gan gynnwys gofalwyr.
URL:https://keepingmewell.com/event/caffi-dementia-hyb-grangetown-27/2029-03-12/
LOCATION:Hyb Grangetown\, Plas Havelock\, Grangetown\, Caerdydd\, CF11 6PA\, United Kingdom
CATEGORIES:Cymraeg,Demensia,Gofalwyr,Hyb,Iechyd meddwl
ATTACH;FMTTYPE=image/png:https://keepingmewell.com/wp-content/uploads/2023/01/Cardiff-Hubs.png
END:VEVENT
BEGIN:VEVENT
DTSTART;TZID=Europe/London:20290316T103000
DTEND;TZID=Europe/London:20290316T113000
DTSTAMP:20260419T204805
CREATED:20230721T104713Z
LAST-MODIFIED:20231025T075056Z
UID:10026580-1868351400-1868355000@keepingmewell.com
SUMMARY:Cerdded er Lles Iechyd @ Hyb Rhydypennau
DESCRIPTION:Ymunwch â ni am dro ysgafn am 30 – 45 munud o amgylch ardal Rhydypennau / Lakeside. \nGan ddechrau ac yn gorffen wrth y fynedfa i Hyb Rhydypennau. Yna darperir lluniaeth. \nDydd Gwener 10.30am
URL:https://keepingmewell.com/event/cerdded-er-lles-iechyd-hyb-rhydypennau-27/2029-03-16/
LOCATION:Hyb Rhydypennau\, Llandennis Road\, Caerdydd\, CF23 6EG\, United Kingdom
CATEGORIES:Cerdded,Cymraeg,Gweithgarwch Corfforol,Hyb
ATTACH;FMTTYPE=image/png:https://keepingmewell.com/wp-content/uploads/2023/01/Cardiff-Hubs.png
END:VEVENT
BEGIN:VEVENT
DTSTART;TZID=Europe/London:20290319T103000
DTEND;TZID=Europe/London:20290319T113000
DTSTAMP:20260419T204805
CREATED:20231016T102837Z
LAST-MODIFIED:20231016T102837Z
UID:10027282-1868610600-1868614200@keepingmewell.com
SUMMARY:Caffi Dementia @ Hyb Grangetown
DESCRIPTION:Rhannwch frecwast o De\, Coffi\, Tost\, bisgedi a ffrwythau. Mwynhewch sesiwn ymarfer cadair am 10 munud i baratoi ar gyfer gweithgaredd yr wythnos – lliwio oedolion\, gemau bwrdd\, cardiau chwarae\, crefftau neu gelf. \nYna ymunwch â sesiwn canu gyda rhai o ganeuon mwyaf poblogaidd y 1960au. \nCroeso i bawb gan gynnwys gofalwyr.
URL:https://keepingmewell.com/event/caffi-dementia-hyb-grangetown-27/2029-03-19/
LOCATION:Hyb Grangetown\, Plas Havelock\, Grangetown\, Caerdydd\, CF11 6PA\, United Kingdom
CATEGORIES:Cymraeg,Demensia,Gofalwyr,Hyb,Iechyd meddwl
ATTACH;FMTTYPE=image/png:https://keepingmewell.com/wp-content/uploads/2023/01/Cardiff-Hubs.png
END:VEVENT
BEGIN:VEVENT
DTSTART;TZID=Europe/London:20290323T103000
DTEND;TZID=Europe/London:20290323T113000
DTSTAMP:20260419T204805
CREATED:20230721T104713Z
LAST-MODIFIED:20231025T075056Z
UID:10026581-1868956200-1868959800@keepingmewell.com
SUMMARY:Cerdded er Lles Iechyd @ Hyb Rhydypennau
DESCRIPTION:Ymunwch â ni am dro ysgafn am 30 – 45 munud o amgylch ardal Rhydypennau / Lakeside. \nGan ddechrau ac yn gorffen wrth y fynedfa i Hyb Rhydypennau. Yna darperir lluniaeth. \nDydd Gwener 10.30am
URL:https://keepingmewell.com/event/cerdded-er-lles-iechyd-hyb-rhydypennau-27/2029-03-23/
LOCATION:Hyb Rhydypennau\, Llandennis Road\, Caerdydd\, CF23 6EG\, United Kingdom
CATEGORIES:Cerdded,Cymraeg,Gweithgarwch Corfforol,Hyb
ATTACH;FMTTYPE=image/png:https://keepingmewell.com/wp-content/uploads/2023/01/Cardiff-Hubs.png
END:VEVENT
BEGIN:VEVENT
DTSTART;TZID=Europe/London:20290326T103000
DTEND;TZID=Europe/London:20290326T113000
DTSTAMP:20260419T204805
CREATED:20231016T102837Z
LAST-MODIFIED:20231016T102837Z
UID:10027283-1869215400-1869219000@keepingmewell.com
SUMMARY:Caffi Dementia @ Hyb Grangetown
DESCRIPTION:Rhannwch frecwast o De\, Coffi\, Tost\, bisgedi a ffrwythau. Mwynhewch sesiwn ymarfer cadair am 10 munud i baratoi ar gyfer gweithgaredd yr wythnos – lliwio oedolion\, gemau bwrdd\, cardiau chwarae\, crefftau neu gelf. \nYna ymunwch â sesiwn canu gyda rhai o ganeuon mwyaf poblogaidd y 1960au. \nCroeso i bawb gan gynnwys gofalwyr.
URL:https://keepingmewell.com/event/caffi-dementia-hyb-grangetown-27/2029-03-26/
LOCATION:Hyb Grangetown\, Plas Havelock\, Grangetown\, Caerdydd\, CF11 6PA\, United Kingdom
CATEGORIES:Cymraeg,Demensia,Gofalwyr,Hyb,Iechyd meddwl
ATTACH;FMTTYPE=image/png:https://keepingmewell.com/wp-content/uploads/2023/01/Cardiff-Hubs.png
END:VEVENT
BEGIN:VEVENT
DTSTART;TZID=Europe/London:20290330T103000
DTEND;TZID=Europe/London:20290330T113000
DTSTAMP:20260419T204805
CREATED:20230721T104713Z
LAST-MODIFIED:20231025T075056Z
UID:10026582-1869561000-1869564600@keepingmewell.com
SUMMARY:Cerdded er Lles Iechyd @ Hyb Rhydypennau
DESCRIPTION:Ymunwch â ni am dro ysgafn am 30 – 45 munud o amgylch ardal Rhydypennau / Lakeside. \nGan ddechrau ac yn gorffen wrth y fynedfa i Hyb Rhydypennau. Yna darperir lluniaeth. \nDydd Gwener 10.30am
URL:https://keepingmewell.com/event/cerdded-er-lles-iechyd-hyb-rhydypennau-27/2029-03-30/
LOCATION:Hyb Rhydypennau\, Llandennis Road\, Caerdydd\, CF23 6EG\, United Kingdom
CATEGORIES:Cerdded,Cymraeg,Gweithgarwch Corfforol,Hyb
ATTACH;FMTTYPE=image/png:https://keepingmewell.com/wp-content/uploads/2023/01/Cardiff-Hubs.png
END:VEVENT
BEGIN:VEVENT
DTSTART;TZID=Europe/London:20290402T103000
DTEND;TZID=Europe/London:20290402T113000
DTSTAMP:20260419T204805
CREATED:20231016T102837Z
LAST-MODIFIED:20231016T102837Z
UID:10027284-1869820200-1869823800@keepingmewell.com
SUMMARY:Caffi Dementia @ Hyb Grangetown
DESCRIPTION:Rhannwch frecwast o De\, Coffi\, Tost\, bisgedi a ffrwythau. Mwynhewch sesiwn ymarfer cadair am 10 munud i baratoi ar gyfer gweithgaredd yr wythnos – lliwio oedolion\, gemau bwrdd\, cardiau chwarae\, crefftau neu gelf. \nYna ymunwch â sesiwn canu gyda rhai o ganeuon mwyaf poblogaidd y 1960au. \nCroeso i bawb gan gynnwys gofalwyr.
URL:https://keepingmewell.com/event/caffi-dementia-hyb-grangetown-27/2029-04-02/
LOCATION:Hyb Grangetown\, Plas Havelock\, Grangetown\, Caerdydd\, CF11 6PA\, United Kingdom
CATEGORIES:Cymraeg,Demensia,Gofalwyr,Hyb,Iechyd meddwl
ATTACH;FMTTYPE=image/png:https://keepingmewell.com/wp-content/uploads/2023/01/Cardiff-Hubs.png
END:VEVENT
BEGIN:VEVENT
DTSTART;TZID=Europe/London:20290406T103000
DTEND;TZID=Europe/London:20290406T113000
DTSTAMP:20260419T204805
CREATED:20230721T104713Z
LAST-MODIFIED:20231025T075056Z
UID:10026583-1870165800-1870169400@keepingmewell.com
SUMMARY:Cerdded er Lles Iechyd @ Hyb Rhydypennau
DESCRIPTION:Ymunwch â ni am dro ysgafn am 30 – 45 munud o amgylch ardal Rhydypennau / Lakeside. \nGan ddechrau ac yn gorffen wrth y fynedfa i Hyb Rhydypennau. Yna darperir lluniaeth. \nDydd Gwener 10.30am
URL:https://keepingmewell.com/event/cerdded-er-lles-iechyd-hyb-rhydypennau-27/2029-04-06/
LOCATION:Hyb Rhydypennau\, Llandennis Road\, Caerdydd\, CF23 6EG\, United Kingdom
CATEGORIES:Cerdded,Cymraeg,Gweithgarwch Corfforol,Hyb
ATTACH;FMTTYPE=image/png:https://keepingmewell.com/wp-content/uploads/2023/01/Cardiff-Hubs.png
END:VEVENT
BEGIN:VEVENT
DTSTART;TZID=Europe/London:20290409T103000
DTEND;TZID=Europe/London:20290409T113000
DTSTAMP:20260419T204805
CREATED:20231016T102837Z
LAST-MODIFIED:20231016T102837Z
UID:10027285-1870425000-1870428600@keepingmewell.com
SUMMARY:Caffi Dementia @ Hyb Grangetown
DESCRIPTION:Rhannwch frecwast o De\, Coffi\, Tost\, bisgedi a ffrwythau. Mwynhewch sesiwn ymarfer cadair am 10 munud i baratoi ar gyfer gweithgaredd yr wythnos – lliwio oedolion\, gemau bwrdd\, cardiau chwarae\, crefftau neu gelf. \nYna ymunwch â sesiwn canu gyda rhai o ganeuon mwyaf poblogaidd y 1960au. \nCroeso i bawb gan gynnwys gofalwyr.
URL:https://keepingmewell.com/event/caffi-dementia-hyb-grangetown-27/2029-04-09/
LOCATION:Hyb Grangetown\, Plas Havelock\, Grangetown\, Caerdydd\, CF11 6PA\, United Kingdom
CATEGORIES:Cymraeg,Demensia,Gofalwyr,Hyb,Iechyd meddwl
ATTACH;FMTTYPE=image/png:https://keepingmewell.com/wp-content/uploads/2023/01/Cardiff-Hubs.png
END:VEVENT
BEGIN:VEVENT
DTSTART;TZID=Europe/London:20290413T103000
DTEND;TZID=Europe/London:20290413T113000
DTSTAMP:20260419T204805
CREATED:20230721T104713Z
LAST-MODIFIED:20231025T075056Z
UID:10026584-1870770600-1870774200@keepingmewell.com
SUMMARY:Cerdded er Lles Iechyd @ Hyb Rhydypennau
DESCRIPTION:Ymunwch â ni am dro ysgafn am 30 – 45 munud o amgylch ardal Rhydypennau / Lakeside. \nGan ddechrau ac yn gorffen wrth y fynedfa i Hyb Rhydypennau. Yna darperir lluniaeth. \nDydd Gwener 10.30am
URL:https://keepingmewell.com/event/cerdded-er-lles-iechyd-hyb-rhydypennau-27/2029-04-13/
LOCATION:Hyb Rhydypennau\, Llandennis Road\, Caerdydd\, CF23 6EG\, United Kingdom
CATEGORIES:Cerdded,Cymraeg,Gweithgarwch Corfforol,Hyb
ATTACH;FMTTYPE=image/png:https://keepingmewell.com/wp-content/uploads/2023/01/Cardiff-Hubs.png
END:VEVENT
BEGIN:VEVENT
DTSTART;TZID=Europe/London:20290416T103000
DTEND;TZID=Europe/London:20290416T113000
DTSTAMP:20260419T204805
CREATED:20231016T102837Z
LAST-MODIFIED:20231016T102837Z
UID:10027286-1871029800-1871033400@keepingmewell.com
SUMMARY:Caffi Dementia @ Hyb Grangetown
DESCRIPTION:Rhannwch frecwast o De\, Coffi\, Tost\, bisgedi a ffrwythau. Mwynhewch sesiwn ymarfer cadair am 10 munud i baratoi ar gyfer gweithgaredd yr wythnos – lliwio oedolion\, gemau bwrdd\, cardiau chwarae\, crefftau neu gelf. \nYna ymunwch â sesiwn canu gyda rhai o ganeuon mwyaf poblogaidd y 1960au. \nCroeso i bawb gan gynnwys gofalwyr.
URL:https://keepingmewell.com/event/caffi-dementia-hyb-grangetown-27/2029-04-16/
LOCATION:Hyb Grangetown\, Plas Havelock\, Grangetown\, Caerdydd\, CF11 6PA\, United Kingdom
CATEGORIES:Cymraeg,Demensia,Gofalwyr,Hyb,Iechyd meddwl
ATTACH;FMTTYPE=image/png:https://keepingmewell.com/wp-content/uploads/2023/01/Cardiff-Hubs.png
END:VEVENT
BEGIN:VEVENT
DTSTART;TZID=Europe/London:20290420T103000
DTEND;TZID=Europe/London:20290420T113000
DTSTAMP:20260419T204805
CREATED:20230721T104713Z
LAST-MODIFIED:20231025T075056Z
UID:10026585-1871375400-1871379000@keepingmewell.com
SUMMARY:Cerdded er Lles Iechyd @ Hyb Rhydypennau
DESCRIPTION:Ymunwch â ni am dro ysgafn am 30 – 45 munud o amgylch ardal Rhydypennau / Lakeside. \nGan ddechrau ac yn gorffen wrth y fynedfa i Hyb Rhydypennau. Yna darperir lluniaeth. \nDydd Gwener 10.30am
URL:https://keepingmewell.com/event/cerdded-er-lles-iechyd-hyb-rhydypennau-27/2029-04-20/
LOCATION:Hyb Rhydypennau\, Llandennis Road\, Caerdydd\, CF23 6EG\, United Kingdom
CATEGORIES:Cerdded,Cymraeg,Gweithgarwch Corfforol,Hyb
ATTACH;FMTTYPE=image/png:https://keepingmewell.com/wp-content/uploads/2023/01/Cardiff-Hubs.png
END:VEVENT
BEGIN:VEVENT
DTSTART;TZID=Europe/London:20290423T103000
DTEND;TZID=Europe/London:20290423T113000
DTSTAMP:20260419T204805
CREATED:20231016T102837Z
LAST-MODIFIED:20231016T102837Z
UID:10027287-1871634600-1871638200@keepingmewell.com
SUMMARY:Caffi Dementia @ Hyb Grangetown
DESCRIPTION:Rhannwch frecwast o De\, Coffi\, Tost\, bisgedi a ffrwythau. Mwynhewch sesiwn ymarfer cadair am 10 munud i baratoi ar gyfer gweithgaredd yr wythnos – lliwio oedolion\, gemau bwrdd\, cardiau chwarae\, crefftau neu gelf. \nYna ymunwch â sesiwn canu gyda rhai o ganeuon mwyaf poblogaidd y 1960au. \nCroeso i bawb gan gynnwys gofalwyr.
URL:https://keepingmewell.com/event/caffi-dementia-hyb-grangetown-27/2029-04-23/
LOCATION:Hyb Grangetown\, Plas Havelock\, Grangetown\, Caerdydd\, CF11 6PA\, United Kingdom
CATEGORIES:Cymraeg,Demensia,Gofalwyr,Hyb,Iechyd meddwl
ATTACH;FMTTYPE=image/png:https://keepingmewell.com/wp-content/uploads/2023/01/Cardiff-Hubs.png
END:VEVENT
BEGIN:VEVENT
DTSTART;TZID=Europe/London:20290427T103000
DTEND;TZID=Europe/London:20290427T113000
DTSTAMP:20260419T204805
CREATED:20230721T104713Z
LAST-MODIFIED:20231025T075056Z
UID:10026586-1871980200-1871983800@keepingmewell.com
SUMMARY:Cerdded er Lles Iechyd @ Hyb Rhydypennau
DESCRIPTION:Ymunwch â ni am dro ysgafn am 30 – 45 munud o amgylch ardal Rhydypennau / Lakeside. \nGan ddechrau ac yn gorffen wrth y fynedfa i Hyb Rhydypennau. Yna darperir lluniaeth. \nDydd Gwener 10.30am
URL:https://keepingmewell.com/event/cerdded-er-lles-iechyd-hyb-rhydypennau-27/2029-04-27/
LOCATION:Hyb Rhydypennau\, Llandennis Road\, Caerdydd\, CF23 6EG\, United Kingdom
CATEGORIES:Cerdded,Cymraeg,Gweithgarwch Corfforol,Hyb
ATTACH;FMTTYPE=image/png:https://keepingmewell.com/wp-content/uploads/2023/01/Cardiff-Hubs.png
END:VEVENT
BEGIN:VEVENT
DTSTART;TZID=Europe/London:20290430T103000
DTEND;TZID=Europe/London:20290430T113000
DTSTAMP:20260419T204805
CREATED:20231016T102837Z
LAST-MODIFIED:20231016T102837Z
UID:10027288-1872239400-1872243000@keepingmewell.com
SUMMARY:Caffi Dementia @ Hyb Grangetown
DESCRIPTION:Rhannwch frecwast o De\, Coffi\, Tost\, bisgedi a ffrwythau. Mwynhewch sesiwn ymarfer cadair am 10 munud i baratoi ar gyfer gweithgaredd yr wythnos – lliwio oedolion\, gemau bwrdd\, cardiau chwarae\, crefftau neu gelf. \nYna ymunwch â sesiwn canu gyda rhai o ganeuon mwyaf poblogaidd y 1960au. \nCroeso i bawb gan gynnwys gofalwyr.
URL:https://keepingmewell.com/event/caffi-dementia-hyb-grangetown-27/2029-04-30/
LOCATION:Hyb Grangetown\, Plas Havelock\, Grangetown\, Caerdydd\, CF11 6PA\, United Kingdom
CATEGORIES:Cymraeg,Demensia,Gofalwyr,Hyb,Iechyd meddwl
ATTACH;FMTTYPE=image/png:https://keepingmewell.com/wp-content/uploads/2023/01/Cardiff-Hubs.png
END:VEVENT
BEGIN:VEVENT
DTSTART;TZID=Europe/London:20290504T103000
DTEND;TZID=Europe/London:20290504T113000
DTSTAMP:20260419T204805
CREATED:20230721T104713Z
LAST-MODIFIED:20231025T075056Z
UID:10026587-1872585000-1872588600@keepingmewell.com
SUMMARY:Cerdded er Lles Iechyd @ Hyb Rhydypennau
DESCRIPTION:Ymunwch â ni am dro ysgafn am 30 – 45 munud o amgylch ardal Rhydypennau / Lakeside. \nGan ddechrau ac yn gorffen wrth y fynedfa i Hyb Rhydypennau. Yna darperir lluniaeth. \nDydd Gwener 10.30am
URL:https://keepingmewell.com/event/cerdded-er-lles-iechyd-hyb-rhydypennau-27/2029-05-04/
LOCATION:Hyb Rhydypennau\, Llandennis Road\, Caerdydd\, CF23 6EG\, United Kingdom
CATEGORIES:Cerdded,Cymraeg,Gweithgarwch Corfforol,Hyb
ATTACH;FMTTYPE=image/png:https://keepingmewell.com/wp-content/uploads/2023/01/Cardiff-Hubs.png
END:VEVENT
BEGIN:VEVENT
DTSTART;TZID=Europe/London:20290507T103000
DTEND;TZID=Europe/London:20290507T113000
DTSTAMP:20260419T204805
CREATED:20231016T102837Z
LAST-MODIFIED:20231016T102837Z
UID:10027289-1872844200-1872847800@keepingmewell.com
SUMMARY:Caffi Dementia @ Hyb Grangetown
DESCRIPTION:Rhannwch frecwast o De\, Coffi\, Tost\, bisgedi a ffrwythau. Mwynhewch sesiwn ymarfer cadair am 10 munud i baratoi ar gyfer gweithgaredd yr wythnos – lliwio oedolion\, gemau bwrdd\, cardiau chwarae\, crefftau neu gelf. \nYna ymunwch â sesiwn canu gyda rhai o ganeuon mwyaf poblogaidd y 1960au. \nCroeso i bawb gan gynnwys gofalwyr.
URL:https://keepingmewell.com/event/caffi-dementia-hyb-grangetown-27/2029-05-07/
LOCATION:Hyb Grangetown\, Plas Havelock\, Grangetown\, Caerdydd\, CF11 6PA\, United Kingdom
CATEGORIES:Cymraeg,Demensia,Gofalwyr,Hyb,Iechyd meddwl
ATTACH;FMTTYPE=image/png:https://keepingmewell.com/wp-content/uploads/2023/01/Cardiff-Hubs.png
END:VEVENT
BEGIN:VEVENT
DTSTART;TZID=Europe/London:20290511T103000
DTEND;TZID=Europe/London:20290511T113000
DTSTAMP:20260419T204805
CREATED:20230721T104713Z
LAST-MODIFIED:20231025T075056Z
UID:10026588-1873189800-1873193400@keepingmewell.com
SUMMARY:Cerdded er Lles Iechyd @ Hyb Rhydypennau
DESCRIPTION:Ymunwch â ni am dro ysgafn am 30 – 45 munud o amgylch ardal Rhydypennau / Lakeside. \nGan ddechrau ac yn gorffen wrth y fynedfa i Hyb Rhydypennau. Yna darperir lluniaeth. \nDydd Gwener 10.30am
URL:https://keepingmewell.com/event/cerdded-er-lles-iechyd-hyb-rhydypennau-27/2029-05-11/
LOCATION:Hyb Rhydypennau\, Llandennis Road\, Caerdydd\, CF23 6EG\, United Kingdom
CATEGORIES:Cerdded,Cymraeg,Gweithgarwch Corfforol,Hyb
ATTACH;FMTTYPE=image/png:https://keepingmewell.com/wp-content/uploads/2023/01/Cardiff-Hubs.png
END:VEVENT
BEGIN:VEVENT
DTSTART;TZID=Europe/London:20290514T103000
DTEND;TZID=Europe/London:20290514T113000
DTSTAMP:20260419T204805
CREATED:20231016T102837Z
LAST-MODIFIED:20231016T102837Z
UID:10027290-1873449000-1873452600@keepingmewell.com
SUMMARY:Caffi Dementia @ Hyb Grangetown
DESCRIPTION:Rhannwch frecwast o De\, Coffi\, Tost\, bisgedi a ffrwythau. Mwynhewch sesiwn ymarfer cadair am 10 munud i baratoi ar gyfer gweithgaredd yr wythnos – lliwio oedolion\, gemau bwrdd\, cardiau chwarae\, crefftau neu gelf. \nYna ymunwch â sesiwn canu gyda rhai o ganeuon mwyaf poblogaidd y 1960au. \nCroeso i bawb gan gynnwys gofalwyr.
URL:https://keepingmewell.com/event/caffi-dementia-hyb-grangetown-27/2029-05-14/
LOCATION:Hyb Grangetown\, Plas Havelock\, Grangetown\, Caerdydd\, CF11 6PA\, United Kingdom
CATEGORIES:Cymraeg,Demensia,Gofalwyr,Hyb,Iechyd meddwl
ATTACH;FMTTYPE=image/png:https://keepingmewell.com/wp-content/uploads/2023/01/Cardiff-Hubs.png
END:VEVENT
BEGIN:VEVENT
DTSTART;TZID=Europe/London:20290518T103000
DTEND;TZID=Europe/London:20290518T113000
DTSTAMP:20260419T204805
CREATED:20230721T104713Z
LAST-MODIFIED:20231025T075056Z
UID:10026589-1873794600-1873798200@keepingmewell.com
SUMMARY:Cerdded er Lles Iechyd @ Hyb Rhydypennau
DESCRIPTION:Ymunwch â ni am dro ysgafn am 30 – 45 munud o amgylch ardal Rhydypennau / Lakeside. \nGan ddechrau ac yn gorffen wrth y fynedfa i Hyb Rhydypennau. Yna darperir lluniaeth. \nDydd Gwener 10.30am
URL:https://keepingmewell.com/event/cerdded-er-lles-iechyd-hyb-rhydypennau-27/2029-05-18/
LOCATION:Hyb Rhydypennau\, Llandennis Road\, Caerdydd\, CF23 6EG\, United Kingdom
CATEGORIES:Cerdded,Cymraeg,Gweithgarwch Corfforol,Hyb
ATTACH;FMTTYPE=image/png:https://keepingmewell.com/wp-content/uploads/2023/01/Cardiff-Hubs.png
END:VEVENT
BEGIN:VEVENT
DTSTART;TZID=Europe/London:20290521T103000
DTEND;TZID=Europe/London:20290521T113000
DTSTAMP:20260419T204805
CREATED:20231016T102837Z
LAST-MODIFIED:20231016T102837Z
UID:10027291-1874053800-1874057400@keepingmewell.com
SUMMARY:Caffi Dementia @ Hyb Grangetown
DESCRIPTION:Rhannwch frecwast o De\, Coffi\, Tost\, bisgedi a ffrwythau. Mwynhewch sesiwn ymarfer cadair am 10 munud i baratoi ar gyfer gweithgaredd yr wythnos – lliwio oedolion\, gemau bwrdd\, cardiau chwarae\, crefftau neu gelf. \nYna ymunwch â sesiwn canu gyda rhai o ganeuon mwyaf poblogaidd y 1960au. \nCroeso i bawb gan gynnwys gofalwyr.
URL:https://keepingmewell.com/event/caffi-dementia-hyb-grangetown-27/2029-05-21/
LOCATION:Hyb Grangetown\, Plas Havelock\, Grangetown\, Caerdydd\, CF11 6PA\, United Kingdom
CATEGORIES:Cymraeg,Demensia,Gofalwyr,Hyb,Iechyd meddwl
ATTACH;FMTTYPE=image/png:https://keepingmewell.com/wp-content/uploads/2023/01/Cardiff-Hubs.png
END:VEVENT
BEGIN:VEVENT
DTSTART;TZID=Europe/London:20290525T103000
DTEND;TZID=Europe/London:20290525T113000
DTSTAMP:20260419T204805
CREATED:20230721T104713Z
LAST-MODIFIED:20231025T075056Z
UID:10026590-1874399400-1874403000@keepingmewell.com
SUMMARY:Cerdded er Lles Iechyd @ Hyb Rhydypennau
DESCRIPTION:Ymunwch â ni am dro ysgafn am 30 – 45 munud o amgylch ardal Rhydypennau / Lakeside. \nGan ddechrau ac yn gorffen wrth y fynedfa i Hyb Rhydypennau. Yna darperir lluniaeth. \nDydd Gwener 10.30am
URL:https://keepingmewell.com/event/cerdded-er-lles-iechyd-hyb-rhydypennau-27/2029-05-25/
LOCATION:Hyb Rhydypennau\, Llandennis Road\, Caerdydd\, CF23 6EG\, United Kingdom
CATEGORIES:Cerdded,Cymraeg,Gweithgarwch Corfforol,Hyb
ATTACH;FMTTYPE=image/png:https://keepingmewell.com/wp-content/uploads/2023/01/Cardiff-Hubs.png
END:VEVENT
BEGIN:VEVENT
DTSTART;TZID=Europe/London:20290528T103000
DTEND;TZID=Europe/London:20290528T113000
DTSTAMP:20260419T204805
CREATED:20231016T102837Z
LAST-MODIFIED:20231016T102837Z
UID:10027292-1874658600-1874662200@keepingmewell.com
SUMMARY:Caffi Dementia @ Hyb Grangetown
DESCRIPTION:Rhannwch frecwast o De\, Coffi\, Tost\, bisgedi a ffrwythau. Mwynhewch sesiwn ymarfer cadair am 10 munud i baratoi ar gyfer gweithgaredd yr wythnos – lliwio oedolion\, gemau bwrdd\, cardiau chwarae\, crefftau neu gelf. \nYna ymunwch â sesiwn canu gyda rhai o ganeuon mwyaf poblogaidd y 1960au. \nCroeso i bawb gan gynnwys gofalwyr.
URL:https://keepingmewell.com/event/caffi-dementia-hyb-grangetown-27/2029-05-28/
LOCATION:Hyb Grangetown\, Plas Havelock\, Grangetown\, Caerdydd\, CF11 6PA\, United Kingdom
CATEGORIES:Cymraeg,Demensia,Gofalwyr,Hyb,Iechyd meddwl
ATTACH;FMTTYPE=image/png:https://keepingmewell.com/wp-content/uploads/2023/01/Cardiff-Hubs.png
END:VEVENT
BEGIN:VEVENT
DTSTART;TZID=Europe/London:20290601T103000
DTEND;TZID=Europe/London:20290601T113000
DTSTAMP:20260419T204805
CREATED:20230721T104713Z
LAST-MODIFIED:20231025T075056Z
UID:10026591-1875004200-1875007800@keepingmewell.com
SUMMARY:Cerdded er Lles Iechyd @ Hyb Rhydypennau
DESCRIPTION:Ymunwch â ni am dro ysgafn am 30 – 45 munud o amgylch ardal Rhydypennau / Lakeside. \nGan ddechrau ac yn gorffen wrth y fynedfa i Hyb Rhydypennau. Yna darperir lluniaeth. \nDydd Gwener 10.30am
URL:https://keepingmewell.com/event/cerdded-er-lles-iechyd-hyb-rhydypennau-27/2029-06-01/
LOCATION:Hyb Rhydypennau\, Llandennis Road\, Caerdydd\, CF23 6EG\, United Kingdom
CATEGORIES:Cerdded,Cymraeg,Gweithgarwch Corfforol,Hyb
ATTACH;FMTTYPE=image/png:https://keepingmewell.com/wp-content/uploads/2023/01/Cardiff-Hubs.png
END:VEVENT
BEGIN:VEVENT
DTSTART;TZID=Europe/London:20290604T103000
DTEND;TZID=Europe/London:20290604T113000
DTSTAMP:20260419T204805
CREATED:20231016T102837Z
LAST-MODIFIED:20231016T102837Z
UID:10027293-1875263400-1875267000@keepingmewell.com
SUMMARY:Caffi Dementia @ Hyb Grangetown
DESCRIPTION:Rhannwch frecwast o De\, Coffi\, Tost\, bisgedi a ffrwythau. Mwynhewch sesiwn ymarfer cadair am 10 munud i baratoi ar gyfer gweithgaredd yr wythnos – lliwio oedolion\, gemau bwrdd\, cardiau chwarae\, crefftau neu gelf. \nYna ymunwch â sesiwn canu gyda rhai o ganeuon mwyaf poblogaidd y 1960au. \nCroeso i bawb gan gynnwys gofalwyr.
URL:https://keepingmewell.com/event/caffi-dementia-hyb-grangetown-27/2029-06-04/
LOCATION:Hyb Grangetown\, Plas Havelock\, Grangetown\, Caerdydd\, CF11 6PA\, United Kingdom
CATEGORIES:Cymraeg,Demensia,Gofalwyr,Hyb,Iechyd meddwl
ATTACH;FMTTYPE=image/png:https://keepingmewell.com/wp-content/uploads/2023/01/Cardiff-Hubs.png
END:VEVENT
BEGIN:VEVENT
DTSTART;TZID=Europe/London:20290608T103000
DTEND;TZID=Europe/London:20290608T113000
DTSTAMP:20260419T204805
CREATED:20230721T104713Z
LAST-MODIFIED:20231025T075056Z
UID:10026592-1875609000-1875612600@keepingmewell.com
SUMMARY:Cerdded er Lles Iechyd @ Hyb Rhydypennau
DESCRIPTION:Ymunwch â ni am dro ysgafn am 30 – 45 munud o amgylch ardal Rhydypennau / Lakeside. \nGan ddechrau ac yn gorffen wrth y fynedfa i Hyb Rhydypennau. Yna darperir lluniaeth. \nDydd Gwener 10.30am
URL:https://keepingmewell.com/event/cerdded-er-lles-iechyd-hyb-rhydypennau-27/2029-06-08/
LOCATION:Hyb Rhydypennau\, Llandennis Road\, Caerdydd\, CF23 6EG\, United Kingdom
CATEGORIES:Cerdded,Cymraeg,Gweithgarwch Corfforol,Hyb
ATTACH;FMTTYPE=image/png:https://keepingmewell.com/wp-content/uploads/2023/01/Cardiff-Hubs.png
END:VEVENT
BEGIN:VEVENT
DTSTART;TZID=Europe/London:20290611T103000
DTEND;TZID=Europe/London:20290611T113000
DTSTAMP:20260419T204805
CREATED:20231016T102837Z
LAST-MODIFIED:20231016T102837Z
UID:10027294-1875868200-1875871800@keepingmewell.com
SUMMARY:Caffi Dementia @ Hyb Grangetown
DESCRIPTION:Rhannwch frecwast o De\, Coffi\, Tost\, bisgedi a ffrwythau. Mwynhewch sesiwn ymarfer cadair am 10 munud i baratoi ar gyfer gweithgaredd yr wythnos – lliwio oedolion\, gemau bwrdd\, cardiau chwarae\, crefftau neu gelf. \nYna ymunwch â sesiwn canu gyda rhai o ganeuon mwyaf poblogaidd y 1960au. \nCroeso i bawb gan gynnwys gofalwyr.
URL:https://keepingmewell.com/event/caffi-dementia-hyb-grangetown-27/2029-06-11/
LOCATION:Hyb Grangetown\, Plas Havelock\, Grangetown\, Caerdydd\, CF11 6PA\, United Kingdom
CATEGORIES:Cymraeg,Demensia,Gofalwyr,Hyb,Iechyd meddwl
ATTACH;FMTTYPE=image/png:https://keepingmewell.com/wp-content/uploads/2023/01/Cardiff-Hubs.png
END:VEVENT
BEGIN:VEVENT
DTSTART;TZID=Europe/London:20290615T103000
DTEND;TZID=Europe/London:20290615T113000
DTSTAMP:20260419T204805
CREATED:20230721T104713Z
LAST-MODIFIED:20231025T075056Z
UID:10026593-1876213800-1876217400@keepingmewell.com
SUMMARY:Cerdded er Lles Iechyd @ Hyb Rhydypennau
DESCRIPTION:Ymunwch â ni am dro ysgafn am 30 – 45 munud o amgylch ardal Rhydypennau / Lakeside. \nGan ddechrau ac yn gorffen wrth y fynedfa i Hyb Rhydypennau. Yna darperir lluniaeth. \nDydd Gwener 10.30am
URL:https://keepingmewell.com/event/cerdded-er-lles-iechyd-hyb-rhydypennau-27/2029-06-15/
LOCATION:Hyb Rhydypennau\, Llandennis Road\, Caerdydd\, CF23 6EG\, United Kingdom
CATEGORIES:Cerdded,Cymraeg,Gweithgarwch Corfforol,Hyb
ATTACH;FMTTYPE=image/png:https://keepingmewell.com/wp-content/uploads/2023/01/Cardiff-Hubs.png
END:VEVENT
END:VCALENDAR