BEGIN:VCALENDAR
VERSION:2.0
PRODID:-//Keeping Me Well - ECPv6.15.20//NONSGML v1.0//EN
CALSCALE:GREGORIAN
METHOD:PUBLISH
X-ORIGINAL-URL:https://keepingmewell.com
X-WR-CALDESC:Events for Keeping Me Well
REFRESH-INTERVAL;VALUE=DURATION:PT1H
X-Robots-Tag:noindex
X-PUBLISHED-TTL:PT1H
BEGIN:VTIMEZONE
TZID:Europe/London
BEGIN:DAYLIGHT
TZOFFSETFROM:+0000
TZOFFSETTO:+0100
TZNAME:BST
DTSTART:20280326T010000
END:DAYLIGHT
BEGIN:STANDARD
TZOFFSETFROM:+0100
TZOFFSETTO:+0000
TZNAME:GMT
DTSTART:20281029T010000
END:STANDARD
BEGIN:DAYLIGHT
TZOFFSETFROM:+0000
TZOFFSETTO:+0100
TZNAME:BST
DTSTART:20290325T010000
END:DAYLIGHT
BEGIN:STANDARD
TZOFFSETFROM:+0100
TZOFFSETTO:+0000
TZNAME:GMT
DTSTART:20291028T010000
END:STANDARD
BEGIN:DAYLIGHT
TZOFFSETFROM:+0000
TZOFFSETTO:+0100
TZNAME:BST
DTSTART:20300331T010000
END:DAYLIGHT
BEGIN:STANDARD
TZOFFSETFROM:+0100
TZOFFSETTO:+0000
TZNAME:GMT
DTSTART:20301027T010000
END:STANDARD
END:VTIMEZONE
BEGIN:VEVENT
DTSTART;TZID=Europe/London:20290824T103000
DTEND;TZID=Europe/London:20290824T113000
DTSTAMP:20260421T062407
CREATED:20230721T104713Z
LAST-MODIFIED:20231025T075056Z
UID:10026603-1882261800-1882265400@keepingmewell.com
SUMMARY:Cerdded er Lles Iechyd @ Hyb Rhydypennau
DESCRIPTION:Ymunwch â ni am dro ysgafn am 30 – 45 munud o amgylch ardal Rhydypennau / Lakeside. \nGan ddechrau ac yn gorffen wrth y fynedfa i Hyb Rhydypennau. Yna darperir lluniaeth. \nDydd Gwener 10.30am
URL:https://keepingmewell.com/event/cerdded-er-lles-iechyd-hyb-rhydypennau-27/2029-08-24/
LOCATION:Hyb Rhydypennau\, Llandennis Road\, Caerdydd\, CF23 6EG\, United Kingdom
CATEGORIES:Cerdded,Cymraeg,Gweithgarwch Corfforol,Hyb
ATTACH;FMTTYPE=image/png:https://keepingmewell.com/wp-content/uploads/2023/01/Cardiff-Hubs.png
END:VEVENT
BEGIN:VEVENT
DTSTART;TZID=Europe/London:20290827T103000
DTEND;TZID=Europe/London:20290827T113000
DTSTAMP:20260421T062407
CREATED:20231016T102837Z
LAST-MODIFIED:20231016T102837Z
UID:10027305-1882521000-1882524600@keepingmewell.com
SUMMARY:Caffi Dementia @ Hyb Grangetown
DESCRIPTION:Rhannwch frecwast o De\, Coffi\, Tost\, bisgedi a ffrwythau. Mwynhewch sesiwn ymarfer cadair am 10 munud i baratoi ar gyfer gweithgaredd yr wythnos – lliwio oedolion\, gemau bwrdd\, cardiau chwarae\, crefftau neu gelf. \nYna ymunwch â sesiwn canu gyda rhai o ganeuon mwyaf poblogaidd y 1960au. \nCroeso i bawb gan gynnwys gofalwyr.
URL:https://keepingmewell.com/event/caffi-dementia-hyb-grangetown-27/2029-08-27/
LOCATION:Hyb Grangetown\, Plas Havelock\, Grangetown\, Caerdydd\, CF11 6PA\, United Kingdom
CATEGORIES:Cymraeg,Demensia,Gofalwyr,Hyb,Iechyd meddwl
ATTACH;FMTTYPE=image/png:https://keepingmewell.com/wp-content/uploads/2023/01/Cardiff-Hubs.png
END:VEVENT
BEGIN:VEVENT
DTSTART;TZID=Europe/London:20290831T103000
DTEND;TZID=Europe/London:20290831T113000
DTSTAMP:20260421T062407
CREATED:20230721T104713Z
LAST-MODIFIED:20231025T075056Z
UID:10026604-1882866600-1882870200@keepingmewell.com
SUMMARY:Cerdded er Lles Iechyd @ Hyb Rhydypennau
DESCRIPTION:Ymunwch â ni am dro ysgafn am 30 – 45 munud o amgylch ardal Rhydypennau / Lakeside. \nGan ddechrau ac yn gorffen wrth y fynedfa i Hyb Rhydypennau. Yna darperir lluniaeth. \nDydd Gwener 10.30am
URL:https://keepingmewell.com/event/cerdded-er-lles-iechyd-hyb-rhydypennau-27/2029-08-31/
LOCATION:Hyb Rhydypennau\, Llandennis Road\, Caerdydd\, CF23 6EG\, United Kingdom
CATEGORIES:Cerdded,Cymraeg,Gweithgarwch Corfforol,Hyb
ATTACH;FMTTYPE=image/png:https://keepingmewell.com/wp-content/uploads/2023/01/Cardiff-Hubs.png
END:VEVENT
BEGIN:VEVENT
DTSTART;TZID=Europe/London:20290903T103000
DTEND;TZID=Europe/London:20290903T113000
DTSTAMP:20260421T062407
CREATED:20231016T102837Z
LAST-MODIFIED:20231016T102837Z
UID:10027306-1883125800-1883129400@keepingmewell.com
SUMMARY:Caffi Dementia @ Hyb Grangetown
DESCRIPTION:Rhannwch frecwast o De\, Coffi\, Tost\, bisgedi a ffrwythau. Mwynhewch sesiwn ymarfer cadair am 10 munud i baratoi ar gyfer gweithgaredd yr wythnos – lliwio oedolion\, gemau bwrdd\, cardiau chwarae\, crefftau neu gelf. \nYna ymunwch â sesiwn canu gyda rhai o ganeuon mwyaf poblogaidd y 1960au. \nCroeso i bawb gan gynnwys gofalwyr.
URL:https://keepingmewell.com/event/caffi-dementia-hyb-grangetown-27/2029-09-03/
LOCATION:Hyb Grangetown\, Plas Havelock\, Grangetown\, Caerdydd\, CF11 6PA\, United Kingdom
CATEGORIES:Cymraeg,Demensia,Gofalwyr,Hyb,Iechyd meddwl
ATTACH;FMTTYPE=image/png:https://keepingmewell.com/wp-content/uploads/2023/01/Cardiff-Hubs.png
END:VEVENT
BEGIN:VEVENT
DTSTART;TZID=Europe/London:20290907T103000
DTEND;TZID=Europe/London:20290907T113000
DTSTAMP:20260421T062407
CREATED:20230721T104713Z
LAST-MODIFIED:20231025T075056Z
UID:10026605-1883471400-1883475000@keepingmewell.com
SUMMARY:Cerdded er Lles Iechyd @ Hyb Rhydypennau
DESCRIPTION:Ymunwch â ni am dro ysgafn am 30 – 45 munud o amgylch ardal Rhydypennau / Lakeside. \nGan ddechrau ac yn gorffen wrth y fynedfa i Hyb Rhydypennau. Yna darperir lluniaeth. \nDydd Gwener 10.30am
URL:https://keepingmewell.com/event/cerdded-er-lles-iechyd-hyb-rhydypennau-27/2029-09-07/
LOCATION:Hyb Rhydypennau\, Llandennis Road\, Caerdydd\, CF23 6EG\, United Kingdom
CATEGORIES:Cerdded,Cymraeg,Gweithgarwch Corfforol,Hyb
ATTACH;FMTTYPE=image/png:https://keepingmewell.com/wp-content/uploads/2023/01/Cardiff-Hubs.png
END:VEVENT
BEGIN:VEVENT
DTSTART;TZID=Europe/London:20290910T103000
DTEND;TZID=Europe/London:20290910T113000
DTSTAMP:20260421T062407
CREATED:20231016T102837Z
LAST-MODIFIED:20231016T102837Z
UID:10027307-1883730600-1883734200@keepingmewell.com
SUMMARY:Caffi Dementia @ Hyb Grangetown
DESCRIPTION:Rhannwch frecwast o De\, Coffi\, Tost\, bisgedi a ffrwythau. Mwynhewch sesiwn ymarfer cadair am 10 munud i baratoi ar gyfer gweithgaredd yr wythnos – lliwio oedolion\, gemau bwrdd\, cardiau chwarae\, crefftau neu gelf. \nYna ymunwch â sesiwn canu gyda rhai o ganeuon mwyaf poblogaidd y 1960au. \nCroeso i bawb gan gynnwys gofalwyr.
URL:https://keepingmewell.com/event/caffi-dementia-hyb-grangetown-27/2029-09-10/
LOCATION:Hyb Grangetown\, Plas Havelock\, Grangetown\, Caerdydd\, CF11 6PA\, United Kingdom
CATEGORIES:Cymraeg,Demensia,Gofalwyr,Hyb,Iechyd meddwl
ATTACH;FMTTYPE=image/png:https://keepingmewell.com/wp-content/uploads/2023/01/Cardiff-Hubs.png
END:VEVENT
BEGIN:VEVENT
DTSTART;TZID=Europe/London:20290914T103000
DTEND;TZID=Europe/London:20290914T113000
DTSTAMP:20260421T062407
CREATED:20230721T104713Z
LAST-MODIFIED:20231025T075056Z
UID:10026606-1884076200-1884079800@keepingmewell.com
SUMMARY:Cerdded er Lles Iechyd @ Hyb Rhydypennau
DESCRIPTION:Ymunwch â ni am dro ysgafn am 30 – 45 munud o amgylch ardal Rhydypennau / Lakeside. \nGan ddechrau ac yn gorffen wrth y fynedfa i Hyb Rhydypennau. Yna darperir lluniaeth. \nDydd Gwener 10.30am
URL:https://keepingmewell.com/event/cerdded-er-lles-iechyd-hyb-rhydypennau-27/2029-09-14/
LOCATION:Hyb Rhydypennau\, Llandennis Road\, Caerdydd\, CF23 6EG\, United Kingdom
CATEGORIES:Cerdded,Cymraeg,Gweithgarwch Corfforol,Hyb
ATTACH;FMTTYPE=image/png:https://keepingmewell.com/wp-content/uploads/2023/01/Cardiff-Hubs.png
END:VEVENT
BEGIN:VEVENT
DTSTART;TZID=Europe/London:20290917T103000
DTEND;TZID=Europe/London:20290917T113000
DTSTAMP:20260421T062407
CREATED:20231016T102837Z
LAST-MODIFIED:20231016T102837Z
UID:10027308-1884335400-1884339000@keepingmewell.com
SUMMARY:Caffi Dementia @ Hyb Grangetown
DESCRIPTION:Rhannwch frecwast o De\, Coffi\, Tost\, bisgedi a ffrwythau. Mwynhewch sesiwn ymarfer cadair am 10 munud i baratoi ar gyfer gweithgaredd yr wythnos – lliwio oedolion\, gemau bwrdd\, cardiau chwarae\, crefftau neu gelf. \nYna ymunwch â sesiwn canu gyda rhai o ganeuon mwyaf poblogaidd y 1960au. \nCroeso i bawb gan gynnwys gofalwyr.
URL:https://keepingmewell.com/event/caffi-dementia-hyb-grangetown-27/2029-09-17/
LOCATION:Hyb Grangetown\, Plas Havelock\, Grangetown\, Caerdydd\, CF11 6PA\, United Kingdom
CATEGORIES:Cymraeg,Demensia,Gofalwyr,Hyb,Iechyd meddwl
ATTACH;FMTTYPE=image/png:https://keepingmewell.com/wp-content/uploads/2023/01/Cardiff-Hubs.png
END:VEVENT
BEGIN:VEVENT
DTSTART;TZID=Europe/London:20290921T103000
DTEND;TZID=Europe/London:20290921T113000
DTSTAMP:20260421T062407
CREATED:20230721T104713Z
LAST-MODIFIED:20231025T075056Z
UID:10026607-1884681000-1884684600@keepingmewell.com
SUMMARY:Cerdded er Lles Iechyd @ Hyb Rhydypennau
DESCRIPTION:Ymunwch â ni am dro ysgafn am 30 – 45 munud o amgylch ardal Rhydypennau / Lakeside. \nGan ddechrau ac yn gorffen wrth y fynedfa i Hyb Rhydypennau. Yna darperir lluniaeth. \nDydd Gwener 10.30am
URL:https://keepingmewell.com/event/cerdded-er-lles-iechyd-hyb-rhydypennau-27/2029-09-21/
LOCATION:Hyb Rhydypennau\, Llandennis Road\, Caerdydd\, CF23 6EG\, United Kingdom
CATEGORIES:Cerdded,Cymraeg,Gweithgarwch Corfforol,Hyb
ATTACH;FMTTYPE=image/png:https://keepingmewell.com/wp-content/uploads/2023/01/Cardiff-Hubs.png
END:VEVENT
BEGIN:VEVENT
DTSTART;TZID=Europe/London:20290924T103000
DTEND;TZID=Europe/London:20290924T113000
DTSTAMP:20260421T062407
CREATED:20231016T102837Z
LAST-MODIFIED:20231016T102837Z
UID:10027309-1884940200-1884943800@keepingmewell.com
SUMMARY:Caffi Dementia @ Hyb Grangetown
DESCRIPTION:Rhannwch frecwast o De\, Coffi\, Tost\, bisgedi a ffrwythau. Mwynhewch sesiwn ymarfer cadair am 10 munud i baratoi ar gyfer gweithgaredd yr wythnos – lliwio oedolion\, gemau bwrdd\, cardiau chwarae\, crefftau neu gelf. \nYna ymunwch â sesiwn canu gyda rhai o ganeuon mwyaf poblogaidd y 1960au. \nCroeso i bawb gan gynnwys gofalwyr.
URL:https://keepingmewell.com/event/caffi-dementia-hyb-grangetown-27/2029-09-24/
LOCATION:Hyb Grangetown\, Plas Havelock\, Grangetown\, Caerdydd\, CF11 6PA\, United Kingdom
CATEGORIES:Cymraeg,Demensia,Gofalwyr,Hyb,Iechyd meddwl
ATTACH;FMTTYPE=image/png:https://keepingmewell.com/wp-content/uploads/2023/01/Cardiff-Hubs.png
END:VEVENT
BEGIN:VEVENT
DTSTART;TZID=Europe/London:20290928T103000
DTEND;TZID=Europe/London:20290928T113000
DTSTAMP:20260421T062407
CREATED:20230721T104713Z
LAST-MODIFIED:20231025T075056Z
UID:10026608-1885285800-1885289400@keepingmewell.com
SUMMARY:Cerdded er Lles Iechyd @ Hyb Rhydypennau
DESCRIPTION:Ymunwch â ni am dro ysgafn am 30 – 45 munud o amgylch ardal Rhydypennau / Lakeside. \nGan ddechrau ac yn gorffen wrth y fynedfa i Hyb Rhydypennau. Yna darperir lluniaeth. \nDydd Gwener 10.30am
URL:https://keepingmewell.com/event/cerdded-er-lles-iechyd-hyb-rhydypennau-27/2029-09-28/
LOCATION:Hyb Rhydypennau\, Llandennis Road\, Caerdydd\, CF23 6EG\, United Kingdom
CATEGORIES:Cerdded,Cymraeg,Gweithgarwch Corfforol,Hyb
ATTACH;FMTTYPE=image/png:https://keepingmewell.com/wp-content/uploads/2023/01/Cardiff-Hubs.png
END:VEVENT
BEGIN:VEVENT
DTSTART;TZID=Europe/London:20291001T103000
DTEND;TZID=Europe/London:20291001T113000
DTSTAMP:20260421T062407
CREATED:20231016T102837Z
LAST-MODIFIED:20231016T102837Z
UID:10027310-1885545000-1885548600@keepingmewell.com
SUMMARY:Caffi Dementia @ Hyb Grangetown
DESCRIPTION:Rhannwch frecwast o De\, Coffi\, Tost\, bisgedi a ffrwythau. Mwynhewch sesiwn ymarfer cadair am 10 munud i baratoi ar gyfer gweithgaredd yr wythnos – lliwio oedolion\, gemau bwrdd\, cardiau chwarae\, crefftau neu gelf. \nYna ymunwch â sesiwn canu gyda rhai o ganeuon mwyaf poblogaidd y 1960au. \nCroeso i bawb gan gynnwys gofalwyr.
URL:https://keepingmewell.com/event/caffi-dementia-hyb-grangetown-27/2029-10-01/
LOCATION:Hyb Grangetown\, Plas Havelock\, Grangetown\, Caerdydd\, CF11 6PA\, United Kingdom
CATEGORIES:Cymraeg,Demensia,Gofalwyr,Hyb,Iechyd meddwl
ATTACH;FMTTYPE=image/png:https://keepingmewell.com/wp-content/uploads/2023/01/Cardiff-Hubs.png
END:VEVENT
BEGIN:VEVENT
DTSTART;TZID=Europe/London:20291005T103000
DTEND;TZID=Europe/London:20291005T113000
DTSTAMP:20260421T062407
CREATED:20230721T104713Z
LAST-MODIFIED:20231025T075056Z
UID:10026609-1885890600-1885894200@keepingmewell.com
SUMMARY:Cerdded er Lles Iechyd @ Hyb Rhydypennau
DESCRIPTION:Ymunwch â ni am dro ysgafn am 30 – 45 munud o amgylch ardal Rhydypennau / Lakeside. \nGan ddechrau ac yn gorffen wrth y fynedfa i Hyb Rhydypennau. Yna darperir lluniaeth. \nDydd Gwener 10.30am
URL:https://keepingmewell.com/event/cerdded-er-lles-iechyd-hyb-rhydypennau-27/2029-10-05/
LOCATION:Hyb Rhydypennau\, Llandennis Road\, Caerdydd\, CF23 6EG\, United Kingdom
CATEGORIES:Cerdded,Cymraeg,Gweithgarwch Corfforol,Hyb
ATTACH;FMTTYPE=image/png:https://keepingmewell.com/wp-content/uploads/2023/01/Cardiff-Hubs.png
END:VEVENT
BEGIN:VEVENT
DTSTART;TZID=Europe/London:20291008T103000
DTEND;TZID=Europe/London:20291008T113000
DTSTAMP:20260421T062407
CREATED:20231016T102837Z
LAST-MODIFIED:20231016T102837Z
UID:10027311-1886149800-1886153400@keepingmewell.com
SUMMARY:Caffi Dementia @ Hyb Grangetown
DESCRIPTION:Rhannwch frecwast o De\, Coffi\, Tost\, bisgedi a ffrwythau. Mwynhewch sesiwn ymarfer cadair am 10 munud i baratoi ar gyfer gweithgaredd yr wythnos – lliwio oedolion\, gemau bwrdd\, cardiau chwarae\, crefftau neu gelf. \nYna ymunwch â sesiwn canu gyda rhai o ganeuon mwyaf poblogaidd y 1960au. \nCroeso i bawb gan gynnwys gofalwyr.
URL:https://keepingmewell.com/event/caffi-dementia-hyb-grangetown-27/2029-10-08/
LOCATION:Hyb Grangetown\, Plas Havelock\, Grangetown\, Caerdydd\, CF11 6PA\, United Kingdom
CATEGORIES:Cymraeg,Demensia,Gofalwyr,Hyb,Iechyd meddwl
ATTACH;FMTTYPE=image/png:https://keepingmewell.com/wp-content/uploads/2023/01/Cardiff-Hubs.png
END:VEVENT
BEGIN:VEVENT
DTSTART;TZID=Europe/London:20291012T103000
DTEND;TZID=Europe/London:20291012T113000
DTSTAMP:20260421T062407
CREATED:20230721T104713Z
LAST-MODIFIED:20231025T075056Z
UID:10026610-1886495400-1886499000@keepingmewell.com
SUMMARY:Cerdded er Lles Iechyd @ Hyb Rhydypennau
DESCRIPTION:Ymunwch â ni am dro ysgafn am 30 – 45 munud o amgylch ardal Rhydypennau / Lakeside. \nGan ddechrau ac yn gorffen wrth y fynedfa i Hyb Rhydypennau. Yna darperir lluniaeth. \nDydd Gwener 10.30am
URL:https://keepingmewell.com/event/cerdded-er-lles-iechyd-hyb-rhydypennau-27/2029-10-12/
LOCATION:Hyb Rhydypennau\, Llandennis Road\, Caerdydd\, CF23 6EG\, United Kingdom
CATEGORIES:Cerdded,Cymraeg,Gweithgarwch Corfforol,Hyb
ATTACH;FMTTYPE=image/png:https://keepingmewell.com/wp-content/uploads/2023/01/Cardiff-Hubs.png
END:VEVENT
BEGIN:VEVENT
DTSTART;TZID=Europe/London:20291015T103000
DTEND;TZID=Europe/London:20291015T113000
DTSTAMP:20260421T062407
CREATED:20231016T102837Z
LAST-MODIFIED:20231016T102837Z
UID:10027312-1886754600-1886758200@keepingmewell.com
SUMMARY:Caffi Dementia @ Hyb Grangetown
DESCRIPTION:Rhannwch frecwast o De\, Coffi\, Tost\, bisgedi a ffrwythau. Mwynhewch sesiwn ymarfer cadair am 10 munud i baratoi ar gyfer gweithgaredd yr wythnos – lliwio oedolion\, gemau bwrdd\, cardiau chwarae\, crefftau neu gelf. \nYna ymunwch â sesiwn canu gyda rhai o ganeuon mwyaf poblogaidd y 1960au. \nCroeso i bawb gan gynnwys gofalwyr.
URL:https://keepingmewell.com/event/caffi-dementia-hyb-grangetown-27/2029-10-15/
LOCATION:Hyb Grangetown\, Plas Havelock\, Grangetown\, Caerdydd\, CF11 6PA\, United Kingdom
CATEGORIES:Cymraeg,Demensia,Gofalwyr,Hyb,Iechyd meddwl
ATTACH;FMTTYPE=image/png:https://keepingmewell.com/wp-content/uploads/2023/01/Cardiff-Hubs.png
END:VEVENT
BEGIN:VEVENT
DTSTART;TZID=Europe/London:20291019T103000
DTEND;TZID=Europe/London:20291019T113000
DTSTAMP:20260421T062407
CREATED:20230721T104713Z
LAST-MODIFIED:20231025T075056Z
UID:10026611-1887100200-1887103800@keepingmewell.com
SUMMARY:Cerdded er Lles Iechyd @ Hyb Rhydypennau
DESCRIPTION:Ymunwch â ni am dro ysgafn am 30 – 45 munud o amgylch ardal Rhydypennau / Lakeside. \nGan ddechrau ac yn gorffen wrth y fynedfa i Hyb Rhydypennau. Yna darperir lluniaeth. \nDydd Gwener 10.30am
URL:https://keepingmewell.com/event/cerdded-er-lles-iechyd-hyb-rhydypennau-27/2029-10-19/
LOCATION:Hyb Rhydypennau\, Llandennis Road\, Caerdydd\, CF23 6EG\, United Kingdom
CATEGORIES:Cerdded,Cymraeg,Gweithgarwch Corfforol,Hyb
ATTACH;FMTTYPE=image/png:https://keepingmewell.com/wp-content/uploads/2023/01/Cardiff-Hubs.png
END:VEVENT
BEGIN:VEVENT
DTSTART;TZID=Europe/London:20291022T103000
DTEND;TZID=Europe/London:20291022T113000
DTSTAMP:20260421T062407
CREATED:20231016T102837Z
LAST-MODIFIED:20231016T102837Z
UID:10027313-1887359400-1887363000@keepingmewell.com
SUMMARY:Caffi Dementia @ Hyb Grangetown
DESCRIPTION:Rhannwch frecwast o De\, Coffi\, Tost\, bisgedi a ffrwythau. Mwynhewch sesiwn ymarfer cadair am 10 munud i baratoi ar gyfer gweithgaredd yr wythnos – lliwio oedolion\, gemau bwrdd\, cardiau chwarae\, crefftau neu gelf. \nYna ymunwch â sesiwn canu gyda rhai o ganeuon mwyaf poblogaidd y 1960au. \nCroeso i bawb gan gynnwys gofalwyr.
URL:https://keepingmewell.com/event/caffi-dementia-hyb-grangetown-27/2029-10-22/
LOCATION:Hyb Grangetown\, Plas Havelock\, Grangetown\, Caerdydd\, CF11 6PA\, United Kingdom
CATEGORIES:Cymraeg,Demensia,Gofalwyr,Hyb,Iechyd meddwl
ATTACH;FMTTYPE=image/png:https://keepingmewell.com/wp-content/uploads/2023/01/Cardiff-Hubs.png
END:VEVENT
BEGIN:VEVENT
DTSTART;TZID=Europe/London:20291026T103000
DTEND;TZID=Europe/London:20291026T113000
DTSTAMP:20260421T062407
CREATED:20230721T104713Z
LAST-MODIFIED:20231025T075056Z
UID:10026612-1887705000-1887708600@keepingmewell.com
SUMMARY:Cerdded er Lles Iechyd @ Hyb Rhydypennau
DESCRIPTION:Ymunwch â ni am dro ysgafn am 30 – 45 munud o amgylch ardal Rhydypennau / Lakeside. \nGan ddechrau ac yn gorffen wrth y fynedfa i Hyb Rhydypennau. Yna darperir lluniaeth. \nDydd Gwener 10.30am
URL:https://keepingmewell.com/event/cerdded-er-lles-iechyd-hyb-rhydypennau-27/2029-10-26/
LOCATION:Hyb Rhydypennau\, Llandennis Road\, Caerdydd\, CF23 6EG\, United Kingdom
CATEGORIES:Cerdded,Cymraeg,Gweithgarwch Corfforol,Hyb
ATTACH;FMTTYPE=image/png:https://keepingmewell.com/wp-content/uploads/2023/01/Cardiff-Hubs.png
END:VEVENT
BEGIN:VEVENT
DTSTART;TZID=Europe/London:20291029T103000
DTEND;TZID=Europe/London:20291029T113000
DTSTAMP:20260421T062407
CREATED:20231016T102837Z
LAST-MODIFIED:20231016T102837Z
UID:10027314-1887964200-1887967800@keepingmewell.com
SUMMARY:Caffi Dementia @ Hyb Grangetown
DESCRIPTION:Rhannwch frecwast o De\, Coffi\, Tost\, bisgedi a ffrwythau. Mwynhewch sesiwn ymarfer cadair am 10 munud i baratoi ar gyfer gweithgaredd yr wythnos – lliwio oedolion\, gemau bwrdd\, cardiau chwarae\, crefftau neu gelf. \nYna ymunwch â sesiwn canu gyda rhai o ganeuon mwyaf poblogaidd y 1960au. \nCroeso i bawb gan gynnwys gofalwyr.
URL:https://keepingmewell.com/event/caffi-dementia-hyb-grangetown-27/2029-10-29/
LOCATION:Hyb Grangetown\, Plas Havelock\, Grangetown\, Caerdydd\, CF11 6PA\, United Kingdom
CATEGORIES:Cymraeg,Demensia,Gofalwyr,Hyb,Iechyd meddwl
ATTACH;FMTTYPE=image/png:https://keepingmewell.com/wp-content/uploads/2023/01/Cardiff-Hubs.png
END:VEVENT
BEGIN:VEVENT
DTSTART;TZID=Europe/London:20291102T103000
DTEND;TZID=Europe/London:20291102T113000
DTSTAMP:20260421T062407
CREATED:20230721T104713Z
LAST-MODIFIED:20231025T075056Z
UID:10026613-1888309800-1888313400@keepingmewell.com
SUMMARY:Cerdded er Lles Iechyd @ Hyb Rhydypennau
DESCRIPTION:Ymunwch â ni am dro ysgafn am 30 – 45 munud o amgylch ardal Rhydypennau / Lakeside. \nGan ddechrau ac yn gorffen wrth y fynedfa i Hyb Rhydypennau. Yna darperir lluniaeth. \nDydd Gwener 10.30am
URL:https://keepingmewell.com/event/cerdded-er-lles-iechyd-hyb-rhydypennau-27/2029-11-02/
LOCATION:Hyb Rhydypennau\, Llandennis Road\, Caerdydd\, CF23 6EG\, United Kingdom
CATEGORIES:Cerdded,Cymraeg,Gweithgarwch Corfforol,Hyb
ATTACH;FMTTYPE=image/png:https://keepingmewell.com/wp-content/uploads/2023/01/Cardiff-Hubs.png
END:VEVENT
BEGIN:VEVENT
DTSTART;TZID=Europe/London:20291105T103000
DTEND;TZID=Europe/London:20291105T113000
DTSTAMP:20260421T062407
CREATED:20231016T102837Z
LAST-MODIFIED:20231016T102837Z
UID:10027315-1888569000-1888572600@keepingmewell.com
SUMMARY:Caffi Dementia @ Hyb Grangetown
DESCRIPTION:Rhannwch frecwast o De\, Coffi\, Tost\, bisgedi a ffrwythau. Mwynhewch sesiwn ymarfer cadair am 10 munud i baratoi ar gyfer gweithgaredd yr wythnos – lliwio oedolion\, gemau bwrdd\, cardiau chwarae\, crefftau neu gelf. \nYna ymunwch â sesiwn canu gyda rhai o ganeuon mwyaf poblogaidd y 1960au. \nCroeso i bawb gan gynnwys gofalwyr.
URL:https://keepingmewell.com/event/caffi-dementia-hyb-grangetown-27/2029-11-05/
LOCATION:Hyb Grangetown\, Plas Havelock\, Grangetown\, Caerdydd\, CF11 6PA\, United Kingdom
CATEGORIES:Cymraeg,Demensia,Gofalwyr,Hyb,Iechyd meddwl
ATTACH;FMTTYPE=image/png:https://keepingmewell.com/wp-content/uploads/2023/01/Cardiff-Hubs.png
END:VEVENT
BEGIN:VEVENT
DTSTART;TZID=Europe/London:20291109T103000
DTEND;TZID=Europe/London:20291109T113000
DTSTAMP:20260421T062407
CREATED:20230721T104713Z
LAST-MODIFIED:20231025T075056Z
UID:10026614-1888914600-1888918200@keepingmewell.com
SUMMARY:Cerdded er Lles Iechyd @ Hyb Rhydypennau
DESCRIPTION:Ymunwch â ni am dro ysgafn am 30 – 45 munud o amgylch ardal Rhydypennau / Lakeside. \nGan ddechrau ac yn gorffen wrth y fynedfa i Hyb Rhydypennau. Yna darperir lluniaeth. \nDydd Gwener 10.30am
URL:https://keepingmewell.com/event/cerdded-er-lles-iechyd-hyb-rhydypennau-27/2029-11-09/
LOCATION:Hyb Rhydypennau\, Llandennis Road\, Caerdydd\, CF23 6EG\, United Kingdom
CATEGORIES:Cerdded,Cymraeg,Gweithgarwch Corfforol,Hyb
ATTACH;FMTTYPE=image/png:https://keepingmewell.com/wp-content/uploads/2023/01/Cardiff-Hubs.png
END:VEVENT
BEGIN:VEVENT
DTSTART;TZID=Europe/London:20291112T103000
DTEND;TZID=Europe/London:20291112T113000
DTSTAMP:20260421T062407
CREATED:20231016T102837Z
LAST-MODIFIED:20231016T102837Z
UID:10027316-1889173800-1889177400@keepingmewell.com
SUMMARY:Caffi Dementia @ Hyb Grangetown
DESCRIPTION:Rhannwch frecwast o De\, Coffi\, Tost\, bisgedi a ffrwythau. Mwynhewch sesiwn ymarfer cadair am 10 munud i baratoi ar gyfer gweithgaredd yr wythnos – lliwio oedolion\, gemau bwrdd\, cardiau chwarae\, crefftau neu gelf. \nYna ymunwch â sesiwn canu gyda rhai o ganeuon mwyaf poblogaidd y 1960au. \nCroeso i bawb gan gynnwys gofalwyr.
URL:https://keepingmewell.com/event/caffi-dementia-hyb-grangetown-27/2029-11-12/
LOCATION:Hyb Grangetown\, Plas Havelock\, Grangetown\, Caerdydd\, CF11 6PA\, United Kingdom
CATEGORIES:Cymraeg,Demensia,Gofalwyr,Hyb,Iechyd meddwl
ATTACH;FMTTYPE=image/png:https://keepingmewell.com/wp-content/uploads/2023/01/Cardiff-Hubs.png
END:VEVENT
BEGIN:VEVENT
DTSTART;TZID=Europe/London:20291116T103000
DTEND;TZID=Europe/London:20291116T113000
DTSTAMP:20260421T062407
CREATED:20230721T104713Z
LAST-MODIFIED:20231025T075056Z
UID:10026615-1889519400-1889523000@keepingmewell.com
SUMMARY:Cerdded er Lles Iechyd @ Hyb Rhydypennau
DESCRIPTION:Ymunwch â ni am dro ysgafn am 30 – 45 munud o amgylch ardal Rhydypennau / Lakeside. \nGan ddechrau ac yn gorffen wrth y fynedfa i Hyb Rhydypennau. Yna darperir lluniaeth. \nDydd Gwener 10.30am
URL:https://keepingmewell.com/event/cerdded-er-lles-iechyd-hyb-rhydypennau-27/2029-11-16/
LOCATION:Hyb Rhydypennau\, Llandennis Road\, Caerdydd\, CF23 6EG\, United Kingdom
CATEGORIES:Cerdded,Cymraeg,Gweithgarwch Corfforol,Hyb
ATTACH;FMTTYPE=image/png:https://keepingmewell.com/wp-content/uploads/2023/01/Cardiff-Hubs.png
END:VEVENT
BEGIN:VEVENT
DTSTART;TZID=Europe/London:20291119T103000
DTEND;TZID=Europe/London:20291119T113000
DTSTAMP:20260421T062407
CREATED:20231016T102837Z
LAST-MODIFIED:20231016T102837Z
UID:10027317-1889778600-1889782200@keepingmewell.com
SUMMARY:Caffi Dementia @ Hyb Grangetown
DESCRIPTION:Rhannwch frecwast o De\, Coffi\, Tost\, bisgedi a ffrwythau. Mwynhewch sesiwn ymarfer cadair am 10 munud i baratoi ar gyfer gweithgaredd yr wythnos – lliwio oedolion\, gemau bwrdd\, cardiau chwarae\, crefftau neu gelf. \nYna ymunwch â sesiwn canu gyda rhai o ganeuon mwyaf poblogaidd y 1960au. \nCroeso i bawb gan gynnwys gofalwyr.
URL:https://keepingmewell.com/event/caffi-dementia-hyb-grangetown-27/2029-11-19/
LOCATION:Hyb Grangetown\, Plas Havelock\, Grangetown\, Caerdydd\, CF11 6PA\, United Kingdom
CATEGORIES:Cymraeg,Demensia,Gofalwyr,Hyb,Iechyd meddwl
ATTACH;FMTTYPE=image/png:https://keepingmewell.com/wp-content/uploads/2023/01/Cardiff-Hubs.png
END:VEVENT
BEGIN:VEVENT
DTSTART;TZID=Europe/London:20291123T103000
DTEND;TZID=Europe/London:20291123T113000
DTSTAMP:20260421T062407
CREATED:20230721T104713Z
LAST-MODIFIED:20231025T075056Z
UID:10026616-1890124200-1890127800@keepingmewell.com
SUMMARY:Cerdded er Lles Iechyd @ Hyb Rhydypennau
DESCRIPTION:Ymunwch â ni am dro ysgafn am 30 – 45 munud o amgylch ardal Rhydypennau / Lakeside. \nGan ddechrau ac yn gorffen wrth y fynedfa i Hyb Rhydypennau. Yna darperir lluniaeth. \nDydd Gwener 10.30am
URL:https://keepingmewell.com/event/cerdded-er-lles-iechyd-hyb-rhydypennau-27/2029-11-23/
LOCATION:Hyb Rhydypennau\, Llandennis Road\, Caerdydd\, CF23 6EG\, United Kingdom
CATEGORIES:Cerdded,Cymraeg,Gweithgarwch Corfforol,Hyb
ATTACH;FMTTYPE=image/png:https://keepingmewell.com/wp-content/uploads/2023/01/Cardiff-Hubs.png
END:VEVENT
BEGIN:VEVENT
DTSTART;TZID=Europe/London:20291126T103000
DTEND;TZID=Europe/London:20291126T113000
DTSTAMP:20260421T062407
CREATED:20231016T102837Z
LAST-MODIFIED:20231016T102837Z
UID:10027318-1890383400-1890387000@keepingmewell.com
SUMMARY:Caffi Dementia @ Hyb Grangetown
DESCRIPTION:Rhannwch frecwast o De\, Coffi\, Tost\, bisgedi a ffrwythau. Mwynhewch sesiwn ymarfer cadair am 10 munud i baratoi ar gyfer gweithgaredd yr wythnos – lliwio oedolion\, gemau bwrdd\, cardiau chwarae\, crefftau neu gelf. \nYna ymunwch â sesiwn canu gyda rhai o ganeuon mwyaf poblogaidd y 1960au. \nCroeso i bawb gan gynnwys gofalwyr.
URL:https://keepingmewell.com/event/caffi-dementia-hyb-grangetown-27/2029-11-26/
LOCATION:Hyb Grangetown\, Plas Havelock\, Grangetown\, Caerdydd\, CF11 6PA\, United Kingdom
CATEGORIES:Cymraeg,Demensia,Gofalwyr,Hyb,Iechyd meddwl
ATTACH;FMTTYPE=image/png:https://keepingmewell.com/wp-content/uploads/2023/01/Cardiff-Hubs.png
END:VEVENT
BEGIN:VEVENT
DTSTART;TZID=Europe/London:20291130T103000
DTEND;TZID=Europe/London:20291130T113000
DTSTAMP:20260421T062407
CREATED:20230721T104713Z
LAST-MODIFIED:20231025T075056Z
UID:10026617-1890729000-1890732600@keepingmewell.com
SUMMARY:Cerdded er Lles Iechyd @ Hyb Rhydypennau
DESCRIPTION:Ymunwch â ni am dro ysgafn am 30 – 45 munud o amgylch ardal Rhydypennau / Lakeside. \nGan ddechrau ac yn gorffen wrth y fynedfa i Hyb Rhydypennau. Yna darperir lluniaeth. \nDydd Gwener 10.30am
URL:https://keepingmewell.com/event/cerdded-er-lles-iechyd-hyb-rhydypennau-27/2029-11-30/
LOCATION:Hyb Rhydypennau\, Llandennis Road\, Caerdydd\, CF23 6EG\, United Kingdom
CATEGORIES:Cerdded,Cymraeg,Gweithgarwch Corfforol,Hyb
ATTACH;FMTTYPE=image/png:https://keepingmewell.com/wp-content/uploads/2023/01/Cardiff-Hubs.png
END:VEVENT
BEGIN:VEVENT
DTSTART;TZID=Europe/London:20291203T103000
DTEND;TZID=Europe/London:20291203T113000
DTSTAMP:20260421T062407
CREATED:20231016T102837Z
LAST-MODIFIED:20231016T102837Z
UID:10027319-1890988200-1890991800@keepingmewell.com
SUMMARY:Caffi Dementia @ Hyb Grangetown
DESCRIPTION:Rhannwch frecwast o De\, Coffi\, Tost\, bisgedi a ffrwythau. Mwynhewch sesiwn ymarfer cadair am 10 munud i baratoi ar gyfer gweithgaredd yr wythnos – lliwio oedolion\, gemau bwrdd\, cardiau chwarae\, crefftau neu gelf. \nYna ymunwch â sesiwn canu gyda rhai o ganeuon mwyaf poblogaidd y 1960au. \nCroeso i bawb gan gynnwys gofalwyr.
URL:https://keepingmewell.com/event/caffi-dementia-hyb-grangetown-27/2029-12-03/
LOCATION:Hyb Grangetown\, Plas Havelock\, Grangetown\, Caerdydd\, CF11 6PA\, United Kingdom
CATEGORIES:Cymraeg,Demensia,Gofalwyr,Hyb,Iechyd meddwl
ATTACH;FMTTYPE=image/png:https://keepingmewell.com/wp-content/uploads/2023/01/Cardiff-Hubs.png
END:VEVENT
END:VCALENDAR