BEGIN:VCALENDAR
VERSION:2.0
PRODID:-//Keeping Me Well - ECPv6.15.20//NONSGML v1.0//EN
CALSCALE:GREGORIAN
METHOD:PUBLISH
X-ORIGINAL-URL:https://keepingmewell.com
X-WR-CALDESC:Events for Keeping Me Well
REFRESH-INTERVAL;VALUE=DURATION:PT1H
X-Robots-Tag:noindex
X-PUBLISHED-TTL:PT1H
BEGIN:VTIMEZONE
TZID:Europe/London
BEGIN:DAYLIGHT
TZOFFSETFROM:+0000
TZOFFSETTO:+0100
TZNAME:BST
DTSTART:20290325T010000
END:DAYLIGHT
BEGIN:STANDARD
TZOFFSETFROM:+0100
TZOFFSETTO:+0000
TZNAME:GMT
DTSTART:20291028T010000
END:STANDARD
BEGIN:DAYLIGHT
TZOFFSETFROM:+0000
TZOFFSETTO:+0100
TZNAME:BST
DTSTART:20300331T010000
END:DAYLIGHT
BEGIN:STANDARD
TZOFFSETFROM:+0100
TZOFFSETTO:+0000
TZNAME:GMT
DTSTART:20301027T010000
END:STANDARD
BEGIN:DAYLIGHT
TZOFFSETFROM:+0000
TZOFFSETTO:+0100
TZNAME:BST
DTSTART:20310330T010000
END:DAYLIGHT
BEGIN:STANDARD
TZOFFSETFROM:+0100
TZOFFSETTO:+0000
TZNAME:GMT
DTSTART:20311026T010000
END:STANDARD
END:VTIMEZONE
BEGIN:VEVENT
DTSTART;TZID=Europe/London:20300208T103000
DTEND;TZID=Europe/London:20300208T113000
DTSTAMP:20260423T182030
CREATED:20230721T104713Z
LAST-MODIFIED:20231025T075056Z
UID:10026627-1896777000-1896780600@keepingmewell.com
SUMMARY:Cerdded er Lles Iechyd @ Hyb Rhydypennau
DESCRIPTION:Ymunwch â ni am dro ysgafn am 30 – 45 munud o amgylch ardal Rhydypennau / Lakeside. \nGan ddechrau ac yn gorffen wrth y fynedfa i Hyb Rhydypennau. Yna darperir lluniaeth. \nDydd Gwener 10.30am
URL:https://keepingmewell.com/event/cerdded-er-lles-iechyd-hyb-rhydypennau-27/2030-02-08/
LOCATION:Hyb Rhydypennau\, Llandennis Road\, Caerdydd\, CF23 6EG\, United Kingdom
CATEGORIES:Cerdded,Cymraeg,Gweithgarwch Corfforol,Hyb
ATTACH;FMTTYPE=image/png:https://keepingmewell.com/wp-content/uploads/2023/01/Cardiff-Hubs.png
END:VEVENT
BEGIN:VEVENT
DTSTART;TZID=Europe/London:20300211T103000
DTEND;TZID=Europe/London:20300211T113000
DTSTAMP:20260423T182030
CREATED:20231016T102837Z
LAST-MODIFIED:20231016T102837Z
UID:10027329-1897036200-1897039800@keepingmewell.com
SUMMARY:Caffi Dementia @ Hyb Grangetown
DESCRIPTION:Rhannwch frecwast o De\, Coffi\, Tost\, bisgedi a ffrwythau. Mwynhewch sesiwn ymarfer cadair am 10 munud i baratoi ar gyfer gweithgaredd yr wythnos – lliwio oedolion\, gemau bwrdd\, cardiau chwarae\, crefftau neu gelf. \nYna ymunwch â sesiwn canu gyda rhai o ganeuon mwyaf poblogaidd y 1960au. \nCroeso i bawb gan gynnwys gofalwyr.
URL:https://keepingmewell.com/event/caffi-dementia-hyb-grangetown-27/2030-02-11/
LOCATION:Hyb Grangetown\, Plas Havelock\, Grangetown\, Caerdydd\, CF11 6PA\, United Kingdom
CATEGORIES:Cymraeg,Demensia,Gofalwyr,Hyb,Iechyd meddwl
ATTACH;FMTTYPE=image/png:https://keepingmewell.com/wp-content/uploads/2023/01/Cardiff-Hubs.png
END:VEVENT
BEGIN:VEVENT
DTSTART;TZID=Europe/London:20300215T103000
DTEND;TZID=Europe/London:20300215T113000
DTSTAMP:20260423T182030
CREATED:20230721T104713Z
LAST-MODIFIED:20231025T075056Z
UID:10026628-1897381800-1897385400@keepingmewell.com
SUMMARY:Cerdded er Lles Iechyd @ Hyb Rhydypennau
DESCRIPTION:Ymunwch â ni am dro ysgafn am 30 – 45 munud o amgylch ardal Rhydypennau / Lakeside. \nGan ddechrau ac yn gorffen wrth y fynedfa i Hyb Rhydypennau. Yna darperir lluniaeth. \nDydd Gwener 10.30am
URL:https://keepingmewell.com/event/cerdded-er-lles-iechyd-hyb-rhydypennau-27/2030-02-15/
LOCATION:Hyb Rhydypennau\, Llandennis Road\, Caerdydd\, CF23 6EG\, United Kingdom
CATEGORIES:Cerdded,Cymraeg,Gweithgarwch Corfforol,Hyb
ATTACH;FMTTYPE=image/png:https://keepingmewell.com/wp-content/uploads/2023/01/Cardiff-Hubs.png
END:VEVENT
BEGIN:VEVENT
DTSTART;TZID=Europe/London:20300218T103000
DTEND;TZID=Europe/London:20300218T113000
DTSTAMP:20260423T182030
CREATED:20231016T102837Z
LAST-MODIFIED:20231016T102837Z
UID:10027330-1897641000-1897644600@keepingmewell.com
SUMMARY:Caffi Dementia @ Hyb Grangetown
DESCRIPTION:Rhannwch frecwast o De\, Coffi\, Tost\, bisgedi a ffrwythau. Mwynhewch sesiwn ymarfer cadair am 10 munud i baratoi ar gyfer gweithgaredd yr wythnos – lliwio oedolion\, gemau bwrdd\, cardiau chwarae\, crefftau neu gelf. \nYna ymunwch â sesiwn canu gyda rhai o ganeuon mwyaf poblogaidd y 1960au. \nCroeso i bawb gan gynnwys gofalwyr.
URL:https://keepingmewell.com/event/caffi-dementia-hyb-grangetown-27/2030-02-18/
LOCATION:Hyb Grangetown\, Plas Havelock\, Grangetown\, Caerdydd\, CF11 6PA\, United Kingdom
CATEGORIES:Cymraeg,Demensia,Gofalwyr,Hyb,Iechyd meddwl
ATTACH;FMTTYPE=image/png:https://keepingmewell.com/wp-content/uploads/2023/01/Cardiff-Hubs.png
END:VEVENT
BEGIN:VEVENT
DTSTART;TZID=Europe/London:20300222T103000
DTEND;TZID=Europe/London:20300222T113000
DTSTAMP:20260423T182030
CREATED:20230721T104713Z
LAST-MODIFIED:20231025T075056Z
UID:10026629-1897986600-1897990200@keepingmewell.com
SUMMARY:Cerdded er Lles Iechyd @ Hyb Rhydypennau
DESCRIPTION:Ymunwch â ni am dro ysgafn am 30 – 45 munud o amgylch ardal Rhydypennau / Lakeside. \nGan ddechrau ac yn gorffen wrth y fynedfa i Hyb Rhydypennau. Yna darperir lluniaeth. \nDydd Gwener 10.30am
URL:https://keepingmewell.com/event/cerdded-er-lles-iechyd-hyb-rhydypennau-27/2030-02-22/
LOCATION:Hyb Rhydypennau\, Llandennis Road\, Caerdydd\, CF23 6EG\, United Kingdom
CATEGORIES:Cerdded,Cymraeg,Gweithgarwch Corfforol,Hyb
ATTACH;FMTTYPE=image/png:https://keepingmewell.com/wp-content/uploads/2023/01/Cardiff-Hubs.png
END:VEVENT
BEGIN:VEVENT
DTSTART;TZID=Europe/London:20300225T103000
DTEND;TZID=Europe/London:20300225T113000
DTSTAMP:20260423T182030
CREATED:20231016T102837Z
LAST-MODIFIED:20231016T102837Z
UID:10027331-1898245800-1898249400@keepingmewell.com
SUMMARY:Caffi Dementia @ Hyb Grangetown
DESCRIPTION:Rhannwch frecwast o De\, Coffi\, Tost\, bisgedi a ffrwythau. Mwynhewch sesiwn ymarfer cadair am 10 munud i baratoi ar gyfer gweithgaredd yr wythnos – lliwio oedolion\, gemau bwrdd\, cardiau chwarae\, crefftau neu gelf. \nYna ymunwch â sesiwn canu gyda rhai o ganeuon mwyaf poblogaidd y 1960au. \nCroeso i bawb gan gynnwys gofalwyr.
URL:https://keepingmewell.com/event/caffi-dementia-hyb-grangetown-27/2030-02-25/
LOCATION:Hyb Grangetown\, Plas Havelock\, Grangetown\, Caerdydd\, CF11 6PA\, United Kingdom
CATEGORIES:Cymraeg,Demensia,Gofalwyr,Hyb,Iechyd meddwl
ATTACH;FMTTYPE=image/png:https://keepingmewell.com/wp-content/uploads/2023/01/Cardiff-Hubs.png
END:VEVENT
BEGIN:VEVENT
DTSTART;TZID=Europe/London:20300301T103000
DTEND;TZID=Europe/London:20300301T113000
DTSTAMP:20260423T182030
CREATED:20230721T104713Z
LAST-MODIFIED:20231025T075056Z
UID:10026630-1898591400-1898595000@keepingmewell.com
SUMMARY:Cerdded er Lles Iechyd @ Hyb Rhydypennau
DESCRIPTION:Ymunwch â ni am dro ysgafn am 30 – 45 munud o amgylch ardal Rhydypennau / Lakeside. \nGan ddechrau ac yn gorffen wrth y fynedfa i Hyb Rhydypennau. Yna darperir lluniaeth. \nDydd Gwener 10.30am
URL:https://keepingmewell.com/event/cerdded-er-lles-iechyd-hyb-rhydypennau-27/2030-03-01/
LOCATION:Hyb Rhydypennau\, Llandennis Road\, Caerdydd\, CF23 6EG\, United Kingdom
CATEGORIES:Cerdded,Cymraeg,Gweithgarwch Corfforol,Hyb
ATTACH;FMTTYPE=image/png:https://keepingmewell.com/wp-content/uploads/2023/01/Cardiff-Hubs.png
END:VEVENT
BEGIN:VEVENT
DTSTART;TZID=Europe/London:20300304T103000
DTEND;TZID=Europe/London:20300304T113000
DTSTAMP:20260423T182030
CREATED:20231016T102837Z
LAST-MODIFIED:20231016T102837Z
UID:10027332-1898850600-1898854200@keepingmewell.com
SUMMARY:Caffi Dementia @ Hyb Grangetown
DESCRIPTION:Rhannwch frecwast o De\, Coffi\, Tost\, bisgedi a ffrwythau. Mwynhewch sesiwn ymarfer cadair am 10 munud i baratoi ar gyfer gweithgaredd yr wythnos – lliwio oedolion\, gemau bwrdd\, cardiau chwarae\, crefftau neu gelf. \nYna ymunwch â sesiwn canu gyda rhai o ganeuon mwyaf poblogaidd y 1960au. \nCroeso i bawb gan gynnwys gofalwyr.
URL:https://keepingmewell.com/event/caffi-dementia-hyb-grangetown-27/2030-03-04/
LOCATION:Hyb Grangetown\, Plas Havelock\, Grangetown\, Caerdydd\, CF11 6PA\, United Kingdom
CATEGORIES:Cymraeg,Demensia,Gofalwyr,Hyb,Iechyd meddwl
ATTACH;FMTTYPE=image/png:https://keepingmewell.com/wp-content/uploads/2023/01/Cardiff-Hubs.png
END:VEVENT
BEGIN:VEVENT
DTSTART;TZID=Europe/London:20300308T103000
DTEND;TZID=Europe/London:20300308T113000
DTSTAMP:20260423T182030
CREATED:20230721T104713Z
LAST-MODIFIED:20231025T075056Z
UID:10026631-1899196200-1899199800@keepingmewell.com
SUMMARY:Cerdded er Lles Iechyd @ Hyb Rhydypennau
DESCRIPTION:Ymunwch â ni am dro ysgafn am 30 – 45 munud o amgylch ardal Rhydypennau / Lakeside. \nGan ddechrau ac yn gorffen wrth y fynedfa i Hyb Rhydypennau. Yna darperir lluniaeth. \nDydd Gwener 10.30am
URL:https://keepingmewell.com/event/cerdded-er-lles-iechyd-hyb-rhydypennau-27/2030-03-08/
LOCATION:Hyb Rhydypennau\, Llandennis Road\, Caerdydd\, CF23 6EG\, United Kingdom
CATEGORIES:Cerdded,Cymraeg,Gweithgarwch Corfforol,Hyb
ATTACH;FMTTYPE=image/png:https://keepingmewell.com/wp-content/uploads/2023/01/Cardiff-Hubs.png
END:VEVENT
BEGIN:VEVENT
DTSTART;TZID=Europe/London:20300311T103000
DTEND;TZID=Europe/London:20300311T113000
DTSTAMP:20260423T182030
CREATED:20231016T102837Z
LAST-MODIFIED:20231016T102837Z
UID:10027333-1899455400-1899459000@keepingmewell.com
SUMMARY:Caffi Dementia @ Hyb Grangetown
DESCRIPTION:Rhannwch frecwast o De\, Coffi\, Tost\, bisgedi a ffrwythau. Mwynhewch sesiwn ymarfer cadair am 10 munud i baratoi ar gyfer gweithgaredd yr wythnos – lliwio oedolion\, gemau bwrdd\, cardiau chwarae\, crefftau neu gelf. \nYna ymunwch â sesiwn canu gyda rhai o ganeuon mwyaf poblogaidd y 1960au. \nCroeso i bawb gan gynnwys gofalwyr.
URL:https://keepingmewell.com/event/caffi-dementia-hyb-grangetown-27/2030-03-11/
LOCATION:Hyb Grangetown\, Plas Havelock\, Grangetown\, Caerdydd\, CF11 6PA\, United Kingdom
CATEGORIES:Cymraeg,Demensia,Gofalwyr,Hyb,Iechyd meddwl
ATTACH;FMTTYPE=image/png:https://keepingmewell.com/wp-content/uploads/2023/01/Cardiff-Hubs.png
END:VEVENT
BEGIN:VEVENT
DTSTART;TZID=Europe/London:20300315T103000
DTEND;TZID=Europe/London:20300315T113000
DTSTAMP:20260423T182030
CREATED:20230721T104713Z
LAST-MODIFIED:20231025T075056Z
UID:10026632-1899801000-1899804600@keepingmewell.com
SUMMARY:Cerdded er Lles Iechyd @ Hyb Rhydypennau
DESCRIPTION:Ymunwch â ni am dro ysgafn am 30 – 45 munud o amgylch ardal Rhydypennau / Lakeside. \nGan ddechrau ac yn gorffen wrth y fynedfa i Hyb Rhydypennau. Yna darperir lluniaeth. \nDydd Gwener 10.30am
URL:https://keepingmewell.com/event/cerdded-er-lles-iechyd-hyb-rhydypennau-27/2030-03-15/
LOCATION:Hyb Rhydypennau\, Llandennis Road\, Caerdydd\, CF23 6EG\, United Kingdom
CATEGORIES:Cerdded,Cymraeg,Gweithgarwch Corfforol,Hyb
ATTACH;FMTTYPE=image/png:https://keepingmewell.com/wp-content/uploads/2023/01/Cardiff-Hubs.png
END:VEVENT
BEGIN:VEVENT
DTSTART;TZID=Europe/London:20300318T103000
DTEND;TZID=Europe/London:20300318T113000
DTSTAMP:20260423T182030
CREATED:20231016T102837Z
LAST-MODIFIED:20231016T102837Z
UID:10027334-1900060200-1900063800@keepingmewell.com
SUMMARY:Caffi Dementia @ Hyb Grangetown
DESCRIPTION:Rhannwch frecwast o De\, Coffi\, Tost\, bisgedi a ffrwythau. Mwynhewch sesiwn ymarfer cadair am 10 munud i baratoi ar gyfer gweithgaredd yr wythnos – lliwio oedolion\, gemau bwrdd\, cardiau chwarae\, crefftau neu gelf. \nYna ymunwch â sesiwn canu gyda rhai o ganeuon mwyaf poblogaidd y 1960au. \nCroeso i bawb gan gynnwys gofalwyr.
URL:https://keepingmewell.com/event/caffi-dementia-hyb-grangetown-27/2030-03-18/
LOCATION:Hyb Grangetown\, Plas Havelock\, Grangetown\, Caerdydd\, CF11 6PA\, United Kingdom
CATEGORIES:Cymraeg,Demensia,Gofalwyr,Hyb,Iechyd meddwl
ATTACH;FMTTYPE=image/png:https://keepingmewell.com/wp-content/uploads/2023/01/Cardiff-Hubs.png
END:VEVENT
BEGIN:VEVENT
DTSTART;TZID=Europe/London:20300322T103000
DTEND;TZID=Europe/London:20300322T113000
DTSTAMP:20260423T182030
CREATED:20230721T104713Z
LAST-MODIFIED:20231025T075056Z
UID:10026633-1900405800-1900409400@keepingmewell.com
SUMMARY:Cerdded er Lles Iechyd @ Hyb Rhydypennau
DESCRIPTION:Ymunwch â ni am dro ysgafn am 30 – 45 munud o amgylch ardal Rhydypennau / Lakeside. \nGan ddechrau ac yn gorffen wrth y fynedfa i Hyb Rhydypennau. Yna darperir lluniaeth. \nDydd Gwener 10.30am
URL:https://keepingmewell.com/event/cerdded-er-lles-iechyd-hyb-rhydypennau-27/2030-03-22/
LOCATION:Hyb Rhydypennau\, Llandennis Road\, Caerdydd\, CF23 6EG\, United Kingdom
CATEGORIES:Cerdded,Cymraeg,Gweithgarwch Corfforol,Hyb
ATTACH;FMTTYPE=image/png:https://keepingmewell.com/wp-content/uploads/2023/01/Cardiff-Hubs.png
END:VEVENT
BEGIN:VEVENT
DTSTART;TZID=Europe/London:20300325T103000
DTEND;TZID=Europe/London:20300325T113000
DTSTAMP:20260423T182030
CREATED:20231016T102837Z
LAST-MODIFIED:20231016T102837Z
UID:10027335-1900665000-1900668600@keepingmewell.com
SUMMARY:Caffi Dementia @ Hyb Grangetown
DESCRIPTION:Rhannwch frecwast o De\, Coffi\, Tost\, bisgedi a ffrwythau. Mwynhewch sesiwn ymarfer cadair am 10 munud i baratoi ar gyfer gweithgaredd yr wythnos – lliwio oedolion\, gemau bwrdd\, cardiau chwarae\, crefftau neu gelf. \nYna ymunwch â sesiwn canu gyda rhai o ganeuon mwyaf poblogaidd y 1960au. \nCroeso i bawb gan gynnwys gofalwyr.
URL:https://keepingmewell.com/event/caffi-dementia-hyb-grangetown-27/2030-03-25/
LOCATION:Hyb Grangetown\, Plas Havelock\, Grangetown\, Caerdydd\, CF11 6PA\, United Kingdom
CATEGORIES:Cymraeg,Demensia,Gofalwyr,Hyb,Iechyd meddwl
ATTACH;FMTTYPE=image/png:https://keepingmewell.com/wp-content/uploads/2023/01/Cardiff-Hubs.png
END:VEVENT
BEGIN:VEVENT
DTSTART;TZID=Europe/London:20300329T103000
DTEND;TZID=Europe/London:20300329T113000
DTSTAMP:20260423T182030
CREATED:20230721T104713Z
LAST-MODIFIED:20231025T075056Z
UID:10026634-1901010600-1901014200@keepingmewell.com
SUMMARY:Cerdded er Lles Iechyd @ Hyb Rhydypennau
DESCRIPTION:Ymunwch â ni am dro ysgafn am 30 – 45 munud o amgylch ardal Rhydypennau / Lakeside. \nGan ddechrau ac yn gorffen wrth y fynedfa i Hyb Rhydypennau. Yna darperir lluniaeth. \nDydd Gwener 10.30am
URL:https://keepingmewell.com/event/cerdded-er-lles-iechyd-hyb-rhydypennau-27/2030-03-29/
LOCATION:Hyb Rhydypennau\, Llandennis Road\, Caerdydd\, CF23 6EG\, United Kingdom
CATEGORIES:Cerdded,Cymraeg,Gweithgarwch Corfforol,Hyb
ATTACH;FMTTYPE=image/png:https://keepingmewell.com/wp-content/uploads/2023/01/Cardiff-Hubs.png
END:VEVENT
BEGIN:VEVENT
DTSTART;TZID=Europe/London:20300401T103000
DTEND;TZID=Europe/London:20300401T113000
DTSTAMP:20260423T182030
CREATED:20231016T102837Z
LAST-MODIFIED:20231016T102837Z
UID:10027336-1901269800-1901273400@keepingmewell.com
SUMMARY:Caffi Dementia @ Hyb Grangetown
DESCRIPTION:Rhannwch frecwast o De\, Coffi\, Tost\, bisgedi a ffrwythau. Mwynhewch sesiwn ymarfer cadair am 10 munud i baratoi ar gyfer gweithgaredd yr wythnos – lliwio oedolion\, gemau bwrdd\, cardiau chwarae\, crefftau neu gelf. \nYna ymunwch â sesiwn canu gyda rhai o ganeuon mwyaf poblogaidd y 1960au. \nCroeso i bawb gan gynnwys gofalwyr.
URL:https://keepingmewell.com/event/caffi-dementia-hyb-grangetown-27/2030-04-01/
LOCATION:Hyb Grangetown\, Plas Havelock\, Grangetown\, Caerdydd\, CF11 6PA\, United Kingdom
CATEGORIES:Cymraeg,Demensia,Gofalwyr,Hyb,Iechyd meddwl
ATTACH;FMTTYPE=image/png:https://keepingmewell.com/wp-content/uploads/2023/01/Cardiff-Hubs.png
END:VEVENT
BEGIN:VEVENT
DTSTART;TZID=Europe/London:20300405T103000
DTEND;TZID=Europe/London:20300405T113000
DTSTAMP:20260423T182030
CREATED:20230721T104713Z
LAST-MODIFIED:20231025T075056Z
UID:10026635-1901615400-1901619000@keepingmewell.com
SUMMARY:Cerdded er Lles Iechyd @ Hyb Rhydypennau
DESCRIPTION:Ymunwch â ni am dro ysgafn am 30 – 45 munud o amgylch ardal Rhydypennau / Lakeside. \nGan ddechrau ac yn gorffen wrth y fynedfa i Hyb Rhydypennau. Yna darperir lluniaeth. \nDydd Gwener 10.30am
URL:https://keepingmewell.com/event/cerdded-er-lles-iechyd-hyb-rhydypennau-27/2030-04-05/
LOCATION:Hyb Rhydypennau\, Llandennis Road\, Caerdydd\, CF23 6EG\, United Kingdom
CATEGORIES:Cerdded,Cymraeg,Gweithgarwch Corfforol,Hyb
ATTACH;FMTTYPE=image/png:https://keepingmewell.com/wp-content/uploads/2023/01/Cardiff-Hubs.png
END:VEVENT
BEGIN:VEVENT
DTSTART;TZID=Europe/London:20300408T103000
DTEND;TZID=Europe/London:20300408T113000
DTSTAMP:20260423T182030
CREATED:20231016T102837Z
LAST-MODIFIED:20231016T102837Z
UID:10027337-1901874600-1901878200@keepingmewell.com
SUMMARY:Caffi Dementia @ Hyb Grangetown
DESCRIPTION:Rhannwch frecwast o De\, Coffi\, Tost\, bisgedi a ffrwythau. Mwynhewch sesiwn ymarfer cadair am 10 munud i baratoi ar gyfer gweithgaredd yr wythnos – lliwio oedolion\, gemau bwrdd\, cardiau chwarae\, crefftau neu gelf. \nYna ymunwch â sesiwn canu gyda rhai o ganeuon mwyaf poblogaidd y 1960au. \nCroeso i bawb gan gynnwys gofalwyr.
URL:https://keepingmewell.com/event/caffi-dementia-hyb-grangetown-27/2030-04-08/
LOCATION:Hyb Grangetown\, Plas Havelock\, Grangetown\, Caerdydd\, CF11 6PA\, United Kingdom
CATEGORIES:Cymraeg,Demensia,Gofalwyr,Hyb,Iechyd meddwl
ATTACH;FMTTYPE=image/png:https://keepingmewell.com/wp-content/uploads/2023/01/Cardiff-Hubs.png
END:VEVENT
BEGIN:VEVENT
DTSTART;TZID=Europe/London:20300412T103000
DTEND;TZID=Europe/London:20300412T113000
DTSTAMP:20260423T182030
CREATED:20230721T104713Z
LAST-MODIFIED:20231025T075056Z
UID:10026636-1902220200-1902223800@keepingmewell.com
SUMMARY:Cerdded er Lles Iechyd @ Hyb Rhydypennau
DESCRIPTION:Ymunwch â ni am dro ysgafn am 30 – 45 munud o amgylch ardal Rhydypennau / Lakeside. \nGan ddechrau ac yn gorffen wrth y fynedfa i Hyb Rhydypennau. Yna darperir lluniaeth. \nDydd Gwener 10.30am
URL:https://keepingmewell.com/event/cerdded-er-lles-iechyd-hyb-rhydypennau-27/2030-04-12/
LOCATION:Hyb Rhydypennau\, Llandennis Road\, Caerdydd\, CF23 6EG\, United Kingdom
CATEGORIES:Cerdded,Cymraeg,Gweithgarwch Corfforol,Hyb
ATTACH;FMTTYPE=image/png:https://keepingmewell.com/wp-content/uploads/2023/01/Cardiff-Hubs.png
END:VEVENT
BEGIN:VEVENT
DTSTART;TZID=Europe/London:20300415T103000
DTEND;TZID=Europe/London:20300415T113000
DTSTAMP:20260423T182030
CREATED:20231016T102837Z
LAST-MODIFIED:20231016T102837Z
UID:10027338-1902479400-1902483000@keepingmewell.com
SUMMARY:Caffi Dementia @ Hyb Grangetown
DESCRIPTION:Rhannwch frecwast o De\, Coffi\, Tost\, bisgedi a ffrwythau. Mwynhewch sesiwn ymarfer cadair am 10 munud i baratoi ar gyfer gweithgaredd yr wythnos – lliwio oedolion\, gemau bwrdd\, cardiau chwarae\, crefftau neu gelf. \nYna ymunwch â sesiwn canu gyda rhai o ganeuon mwyaf poblogaidd y 1960au. \nCroeso i bawb gan gynnwys gofalwyr.
URL:https://keepingmewell.com/event/caffi-dementia-hyb-grangetown-27/2030-04-15/
LOCATION:Hyb Grangetown\, Plas Havelock\, Grangetown\, Caerdydd\, CF11 6PA\, United Kingdom
CATEGORIES:Cymraeg,Demensia,Gofalwyr,Hyb,Iechyd meddwl
ATTACH;FMTTYPE=image/png:https://keepingmewell.com/wp-content/uploads/2023/01/Cardiff-Hubs.png
END:VEVENT
BEGIN:VEVENT
DTSTART;TZID=Europe/London:20300419T103000
DTEND;TZID=Europe/London:20300419T113000
DTSTAMP:20260423T182030
CREATED:20230721T104713Z
LAST-MODIFIED:20231025T075056Z
UID:10026637-1902825000-1902828600@keepingmewell.com
SUMMARY:Cerdded er Lles Iechyd @ Hyb Rhydypennau
DESCRIPTION:Ymunwch â ni am dro ysgafn am 30 – 45 munud o amgylch ardal Rhydypennau / Lakeside. \nGan ddechrau ac yn gorffen wrth y fynedfa i Hyb Rhydypennau. Yna darperir lluniaeth. \nDydd Gwener 10.30am
URL:https://keepingmewell.com/event/cerdded-er-lles-iechyd-hyb-rhydypennau-27/2030-04-19/
LOCATION:Hyb Rhydypennau\, Llandennis Road\, Caerdydd\, CF23 6EG\, United Kingdom
CATEGORIES:Cerdded,Cymraeg,Gweithgarwch Corfforol,Hyb
ATTACH;FMTTYPE=image/png:https://keepingmewell.com/wp-content/uploads/2023/01/Cardiff-Hubs.png
END:VEVENT
BEGIN:VEVENT
DTSTART;TZID=Europe/London:20300422T103000
DTEND;TZID=Europe/London:20300422T113000
DTSTAMP:20260423T182030
CREATED:20231016T102837Z
LAST-MODIFIED:20231016T102837Z
UID:10027339-1903084200-1903087800@keepingmewell.com
SUMMARY:Caffi Dementia @ Hyb Grangetown
DESCRIPTION:Rhannwch frecwast o De\, Coffi\, Tost\, bisgedi a ffrwythau. Mwynhewch sesiwn ymarfer cadair am 10 munud i baratoi ar gyfer gweithgaredd yr wythnos – lliwio oedolion\, gemau bwrdd\, cardiau chwarae\, crefftau neu gelf. \nYna ymunwch â sesiwn canu gyda rhai o ganeuon mwyaf poblogaidd y 1960au. \nCroeso i bawb gan gynnwys gofalwyr.
URL:https://keepingmewell.com/event/caffi-dementia-hyb-grangetown-27/2030-04-22/
LOCATION:Hyb Grangetown\, Plas Havelock\, Grangetown\, Caerdydd\, CF11 6PA\, United Kingdom
CATEGORIES:Cymraeg,Demensia,Gofalwyr,Hyb,Iechyd meddwl
ATTACH;FMTTYPE=image/png:https://keepingmewell.com/wp-content/uploads/2023/01/Cardiff-Hubs.png
END:VEVENT
BEGIN:VEVENT
DTSTART;TZID=Europe/London:20300426T103000
DTEND;TZID=Europe/London:20300426T113000
DTSTAMP:20260423T182030
CREATED:20230721T104713Z
LAST-MODIFIED:20231025T075056Z
UID:10026638-1903429800-1903433400@keepingmewell.com
SUMMARY:Cerdded er Lles Iechyd @ Hyb Rhydypennau
DESCRIPTION:Ymunwch â ni am dro ysgafn am 30 – 45 munud o amgylch ardal Rhydypennau / Lakeside. \nGan ddechrau ac yn gorffen wrth y fynedfa i Hyb Rhydypennau. Yna darperir lluniaeth. \nDydd Gwener 10.30am
URL:https://keepingmewell.com/event/cerdded-er-lles-iechyd-hyb-rhydypennau-27/2030-04-26/
LOCATION:Hyb Rhydypennau\, Llandennis Road\, Caerdydd\, CF23 6EG\, United Kingdom
CATEGORIES:Cerdded,Cymraeg,Gweithgarwch Corfforol,Hyb
ATTACH;FMTTYPE=image/png:https://keepingmewell.com/wp-content/uploads/2023/01/Cardiff-Hubs.png
END:VEVENT
BEGIN:VEVENT
DTSTART;TZID=Europe/London:20300429T103000
DTEND;TZID=Europe/London:20300429T113000
DTSTAMP:20260423T182030
CREATED:20231016T102837Z
LAST-MODIFIED:20231016T102837Z
UID:10027340-1903689000-1903692600@keepingmewell.com
SUMMARY:Caffi Dementia @ Hyb Grangetown
DESCRIPTION:Rhannwch frecwast o De\, Coffi\, Tost\, bisgedi a ffrwythau. Mwynhewch sesiwn ymarfer cadair am 10 munud i baratoi ar gyfer gweithgaredd yr wythnos – lliwio oedolion\, gemau bwrdd\, cardiau chwarae\, crefftau neu gelf. \nYna ymunwch â sesiwn canu gyda rhai o ganeuon mwyaf poblogaidd y 1960au. \nCroeso i bawb gan gynnwys gofalwyr.
URL:https://keepingmewell.com/event/caffi-dementia-hyb-grangetown-27/2030-04-29/
LOCATION:Hyb Grangetown\, Plas Havelock\, Grangetown\, Caerdydd\, CF11 6PA\, United Kingdom
CATEGORIES:Cymraeg,Demensia,Gofalwyr,Hyb,Iechyd meddwl
ATTACH;FMTTYPE=image/png:https://keepingmewell.com/wp-content/uploads/2023/01/Cardiff-Hubs.png
END:VEVENT
BEGIN:VEVENT
DTSTART;TZID=Europe/London:20300503T103000
DTEND;TZID=Europe/London:20300503T113000
DTSTAMP:20260423T182030
CREATED:20230721T104713Z
LAST-MODIFIED:20231025T075056Z
UID:10026639-1904034600-1904038200@keepingmewell.com
SUMMARY:Cerdded er Lles Iechyd @ Hyb Rhydypennau
DESCRIPTION:Ymunwch â ni am dro ysgafn am 30 – 45 munud o amgylch ardal Rhydypennau / Lakeside. \nGan ddechrau ac yn gorffen wrth y fynedfa i Hyb Rhydypennau. Yna darperir lluniaeth. \nDydd Gwener 10.30am
URL:https://keepingmewell.com/event/cerdded-er-lles-iechyd-hyb-rhydypennau-27/2030-05-03/
LOCATION:Hyb Rhydypennau\, Llandennis Road\, Caerdydd\, CF23 6EG\, United Kingdom
CATEGORIES:Cerdded,Cymraeg,Gweithgarwch Corfforol,Hyb
ATTACH;FMTTYPE=image/png:https://keepingmewell.com/wp-content/uploads/2023/01/Cardiff-Hubs.png
END:VEVENT
BEGIN:VEVENT
DTSTART;TZID=Europe/London:20300506T103000
DTEND;TZID=Europe/London:20300506T113000
DTSTAMP:20260423T182030
CREATED:20231016T102837Z
LAST-MODIFIED:20231016T102837Z
UID:10027341-1904293800-1904297400@keepingmewell.com
SUMMARY:Caffi Dementia @ Hyb Grangetown
DESCRIPTION:Rhannwch frecwast o De\, Coffi\, Tost\, bisgedi a ffrwythau. Mwynhewch sesiwn ymarfer cadair am 10 munud i baratoi ar gyfer gweithgaredd yr wythnos – lliwio oedolion\, gemau bwrdd\, cardiau chwarae\, crefftau neu gelf. \nYna ymunwch â sesiwn canu gyda rhai o ganeuon mwyaf poblogaidd y 1960au. \nCroeso i bawb gan gynnwys gofalwyr.
URL:https://keepingmewell.com/event/caffi-dementia-hyb-grangetown-27/2030-05-06/
LOCATION:Hyb Grangetown\, Plas Havelock\, Grangetown\, Caerdydd\, CF11 6PA\, United Kingdom
CATEGORIES:Cymraeg,Demensia,Gofalwyr,Hyb,Iechyd meddwl
ATTACH;FMTTYPE=image/png:https://keepingmewell.com/wp-content/uploads/2023/01/Cardiff-Hubs.png
END:VEVENT
BEGIN:VEVENT
DTSTART;TZID=Europe/London:20300510T103000
DTEND;TZID=Europe/London:20300510T113000
DTSTAMP:20260423T182030
CREATED:20230721T104713Z
LAST-MODIFIED:20231025T075056Z
UID:10026640-1904639400-1904643000@keepingmewell.com
SUMMARY:Cerdded er Lles Iechyd @ Hyb Rhydypennau
DESCRIPTION:Ymunwch â ni am dro ysgafn am 30 – 45 munud o amgylch ardal Rhydypennau / Lakeside. \nGan ddechrau ac yn gorffen wrth y fynedfa i Hyb Rhydypennau. Yna darperir lluniaeth. \nDydd Gwener 10.30am
URL:https://keepingmewell.com/event/cerdded-er-lles-iechyd-hyb-rhydypennau-27/2030-05-10/
LOCATION:Hyb Rhydypennau\, Llandennis Road\, Caerdydd\, CF23 6EG\, United Kingdom
CATEGORIES:Cerdded,Cymraeg,Gweithgarwch Corfforol,Hyb
ATTACH;FMTTYPE=image/png:https://keepingmewell.com/wp-content/uploads/2023/01/Cardiff-Hubs.png
END:VEVENT
BEGIN:VEVENT
DTSTART;TZID=Europe/London:20300513T103000
DTEND;TZID=Europe/London:20300513T113000
DTSTAMP:20260423T182030
CREATED:20231016T102837Z
LAST-MODIFIED:20231016T102837Z
UID:10027342-1904898600-1904902200@keepingmewell.com
SUMMARY:Caffi Dementia @ Hyb Grangetown
DESCRIPTION:Rhannwch frecwast o De\, Coffi\, Tost\, bisgedi a ffrwythau. Mwynhewch sesiwn ymarfer cadair am 10 munud i baratoi ar gyfer gweithgaredd yr wythnos – lliwio oedolion\, gemau bwrdd\, cardiau chwarae\, crefftau neu gelf. \nYna ymunwch â sesiwn canu gyda rhai o ganeuon mwyaf poblogaidd y 1960au. \nCroeso i bawb gan gynnwys gofalwyr.
URL:https://keepingmewell.com/event/caffi-dementia-hyb-grangetown-27/2030-05-13/
LOCATION:Hyb Grangetown\, Plas Havelock\, Grangetown\, Caerdydd\, CF11 6PA\, United Kingdom
CATEGORIES:Cymraeg,Demensia,Gofalwyr,Hyb,Iechyd meddwl
ATTACH;FMTTYPE=image/png:https://keepingmewell.com/wp-content/uploads/2023/01/Cardiff-Hubs.png
END:VEVENT
BEGIN:VEVENT
DTSTART;TZID=Europe/London:20300517T103000
DTEND;TZID=Europe/London:20300517T113000
DTSTAMP:20260423T182030
CREATED:20230721T104713Z
LAST-MODIFIED:20231025T075056Z
UID:10026641-1905244200-1905247800@keepingmewell.com
SUMMARY:Cerdded er Lles Iechyd @ Hyb Rhydypennau
DESCRIPTION:Ymunwch â ni am dro ysgafn am 30 – 45 munud o amgylch ardal Rhydypennau / Lakeside. \nGan ddechrau ac yn gorffen wrth y fynedfa i Hyb Rhydypennau. Yna darperir lluniaeth. \nDydd Gwener 10.30am
URL:https://keepingmewell.com/event/cerdded-er-lles-iechyd-hyb-rhydypennau-27/2030-05-17/
LOCATION:Hyb Rhydypennau\, Llandennis Road\, Caerdydd\, CF23 6EG\, United Kingdom
CATEGORIES:Cerdded,Cymraeg,Gweithgarwch Corfforol,Hyb
ATTACH;FMTTYPE=image/png:https://keepingmewell.com/wp-content/uploads/2023/01/Cardiff-Hubs.png
END:VEVENT
BEGIN:VEVENT
DTSTART;TZID=Europe/London:20300520T103000
DTEND;TZID=Europe/London:20300520T113000
DTSTAMP:20260423T182030
CREATED:20231016T102837Z
LAST-MODIFIED:20231016T102837Z
UID:10027343-1905503400-1905507000@keepingmewell.com
SUMMARY:Caffi Dementia @ Hyb Grangetown
DESCRIPTION:Rhannwch frecwast o De\, Coffi\, Tost\, bisgedi a ffrwythau. Mwynhewch sesiwn ymarfer cadair am 10 munud i baratoi ar gyfer gweithgaredd yr wythnos – lliwio oedolion\, gemau bwrdd\, cardiau chwarae\, crefftau neu gelf. \nYna ymunwch â sesiwn canu gyda rhai o ganeuon mwyaf poblogaidd y 1960au. \nCroeso i bawb gan gynnwys gofalwyr.
URL:https://keepingmewell.com/event/caffi-dementia-hyb-grangetown-27/2030-05-20/
LOCATION:Hyb Grangetown\, Plas Havelock\, Grangetown\, Caerdydd\, CF11 6PA\, United Kingdom
CATEGORIES:Cymraeg,Demensia,Gofalwyr,Hyb,Iechyd meddwl
ATTACH;FMTTYPE=image/png:https://keepingmewell.com/wp-content/uploads/2023/01/Cardiff-Hubs.png
END:VEVENT
END:VCALENDAR