BEGIN:VCALENDAR
VERSION:2.0
PRODID:-//Keeping Me Well - ECPv6.15.20//NONSGML v1.0//EN
CALSCALE:GREGORIAN
METHOD:PUBLISH
X-ORIGINAL-URL:https://keepingmewell.com
X-WR-CALDESC:Events for Keeping Me Well
REFRESH-INTERVAL;VALUE=DURATION:PT1H
X-Robots-Tag:noindex
X-PUBLISHED-TTL:PT1H
BEGIN:VTIMEZONE
TZID:Europe/London
BEGIN:DAYLIGHT
TZOFFSETFROM:+0000
TZOFFSETTO:+0100
TZNAME:BST
DTSTART:20250330T010000
END:DAYLIGHT
BEGIN:STANDARD
TZOFFSETFROM:+0100
TZOFFSETTO:+0000
TZNAME:GMT
DTSTART:20251026T010000
END:STANDARD
BEGIN:DAYLIGHT
TZOFFSETFROM:+0000
TZOFFSETTO:+0100
TZNAME:BST
DTSTART:20260329T010000
END:DAYLIGHT
BEGIN:STANDARD
TZOFFSETFROM:+0100
TZOFFSETTO:+0000
TZNAME:GMT
DTSTART:20261025T010000
END:STANDARD
BEGIN:DAYLIGHT
TZOFFSETFROM:+0000
TZOFFSETTO:+0100
TZNAME:BST
DTSTART:20270328T010000
END:DAYLIGHT
BEGIN:STANDARD
TZOFFSETFROM:+0100
TZOFFSETTO:+0000
TZNAME:GMT
DTSTART:20271031T010000
END:STANDARD
END:VTIMEZONE
BEGIN:VEVENT
DTSTART;TZID=Europe/London:20260101T140000
DTEND;TZID=Europe/London:20260101T160000
DTSTAMP:20260421T213336
CREATED:20231024T145616Z
LAST-MODIFIED:20231024T145616Z
UID:10017005-1767276000-1767283200@keepingmewell.com
SUMMARY:Clwb Cymdeithasol Memory Lane
DESCRIPTION:Gweithgareddau am ddim gan gynnwys cyrlio dan do a cherddoriaeth i bobl y mae dementia yn effithio arnynt a’u gofalwyr. \nBob Dydd Iau 2-4pm Canoflan Gymunedol Cathays Os hoffech chi ymuno new gael unrhyw cwestiynau\, ffoniwch new e-bostiwch Phill 029 2037 3144 Phill.Racz@cathays.org
URL:https://keepingmewell.com/event/clwb-cymdeithasol-memory-lane/2026-01-01/
LOCATION:Canolfan Gymunedol Cathays\, 38 Teras Cathays\, Cathays\, Caerdydd\, CF24 4HX\, United Kingdom
CATEGORIES:Cymraeg,Demensia,Gofalwyr,Iechyd meddwl
ATTACH;FMTTYPE=image/jpeg:https://keepingmewell.com/wp-content/uploads/2022/11/neurons-gf30f28b0c_640.jpg
END:VEVENT
BEGIN:VEVENT
DTSTART;TZID=Europe/London:20260105T103000
DTEND;TZID=Europe/London:20260105T113000
DTSTAMP:20260421T213336
CREATED:20231016T102837Z
LAST-MODIFIED:20231016T102837Z
UID:10004956-1767609000-1767612600@keepingmewell.com
SUMMARY:Caffi Dementia @ Hyb Grangetown
DESCRIPTION:Rhannwch frecwast o De\, Coffi\, Tost\, bisgedi a ffrwythau. Mwynhewch sesiwn ymarfer cadair am 10 munud i baratoi ar gyfer gweithgaredd yr wythnos – lliwio oedolion\, gemau bwrdd\, cardiau chwarae\, crefftau neu gelf. \nYna ymunwch â sesiwn canu gyda rhai o ganeuon mwyaf poblogaidd y 1960au. \nCroeso i bawb gan gynnwys gofalwyr.
URL:https://keepingmewell.com/event/caffi-dementia-hyb-grangetown-27/2026-01-05/
LOCATION:Hyb Grangetown\, Plas Havelock\, Grangetown\, Caerdydd\, CF11 6PA\, United Kingdom
CATEGORIES:Cymraeg,Demensia,Gofalwyr,Hyb,Iechyd meddwl
ATTACH;FMTTYPE=image/png:https://keepingmewell.com/wp-content/uploads/2023/01/Cardiff-Hubs.png
END:VEVENT
BEGIN:VEVENT
DTSTART;TZID=Europe/London:20260108T140000
DTEND;TZID=Europe/London:20260108T160000
DTSTAMP:20260421T213336
CREATED:20231024T145616Z
LAST-MODIFIED:20231024T145616Z
UID:10017006-1767880800-1767888000@keepingmewell.com
SUMMARY:Clwb Cymdeithasol Memory Lane
DESCRIPTION:Gweithgareddau am ddim gan gynnwys cyrlio dan do a cherddoriaeth i bobl y mae dementia yn effithio arnynt a’u gofalwyr. \nBob Dydd Iau 2-4pm Canoflan Gymunedol Cathays Os hoffech chi ymuno new gael unrhyw cwestiynau\, ffoniwch new e-bostiwch Phill 029 2037 3144 Phill.Racz@cathays.org
URL:https://keepingmewell.com/event/clwb-cymdeithasol-memory-lane/2026-01-08/
LOCATION:Canolfan Gymunedol Cathays\, 38 Teras Cathays\, Cathays\, Caerdydd\, CF24 4HX\, United Kingdom
CATEGORIES:Cymraeg,Demensia,Gofalwyr,Iechyd meddwl
ATTACH;FMTTYPE=image/jpeg:https://keepingmewell.com/wp-content/uploads/2022/11/neurons-gf30f28b0c_640.jpg
END:VEVENT
BEGIN:VEVENT
DTSTART;TZID=Europe/London:20260112T103000
DTEND;TZID=Europe/London:20260112T113000
DTSTAMP:20260421T213336
CREATED:20231016T102837Z
LAST-MODIFIED:20231016T102837Z
UID:10004957-1768213800-1768217400@keepingmewell.com
SUMMARY:Caffi Dementia @ Hyb Grangetown
DESCRIPTION:Rhannwch frecwast o De\, Coffi\, Tost\, bisgedi a ffrwythau. Mwynhewch sesiwn ymarfer cadair am 10 munud i baratoi ar gyfer gweithgaredd yr wythnos – lliwio oedolion\, gemau bwrdd\, cardiau chwarae\, crefftau neu gelf. \nYna ymunwch â sesiwn canu gyda rhai o ganeuon mwyaf poblogaidd y 1960au. \nCroeso i bawb gan gynnwys gofalwyr.
URL:https://keepingmewell.com/event/caffi-dementia-hyb-grangetown-27/2026-01-12/
LOCATION:Hyb Grangetown\, Plas Havelock\, Grangetown\, Caerdydd\, CF11 6PA\, United Kingdom
CATEGORIES:Cymraeg,Demensia,Gofalwyr,Hyb,Iechyd meddwl
ATTACH;FMTTYPE=image/png:https://keepingmewell.com/wp-content/uploads/2023/01/Cardiff-Hubs.png
END:VEVENT
BEGIN:VEVENT
DTSTART;TZID=Europe/London:20260115T140000
DTEND;TZID=Europe/London:20260115T160000
DTSTAMP:20260421T213336
CREATED:20231024T145616Z
LAST-MODIFIED:20231024T145616Z
UID:10017007-1768485600-1768492800@keepingmewell.com
SUMMARY:Clwb Cymdeithasol Memory Lane
DESCRIPTION:Gweithgareddau am ddim gan gynnwys cyrlio dan do a cherddoriaeth i bobl y mae dementia yn effithio arnynt a’u gofalwyr. \nBob Dydd Iau 2-4pm Canoflan Gymunedol Cathays Os hoffech chi ymuno new gael unrhyw cwestiynau\, ffoniwch new e-bostiwch Phill 029 2037 3144 Phill.Racz@cathays.org
URL:https://keepingmewell.com/event/clwb-cymdeithasol-memory-lane/2026-01-15/
LOCATION:Canolfan Gymunedol Cathays\, 38 Teras Cathays\, Cathays\, Caerdydd\, CF24 4HX\, United Kingdom
CATEGORIES:Cymraeg,Demensia,Gofalwyr,Iechyd meddwl
ATTACH;FMTTYPE=image/jpeg:https://keepingmewell.com/wp-content/uploads/2022/11/neurons-gf30f28b0c_640.jpg
END:VEVENT
BEGIN:VEVENT
DTSTART;TZID=Europe/London:20260119T103000
DTEND;TZID=Europe/London:20260119T113000
DTSTAMP:20260421T213336
CREATED:20231016T102837Z
LAST-MODIFIED:20231016T102837Z
UID:10004958-1768818600-1768822200@keepingmewell.com
SUMMARY:Caffi Dementia @ Hyb Grangetown
DESCRIPTION:Rhannwch frecwast o De\, Coffi\, Tost\, bisgedi a ffrwythau. Mwynhewch sesiwn ymarfer cadair am 10 munud i baratoi ar gyfer gweithgaredd yr wythnos – lliwio oedolion\, gemau bwrdd\, cardiau chwarae\, crefftau neu gelf. \nYna ymunwch â sesiwn canu gyda rhai o ganeuon mwyaf poblogaidd y 1960au. \nCroeso i bawb gan gynnwys gofalwyr.
URL:https://keepingmewell.com/event/caffi-dementia-hyb-grangetown-27/2026-01-19/
LOCATION:Hyb Grangetown\, Plas Havelock\, Grangetown\, Caerdydd\, CF11 6PA\, United Kingdom
CATEGORIES:Cymraeg,Demensia,Gofalwyr,Hyb,Iechyd meddwl
ATTACH;FMTTYPE=image/png:https://keepingmewell.com/wp-content/uploads/2023/01/Cardiff-Hubs.png
END:VEVENT
BEGIN:VEVENT
DTSTART;TZID=Europe/London:20260122T140000
DTEND;TZID=Europe/London:20260122T160000
DTSTAMP:20260421T213336
CREATED:20231024T145616Z
LAST-MODIFIED:20231024T145616Z
UID:10017008-1769090400-1769097600@keepingmewell.com
SUMMARY:Clwb Cymdeithasol Memory Lane
DESCRIPTION:Gweithgareddau am ddim gan gynnwys cyrlio dan do a cherddoriaeth i bobl y mae dementia yn effithio arnynt a’u gofalwyr. \nBob Dydd Iau 2-4pm Canoflan Gymunedol Cathays Os hoffech chi ymuno new gael unrhyw cwestiynau\, ffoniwch new e-bostiwch Phill 029 2037 3144 Phill.Racz@cathays.org
URL:https://keepingmewell.com/event/clwb-cymdeithasol-memory-lane/2026-01-22/
LOCATION:Canolfan Gymunedol Cathays\, 38 Teras Cathays\, Cathays\, Caerdydd\, CF24 4HX\, United Kingdom
CATEGORIES:Cymraeg,Demensia,Gofalwyr,Iechyd meddwl
ATTACH;FMTTYPE=image/jpeg:https://keepingmewell.com/wp-content/uploads/2022/11/neurons-gf30f28b0c_640.jpg
END:VEVENT
BEGIN:VEVENT
DTSTART;TZID=Europe/London:20260126T103000
DTEND;TZID=Europe/London:20260126T113000
DTSTAMP:20260421T213336
CREATED:20231016T102837Z
LAST-MODIFIED:20231016T102837Z
UID:10004959-1769423400-1769427000@keepingmewell.com
SUMMARY:Caffi Dementia @ Hyb Grangetown
DESCRIPTION:Rhannwch frecwast o De\, Coffi\, Tost\, bisgedi a ffrwythau. Mwynhewch sesiwn ymarfer cadair am 10 munud i baratoi ar gyfer gweithgaredd yr wythnos – lliwio oedolion\, gemau bwrdd\, cardiau chwarae\, crefftau neu gelf. \nYna ymunwch â sesiwn canu gyda rhai o ganeuon mwyaf poblogaidd y 1960au. \nCroeso i bawb gan gynnwys gofalwyr.
URL:https://keepingmewell.com/event/caffi-dementia-hyb-grangetown-27/2026-01-26/
LOCATION:Hyb Grangetown\, Plas Havelock\, Grangetown\, Caerdydd\, CF11 6PA\, United Kingdom
CATEGORIES:Cymraeg,Demensia,Gofalwyr,Hyb,Iechyd meddwl
ATTACH;FMTTYPE=image/png:https://keepingmewell.com/wp-content/uploads/2023/01/Cardiff-Hubs.png
END:VEVENT
BEGIN:VEVENT
DTSTART;TZID=Europe/London:20260129T140000
DTEND;TZID=Europe/London:20260129T160000
DTSTAMP:20260421T213336
CREATED:20231024T145616Z
LAST-MODIFIED:20231024T145616Z
UID:10017009-1769695200-1769702400@keepingmewell.com
SUMMARY:Clwb Cymdeithasol Memory Lane
DESCRIPTION:Gweithgareddau am ddim gan gynnwys cyrlio dan do a cherddoriaeth i bobl y mae dementia yn effithio arnynt a’u gofalwyr. \nBob Dydd Iau 2-4pm Canoflan Gymunedol Cathays Os hoffech chi ymuno new gael unrhyw cwestiynau\, ffoniwch new e-bostiwch Phill 029 2037 3144 Phill.Racz@cathays.org
URL:https://keepingmewell.com/event/clwb-cymdeithasol-memory-lane/2026-01-29/
LOCATION:Canolfan Gymunedol Cathays\, 38 Teras Cathays\, Cathays\, Caerdydd\, CF24 4HX\, United Kingdom
CATEGORIES:Cymraeg,Demensia,Gofalwyr,Iechyd meddwl
ATTACH;FMTTYPE=image/jpeg:https://keepingmewell.com/wp-content/uploads/2022/11/neurons-gf30f28b0c_640.jpg
END:VEVENT
END:VCALENDAR