BEGIN:VCALENDAR
VERSION:2.0
PRODID:-//Keeping Me Well - ECPv6.15.20//NONSGML v1.0//EN
CALSCALE:GREGORIAN
METHOD:PUBLISH
X-ORIGINAL-URL:https://keepingmewell.com
X-WR-CALDESC:Events for Keeping Me Well
REFRESH-INTERVAL;VALUE=DURATION:PT1H
X-Robots-Tag:noindex
X-PUBLISHED-TTL:PT1H
BEGIN:VTIMEZONE
TZID:Europe/London
BEGIN:DAYLIGHT
TZOFFSETFROM:+0000
TZOFFSETTO:+0100
TZNAME:BST
DTSTART:20250330T010000
END:DAYLIGHT
BEGIN:STANDARD
TZOFFSETFROM:+0100
TZOFFSETTO:+0000
TZNAME:GMT
DTSTART:20251026T010000
END:STANDARD
BEGIN:DAYLIGHT
TZOFFSETFROM:+0000
TZOFFSETTO:+0100
TZNAME:BST
DTSTART:20260329T010000
END:DAYLIGHT
BEGIN:STANDARD
TZOFFSETFROM:+0100
TZOFFSETTO:+0000
TZNAME:GMT
DTSTART:20261025T010000
END:STANDARD
BEGIN:DAYLIGHT
TZOFFSETFROM:+0000
TZOFFSETTO:+0100
TZNAME:BST
DTSTART:20270328T010000
END:DAYLIGHT
BEGIN:STANDARD
TZOFFSETFROM:+0100
TZOFFSETTO:+0000
TZNAME:GMT
DTSTART:20271031T010000
END:STANDARD
END:VTIMEZONE
BEGIN:VEVENT
DTSTART;TZID=Europe/London:20261102T103000
DTEND;TZID=Europe/London:20261102T113000
DTSTAMP:20260420T095925
CREATED:20231016T102837Z
LAST-MODIFIED:20231016T102837Z
UID:10004999-1793615400-1793619000@keepingmewell.com
SUMMARY:Caffi Dementia @ Hyb Grangetown
DESCRIPTION:Rhannwch frecwast o De\, Coffi\, Tost\, bisgedi a ffrwythau. Mwynhewch sesiwn ymarfer cadair am 10 munud i baratoi ar gyfer gweithgaredd yr wythnos – lliwio oedolion\, gemau bwrdd\, cardiau chwarae\, crefftau neu gelf. \nYna ymunwch â sesiwn canu gyda rhai o ganeuon mwyaf poblogaidd y 1960au. \nCroeso i bawb gan gynnwys gofalwyr.
URL:https://keepingmewell.com/event/caffi-dementia-hyb-grangetown-27/2026-11-02/
LOCATION:Hyb Grangetown\, Plas Havelock\, Grangetown\, Caerdydd\, CF11 6PA\, United Kingdom
CATEGORIES:Cymraeg,Demensia,Gofalwyr,Hyb,Iechyd meddwl
ATTACH;FMTTYPE=image/png:https://keepingmewell.com/wp-content/uploads/2023/01/Cardiff-Hubs.png
END:VEVENT
BEGIN:VEVENT
DTSTART;TZID=Europe/London:20261105T140000
DTEND;TZID=Europe/London:20261105T160000
DTSTAMP:20260420T095925
CREATED:20231024T145616Z
LAST-MODIFIED:20231024T145616Z
UID:10017049-1793887200-1793894400@keepingmewell.com
SUMMARY:Clwb Cymdeithasol Memory Lane
DESCRIPTION:Gweithgareddau am ddim gan gynnwys cyrlio dan do a cherddoriaeth i bobl y mae dementia yn effithio arnynt a’u gofalwyr. \nBob Dydd Iau 2-4pm Canoflan Gymunedol Cathays Os hoffech chi ymuno new gael unrhyw cwestiynau\, ffoniwch new e-bostiwch Phill 029 2037 3144 Phill.Racz@cathays.org
URL:https://keepingmewell.com/event/clwb-cymdeithasol-memory-lane/2026-11-05/
LOCATION:Canolfan Gymunedol Cathays\, 38 Teras Cathays\, Cathays\, Caerdydd\, CF24 4HX\, United Kingdom
CATEGORIES:Cymraeg,Demensia,Gofalwyr,Iechyd meddwl
ATTACH;FMTTYPE=image/jpeg:https://keepingmewell.com/wp-content/uploads/2022/11/neurons-gf30f28b0c_640.jpg
END:VEVENT
BEGIN:VEVENT
DTSTART;TZID=Europe/London:20261109T103000
DTEND;TZID=Europe/London:20261109T113000
DTSTAMP:20260420T095925
CREATED:20231016T102837Z
LAST-MODIFIED:20231016T102837Z
UID:10005000-1794220200-1794223800@keepingmewell.com
SUMMARY:Caffi Dementia @ Hyb Grangetown
DESCRIPTION:Rhannwch frecwast o De\, Coffi\, Tost\, bisgedi a ffrwythau. Mwynhewch sesiwn ymarfer cadair am 10 munud i baratoi ar gyfer gweithgaredd yr wythnos – lliwio oedolion\, gemau bwrdd\, cardiau chwarae\, crefftau neu gelf. \nYna ymunwch â sesiwn canu gyda rhai o ganeuon mwyaf poblogaidd y 1960au. \nCroeso i bawb gan gynnwys gofalwyr.
URL:https://keepingmewell.com/event/caffi-dementia-hyb-grangetown-27/2026-11-09/
LOCATION:Hyb Grangetown\, Plas Havelock\, Grangetown\, Caerdydd\, CF11 6PA\, United Kingdom
CATEGORIES:Cymraeg,Demensia,Gofalwyr,Hyb,Iechyd meddwl
ATTACH;FMTTYPE=image/png:https://keepingmewell.com/wp-content/uploads/2023/01/Cardiff-Hubs.png
END:VEVENT
BEGIN:VEVENT
DTSTART;TZID=Europe/London:20261112T140000
DTEND;TZID=Europe/London:20261112T160000
DTSTAMP:20260420T095925
CREATED:20231024T145616Z
LAST-MODIFIED:20231024T145616Z
UID:10017050-1794492000-1794499200@keepingmewell.com
SUMMARY:Clwb Cymdeithasol Memory Lane
DESCRIPTION:Gweithgareddau am ddim gan gynnwys cyrlio dan do a cherddoriaeth i bobl y mae dementia yn effithio arnynt a’u gofalwyr. \nBob Dydd Iau 2-4pm Canoflan Gymunedol Cathays Os hoffech chi ymuno new gael unrhyw cwestiynau\, ffoniwch new e-bostiwch Phill 029 2037 3144 Phill.Racz@cathays.org
URL:https://keepingmewell.com/event/clwb-cymdeithasol-memory-lane/2026-11-12/
LOCATION:Canolfan Gymunedol Cathays\, 38 Teras Cathays\, Cathays\, Caerdydd\, CF24 4HX\, United Kingdom
CATEGORIES:Cymraeg,Demensia,Gofalwyr,Iechyd meddwl
ATTACH;FMTTYPE=image/jpeg:https://keepingmewell.com/wp-content/uploads/2022/11/neurons-gf30f28b0c_640.jpg
END:VEVENT
BEGIN:VEVENT
DTSTART;TZID=Europe/London:20261116T103000
DTEND;TZID=Europe/London:20261116T113000
DTSTAMP:20260420T095925
CREATED:20231016T102837Z
LAST-MODIFIED:20231016T102837Z
UID:10005001-1794825000-1794828600@keepingmewell.com
SUMMARY:Caffi Dementia @ Hyb Grangetown
DESCRIPTION:Rhannwch frecwast o De\, Coffi\, Tost\, bisgedi a ffrwythau. Mwynhewch sesiwn ymarfer cadair am 10 munud i baratoi ar gyfer gweithgaredd yr wythnos – lliwio oedolion\, gemau bwrdd\, cardiau chwarae\, crefftau neu gelf. \nYna ymunwch â sesiwn canu gyda rhai o ganeuon mwyaf poblogaidd y 1960au. \nCroeso i bawb gan gynnwys gofalwyr.
URL:https://keepingmewell.com/event/caffi-dementia-hyb-grangetown-27/2026-11-16/
LOCATION:Hyb Grangetown\, Plas Havelock\, Grangetown\, Caerdydd\, CF11 6PA\, United Kingdom
CATEGORIES:Cymraeg,Demensia,Gofalwyr,Hyb,Iechyd meddwl
ATTACH;FMTTYPE=image/png:https://keepingmewell.com/wp-content/uploads/2023/01/Cardiff-Hubs.png
END:VEVENT
BEGIN:VEVENT
DTSTART;TZID=Europe/London:20261119T140000
DTEND;TZID=Europe/London:20261119T160000
DTSTAMP:20260420T095925
CREATED:20231024T145616Z
LAST-MODIFIED:20231024T145616Z
UID:10017051-1795096800-1795104000@keepingmewell.com
SUMMARY:Clwb Cymdeithasol Memory Lane
DESCRIPTION:Gweithgareddau am ddim gan gynnwys cyrlio dan do a cherddoriaeth i bobl y mae dementia yn effithio arnynt a’u gofalwyr. \nBob Dydd Iau 2-4pm Canoflan Gymunedol Cathays Os hoffech chi ymuno new gael unrhyw cwestiynau\, ffoniwch new e-bostiwch Phill 029 2037 3144 Phill.Racz@cathays.org
URL:https://keepingmewell.com/event/clwb-cymdeithasol-memory-lane/2026-11-19/
LOCATION:Canolfan Gymunedol Cathays\, 38 Teras Cathays\, Cathays\, Caerdydd\, CF24 4HX\, United Kingdom
CATEGORIES:Cymraeg,Demensia,Gofalwyr,Iechyd meddwl
ATTACH;FMTTYPE=image/jpeg:https://keepingmewell.com/wp-content/uploads/2022/11/neurons-gf30f28b0c_640.jpg
END:VEVENT
BEGIN:VEVENT
DTSTART;TZID=Europe/London:20261123T103000
DTEND;TZID=Europe/London:20261123T113000
DTSTAMP:20260420T095925
CREATED:20231016T102837Z
LAST-MODIFIED:20231016T102837Z
UID:10005002-1795429800-1795433400@keepingmewell.com
SUMMARY:Caffi Dementia @ Hyb Grangetown
DESCRIPTION:Rhannwch frecwast o De\, Coffi\, Tost\, bisgedi a ffrwythau. Mwynhewch sesiwn ymarfer cadair am 10 munud i baratoi ar gyfer gweithgaredd yr wythnos – lliwio oedolion\, gemau bwrdd\, cardiau chwarae\, crefftau neu gelf. \nYna ymunwch â sesiwn canu gyda rhai o ganeuon mwyaf poblogaidd y 1960au. \nCroeso i bawb gan gynnwys gofalwyr.
URL:https://keepingmewell.com/event/caffi-dementia-hyb-grangetown-27/2026-11-23/
LOCATION:Hyb Grangetown\, Plas Havelock\, Grangetown\, Caerdydd\, CF11 6PA\, United Kingdom
CATEGORIES:Cymraeg,Demensia,Gofalwyr,Hyb,Iechyd meddwl
ATTACH;FMTTYPE=image/png:https://keepingmewell.com/wp-content/uploads/2023/01/Cardiff-Hubs.png
END:VEVENT
BEGIN:VEVENT
DTSTART;TZID=Europe/London:20261126T140000
DTEND;TZID=Europe/London:20261126T160000
DTSTAMP:20260420T095925
CREATED:20231024T145616Z
LAST-MODIFIED:20231024T145616Z
UID:10017052-1795701600-1795708800@keepingmewell.com
SUMMARY:Clwb Cymdeithasol Memory Lane
DESCRIPTION:Gweithgareddau am ddim gan gynnwys cyrlio dan do a cherddoriaeth i bobl y mae dementia yn effithio arnynt a’u gofalwyr. \nBob Dydd Iau 2-4pm Canoflan Gymunedol Cathays Os hoffech chi ymuno new gael unrhyw cwestiynau\, ffoniwch new e-bostiwch Phill 029 2037 3144 Phill.Racz@cathays.org
URL:https://keepingmewell.com/event/clwb-cymdeithasol-memory-lane/2026-11-26/
LOCATION:Canolfan Gymunedol Cathays\, 38 Teras Cathays\, Cathays\, Caerdydd\, CF24 4HX\, United Kingdom
CATEGORIES:Cymraeg,Demensia,Gofalwyr,Iechyd meddwl
ATTACH;FMTTYPE=image/jpeg:https://keepingmewell.com/wp-content/uploads/2022/11/neurons-gf30f28b0c_640.jpg
END:VEVENT
BEGIN:VEVENT
DTSTART;TZID=Europe/London:20261130T103000
DTEND;TZID=Europe/London:20261130T113000
DTSTAMP:20260420T095925
CREATED:20231016T102837Z
LAST-MODIFIED:20231016T102837Z
UID:10005003-1796034600-1796038200@keepingmewell.com
SUMMARY:Caffi Dementia @ Hyb Grangetown
DESCRIPTION:Rhannwch frecwast o De\, Coffi\, Tost\, bisgedi a ffrwythau. Mwynhewch sesiwn ymarfer cadair am 10 munud i baratoi ar gyfer gweithgaredd yr wythnos – lliwio oedolion\, gemau bwrdd\, cardiau chwarae\, crefftau neu gelf. \nYna ymunwch â sesiwn canu gyda rhai o ganeuon mwyaf poblogaidd y 1960au. \nCroeso i bawb gan gynnwys gofalwyr.
URL:https://keepingmewell.com/event/caffi-dementia-hyb-grangetown-27/2026-11-30/
LOCATION:Hyb Grangetown\, Plas Havelock\, Grangetown\, Caerdydd\, CF11 6PA\, United Kingdom
CATEGORIES:Cymraeg,Demensia,Gofalwyr,Hyb,Iechyd meddwl
ATTACH;FMTTYPE=image/png:https://keepingmewell.com/wp-content/uploads/2023/01/Cardiff-Hubs.png
END:VEVENT
END:VCALENDAR