BEGIN:VCALENDAR
VERSION:2.0
PRODID:-//Keeping Me Well - ECPv6.15.20//NONSGML v1.0//EN
CALSCALE:GREGORIAN
METHOD:PUBLISH
X-WR-CALNAME:Keeping Me Well
X-ORIGINAL-URL:https://keepingmewell.com
X-WR-CALDESC:Events for Keeping Me Well
REFRESH-INTERVAL;VALUE=DURATION:PT1H
X-Robots-Tag:noindex
X-PUBLISHED-TTL:PT1H
BEGIN:VTIMEZONE
TZID:Europe/London
BEGIN:DAYLIGHT
TZOFFSETFROM:+0000
TZOFFSETTO:+0100
TZNAME:BST
DTSTART:20250330T010000
END:DAYLIGHT
BEGIN:STANDARD
TZOFFSETFROM:+0100
TZOFFSETTO:+0000
TZNAME:GMT
DTSTART:20251026T010000
END:STANDARD
BEGIN:DAYLIGHT
TZOFFSETFROM:+0000
TZOFFSETTO:+0100
TZNAME:BST
DTSTART:20260329T010000
END:DAYLIGHT
BEGIN:STANDARD
TZOFFSETFROM:+0100
TZOFFSETTO:+0000
TZNAME:GMT
DTSTART:20261025T010000
END:STANDARD
BEGIN:DAYLIGHT
TZOFFSETFROM:+0000
TZOFFSETTO:+0100
TZNAME:BST
DTSTART:20270328T010000
END:DAYLIGHT
BEGIN:STANDARD
TZOFFSETFROM:+0100
TZOFFSETTO:+0000
TZNAME:GMT
DTSTART:20271031T010000
END:STANDARD
END:VTIMEZONE
BEGIN:VEVENT
DTSTART;TZID=Europe/London:20261203T140000
DTEND;TZID=Europe/London:20261203T160000
DTSTAMP:20260422T203857
CREATED:20231024T145616Z
LAST-MODIFIED:20231024T145616Z
UID:10017053-1796306400-1796313600@keepingmewell.com
SUMMARY:Clwb Cymdeithasol Memory Lane
DESCRIPTION:Gweithgareddau am ddim gan gynnwys cyrlio dan do a cherddoriaeth i bobl y mae dementia yn effithio arnynt a’u gofalwyr. \nBob Dydd Iau 2-4pm Canoflan Gymunedol Cathays Os hoffech chi ymuno new gael unrhyw cwestiynau\, ffoniwch new e-bostiwch Phill 029 2037 3144 Phill.Racz@cathays.org
URL:https://keepingmewell.com/event/clwb-cymdeithasol-memory-lane/2026-12-03/
LOCATION:Canolfan Gymunedol Cathays\, 38 Teras Cathays\, Cathays\, Caerdydd\, CF24 4HX\, United Kingdom
CATEGORIES:Cymraeg,Demensia,Gofalwyr,Iechyd meddwl
ATTACH;FMTTYPE=image/jpeg:https://keepingmewell.com/wp-content/uploads/2022/11/neurons-gf30f28b0c_640.jpg
END:VEVENT
BEGIN:VEVENT
DTSTART;TZID=Europe/London:20261207T103000
DTEND;TZID=Europe/London:20261207T113000
DTSTAMP:20260422T203857
CREATED:20231016T102837Z
LAST-MODIFIED:20231016T102837Z
UID:10005004-1796639400-1796643000@keepingmewell.com
SUMMARY:Caffi Dementia @ Hyb Grangetown
DESCRIPTION:Rhannwch frecwast o De\, Coffi\, Tost\, bisgedi a ffrwythau. Mwynhewch sesiwn ymarfer cadair am 10 munud i baratoi ar gyfer gweithgaredd yr wythnos – lliwio oedolion\, gemau bwrdd\, cardiau chwarae\, crefftau neu gelf. \nYna ymunwch â sesiwn canu gyda rhai o ganeuon mwyaf poblogaidd y 1960au. \nCroeso i bawb gan gynnwys gofalwyr.
URL:https://keepingmewell.com/event/caffi-dementia-hyb-grangetown-27/2026-12-07/
LOCATION:Hyb Grangetown\, Plas Havelock\, Grangetown\, Caerdydd\, CF11 6PA\, United Kingdom
CATEGORIES:Cymraeg,Demensia,Gofalwyr,Hyb,Iechyd meddwl
ATTACH;FMTTYPE=image/png:https://keepingmewell.com/wp-content/uploads/2023/01/Cardiff-Hubs.png
END:VEVENT
BEGIN:VEVENT
DTSTART;TZID=Europe/London:20261210T140000
DTEND;TZID=Europe/London:20261210T160000
DTSTAMP:20260422T203857
CREATED:20231024T145616Z
LAST-MODIFIED:20231024T145616Z
UID:10017054-1796911200-1796918400@keepingmewell.com
SUMMARY:Clwb Cymdeithasol Memory Lane
DESCRIPTION:Gweithgareddau am ddim gan gynnwys cyrlio dan do a cherddoriaeth i bobl y mae dementia yn effithio arnynt a’u gofalwyr. \nBob Dydd Iau 2-4pm Canoflan Gymunedol Cathays Os hoffech chi ymuno new gael unrhyw cwestiynau\, ffoniwch new e-bostiwch Phill 029 2037 3144 Phill.Racz@cathays.org
URL:https://keepingmewell.com/event/clwb-cymdeithasol-memory-lane/2026-12-10/
LOCATION:Canolfan Gymunedol Cathays\, 38 Teras Cathays\, Cathays\, Caerdydd\, CF24 4HX\, United Kingdom
CATEGORIES:Cymraeg,Demensia,Gofalwyr,Iechyd meddwl
ATTACH;FMTTYPE=image/jpeg:https://keepingmewell.com/wp-content/uploads/2022/11/neurons-gf30f28b0c_640.jpg
END:VEVENT
BEGIN:VEVENT
DTSTART;TZID=Europe/London:20261214T103000
DTEND;TZID=Europe/London:20261214T113000
DTSTAMP:20260422T203857
CREATED:20231016T102837Z
LAST-MODIFIED:20231016T102837Z
UID:10005005-1797244200-1797247800@keepingmewell.com
SUMMARY:Caffi Dementia @ Hyb Grangetown
DESCRIPTION:Rhannwch frecwast o De\, Coffi\, Tost\, bisgedi a ffrwythau. Mwynhewch sesiwn ymarfer cadair am 10 munud i baratoi ar gyfer gweithgaredd yr wythnos – lliwio oedolion\, gemau bwrdd\, cardiau chwarae\, crefftau neu gelf. \nYna ymunwch â sesiwn canu gyda rhai o ganeuon mwyaf poblogaidd y 1960au. \nCroeso i bawb gan gynnwys gofalwyr.
URL:https://keepingmewell.com/event/caffi-dementia-hyb-grangetown-27/2026-12-14/
LOCATION:Hyb Grangetown\, Plas Havelock\, Grangetown\, Caerdydd\, CF11 6PA\, United Kingdom
CATEGORIES:Cymraeg,Demensia,Gofalwyr,Hyb,Iechyd meddwl
ATTACH;FMTTYPE=image/png:https://keepingmewell.com/wp-content/uploads/2023/01/Cardiff-Hubs.png
END:VEVENT
BEGIN:VEVENT
DTSTART;TZID=Europe/London:20261217T140000
DTEND;TZID=Europe/London:20261217T160000
DTSTAMP:20260422T203857
CREATED:20231024T145616Z
LAST-MODIFIED:20231024T145616Z
UID:10017055-1797516000-1797523200@keepingmewell.com
SUMMARY:Clwb Cymdeithasol Memory Lane
DESCRIPTION:Gweithgareddau am ddim gan gynnwys cyrlio dan do a cherddoriaeth i bobl y mae dementia yn effithio arnynt a’u gofalwyr. \nBob Dydd Iau 2-4pm Canoflan Gymunedol Cathays Os hoffech chi ymuno new gael unrhyw cwestiynau\, ffoniwch new e-bostiwch Phill 029 2037 3144 Phill.Racz@cathays.org
URL:https://keepingmewell.com/event/clwb-cymdeithasol-memory-lane/2026-12-17/
LOCATION:Canolfan Gymunedol Cathays\, 38 Teras Cathays\, Cathays\, Caerdydd\, CF24 4HX\, United Kingdom
CATEGORIES:Cymraeg,Demensia,Gofalwyr,Iechyd meddwl
ATTACH;FMTTYPE=image/jpeg:https://keepingmewell.com/wp-content/uploads/2022/11/neurons-gf30f28b0c_640.jpg
END:VEVENT
BEGIN:VEVENT
DTSTART;TZID=Europe/London:20261221T103000
DTEND;TZID=Europe/London:20261221T113000
DTSTAMP:20260422T203857
CREATED:20231016T102837Z
LAST-MODIFIED:20231016T102837Z
UID:10005006-1797849000-1797852600@keepingmewell.com
SUMMARY:Caffi Dementia @ Hyb Grangetown
DESCRIPTION:Rhannwch frecwast o De\, Coffi\, Tost\, bisgedi a ffrwythau. Mwynhewch sesiwn ymarfer cadair am 10 munud i baratoi ar gyfer gweithgaredd yr wythnos – lliwio oedolion\, gemau bwrdd\, cardiau chwarae\, crefftau neu gelf. \nYna ymunwch â sesiwn canu gyda rhai o ganeuon mwyaf poblogaidd y 1960au. \nCroeso i bawb gan gynnwys gofalwyr.
URL:https://keepingmewell.com/event/caffi-dementia-hyb-grangetown-27/2026-12-21/
LOCATION:Hyb Grangetown\, Plas Havelock\, Grangetown\, Caerdydd\, CF11 6PA\, United Kingdom
CATEGORIES:Cymraeg,Demensia,Gofalwyr,Hyb,Iechyd meddwl
ATTACH;FMTTYPE=image/png:https://keepingmewell.com/wp-content/uploads/2023/01/Cardiff-Hubs.png
END:VEVENT
BEGIN:VEVENT
DTSTART;TZID=Europe/London:20261224T140000
DTEND;TZID=Europe/London:20261224T160000
DTSTAMP:20260422T203857
CREATED:20231024T145616Z
LAST-MODIFIED:20231024T145616Z
UID:10017056-1798120800-1798128000@keepingmewell.com
SUMMARY:Clwb Cymdeithasol Memory Lane
DESCRIPTION:Gweithgareddau am ddim gan gynnwys cyrlio dan do a cherddoriaeth i bobl y mae dementia yn effithio arnynt a’u gofalwyr. \nBob Dydd Iau 2-4pm Canoflan Gymunedol Cathays Os hoffech chi ymuno new gael unrhyw cwestiynau\, ffoniwch new e-bostiwch Phill 029 2037 3144 Phill.Racz@cathays.org
URL:https://keepingmewell.com/event/clwb-cymdeithasol-memory-lane/2026-12-24/
LOCATION:Canolfan Gymunedol Cathays\, 38 Teras Cathays\, Cathays\, Caerdydd\, CF24 4HX\, United Kingdom
CATEGORIES:Cymraeg,Demensia,Gofalwyr,Iechyd meddwl
ATTACH;FMTTYPE=image/jpeg:https://keepingmewell.com/wp-content/uploads/2022/11/neurons-gf30f28b0c_640.jpg
END:VEVENT
BEGIN:VEVENT
DTSTART;TZID=Europe/London:20261228T103000
DTEND;TZID=Europe/London:20261228T113000
DTSTAMP:20260422T203857
CREATED:20231016T102837Z
LAST-MODIFIED:20231016T102837Z
UID:10005007-1798453800-1798457400@keepingmewell.com
SUMMARY:Caffi Dementia @ Hyb Grangetown
DESCRIPTION:Rhannwch frecwast o De\, Coffi\, Tost\, bisgedi a ffrwythau. Mwynhewch sesiwn ymarfer cadair am 10 munud i baratoi ar gyfer gweithgaredd yr wythnos – lliwio oedolion\, gemau bwrdd\, cardiau chwarae\, crefftau neu gelf. \nYna ymunwch â sesiwn canu gyda rhai o ganeuon mwyaf poblogaidd y 1960au. \nCroeso i bawb gan gynnwys gofalwyr.
URL:https://keepingmewell.com/event/caffi-dementia-hyb-grangetown-27/2026-12-28/
LOCATION:Hyb Grangetown\, Plas Havelock\, Grangetown\, Caerdydd\, CF11 6PA\, United Kingdom
CATEGORIES:Cymraeg,Demensia,Gofalwyr,Hyb,Iechyd meddwl
ATTACH;FMTTYPE=image/png:https://keepingmewell.com/wp-content/uploads/2023/01/Cardiff-Hubs.png
END:VEVENT
BEGIN:VEVENT
DTSTART;TZID=Europe/London:20261231T140000
DTEND;TZID=Europe/London:20261231T160000
DTSTAMP:20260422T203857
CREATED:20231024T145616Z
LAST-MODIFIED:20231024T145616Z
UID:10017057-1798725600-1798732800@keepingmewell.com
SUMMARY:Clwb Cymdeithasol Memory Lane
DESCRIPTION:Gweithgareddau am ddim gan gynnwys cyrlio dan do a cherddoriaeth i bobl y mae dementia yn effithio arnynt a’u gofalwyr. \nBob Dydd Iau 2-4pm Canoflan Gymunedol Cathays Os hoffech chi ymuno new gael unrhyw cwestiynau\, ffoniwch new e-bostiwch Phill 029 2037 3144 Phill.Racz@cathays.org
URL:https://keepingmewell.com/event/clwb-cymdeithasol-memory-lane/2026-12-31/
LOCATION:Canolfan Gymunedol Cathays\, 38 Teras Cathays\, Cathays\, Caerdydd\, CF24 4HX\, United Kingdom
CATEGORIES:Cymraeg,Demensia,Gofalwyr,Iechyd meddwl
ATTACH;FMTTYPE=image/jpeg:https://keepingmewell.com/wp-content/uploads/2022/11/neurons-gf30f28b0c_640.jpg
END:VEVENT
END:VCALENDAR