BEGIN:VCALENDAR
VERSION:2.0
PRODID:-//Keeping Me Well - ECPv6.15.20//NONSGML v1.0//EN
CALSCALE:GREGORIAN
METHOD:PUBLISH
X-WR-CALNAME:Keeping Me Well
X-ORIGINAL-URL:https://keepingmewell.com
X-WR-CALDESC:Events for Keeping Me Well
REFRESH-INTERVAL;VALUE=DURATION:PT1H
X-Robots-Tag:noindex
X-PUBLISHED-TTL:PT1H
BEGIN:VTIMEZONE
TZID:Europe/London
BEGIN:DAYLIGHT
TZOFFSETFROM:+0000
TZOFFSETTO:+0100
TZNAME:BST
DTSTART:20280326T010000
END:DAYLIGHT
BEGIN:STANDARD
TZOFFSETFROM:+0100
TZOFFSETTO:+0000
TZNAME:GMT
DTSTART:20281029T010000
END:STANDARD
BEGIN:DAYLIGHT
TZOFFSETFROM:+0000
TZOFFSETTO:+0100
TZNAME:BST
DTSTART:20290325T010000
END:DAYLIGHT
BEGIN:STANDARD
TZOFFSETFROM:+0100
TZOFFSETTO:+0000
TZNAME:GMT
DTSTART:20291028T010000
END:STANDARD
BEGIN:DAYLIGHT
TZOFFSETFROM:+0000
TZOFFSETTO:+0100
TZNAME:BST
DTSTART:20300331T010000
END:DAYLIGHT
BEGIN:STANDARD
TZOFFSETFROM:+0100
TZOFFSETTO:+0000
TZNAME:GMT
DTSTART:20301027T010000
END:STANDARD
BEGIN:DAYLIGHT
TZOFFSETFROM:+0000
TZOFFSETTO:+0100
TZNAME:BST
DTSTART:20310330T010000
END:DAYLIGHT
BEGIN:STANDARD
TZOFFSETFROM:+0100
TZOFFSETTO:+0000
TZNAME:GMT
DTSTART:20311026T010000
END:STANDARD
END:VTIMEZONE
BEGIN:VEVENT
DTSTART;TZID=Europe/London:20291126T103000
DTEND;TZID=Europe/London:20291126T113000
DTSTAMP:20260420T062737
CREATED:20231016T102837Z
LAST-MODIFIED:20231016T102837Z
UID:10027318-1890383400-1890387000@keepingmewell.com
SUMMARY:Caffi Dementia @ Hyb Grangetown
DESCRIPTION:Rhannwch frecwast o De\, Coffi\, Tost\, bisgedi a ffrwythau. Mwynhewch sesiwn ymarfer cadair am 10 munud i baratoi ar gyfer gweithgaredd yr wythnos – lliwio oedolion\, gemau bwrdd\, cardiau chwarae\, crefftau neu gelf. \nYna ymunwch â sesiwn canu gyda rhai o ganeuon mwyaf poblogaidd y 1960au. \nCroeso i bawb gan gynnwys gofalwyr.
URL:https://keepingmewell.com/event/caffi-dementia-hyb-grangetown-27/2029-11-26/
LOCATION:Hyb Grangetown\, Plas Havelock\, Grangetown\, Caerdydd\, CF11 6PA\, United Kingdom
CATEGORIES:Cymraeg,Demensia,Gofalwyr,Hyb,Iechyd meddwl
ATTACH;FMTTYPE=image/png:https://keepingmewell.com/wp-content/uploads/2023/01/Cardiff-Hubs.png
END:VEVENT
BEGIN:VEVENT
DTSTART;TZID=Europe/London:20291129T140000
DTEND;TZID=Europe/London:20291129T160000
DTSTAMP:20260420T062737
CREATED:20231024T145616Z
LAST-MODIFIED:20231024T145616Z
UID:10025837-1890655200-1890662400@keepingmewell.com
SUMMARY:Clwb Cymdeithasol Memory Lane
DESCRIPTION:Gweithgareddau am ddim gan gynnwys cyrlio dan do a cherddoriaeth i bobl y mae dementia yn effithio arnynt a’u gofalwyr. \nBob Dydd Iau 2-4pm Canoflan Gymunedol Cathays Os hoffech chi ymuno new gael unrhyw cwestiynau\, ffoniwch new e-bostiwch Phill 029 2037 3144 Phill.Racz@cathays.org
URL:https://keepingmewell.com/event/clwb-cymdeithasol-memory-lane/2029-11-29/
LOCATION:Canolfan Gymunedol Cathays\, 38 Teras Cathays\, Cathays\, Caerdydd\, CF24 4HX\, United Kingdom
CATEGORIES:Cymraeg,Demensia,Gofalwyr,Iechyd meddwl
ATTACH;FMTTYPE=image/jpeg:https://keepingmewell.com/wp-content/uploads/2022/11/neurons-gf30f28b0c_640.jpg
END:VEVENT
BEGIN:VEVENT
DTSTART;TZID=Europe/London:20291203T103000
DTEND;TZID=Europe/London:20291203T113000
DTSTAMP:20260420T062737
CREATED:20231016T102837Z
LAST-MODIFIED:20231016T102837Z
UID:10027319-1890988200-1890991800@keepingmewell.com
SUMMARY:Caffi Dementia @ Hyb Grangetown
DESCRIPTION:Rhannwch frecwast o De\, Coffi\, Tost\, bisgedi a ffrwythau. Mwynhewch sesiwn ymarfer cadair am 10 munud i baratoi ar gyfer gweithgaredd yr wythnos – lliwio oedolion\, gemau bwrdd\, cardiau chwarae\, crefftau neu gelf. \nYna ymunwch â sesiwn canu gyda rhai o ganeuon mwyaf poblogaidd y 1960au. \nCroeso i bawb gan gynnwys gofalwyr.
URL:https://keepingmewell.com/event/caffi-dementia-hyb-grangetown-27/2029-12-03/
LOCATION:Hyb Grangetown\, Plas Havelock\, Grangetown\, Caerdydd\, CF11 6PA\, United Kingdom
CATEGORIES:Cymraeg,Demensia,Gofalwyr,Hyb,Iechyd meddwl
ATTACH;FMTTYPE=image/png:https://keepingmewell.com/wp-content/uploads/2023/01/Cardiff-Hubs.png
END:VEVENT
BEGIN:VEVENT
DTSTART;TZID=Europe/London:20291206T140000
DTEND;TZID=Europe/London:20291206T160000
DTSTAMP:20260420T062737
CREATED:20231024T145616Z
LAST-MODIFIED:20231024T145616Z
UID:10025838-1891260000-1891267200@keepingmewell.com
SUMMARY:Clwb Cymdeithasol Memory Lane
DESCRIPTION:Gweithgareddau am ddim gan gynnwys cyrlio dan do a cherddoriaeth i bobl y mae dementia yn effithio arnynt a’u gofalwyr. \nBob Dydd Iau 2-4pm Canoflan Gymunedol Cathays Os hoffech chi ymuno new gael unrhyw cwestiynau\, ffoniwch new e-bostiwch Phill 029 2037 3144 Phill.Racz@cathays.org
URL:https://keepingmewell.com/event/clwb-cymdeithasol-memory-lane/2029-12-06/
LOCATION:Canolfan Gymunedol Cathays\, 38 Teras Cathays\, Cathays\, Caerdydd\, CF24 4HX\, United Kingdom
CATEGORIES:Cymraeg,Demensia,Gofalwyr,Iechyd meddwl
ATTACH;FMTTYPE=image/jpeg:https://keepingmewell.com/wp-content/uploads/2022/11/neurons-gf30f28b0c_640.jpg
END:VEVENT
BEGIN:VEVENT
DTSTART;TZID=Europe/London:20291210T103000
DTEND;TZID=Europe/London:20291210T113000
DTSTAMP:20260420T062737
CREATED:20231016T102837Z
LAST-MODIFIED:20231016T102837Z
UID:10027320-1891593000-1891596600@keepingmewell.com
SUMMARY:Caffi Dementia @ Hyb Grangetown
DESCRIPTION:Rhannwch frecwast o De\, Coffi\, Tost\, bisgedi a ffrwythau. Mwynhewch sesiwn ymarfer cadair am 10 munud i baratoi ar gyfer gweithgaredd yr wythnos – lliwio oedolion\, gemau bwrdd\, cardiau chwarae\, crefftau neu gelf. \nYna ymunwch â sesiwn canu gyda rhai o ganeuon mwyaf poblogaidd y 1960au. \nCroeso i bawb gan gynnwys gofalwyr.
URL:https://keepingmewell.com/event/caffi-dementia-hyb-grangetown-27/2029-12-10/
LOCATION:Hyb Grangetown\, Plas Havelock\, Grangetown\, Caerdydd\, CF11 6PA\, United Kingdom
CATEGORIES:Cymraeg,Demensia,Gofalwyr,Hyb,Iechyd meddwl
ATTACH;FMTTYPE=image/png:https://keepingmewell.com/wp-content/uploads/2023/01/Cardiff-Hubs.png
END:VEVENT
BEGIN:VEVENT
DTSTART;TZID=Europe/London:20291213T140000
DTEND;TZID=Europe/London:20291213T160000
DTSTAMP:20260420T062737
CREATED:20231024T145616Z
LAST-MODIFIED:20231024T145616Z
UID:10025839-1891864800-1891872000@keepingmewell.com
SUMMARY:Clwb Cymdeithasol Memory Lane
DESCRIPTION:Gweithgareddau am ddim gan gynnwys cyrlio dan do a cherddoriaeth i bobl y mae dementia yn effithio arnynt a’u gofalwyr. \nBob Dydd Iau 2-4pm Canoflan Gymunedol Cathays Os hoffech chi ymuno new gael unrhyw cwestiynau\, ffoniwch new e-bostiwch Phill 029 2037 3144 Phill.Racz@cathays.org
URL:https://keepingmewell.com/event/clwb-cymdeithasol-memory-lane/2029-12-13/
LOCATION:Canolfan Gymunedol Cathays\, 38 Teras Cathays\, Cathays\, Caerdydd\, CF24 4HX\, United Kingdom
CATEGORIES:Cymraeg,Demensia,Gofalwyr,Iechyd meddwl
ATTACH;FMTTYPE=image/jpeg:https://keepingmewell.com/wp-content/uploads/2022/11/neurons-gf30f28b0c_640.jpg
END:VEVENT
BEGIN:VEVENT
DTSTART;TZID=Europe/London:20291217T103000
DTEND;TZID=Europe/London:20291217T113000
DTSTAMP:20260420T062737
CREATED:20231016T102837Z
LAST-MODIFIED:20231016T102837Z
UID:10027321-1892197800-1892201400@keepingmewell.com
SUMMARY:Caffi Dementia @ Hyb Grangetown
DESCRIPTION:Rhannwch frecwast o De\, Coffi\, Tost\, bisgedi a ffrwythau. Mwynhewch sesiwn ymarfer cadair am 10 munud i baratoi ar gyfer gweithgaredd yr wythnos – lliwio oedolion\, gemau bwrdd\, cardiau chwarae\, crefftau neu gelf. \nYna ymunwch â sesiwn canu gyda rhai o ganeuon mwyaf poblogaidd y 1960au. \nCroeso i bawb gan gynnwys gofalwyr.
URL:https://keepingmewell.com/event/caffi-dementia-hyb-grangetown-27/2029-12-17/
LOCATION:Hyb Grangetown\, Plas Havelock\, Grangetown\, Caerdydd\, CF11 6PA\, United Kingdom
CATEGORIES:Cymraeg,Demensia,Gofalwyr,Hyb,Iechyd meddwl
ATTACH;FMTTYPE=image/png:https://keepingmewell.com/wp-content/uploads/2023/01/Cardiff-Hubs.png
END:VEVENT
BEGIN:VEVENT
DTSTART;TZID=Europe/London:20291220T140000
DTEND;TZID=Europe/London:20291220T160000
DTSTAMP:20260420T062737
CREATED:20231024T145616Z
LAST-MODIFIED:20231024T145616Z
UID:10025840-1892469600-1892476800@keepingmewell.com
SUMMARY:Clwb Cymdeithasol Memory Lane
DESCRIPTION:Gweithgareddau am ddim gan gynnwys cyrlio dan do a cherddoriaeth i bobl y mae dementia yn effithio arnynt a’u gofalwyr. \nBob Dydd Iau 2-4pm Canoflan Gymunedol Cathays Os hoffech chi ymuno new gael unrhyw cwestiynau\, ffoniwch new e-bostiwch Phill 029 2037 3144 Phill.Racz@cathays.org
URL:https://keepingmewell.com/event/clwb-cymdeithasol-memory-lane/2029-12-20/
LOCATION:Canolfan Gymunedol Cathays\, 38 Teras Cathays\, Cathays\, Caerdydd\, CF24 4HX\, United Kingdom
CATEGORIES:Cymraeg,Demensia,Gofalwyr,Iechyd meddwl
ATTACH;FMTTYPE=image/jpeg:https://keepingmewell.com/wp-content/uploads/2022/11/neurons-gf30f28b0c_640.jpg
END:VEVENT
BEGIN:VEVENT
DTSTART;TZID=Europe/London:20291224T103000
DTEND;TZID=Europe/London:20291224T113000
DTSTAMP:20260420T062737
CREATED:20231016T102837Z
LAST-MODIFIED:20231016T102837Z
UID:10027322-1892802600-1892806200@keepingmewell.com
SUMMARY:Caffi Dementia @ Hyb Grangetown
DESCRIPTION:Rhannwch frecwast o De\, Coffi\, Tost\, bisgedi a ffrwythau. Mwynhewch sesiwn ymarfer cadair am 10 munud i baratoi ar gyfer gweithgaredd yr wythnos – lliwio oedolion\, gemau bwrdd\, cardiau chwarae\, crefftau neu gelf. \nYna ymunwch â sesiwn canu gyda rhai o ganeuon mwyaf poblogaidd y 1960au. \nCroeso i bawb gan gynnwys gofalwyr.
URL:https://keepingmewell.com/event/caffi-dementia-hyb-grangetown-27/2029-12-24/
LOCATION:Hyb Grangetown\, Plas Havelock\, Grangetown\, Caerdydd\, CF11 6PA\, United Kingdom
CATEGORIES:Cymraeg,Demensia,Gofalwyr,Hyb,Iechyd meddwl
ATTACH;FMTTYPE=image/png:https://keepingmewell.com/wp-content/uploads/2023/01/Cardiff-Hubs.png
END:VEVENT
BEGIN:VEVENT
DTSTART;TZID=Europe/London:20291227T140000
DTEND;TZID=Europe/London:20291227T160000
DTSTAMP:20260420T062737
CREATED:20231024T145616Z
LAST-MODIFIED:20231024T145616Z
UID:10025841-1893074400-1893081600@keepingmewell.com
SUMMARY:Clwb Cymdeithasol Memory Lane
DESCRIPTION:Gweithgareddau am ddim gan gynnwys cyrlio dan do a cherddoriaeth i bobl y mae dementia yn effithio arnynt a’u gofalwyr. \nBob Dydd Iau 2-4pm Canoflan Gymunedol Cathays Os hoffech chi ymuno new gael unrhyw cwestiynau\, ffoniwch new e-bostiwch Phill 029 2037 3144 Phill.Racz@cathays.org
URL:https://keepingmewell.com/event/clwb-cymdeithasol-memory-lane/2029-12-27/
LOCATION:Canolfan Gymunedol Cathays\, 38 Teras Cathays\, Cathays\, Caerdydd\, CF24 4HX\, United Kingdom
CATEGORIES:Cymraeg,Demensia,Gofalwyr,Iechyd meddwl
ATTACH;FMTTYPE=image/jpeg:https://keepingmewell.com/wp-content/uploads/2022/11/neurons-gf30f28b0c_640.jpg
END:VEVENT
BEGIN:VEVENT
DTSTART;TZID=Europe/London:20291231T103000
DTEND;TZID=Europe/London:20291231T113000
DTSTAMP:20260420T062737
CREATED:20231016T102837Z
LAST-MODIFIED:20231016T102837Z
UID:10027323-1893407400-1893411000@keepingmewell.com
SUMMARY:Caffi Dementia @ Hyb Grangetown
DESCRIPTION:Rhannwch frecwast o De\, Coffi\, Tost\, bisgedi a ffrwythau. Mwynhewch sesiwn ymarfer cadair am 10 munud i baratoi ar gyfer gweithgaredd yr wythnos – lliwio oedolion\, gemau bwrdd\, cardiau chwarae\, crefftau neu gelf. \nYna ymunwch â sesiwn canu gyda rhai o ganeuon mwyaf poblogaidd y 1960au. \nCroeso i bawb gan gynnwys gofalwyr.
URL:https://keepingmewell.com/event/caffi-dementia-hyb-grangetown-27/2029-12-31/
LOCATION:Hyb Grangetown\, Plas Havelock\, Grangetown\, Caerdydd\, CF11 6PA\, United Kingdom
CATEGORIES:Cymraeg,Demensia,Gofalwyr,Hyb,Iechyd meddwl
ATTACH;FMTTYPE=image/png:https://keepingmewell.com/wp-content/uploads/2023/01/Cardiff-Hubs.png
END:VEVENT
BEGIN:VEVENT
DTSTART;TZID=Europe/London:20300103T140000
DTEND;TZID=Europe/London:20300103T160000
DTSTAMP:20260420T062737
CREATED:20231024T145616Z
LAST-MODIFIED:20231024T145616Z
UID:10025842-1893679200-1893686400@keepingmewell.com
SUMMARY:Clwb Cymdeithasol Memory Lane
DESCRIPTION:Gweithgareddau am ddim gan gynnwys cyrlio dan do a cherddoriaeth i bobl y mae dementia yn effithio arnynt a’u gofalwyr. \nBob Dydd Iau 2-4pm Canoflan Gymunedol Cathays Os hoffech chi ymuno new gael unrhyw cwestiynau\, ffoniwch new e-bostiwch Phill 029 2037 3144 Phill.Racz@cathays.org
URL:https://keepingmewell.com/event/clwb-cymdeithasol-memory-lane/2030-01-03/
LOCATION:Canolfan Gymunedol Cathays\, 38 Teras Cathays\, Cathays\, Caerdydd\, CF24 4HX\, United Kingdom
CATEGORIES:Cymraeg,Demensia,Gofalwyr,Iechyd meddwl
ATTACH;FMTTYPE=image/jpeg:https://keepingmewell.com/wp-content/uploads/2022/11/neurons-gf30f28b0c_640.jpg
END:VEVENT
BEGIN:VEVENT
DTSTART;TZID=Europe/London:20300107T103000
DTEND;TZID=Europe/London:20300107T113000
DTSTAMP:20260420T062737
CREATED:20231016T102837Z
LAST-MODIFIED:20231016T102837Z
UID:10027324-1894012200-1894015800@keepingmewell.com
SUMMARY:Caffi Dementia @ Hyb Grangetown
DESCRIPTION:Rhannwch frecwast o De\, Coffi\, Tost\, bisgedi a ffrwythau. Mwynhewch sesiwn ymarfer cadair am 10 munud i baratoi ar gyfer gweithgaredd yr wythnos – lliwio oedolion\, gemau bwrdd\, cardiau chwarae\, crefftau neu gelf. \nYna ymunwch â sesiwn canu gyda rhai o ganeuon mwyaf poblogaidd y 1960au. \nCroeso i bawb gan gynnwys gofalwyr.
URL:https://keepingmewell.com/event/caffi-dementia-hyb-grangetown-27/2030-01-07/
LOCATION:Hyb Grangetown\, Plas Havelock\, Grangetown\, Caerdydd\, CF11 6PA\, United Kingdom
CATEGORIES:Cymraeg,Demensia,Gofalwyr,Hyb,Iechyd meddwl
ATTACH;FMTTYPE=image/png:https://keepingmewell.com/wp-content/uploads/2023/01/Cardiff-Hubs.png
END:VEVENT
BEGIN:VEVENT
DTSTART;TZID=Europe/London:20300110T140000
DTEND;TZID=Europe/London:20300110T160000
DTSTAMP:20260420T062737
CREATED:20231024T145616Z
LAST-MODIFIED:20231024T145616Z
UID:10025843-1894284000-1894291200@keepingmewell.com
SUMMARY:Clwb Cymdeithasol Memory Lane
DESCRIPTION:Gweithgareddau am ddim gan gynnwys cyrlio dan do a cherddoriaeth i bobl y mae dementia yn effithio arnynt a’u gofalwyr. \nBob Dydd Iau 2-4pm Canoflan Gymunedol Cathays Os hoffech chi ymuno new gael unrhyw cwestiynau\, ffoniwch new e-bostiwch Phill 029 2037 3144 Phill.Racz@cathays.org
URL:https://keepingmewell.com/event/clwb-cymdeithasol-memory-lane/2030-01-10/
LOCATION:Canolfan Gymunedol Cathays\, 38 Teras Cathays\, Cathays\, Caerdydd\, CF24 4HX\, United Kingdom
CATEGORIES:Cymraeg,Demensia,Gofalwyr,Iechyd meddwl
ATTACH;FMTTYPE=image/jpeg:https://keepingmewell.com/wp-content/uploads/2022/11/neurons-gf30f28b0c_640.jpg
END:VEVENT
BEGIN:VEVENT
DTSTART;TZID=Europe/London:20300114T103000
DTEND;TZID=Europe/London:20300114T113000
DTSTAMP:20260420T062737
CREATED:20231016T102837Z
LAST-MODIFIED:20231016T102837Z
UID:10027325-1894617000-1894620600@keepingmewell.com
SUMMARY:Caffi Dementia @ Hyb Grangetown
DESCRIPTION:Rhannwch frecwast o De\, Coffi\, Tost\, bisgedi a ffrwythau. Mwynhewch sesiwn ymarfer cadair am 10 munud i baratoi ar gyfer gweithgaredd yr wythnos – lliwio oedolion\, gemau bwrdd\, cardiau chwarae\, crefftau neu gelf. \nYna ymunwch â sesiwn canu gyda rhai o ganeuon mwyaf poblogaidd y 1960au. \nCroeso i bawb gan gynnwys gofalwyr.
URL:https://keepingmewell.com/event/caffi-dementia-hyb-grangetown-27/2030-01-14/
LOCATION:Hyb Grangetown\, Plas Havelock\, Grangetown\, Caerdydd\, CF11 6PA\, United Kingdom
CATEGORIES:Cymraeg,Demensia,Gofalwyr,Hyb,Iechyd meddwl
ATTACH;FMTTYPE=image/png:https://keepingmewell.com/wp-content/uploads/2023/01/Cardiff-Hubs.png
END:VEVENT
BEGIN:VEVENT
DTSTART;TZID=Europe/London:20300117T140000
DTEND;TZID=Europe/London:20300117T160000
DTSTAMP:20260420T062737
CREATED:20231024T145616Z
LAST-MODIFIED:20231024T145616Z
UID:10025844-1894888800-1894896000@keepingmewell.com
SUMMARY:Clwb Cymdeithasol Memory Lane
DESCRIPTION:Gweithgareddau am ddim gan gynnwys cyrlio dan do a cherddoriaeth i bobl y mae dementia yn effithio arnynt a’u gofalwyr. \nBob Dydd Iau 2-4pm Canoflan Gymunedol Cathays Os hoffech chi ymuno new gael unrhyw cwestiynau\, ffoniwch new e-bostiwch Phill 029 2037 3144 Phill.Racz@cathays.org
URL:https://keepingmewell.com/event/clwb-cymdeithasol-memory-lane/2030-01-17/
LOCATION:Canolfan Gymunedol Cathays\, 38 Teras Cathays\, Cathays\, Caerdydd\, CF24 4HX\, United Kingdom
CATEGORIES:Cymraeg,Demensia,Gofalwyr,Iechyd meddwl
ATTACH;FMTTYPE=image/jpeg:https://keepingmewell.com/wp-content/uploads/2022/11/neurons-gf30f28b0c_640.jpg
END:VEVENT
BEGIN:VEVENT
DTSTART;TZID=Europe/London:20300121T103000
DTEND;TZID=Europe/London:20300121T113000
DTSTAMP:20260420T062737
CREATED:20231016T102837Z
LAST-MODIFIED:20231016T102837Z
UID:10027326-1895221800-1895225400@keepingmewell.com
SUMMARY:Caffi Dementia @ Hyb Grangetown
DESCRIPTION:Rhannwch frecwast o De\, Coffi\, Tost\, bisgedi a ffrwythau. Mwynhewch sesiwn ymarfer cadair am 10 munud i baratoi ar gyfer gweithgaredd yr wythnos – lliwio oedolion\, gemau bwrdd\, cardiau chwarae\, crefftau neu gelf. \nYna ymunwch â sesiwn canu gyda rhai o ganeuon mwyaf poblogaidd y 1960au. \nCroeso i bawb gan gynnwys gofalwyr.
URL:https://keepingmewell.com/event/caffi-dementia-hyb-grangetown-27/2030-01-21/
LOCATION:Hyb Grangetown\, Plas Havelock\, Grangetown\, Caerdydd\, CF11 6PA\, United Kingdom
CATEGORIES:Cymraeg,Demensia,Gofalwyr,Hyb,Iechyd meddwl
ATTACH;FMTTYPE=image/png:https://keepingmewell.com/wp-content/uploads/2023/01/Cardiff-Hubs.png
END:VEVENT
BEGIN:VEVENT
DTSTART;TZID=Europe/London:20300124T140000
DTEND;TZID=Europe/London:20300124T160000
DTSTAMP:20260420T062737
CREATED:20231024T145616Z
LAST-MODIFIED:20231024T145616Z
UID:10025845-1895493600-1895500800@keepingmewell.com
SUMMARY:Clwb Cymdeithasol Memory Lane
DESCRIPTION:Gweithgareddau am ddim gan gynnwys cyrlio dan do a cherddoriaeth i bobl y mae dementia yn effithio arnynt a’u gofalwyr. \nBob Dydd Iau 2-4pm Canoflan Gymunedol Cathays Os hoffech chi ymuno new gael unrhyw cwestiynau\, ffoniwch new e-bostiwch Phill 029 2037 3144 Phill.Racz@cathays.org
URL:https://keepingmewell.com/event/clwb-cymdeithasol-memory-lane/2030-01-24/
LOCATION:Canolfan Gymunedol Cathays\, 38 Teras Cathays\, Cathays\, Caerdydd\, CF24 4HX\, United Kingdom
CATEGORIES:Cymraeg,Demensia,Gofalwyr,Iechyd meddwl
ATTACH;FMTTYPE=image/jpeg:https://keepingmewell.com/wp-content/uploads/2022/11/neurons-gf30f28b0c_640.jpg
END:VEVENT
BEGIN:VEVENT
DTSTART;TZID=Europe/London:20300128T103000
DTEND;TZID=Europe/London:20300128T113000
DTSTAMP:20260420T062737
CREATED:20231016T102837Z
LAST-MODIFIED:20231016T102837Z
UID:10027327-1895826600-1895830200@keepingmewell.com
SUMMARY:Caffi Dementia @ Hyb Grangetown
DESCRIPTION:Rhannwch frecwast o De\, Coffi\, Tost\, bisgedi a ffrwythau. Mwynhewch sesiwn ymarfer cadair am 10 munud i baratoi ar gyfer gweithgaredd yr wythnos – lliwio oedolion\, gemau bwrdd\, cardiau chwarae\, crefftau neu gelf. \nYna ymunwch â sesiwn canu gyda rhai o ganeuon mwyaf poblogaidd y 1960au. \nCroeso i bawb gan gynnwys gofalwyr.
URL:https://keepingmewell.com/event/caffi-dementia-hyb-grangetown-27/2030-01-28/
LOCATION:Hyb Grangetown\, Plas Havelock\, Grangetown\, Caerdydd\, CF11 6PA\, United Kingdom
CATEGORIES:Cymraeg,Demensia,Gofalwyr,Hyb,Iechyd meddwl
ATTACH;FMTTYPE=image/png:https://keepingmewell.com/wp-content/uploads/2023/01/Cardiff-Hubs.png
END:VEVENT
BEGIN:VEVENT
DTSTART;TZID=Europe/London:20300131T140000
DTEND;TZID=Europe/London:20300131T160000
DTSTAMP:20260420T062737
CREATED:20231024T145616Z
LAST-MODIFIED:20231024T145616Z
UID:10025846-1896098400-1896105600@keepingmewell.com
SUMMARY:Clwb Cymdeithasol Memory Lane
DESCRIPTION:Gweithgareddau am ddim gan gynnwys cyrlio dan do a cherddoriaeth i bobl y mae dementia yn effithio arnynt a’u gofalwyr. \nBob Dydd Iau 2-4pm Canoflan Gymunedol Cathays Os hoffech chi ymuno new gael unrhyw cwestiynau\, ffoniwch new e-bostiwch Phill 029 2037 3144 Phill.Racz@cathays.org
URL:https://keepingmewell.com/event/clwb-cymdeithasol-memory-lane/2030-01-31/
LOCATION:Canolfan Gymunedol Cathays\, 38 Teras Cathays\, Cathays\, Caerdydd\, CF24 4HX\, United Kingdom
CATEGORIES:Cymraeg,Demensia,Gofalwyr,Iechyd meddwl
ATTACH;FMTTYPE=image/jpeg:https://keepingmewell.com/wp-content/uploads/2022/11/neurons-gf30f28b0c_640.jpg
END:VEVENT
BEGIN:VEVENT
DTSTART;TZID=Europe/London:20300204T103000
DTEND;TZID=Europe/London:20300204T113000
DTSTAMP:20260420T062737
CREATED:20231016T102837Z
LAST-MODIFIED:20231016T102837Z
UID:10027328-1896431400-1896435000@keepingmewell.com
SUMMARY:Caffi Dementia @ Hyb Grangetown
DESCRIPTION:Rhannwch frecwast o De\, Coffi\, Tost\, bisgedi a ffrwythau. Mwynhewch sesiwn ymarfer cadair am 10 munud i baratoi ar gyfer gweithgaredd yr wythnos – lliwio oedolion\, gemau bwrdd\, cardiau chwarae\, crefftau neu gelf. \nYna ymunwch â sesiwn canu gyda rhai o ganeuon mwyaf poblogaidd y 1960au. \nCroeso i bawb gan gynnwys gofalwyr.
URL:https://keepingmewell.com/event/caffi-dementia-hyb-grangetown-27/2030-02-04/
LOCATION:Hyb Grangetown\, Plas Havelock\, Grangetown\, Caerdydd\, CF11 6PA\, United Kingdom
CATEGORIES:Cymraeg,Demensia,Gofalwyr,Hyb,Iechyd meddwl
ATTACH;FMTTYPE=image/png:https://keepingmewell.com/wp-content/uploads/2023/01/Cardiff-Hubs.png
END:VEVENT
BEGIN:VEVENT
DTSTART;TZID=Europe/London:20300207T140000
DTEND;TZID=Europe/London:20300207T160000
DTSTAMP:20260420T062737
CREATED:20231024T145616Z
LAST-MODIFIED:20231024T145616Z
UID:10025847-1896703200-1896710400@keepingmewell.com
SUMMARY:Clwb Cymdeithasol Memory Lane
DESCRIPTION:Gweithgareddau am ddim gan gynnwys cyrlio dan do a cherddoriaeth i bobl y mae dementia yn effithio arnynt a’u gofalwyr. \nBob Dydd Iau 2-4pm Canoflan Gymunedol Cathays Os hoffech chi ymuno new gael unrhyw cwestiynau\, ffoniwch new e-bostiwch Phill 029 2037 3144 Phill.Racz@cathays.org
URL:https://keepingmewell.com/event/clwb-cymdeithasol-memory-lane/2030-02-07/
LOCATION:Canolfan Gymunedol Cathays\, 38 Teras Cathays\, Cathays\, Caerdydd\, CF24 4HX\, United Kingdom
CATEGORIES:Cymraeg,Demensia,Gofalwyr,Iechyd meddwl
ATTACH;FMTTYPE=image/jpeg:https://keepingmewell.com/wp-content/uploads/2022/11/neurons-gf30f28b0c_640.jpg
END:VEVENT
BEGIN:VEVENT
DTSTART;TZID=Europe/London:20300211T103000
DTEND;TZID=Europe/London:20300211T113000
DTSTAMP:20260420T062737
CREATED:20231016T102837Z
LAST-MODIFIED:20231016T102837Z
UID:10027329-1897036200-1897039800@keepingmewell.com
SUMMARY:Caffi Dementia @ Hyb Grangetown
DESCRIPTION:Rhannwch frecwast o De\, Coffi\, Tost\, bisgedi a ffrwythau. Mwynhewch sesiwn ymarfer cadair am 10 munud i baratoi ar gyfer gweithgaredd yr wythnos – lliwio oedolion\, gemau bwrdd\, cardiau chwarae\, crefftau neu gelf. \nYna ymunwch â sesiwn canu gyda rhai o ganeuon mwyaf poblogaidd y 1960au. \nCroeso i bawb gan gynnwys gofalwyr.
URL:https://keepingmewell.com/event/caffi-dementia-hyb-grangetown-27/2030-02-11/
LOCATION:Hyb Grangetown\, Plas Havelock\, Grangetown\, Caerdydd\, CF11 6PA\, United Kingdom
CATEGORIES:Cymraeg,Demensia,Gofalwyr,Hyb,Iechyd meddwl
ATTACH;FMTTYPE=image/png:https://keepingmewell.com/wp-content/uploads/2023/01/Cardiff-Hubs.png
END:VEVENT
BEGIN:VEVENT
DTSTART;TZID=Europe/London:20300214T140000
DTEND;TZID=Europe/London:20300214T160000
DTSTAMP:20260420T062737
CREATED:20231024T145616Z
LAST-MODIFIED:20231024T145616Z
UID:10025848-1897308000-1897315200@keepingmewell.com
SUMMARY:Clwb Cymdeithasol Memory Lane
DESCRIPTION:Gweithgareddau am ddim gan gynnwys cyrlio dan do a cherddoriaeth i bobl y mae dementia yn effithio arnynt a’u gofalwyr. \nBob Dydd Iau 2-4pm Canoflan Gymunedol Cathays Os hoffech chi ymuno new gael unrhyw cwestiynau\, ffoniwch new e-bostiwch Phill 029 2037 3144 Phill.Racz@cathays.org
URL:https://keepingmewell.com/event/clwb-cymdeithasol-memory-lane/2030-02-14/
LOCATION:Canolfan Gymunedol Cathays\, 38 Teras Cathays\, Cathays\, Caerdydd\, CF24 4HX\, United Kingdom
CATEGORIES:Cymraeg,Demensia,Gofalwyr,Iechyd meddwl
ATTACH;FMTTYPE=image/jpeg:https://keepingmewell.com/wp-content/uploads/2022/11/neurons-gf30f28b0c_640.jpg
END:VEVENT
BEGIN:VEVENT
DTSTART;TZID=Europe/London:20300218T103000
DTEND;TZID=Europe/London:20300218T113000
DTSTAMP:20260420T062737
CREATED:20231016T102837Z
LAST-MODIFIED:20231016T102837Z
UID:10027330-1897641000-1897644600@keepingmewell.com
SUMMARY:Caffi Dementia @ Hyb Grangetown
DESCRIPTION:Rhannwch frecwast o De\, Coffi\, Tost\, bisgedi a ffrwythau. Mwynhewch sesiwn ymarfer cadair am 10 munud i baratoi ar gyfer gweithgaredd yr wythnos – lliwio oedolion\, gemau bwrdd\, cardiau chwarae\, crefftau neu gelf. \nYna ymunwch â sesiwn canu gyda rhai o ganeuon mwyaf poblogaidd y 1960au. \nCroeso i bawb gan gynnwys gofalwyr.
URL:https://keepingmewell.com/event/caffi-dementia-hyb-grangetown-27/2030-02-18/
LOCATION:Hyb Grangetown\, Plas Havelock\, Grangetown\, Caerdydd\, CF11 6PA\, United Kingdom
CATEGORIES:Cymraeg,Demensia,Gofalwyr,Hyb,Iechyd meddwl
ATTACH;FMTTYPE=image/png:https://keepingmewell.com/wp-content/uploads/2023/01/Cardiff-Hubs.png
END:VEVENT
BEGIN:VEVENT
DTSTART;TZID=Europe/London:20300221T140000
DTEND;TZID=Europe/London:20300221T160000
DTSTAMP:20260420T062737
CREATED:20231024T145616Z
LAST-MODIFIED:20231024T145616Z
UID:10025849-1897912800-1897920000@keepingmewell.com
SUMMARY:Clwb Cymdeithasol Memory Lane
DESCRIPTION:Gweithgareddau am ddim gan gynnwys cyrlio dan do a cherddoriaeth i bobl y mae dementia yn effithio arnynt a’u gofalwyr. \nBob Dydd Iau 2-4pm Canoflan Gymunedol Cathays Os hoffech chi ymuno new gael unrhyw cwestiynau\, ffoniwch new e-bostiwch Phill 029 2037 3144 Phill.Racz@cathays.org
URL:https://keepingmewell.com/event/clwb-cymdeithasol-memory-lane/2030-02-21/
LOCATION:Canolfan Gymunedol Cathays\, 38 Teras Cathays\, Cathays\, Caerdydd\, CF24 4HX\, United Kingdom
CATEGORIES:Cymraeg,Demensia,Gofalwyr,Iechyd meddwl
ATTACH;FMTTYPE=image/jpeg:https://keepingmewell.com/wp-content/uploads/2022/11/neurons-gf30f28b0c_640.jpg
END:VEVENT
BEGIN:VEVENT
DTSTART;TZID=Europe/London:20300225T103000
DTEND;TZID=Europe/London:20300225T113000
DTSTAMP:20260420T062737
CREATED:20231016T102837Z
LAST-MODIFIED:20231016T102837Z
UID:10027331-1898245800-1898249400@keepingmewell.com
SUMMARY:Caffi Dementia @ Hyb Grangetown
DESCRIPTION:Rhannwch frecwast o De\, Coffi\, Tost\, bisgedi a ffrwythau. Mwynhewch sesiwn ymarfer cadair am 10 munud i baratoi ar gyfer gweithgaredd yr wythnos – lliwio oedolion\, gemau bwrdd\, cardiau chwarae\, crefftau neu gelf. \nYna ymunwch â sesiwn canu gyda rhai o ganeuon mwyaf poblogaidd y 1960au. \nCroeso i bawb gan gynnwys gofalwyr.
URL:https://keepingmewell.com/event/caffi-dementia-hyb-grangetown-27/2030-02-25/
LOCATION:Hyb Grangetown\, Plas Havelock\, Grangetown\, Caerdydd\, CF11 6PA\, United Kingdom
CATEGORIES:Cymraeg,Demensia,Gofalwyr,Hyb,Iechyd meddwl
ATTACH;FMTTYPE=image/png:https://keepingmewell.com/wp-content/uploads/2023/01/Cardiff-Hubs.png
END:VEVENT
BEGIN:VEVENT
DTSTART;TZID=Europe/London:20300228T140000
DTEND;TZID=Europe/London:20300228T160000
DTSTAMP:20260420T062737
CREATED:20231024T145616Z
LAST-MODIFIED:20231024T145616Z
UID:10025850-1898517600-1898524800@keepingmewell.com
SUMMARY:Clwb Cymdeithasol Memory Lane
DESCRIPTION:Gweithgareddau am ddim gan gynnwys cyrlio dan do a cherddoriaeth i bobl y mae dementia yn effithio arnynt a’u gofalwyr. \nBob Dydd Iau 2-4pm Canoflan Gymunedol Cathays Os hoffech chi ymuno new gael unrhyw cwestiynau\, ffoniwch new e-bostiwch Phill 029 2037 3144 Phill.Racz@cathays.org
URL:https://keepingmewell.com/event/clwb-cymdeithasol-memory-lane/2030-02-28/
LOCATION:Canolfan Gymunedol Cathays\, 38 Teras Cathays\, Cathays\, Caerdydd\, CF24 4HX\, United Kingdom
CATEGORIES:Cymraeg,Demensia,Gofalwyr,Iechyd meddwl
ATTACH;FMTTYPE=image/jpeg:https://keepingmewell.com/wp-content/uploads/2022/11/neurons-gf30f28b0c_640.jpg
END:VEVENT
BEGIN:VEVENT
DTSTART;TZID=Europe/London:20300304T103000
DTEND;TZID=Europe/London:20300304T113000
DTSTAMP:20260420T062737
CREATED:20231016T102837Z
LAST-MODIFIED:20231016T102837Z
UID:10027332-1898850600-1898854200@keepingmewell.com
SUMMARY:Caffi Dementia @ Hyb Grangetown
DESCRIPTION:Rhannwch frecwast o De\, Coffi\, Tost\, bisgedi a ffrwythau. Mwynhewch sesiwn ymarfer cadair am 10 munud i baratoi ar gyfer gweithgaredd yr wythnos – lliwio oedolion\, gemau bwrdd\, cardiau chwarae\, crefftau neu gelf. \nYna ymunwch â sesiwn canu gyda rhai o ganeuon mwyaf poblogaidd y 1960au. \nCroeso i bawb gan gynnwys gofalwyr.
URL:https://keepingmewell.com/event/caffi-dementia-hyb-grangetown-27/2030-03-04/
LOCATION:Hyb Grangetown\, Plas Havelock\, Grangetown\, Caerdydd\, CF11 6PA\, United Kingdom
CATEGORIES:Cymraeg,Demensia,Gofalwyr,Hyb,Iechyd meddwl
ATTACH;FMTTYPE=image/png:https://keepingmewell.com/wp-content/uploads/2023/01/Cardiff-Hubs.png
END:VEVENT
BEGIN:VEVENT
DTSTART;TZID=Europe/London:20300307T140000
DTEND;TZID=Europe/London:20300307T160000
DTSTAMP:20260420T062737
CREATED:20231024T145616Z
LAST-MODIFIED:20231024T145616Z
UID:10025851-1899122400-1899129600@keepingmewell.com
SUMMARY:Clwb Cymdeithasol Memory Lane
DESCRIPTION:Gweithgareddau am ddim gan gynnwys cyrlio dan do a cherddoriaeth i bobl y mae dementia yn effithio arnynt a’u gofalwyr. \nBob Dydd Iau 2-4pm Canoflan Gymunedol Cathays Os hoffech chi ymuno new gael unrhyw cwestiynau\, ffoniwch new e-bostiwch Phill 029 2037 3144 Phill.Racz@cathays.org
URL:https://keepingmewell.com/event/clwb-cymdeithasol-memory-lane/2030-03-07/
LOCATION:Canolfan Gymunedol Cathays\, 38 Teras Cathays\, Cathays\, Caerdydd\, CF24 4HX\, United Kingdom
CATEGORIES:Cymraeg,Demensia,Gofalwyr,Iechyd meddwl
ATTACH;FMTTYPE=image/jpeg:https://keepingmewell.com/wp-content/uploads/2022/11/neurons-gf30f28b0c_640.jpg
END:VEVENT
END:VCALENDAR