BEGIN:VCALENDAR
VERSION:2.0
PRODID:-//Keeping Me Well - ECPv6.15.20//NONSGML v1.0//EN
CALSCALE:GREGORIAN
METHOD:PUBLISH
X-WR-CALNAME:Keeping Me Well
X-ORIGINAL-URL:https://keepingmewell.com
X-WR-CALDESC:Events for Keeping Me Well
REFRESH-INTERVAL;VALUE=DURATION:PT1H
X-Robots-Tag:noindex
X-PUBLISHED-TTL:PT1H
BEGIN:VTIMEZONE
TZID:Europe/London
BEGIN:DAYLIGHT
TZOFFSETFROM:+0000
TZOFFSETTO:+0100
TZNAME:BST
DTSTART:20280326T010000
END:DAYLIGHT
BEGIN:STANDARD
TZOFFSETFROM:+0100
TZOFFSETTO:+0000
TZNAME:GMT
DTSTART:20281029T010000
END:STANDARD
BEGIN:DAYLIGHT
TZOFFSETFROM:+0000
TZOFFSETTO:+0100
TZNAME:BST
DTSTART:20290325T010000
END:DAYLIGHT
BEGIN:STANDARD
TZOFFSETFROM:+0100
TZOFFSETTO:+0000
TZNAME:GMT
DTSTART:20291028T010000
END:STANDARD
BEGIN:DAYLIGHT
TZOFFSETFROM:+0000
TZOFFSETTO:+0100
TZNAME:BST
DTSTART:20300331T010000
END:DAYLIGHT
BEGIN:STANDARD
TZOFFSETFROM:+0100
TZOFFSETTO:+0000
TZNAME:GMT
DTSTART:20301027T010000
END:STANDARD
END:VTIMEZONE
BEGIN:VEVENT
DTSTART;TZID=Europe/London:20290531T110000
DTEND;TZID=Europe/London:20290531T120000
DTSTAMP:20260420T204450
CREATED:20230111T144250Z
LAST-MODIFIED:20231024T135343Z
UID:10025315-1874919600-1874923200@keepingmewell.com
SUMMARY:Cardiff Nordic Walking Group
DESCRIPTION:Nordic walking turns a walk into a workout. Meeting at Café Castan in Llandaff Fields\, this weekly Nordic Walking group improves health and fitness and is suitable for all ages and fitness levels. Bring your own poles.
URL:https://keepingmewell.com/event/cardiff-nordic-walking-group-37/2029-05-31/
LOCATION:Cafe Castan\, Llandaff Fields\, Pontcanna\, Cardiff\, CF11 9QJ
CATEGORIES:English,Nordic Walking,Physical Activity
ATTACH;FMTTYPE=image/png:https://keepingmewell.com/wp-content/uploads/2022/12/NWUK-Website-Final-Logo.png
END:VEVENT
BEGIN:VEVENT
DTSTART;TZID=Europe/London:20290601T130000
DTEND;TZID=Europe/London:20290601T140000
DTSTAMP:20260420T204450
CREATED:20230111T091444Z
LAST-MODIFIED:20231024T135850Z
UID:10027137-1875013200-1875016800@keepingmewell.com
SUMMARY:Nordic Walking Group in Barry
DESCRIPTION:Nordic walking turns a walk into a workout. It is suitable for all ages and fitness levels. Enjoy the benefits of being outdoors\, getting fit and using your muscles while in a relaxed\, social group. Beginners are able to borrow poles. \nThe route is weather dependent. Meet by the red post box in The Knap.
URL:https://keepingmewell.com/event/nordic-walking-group-in-barry-28/2029-06-01/
LOCATION:The Knap\, The Knap\, Barry\, CF62 6SG\, United Kingdom
CATEGORIES:English,Nordic Walking,Physical Health
ATTACH;FMTTYPE=image/png:https://keepingmewell.com/wp-content/uploads/2022/12/NWUK-Website-Final-Logo.png
END:VEVENT
BEGIN:VEVENT
DTSTART;TZID=Europe/London:20290607T110000
DTEND;TZID=Europe/London:20290607T120000
DTSTAMP:20260420T204450
CREATED:20230111T144250Z
LAST-MODIFIED:20231024T135343Z
UID:10025316-1875524400-1875528000@keepingmewell.com
SUMMARY:Cardiff Nordic Walking Group
DESCRIPTION:Nordic walking turns a walk into a workout. Meeting at Café Castan in Llandaff Fields\, this weekly Nordic Walking group improves health and fitness and is suitable for all ages and fitness levels. Bring your own poles.
URL:https://keepingmewell.com/event/cardiff-nordic-walking-group-37/2029-06-07/
LOCATION:Cafe Castan\, Llandaff Fields\, Pontcanna\, Cardiff\, CF11 9QJ
CATEGORIES:English,Nordic Walking,Physical Activity
ATTACH;FMTTYPE=image/png:https://keepingmewell.com/wp-content/uploads/2022/12/NWUK-Website-Final-Logo.png
END:VEVENT
BEGIN:VEVENT
DTSTART;TZID=Europe/London:20290608T130000
DTEND;TZID=Europe/London:20290608T140000
DTSTAMP:20260420T204450
CREATED:20230111T091444Z
LAST-MODIFIED:20231024T135850Z
UID:10027138-1875618000-1875621600@keepingmewell.com
SUMMARY:Nordic Walking Group in Barry
DESCRIPTION:Nordic walking turns a walk into a workout. It is suitable for all ages and fitness levels. Enjoy the benefits of being outdoors\, getting fit and using your muscles while in a relaxed\, social group. Beginners are able to borrow poles. \nThe route is weather dependent. Meet by the red post box in The Knap.
URL:https://keepingmewell.com/event/nordic-walking-group-in-barry-28/2029-06-08/
LOCATION:The Knap\, The Knap\, Barry\, CF62 6SG\, United Kingdom
CATEGORIES:English,Nordic Walking,Physical Health
ATTACH;FMTTYPE=image/png:https://keepingmewell.com/wp-content/uploads/2022/12/NWUK-Website-Final-Logo.png
END:VEVENT
BEGIN:VEVENT
DTSTART;TZID=Europe/London:20290614T110000
DTEND;TZID=Europe/London:20290614T120000
DTSTAMP:20260420T204450
CREATED:20230111T144250Z
LAST-MODIFIED:20231024T135343Z
UID:10025317-1876129200-1876132800@keepingmewell.com
SUMMARY:Cardiff Nordic Walking Group
DESCRIPTION:Nordic walking turns a walk into a workout. Meeting at Café Castan in Llandaff Fields\, this weekly Nordic Walking group improves health and fitness and is suitable for all ages and fitness levels. Bring your own poles.
URL:https://keepingmewell.com/event/cardiff-nordic-walking-group-37/2029-06-14/
LOCATION:Cafe Castan\, Llandaff Fields\, Pontcanna\, Cardiff\, CF11 9QJ
CATEGORIES:English,Nordic Walking,Physical Activity
ATTACH;FMTTYPE=image/png:https://keepingmewell.com/wp-content/uploads/2022/12/NWUK-Website-Final-Logo.png
END:VEVENT
BEGIN:VEVENT
DTSTART;TZID=Europe/London:20290615T130000
DTEND;TZID=Europe/London:20290615T140000
DTSTAMP:20260420T204450
CREATED:20230111T091444Z
LAST-MODIFIED:20231024T135850Z
UID:10027139-1876222800-1876226400@keepingmewell.com
SUMMARY:Nordic Walking Group in Barry
DESCRIPTION:Nordic walking turns a walk into a workout. It is suitable for all ages and fitness levels. Enjoy the benefits of being outdoors\, getting fit and using your muscles while in a relaxed\, social group. Beginners are able to borrow poles. \nThe route is weather dependent. Meet by the red post box in The Knap.
URL:https://keepingmewell.com/event/nordic-walking-group-in-barry-28/2029-06-15/
LOCATION:The Knap\, The Knap\, Barry\, CF62 6SG\, United Kingdom
CATEGORIES:English,Nordic Walking,Physical Health
ATTACH;FMTTYPE=image/png:https://keepingmewell.com/wp-content/uploads/2022/12/NWUK-Website-Final-Logo.png
END:VEVENT
BEGIN:VEVENT
DTSTART;TZID=Europe/London:20290621T110000
DTEND;TZID=Europe/London:20290621T120000
DTSTAMP:20260420T204450
CREATED:20230111T144250Z
LAST-MODIFIED:20231024T135343Z
UID:10025318-1876734000-1876737600@keepingmewell.com
SUMMARY:Cardiff Nordic Walking Group
DESCRIPTION:Nordic walking turns a walk into a workout. Meeting at Café Castan in Llandaff Fields\, this weekly Nordic Walking group improves health and fitness and is suitable for all ages and fitness levels. Bring your own poles.
URL:https://keepingmewell.com/event/cardiff-nordic-walking-group-37/2029-06-21/
LOCATION:Cafe Castan\, Llandaff Fields\, Pontcanna\, Cardiff\, CF11 9QJ
CATEGORIES:English,Nordic Walking,Physical Activity
ATTACH;FMTTYPE=image/png:https://keepingmewell.com/wp-content/uploads/2022/12/NWUK-Website-Final-Logo.png
END:VEVENT
BEGIN:VEVENT
DTSTART;TZID=Europe/London:20290622T130000
DTEND;TZID=Europe/London:20290622T140000
DTSTAMP:20260420T204450
CREATED:20230111T091444Z
LAST-MODIFIED:20231024T135850Z
UID:10027140-1876827600-1876831200@keepingmewell.com
SUMMARY:Nordic Walking Group in Barry
DESCRIPTION:Nordic walking turns a walk into a workout. It is suitable for all ages and fitness levels. Enjoy the benefits of being outdoors\, getting fit and using your muscles while in a relaxed\, social group. Beginners are able to borrow poles. \nThe route is weather dependent. Meet by the red post box in The Knap.
URL:https://keepingmewell.com/event/nordic-walking-group-in-barry-28/2029-06-22/
LOCATION:The Knap\, The Knap\, Barry\, CF62 6SG\, United Kingdom
CATEGORIES:English,Nordic Walking,Physical Health
ATTACH;FMTTYPE=image/png:https://keepingmewell.com/wp-content/uploads/2022/12/NWUK-Website-Final-Logo.png
END:VEVENT
BEGIN:VEVENT
DTSTART;TZID=Europe/London:20290628T110000
DTEND;TZID=Europe/London:20290628T120000
DTSTAMP:20260420T204450
CREATED:20230111T144250Z
LAST-MODIFIED:20231024T135343Z
UID:10025319-1877338800-1877342400@keepingmewell.com
SUMMARY:Cardiff Nordic Walking Group
DESCRIPTION:Nordic walking turns a walk into a workout. Meeting at Café Castan in Llandaff Fields\, this weekly Nordic Walking group improves health and fitness and is suitable for all ages and fitness levels. Bring your own poles.
URL:https://keepingmewell.com/event/cardiff-nordic-walking-group-37/2029-06-28/
LOCATION:Cafe Castan\, Llandaff Fields\, Pontcanna\, Cardiff\, CF11 9QJ
CATEGORIES:English,Nordic Walking,Physical Activity
ATTACH;FMTTYPE=image/png:https://keepingmewell.com/wp-content/uploads/2022/12/NWUK-Website-Final-Logo.png
END:VEVENT
BEGIN:VEVENT
DTSTART;TZID=Europe/London:20290629T130000
DTEND;TZID=Europe/London:20290629T140000
DTSTAMP:20260420T204450
CREATED:20230111T091444Z
LAST-MODIFIED:20231024T135850Z
UID:10027141-1877432400-1877436000@keepingmewell.com
SUMMARY:Nordic Walking Group in Barry
DESCRIPTION:Nordic walking turns a walk into a workout. It is suitable for all ages and fitness levels. Enjoy the benefits of being outdoors\, getting fit and using your muscles while in a relaxed\, social group. Beginners are able to borrow poles. \nThe route is weather dependent. Meet by the red post box in The Knap.
URL:https://keepingmewell.com/event/nordic-walking-group-in-barry-28/2029-06-29/
LOCATION:The Knap\, The Knap\, Barry\, CF62 6SG\, United Kingdom
CATEGORIES:English,Nordic Walking,Physical Health
ATTACH;FMTTYPE=image/png:https://keepingmewell.com/wp-content/uploads/2022/12/NWUK-Website-Final-Logo.png
END:VEVENT
BEGIN:VEVENT
DTSTART;TZID=Europe/London:20290705T110000
DTEND;TZID=Europe/London:20290705T120000
DTSTAMP:20260420T204450
CREATED:20230111T144250Z
LAST-MODIFIED:20231024T135343Z
UID:10025320-1877943600-1877947200@keepingmewell.com
SUMMARY:Cardiff Nordic Walking Group
DESCRIPTION:Nordic walking turns a walk into a workout. Meeting at Café Castan in Llandaff Fields\, this weekly Nordic Walking group improves health and fitness and is suitable for all ages and fitness levels. Bring your own poles.
URL:https://keepingmewell.com/event/cardiff-nordic-walking-group-37/2029-07-05/
LOCATION:Cafe Castan\, Llandaff Fields\, Pontcanna\, Cardiff\, CF11 9QJ
CATEGORIES:English,Nordic Walking,Physical Activity
ATTACH;FMTTYPE=image/png:https://keepingmewell.com/wp-content/uploads/2022/12/NWUK-Website-Final-Logo.png
END:VEVENT
BEGIN:VEVENT
DTSTART;TZID=Europe/London:20290706T130000
DTEND;TZID=Europe/London:20290706T140000
DTSTAMP:20260420T204450
CREATED:20230111T091444Z
LAST-MODIFIED:20231024T135850Z
UID:10027142-1878037200-1878040800@keepingmewell.com
SUMMARY:Nordic Walking Group in Barry
DESCRIPTION:Nordic walking turns a walk into a workout. It is suitable for all ages and fitness levels. Enjoy the benefits of being outdoors\, getting fit and using your muscles while in a relaxed\, social group. Beginners are able to borrow poles. \nThe route is weather dependent. Meet by the red post box in The Knap.
URL:https://keepingmewell.com/event/nordic-walking-group-in-barry-28/2029-07-06/
LOCATION:The Knap\, The Knap\, Barry\, CF62 6SG\, United Kingdom
CATEGORIES:English,Nordic Walking,Physical Health
ATTACH;FMTTYPE=image/png:https://keepingmewell.com/wp-content/uploads/2022/12/NWUK-Website-Final-Logo.png
END:VEVENT
BEGIN:VEVENT
DTSTART;TZID=Europe/London:20290712T110000
DTEND;TZID=Europe/London:20290712T120000
DTSTAMP:20260420T204450
CREATED:20230111T144250Z
LAST-MODIFIED:20231024T135343Z
UID:10025321-1878548400-1878552000@keepingmewell.com
SUMMARY:Cardiff Nordic Walking Group
DESCRIPTION:Nordic walking turns a walk into a workout. Meeting at Café Castan in Llandaff Fields\, this weekly Nordic Walking group improves health and fitness and is suitable for all ages and fitness levels. Bring your own poles.
URL:https://keepingmewell.com/event/cardiff-nordic-walking-group-37/2029-07-12/
LOCATION:Cafe Castan\, Llandaff Fields\, Pontcanna\, Cardiff\, CF11 9QJ
CATEGORIES:English,Nordic Walking,Physical Activity
ATTACH;FMTTYPE=image/png:https://keepingmewell.com/wp-content/uploads/2022/12/NWUK-Website-Final-Logo.png
END:VEVENT
BEGIN:VEVENT
DTSTART;TZID=Europe/London:20290713T130000
DTEND;TZID=Europe/London:20290713T140000
DTSTAMP:20260420T204450
CREATED:20230111T091444Z
LAST-MODIFIED:20231024T135850Z
UID:10027143-1878642000-1878645600@keepingmewell.com
SUMMARY:Nordic Walking Group in Barry
DESCRIPTION:Nordic walking turns a walk into a workout. It is suitable for all ages and fitness levels. Enjoy the benefits of being outdoors\, getting fit and using your muscles while in a relaxed\, social group. Beginners are able to borrow poles. \nThe route is weather dependent. Meet by the red post box in The Knap.
URL:https://keepingmewell.com/event/nordic-walking-group-in-barry-28/2029-07-13/
LOCATION:The Knap\, The Knap\, Barry\, CF62 6SG\, United Kingdom
CATEGORIES:English,Nordic Walking,Physical Health
ATTACH;FMTTYPE=image/png:https://keepingmewell.com/wp-content/uploads/2022/12/NWUK-Website-Final-Logo.png
END:VEVENT
BEGIN:VEVENT
DTSTART;TZID=Europe/London:20290719T110000
DTEND;TZID=Europe/London:20290719T120000
DTSTAMP:20260420T204450
CREATED:20230111T144250Z
LAST-MODIFIED:20231024T135343Z
UID:10025322-1879153200-1879156800@keepingmewell.com
SUMMARY:Cardiff Nordic Walking Group
DESCRIPTION:Nordic walking turns a walk into a workout. Meeting at Café Castan in Llandaff Fields\, this weekly Nordic Walking group improves health and fitness and is suitable for all ages and fitness levels. Bring your own poles.
URL:https://keepingmewell.com/event/cardiff-nordic-walking-group-37/2029-07-19/
LOCATION:Cafe Castan\, Llandaff Fields\, Pontcanna\, Cardiff\, CF11 9QJ
CATEGORIES:English,Nordic Walking,Physical Activity
ATTACH;FMTTYPE=image/png:https://keepingmewell.com/wp-content/uploads/2022/12/NWUK-Website-Final-Logo.png
END:VEVENT
BEGIN:VEVENT
DTSTART;TZID=Europe/London:20290720T130000
DTEND;TZID=Europe/London:20290720T140000
DTSTAMP:20260420T204451
CREATED:20230111T091444Z
LAST-MODIFIED:20231024T135850Z
UID:10027144-1879246800-1879250400@keepingmewell.com
SUMMARY:Nordic Walking Group in Barry
DESCRIPTION:Nordic walking turns a walk into a workout. It is suitable for all ages and fitness levels. Enjoy the benefits of being outdoors\, getting fit and using your muscles while in a relaxed\, social group. Beginners are able to borrow poles. \nThe route is weather dependent. Meet by the red post box in The Knap.
URL:https://keepingmewell.com/event/nordic-walking-group-in-barry-28/2029-07-20/
LOCATION:The Knap\, The Knap\, Barry\, CF62 6SG\, United Kingdom
CATEGORIES:English,Nordic Walking,Physical Health
ATTACH;FMTTYPE=image/png:https://keepingmewell.com/wp-content/uploads/2022/12/NWUK-Website-Final-Logo.png
END:VEVENT
BEGIN:VEVENT
DTSTART;TZID=Europe/London:20290726T110000
DTEND;TZID=Europe/London:20290726T120000
DTSTAMP:20260420T204451
CREATED:20230111T144250Z
LAST-MODIFIED:20231024T135343Z
UID:10025323-1879758000-1879761600@keepingmewell.com
SUMMARY:Cardiff Nordic Walking Group
DESCRIPTION:Nordic walking turns a walk into a workout. Meeting at Café Castan in Llandaff Fields\, this weekly Nordic Walking group improves health and fitness and is suitable for all ages and fitness levels. Bring your own poles.
URL:https://keepingmewell.com/event/cardiff-nordic-walking-group-37/2029-07-26/
LOCATION:Cafe Castan\, Llandaff Fields\, Pontcanna\, Cardiff\, CF11 9QJ
CATEGORIES:English,Nordic Walking,Physical Activity
ATTACH;FMTTYPE=image/png:https://keepingmewell.com/wp-content/uploads/2022/12/NWUK-Website-Final-Logo.png
END:VEVENT
BEGIN:VEVENT
DTSTART;TZID=Europe/London:20290727T130000
DTEND;TZID=Europe/London:20290727T140000
DTSTAMP:20260420T204451
CREATED:20230111T091444Z
LAST-MODIFIED:20231024T135850Z
UID:10027145-1879851600-1879855200@keepingmewell.com
SUMMARY:Nordic Walking Group in Barry
DESCRIPTION:Nordic walking turns a walk into a workout. It is suitable for all ages and fitness levels. Enjoy the benefits of being outdoors\, getting fit and using your muscles while in a relaxed\, social group. Beginners are able to borrow poles. \nThe route is weather dependent. Meet by the red post box in The Knap.
URL:https://keepingmewell.com/event/nordic-walking-group-in-barry-28/2029-07-27/
LOCATION:The Knap\, The Knap\, Barry\, CF62 6SG\, United Kingdom
CATEGORIES:English,Nordic Walking,Physical Health
ATTACH;FMTTYPE=image/png:https://keepingmewell.com/wp-content/uploads/2022/12/NWUK-Website-Final-Logo.png
END:VEVENT
BEGIN:VEVENT
DTSTART;TZID=Europe/London:20290802T110000
DTEND;TZID=Europe/London:20290802T120000
DTSTAMP:20260420T204451
CREATED:20230111T144250Z
LAST-MODIFIED:20231024T135343Z
UID:10025324-1880362800-1880366400@keepingmewell.com
SUMMARY:Cardiff Nordic Walking Group
DESCRIPTION:Nordic walking turns a walk into a workout. Meeting at Café Castan in Llandaff Fields\, this weekly Nordic Walking group improves health and fitness and is suitable for all ages and fitness levels. Bring your own poles.
URL:https://keepingmewell.com/event/cardiff-nordic-walking-group-37/2029-08-02/
LOCATION:Cafe Castan\, Llandaff Fields\, Pontcanna\, Cardiff\, CF11 9QJ
CATEGORIES:English,Nordic Walking,Physical Activity
ATTACH;FMTTYPE=image/png:https://keepingmewell.com/wp-content/uploads/2022/12/NWUK-Website-Final-Logo.png
END:VEVENT
BEGIN:VEVENT
DTSTART;TZID=Europe/London:20290803T130000
DTEND;TZID=Europe/London:20290803T140000
DTSTAMP:20260420T204451
CREATED:20230111T091444Z
LAST-MODIFIED:20231024T135850Z
UID:10027146-1880456400-1880460000@keepingmewell.com
SUMMARY:Nordic Walking Group in Barry
DESCRIPTION:Nordic walking turns a walk into a workout. It is suitable for all ages and fitness levels. Enjoy the benefits of being outdoors\, getting fit and using your muscles while in a relaxed\, social group. Beginners are able to borrow poles. \nThe route is weather dependent. Meet by the red post box in The Knap.
URL:https://keepingmewell.com/event/nordic-walking-group-in-barry-28/2029-08-03/
LOCATION:The Knap\, The Knap\, Barry\, CF62 6SG\, United Kingdom
CATEGORIES:English,Nordic Walking,Physical Health
ATTACH;FMTTYPE=image/png:https://keepingmewell.com/wp-content/uploads/2022/12/NWUK-Website-Final-Logo.png
END:VEVENT
BEGIN:VEVENT
DTSTART;TZID=Europe/London:20290809T110000
DTEND;TZID=Europe/London:20290809T120000
DTSTAMP:20260420T204451
CREATED:20230111T144250Z
LAST-MODIFIED:20231024T135343Z
UID:10025325-1880967600-1880971200@keepingmewell.com
SUMMARY:Cardiff Nordic Walking Group
DESCRIPTION:Nordic walking turns a walk into a workout. Meeting at Café Castan in Llandaff Fields\, this weekly Nordic Walking group improves health and fitness and is suitable for all ages and fitness levels. Bring your own poles.
URL:https://keepingmewell.com/event/cardiff-nordic-walking-group-37/2029-08-09/
LOCATION:Cafe Castan\, Llandaff Fields\, Pontcanna\, Cardiff\, CF11 9QJ
CATEGORIES:English,Nordic Walking,Physical Activity
ATTACH;FMTTYPE=image/png:https://keepingmewell.com/wp-content/uploads/2022/12/NWUK-Website-Final-Logo.png
END:VEVENT
BEGIN:VEVENT
DTSTART;TZID=Europe/London:20290810T130000
DTEND;TZID=Europe/London:20290810T140000
DTSTAMP:20260420T204451
CREATED:20230111T091444Z
LAST-MODIFIED:20231024T135850Z
UID:10027147-1881061200-1881064800@keepingmewell.com
SUMMARY:Nordic Walking Group in Barry
DESCRIPTION:Nordic walking turns a walk into a workout. It is suitable for all ages and fitness levels. Enjoy the benefits of being outdoors\, getting fit and using your muscles while in a relaxed\, social group. Beginners are able to borrow poles. \nThe route is weather dependent. Meet by the red post box in The Knap.
URL:https://keepingmewell.com/event/nordic-walking-group-in-barry-28/2029-08-10/
LOCATION:The Knap\, The Knap\, Barry\, CF62 6SG\, United Kingdom
CATEGORIES:English,Nordic Walking,Physical Health
ATTACH;FMTTYPE=image/png:https://keepingmewell.com/wp-content/uploads/2022/12/NWUK-Website-Final-Logo.png
END:VEVENT
BEGIN:VEVENT
DTSTART;TZID=Europe/London:20290816T110000
DTEND;TZID=Europe/London:20290816T120000
DTSTAMP:20260420T204451
CREATED:20230111T144250Z
LAST-MODIFIED:20231024T135343Z
UID:10025326-1881572400-1881576000@keepingmewell.com
SUMMARY:Cardiff Nordic Walking Group
DESCRIPTION:Nordic walking turns a walk into a workout. Meeting at Café Castan in Llandaff Fields\, this weekly Nordic Walking group improves health and fitness and is suitable for all ages and fitness levels. Bring your own poles.
URL:https://keepingmewell.com/event/cardiff-nordic-walking-group-37/2029-08-16/
LOCATION:Cafe Castan\, Llandaff Fields\, Pontcanna\, Cardiff\, CF11 9QJ
CATEGORIES:English,Nordic Walking,Physical Activity
ATTACH;FMTTYPE=image/png:https://keepingmewell.com/wp-content/uploads/2022/12/NWUK-Website-Final-Logo.png
END:VEVENT
BEGIN:VEVENT
DTSTART;TZID=Europe/London:20290817T130000
DTEND;TZID=Europe/London:20290817T140000
DTSTAMP:20260420T204451
CREATED:20230111T091444Z
LAST-MODIFIED:20231024T135850Z
UID:10027148-1881666000-1881669600@keepingmewell.com
SUMMARY:Nordic Walking Group in Barry
DESCRIPTION:Nordic walking turns a walk into a workout. It is suitable for all ages and fitness levels. Enjoy the benefits of being outdoors\, getting fit and using your muscles while in a relaxed\, social group. Beginners are able to borrow poles. \nThe route is weather dependent. Meet by the red post box in The Knap.
URL:https://keepingmewell.com/event/nordic-walking-group-in-barry-28/2029-08-17/
LOCATION:The Knap\, The Knap\, Barry\, CF62 6SG\, United Kingdom
CATEGORIES:English,Nordic Walking,Physical Health
ATTACH;FMTTYPE=image/png:https://keepingmewell.com/wp-content/uploads/2022/12/NWUK-Website-Final-Logo.png
END:VEVENT
BEGIN:VEVENT
DTSTART;TZID=Europe/London:20290823T110000
DTEND;TZID=Europe/London:20290823T120000
DTSTAMP:20260420T204451
CREATED:20230111T144250Z
LAST-MODIFIED:20231024T135343Z
UID:10025327-1882177200-1882180800@keepingmewell.com
SUMMARY:Cardiff Nordic Walking Group
DESCRIPTION:Nordic walking turns a walk into a workout. Meeting at Café Castan in Llandaff Fields\, this weekly Nordic Walking group improves health and fitness and is suitable for all ages and fitness levels. Bring your own poles.
URL:https://keepingmewell.com/event/cardiff-nordic-walking-group-37/2029-08-23/
LOCATION:Cafe Castan\, Llandaff Fields\, Pontcanna\, Cardiff\, CF11 9QJ
CATEGORIES:English,Nordic Walking,Physical Activity
ATTACH;FMTTYPE=image/png:https://keepingmewell.com/wp-content/uploads/2022/12/NWUK-Website-Final-Logo.png
END:VEVENT
BEGIN:VEVENT
DTSTART;TZID=Europe/London:20290824T130000
DTEND;TZID=Europe/London:20290824T140000
DTSTAMP:20260420T204451
CREATED:20230111T091444Z
LAST-MODIFIED:20231024T135850Z
UID:10027149-1882270800-1882274400@keepingmewell.com
SUMMARY:Nordic Walking Group in Barry
DESCRIPTION:Nordic walking turns a walk into a workout. It is suitable for all ages and fitness levels. Enjoy the benefits of being outdoors\, getting fit and using your muscles while in a relaxed\, social group. Beginners are able to borrow poles. \nThe route is weather dependent. Meet by the red post box in The Knap.
URL:https://keepingmewell.com/event/nordic-walking-group-in-barry-28/2029-08-24/
LOCATION:The Knap\, The Knap\, Barry\, CF62 6SG\, United Kingdom
CATEGORIES:English,Nordic Walking,Physical Health
ATTACH;FMTTYPE=image/png:https://keepingmewell.com/wp-content/uploads/2022/12/NWUK-Website-Final-Logo.png
END:VEVENT
BEGIN:VEVENT
DTSTART;TZID=Europe/London:20290830T110000
DTEND;TZID=Europe/London:20290830T120000
DTSTAMP:20260420T204451
CREATED:20230111T144250Z
LAST-MODIFIED:20231024T135343Z
UID:10025328-1882782000-1882785600@keepingmewell.com
SUMMARY:Cardiff Nordic Walking Group
DESCRIPTION:Nordic walking turns a walk into a workout. Meeting at Café Castan in Llandaff Fields\, this weekly Nordic Walking group improves health and fitness and is suitable for all ages and fitness levels. Bring your own poles.
URL:https://keepingmewell.com/event/cardiff-nordic-walking-group-37/2029-08-30/
LOCATION:Cafe Castan\, Llandaff Fields\, Pontcanna\, Cardiff\, CF11 9QJ
CATEGORIES:English,Nordic Walking,Physical Activity
ATTACH;FMTTYPE=image/png:https://keepingmewell.com/wp-content/uploads/2022/12/NWUK-Website-Final-Logo.png
END:VEVENT
BEGIN:VEVENT
DTSTART;TZID=Europe/London:20290831T130000
DTEND;TZID=Europe/London:20290831T140000
DTSTAMP:20260420T204451
CREATED:20230111T091444Z
LAST-MODIFIED:20231024T135850Z
UID:10027150-1882875600-1882879200@keepingmewell.com
SUMMARY:Nordic Walking Group in Barry
DESCRIPTION:Nordic walking turns a walk into a workout. It is suitable for all ages and fitness levels. Enjoy the benefits of being outdoors\, getting fit and using your muscles while in a relaxed\, social group. Beginners are able to borrow poles. \nThe route is weather dependent. Meet by the red post box in The Knap.
URL:https://keepingmewell.com/event/nordic-walking-group-in-barry-28/2029-08-31/
LOCATION:The Knap\, The Knap\, Barry\, CF62 6SG\, United Kingdom
CATEGORIES:English,Nordic Walking,Physical Health
ATTACH;FMTTYPE=image/png:https://keepingmewell.com/wp-content/uploads/2022/12/NWUK-Website-Final-Logo.png
END:VEVENT
BEGIN:VEVENT
DTSTART;TZID=Europe/London:20290906T110000
DTEND;TZID=Europe/London:20290906T120000
DTSTAMP:20260420T204451
CREATED:20230111T144250Z
LAST-MODIFIED:20231024T135343Z
UID:10025329-1883386800-1883390400@keepingmewell.com
SUMMARY:Cardiff Nordic Walking Group
DESCRIPTION:Nordic walking turns a walk into a workout. Meeting at Café Castan in Llandaff Fields\, this weekly Nordic Walking group improves health and fitness and is suitable for all ages and fitness levels. Bring your own poles.
URL:https://keepingmewell.com/event/cardiff-nordic-walking-group-37/2029-09-06/
LOCATION:Cafe Castan\, Llandaff Fields\, Pontcanna\, Cardiff\, CF11 9QJ
CATEGORIES:English,Nordic Walking,Physical Activity
ATTACH;FMTTYPE=image/png:https://keepingmewell.com/wp-content/uploads/2022/12/NWUK-Website-Final-Logo.png
END:VEVENT
BEGIN:VEVENT
DTSTART;TZID=Europe/London:20290907T130000
DTEND;TZID=Europe/London:20290907T140000
DTSTAMP:20260420T204451
CREATED:20230111T091444Z
LAST-MODIFIED:20231024T135850Z
UID:10027151-1883480400-1883484000@keepingmewell.com
SUMMARY:Nordic Walking Group in Barry
DESCRIPTION:Nordic walking turns a walk into a workout. It is suitable for all ages and fitness levels. Enjoy the benefits of being outdoors\, getting fit and using your muscles while in a relaxed\, social group. Beginners are able to borrow poles. \nThe route is weather dependent. Meet by the red post box in The Knap.
URL:https://keepingmewell.com/event/nordic-walking-group-in-barry-28/2029-09-07/
LOCATION:The Knap\, The Knap\, Barry\, CF62 6SG\, United Kingdom
CATEGORIES:English,Nordic Walking,Physical Health
ATTACH;FMTTYPE=image/png:https://keepingmewell.com/wp-content/uploads/2022/12/NWUK-Website-Final-Logo.png
END:VEVENT
END:VCALENDAR