BEGIN:VCALENDAR
VERSION:2.0
PRODID:-//Keeping Me Well - ECPv6.15.20//NONSGML v1.0//EN
CALSCALE:GREGORIAN
METHOD:PUBLISH
X-WR-CALNAME:Keeping Me Well
X-ORIGINAL-URL:https://keepingmewell.com
X-WR-CALDESC:Events for Keeping Me Well
REFRESH-INTERVAL;VALUE=DURATION:PT1H
X-Robots-Tag:noindex
X-PUBLISHED-TTL:PT1H
BEGIN:VTIMEZONE
TZID:Europe/London
BEGIN:DAYLIGHT
TZOFFSETFROM:+0000
TZOFFSETTO:+0100
TZNAME:BST
DTSTART:20280326T010000
END:DAYLIGHT
BEGIN:STANDARD
TZOFFSETFROM:+0100
TZOFFSETTO:+0000
TZNAME:GMT
DTSTART:20281029T010000
END:STANDARD
BEGIN:DAYLIGHT
TZOFFSETFROM:+0000
TZOFFSETTO:+0100
TZNAME:BST
DTSTART:20290325T010000
END:DAYLIGHT
BEGIN:STANDARD
TZOFFSETFROM:+0100
TZOFFSETTO:+0000
TZNAME:GMT
DTSTART:20291028T010000
END:STANDARD
BEGIN:DAYLIGHT
TZOFFSETFROM:+0000
TZOFFSETTO:+0100
TZNAME:BST
DTSTART:20300331T010000
END:DAYLIGHT
BEGIN:STANDARD
TZOFFSETFROM:+0100
TZOFFSETTO:+0000
TZNAME:GMT
DTSTART:20301027T010000
END:STANDARD
END:VTIMEZONE
BEGIN:VEVENT
DTSTART;TZID=Europe/London:20290823T110000
DTEND;TZID=Europe/London:20290823T120000
DTSTAMP:20260420T132712
CREATED:20230111T144250Z
LAST-MODIFIED:20231024T135343Z
UID:10025327-1882177200-1882180800@keepingmewell.com
SUMMARY:Cardiff Nordic Walking Group
DESCRIPTION:Nordic walking turns a walk into a workout. Meeting at Café Castan in Llandaff Fields\, this weekly Nordic Walking group improves health and fitness and is suitable for all ages and fitness levels. Bring your own poles.
URL:https://keepingmewell.com/event/cardiff-nordic-walking-group-37/2029-08-23/
LOCATION:Cafe Castan\, Llandaff Fields\, Pontcanna\, Cardiff\, CF11 9QJ
CATEGORIES:English,Nordic Walking,Physical Activity
ATTACH;FMTTYPE=image/png:https://keepingmewell.com/wp-content/uploads/2022/12/NWUK-Website-Final-Logo.png
END:VEVENT
BEGIN:VEVENT
DTSTART;TZID=Europe/London:20290824T130000
DTEND;TZID=Europe/London:20290824T140000
DTSTAMP:20260420T132712
CREATED:20230111T091444Z
LAST-MODIFIED:20231024T135850Z
UID:10027149-1882270800-1882274400@keepingmewell.com
SUMMARY:Nordic Walking Group in Barry
DESCRIPTION:Nordic walking turns a walk into a workout. It is suitable for all ages and fitness levels. Enjoy the benefits of being outdoors\, getting fit and using your muscles while in a relaxed\, social group. Beginners are able to borrow poles. \nThe route is weather dependent. Meet by the red post box in The Knap.
URL:https://keepingmewell.com/event/nordic-walking-group-in-barry-28/2029-08-24/
LOCATION:The Knap\, The Knap\, Barry\, CF62 6SG\, United Kingdom
CATEGORIES:English,Nordic Walking,Physical Health
ATTACH;FMTTYPE=image/png:https://keepingmewell.com/wp-content/uploads/2022/12/NWUK-Website-Final-Logo.png
END:VEVENT
BEGIN:VEVENT
DTSTART;TZID=Europe/London:20290830T110000
DTEND;TZID=Europe/London:20290830T120000
DTSTAMP:20260420T132712
CREATED:20230111T144250Z
LAST-MODIFIED:20231024T135343Z
UID:10025328-1882782000-1882785600@keepingmewell.com
SUMMARY:Cardiff Nordic Walking Group
DESCRIPTION:Nordic walking turns a walk into a workout. Meeting at Café Castan in Llandaff Fields\, this weekly Nordic Walking group improves health and fitness and is suitable for all ages and fitness levels. Bring your own poles.
URL:https://keepingmewell.com/event/cardiff-nordic-walking-group-37/2029-08-30/
LOCATION:Cafe Castan\, Llandaff Fields\, Pontcanna\, Cardiff\, CF11 9QJ
CATEGORIES:English,Nordic Walking,Physical Activity
ATTACH;FMTTYPE=image/png:https://keepingmewell.com/wp-content/uploads/2022/12/NWUK-Website-Final-Logo.png
END:VEVENT
BEGIN:VEVENT
DTSTART;TZID=Europe/London:20290831T130000
DTEND;TZID=Europe/London:20290831T140000
DTSTAMP:20260420T132712
CREATED:20230111T091444Z
LAST-MODIFIED:20231024T135850Z
UID:10027150-1882875600-1882879200@keepingmewell.com
SUMMARY:Nordic Walking Group in Barry
DESCRIPTION:Nordic walking turns a walk into a workout. It is suitable for all ages and fitness levels. Enjoy the benefits of being outdoors\, getting fit and using your muscles while in a relaxed\, social group. Beginners are able to borrow poles. \nThe route is weather dependent. Meet by the red post box in The Knap.
URL:https://keepingmewell.com/event/nordic-walking-group-in-barry-28/2029-08-31/
LOCATION:The Knap\, The Knap\, Barry\, CF62 6SG\, United Kingdom
CATEGORIES:English,Nordic Walking,Physical Health
ATTACH;FMTTYPE=image/png:https://keepingmewell.com/wp-content/uploads/2022/12/NWUK-Website-Final-Logo.png
END:VEVENT
BEGIN:VEVENT
DTSTART;TZID=Europe/London:20290906T110000
DTEND;TZID=Europe/London:20290906T120000
DTSTAMP:20260420T132712
CREATED:20230111T144250Z
LAST-MODIFIED:20231024T135343Z
UID:10025329-1883386800-1883390400@keepingmewell.com
SUMMARY:Cardiff Nordic Walking Group
DESCRIPTION:Nordic walking turns a walk into a workout. Meeting at Café Castan in Llandaff Fields\, this weekly Nordic Walking group improves health and fitness and is suitable for all ages and fitness levels. Bring your own poles.
URL:https://keepingmewell.com/event/cardiff-nordic-walking-group-37/2029-09-06/
LOCATION:Cafe Castan\, Llandaff Fields\, Pontcanna\, Cardiff\, CF11 9QJ
CATEGORIES:English,Nordic Walking,Physical Activity
ATTACH;FMTTYPE=image/png:https://keepingmewell.com/wp-content/uploads/2022/12/NWUK-Website-Final-Logo.png
END:VEVENT
BEGIN:VEVENT
DTSTART;TZID=Europe/London:20290907T130000
DTEND;TZID=Europe/London:20290907T140000
DTSTAMP:20260420T132712
CREATED:20230111T091444Z
LAST-MODIFIED:20231024T135850Z
UID:10027151-1883480400-1883484000@keepingmewell.com
SUMMARY:Nordic Walking Group in Barry
DESCRIPTION:Nordic walking turns a walk into a workout. It is suitable for all ages and fitness levels. Enjoy the benefits of being outdoors\, getting fit and using your muscles while in a relaxed\, social group. Beginners are able to borrow poles. \nThe route is weather dependent. Meet by the red post box in The Knap.
URL:https://keepingmewell.com/event/nordic-walking-group-in-barry-28/2029-09-07/
LOCATION:The Knap\, The Knap\, Barry\, CF62 6SG\, United Kingdom
CATEGORIES:English,Nordic Walking,Physical Health
ATTACH;FMTTYPE=image/png:https://keepingmewell.com/wp-content/uploads/2022/12/NWUK-Website-Final-Logo.png
END:VEVENT
BEGIN:VEVENT
DTSTART;TZID=Europe/London:20290913T110000
DTEND;TZID=Europe/London:20290913T120000
DTSTAMP:20260420T132712
CREATED:20230111T144250Z
LAST-MODIFIED:20231024T135343Z
UID:10025330-1883991600-1883995200@keepingmewell.com
SUMMARY:Cardiff Nordic Walking Group
DESCRIPTION:Nordic walking turns a walk into a workout. Meeting at Café Castan in Llandaff Fields\, this weekly Nordic Walking group improves health and fitness and is suitable for all ages and fitness levels. Bring your own poles.
URL:https://keepingmewell.com/event/cardiff-nordic-walking-group-37/2029-09-13/
LOCATION:Cafe Castan\, Llandaff Fields\, Pontcanna\, Cardiff\, CF11 9QJ
CATEGORIES:English,Nordic Walking,Physical Activity
ATTACH;FMTTYPE=image/png:https://keepingmewell.com/wp-content/uploads/2022/12/NWUK-Website-Final-Logo.png
END:VEVENT
BEGIN:VEVENT
DTSTART;TZID=Europe/London:20290914T130000
DTEND;TZID=Europe/London:20290914T140000
DTSTAMP:20260420T132712
CREATED:20230111T091444Z
LAST-MODIFIED:20231024T135850Z
UID:10027152-1884085200-1884088800@keepingmewell.com
SUMMARY:Nordic Walking Group in Barry
DESCRIPTION:Nordic walking turns a walk into a workout. It is suitable for all ages and fitness levels. Enjoy the benefits of being outdoors\, getting fit and using your muscles while in a relaxed\, social group. Beginners are able to borrow poles. \nThe route is weather dependent. Meet by the red post box in The Knap.
URL:https://keepingmewell.com/event/nordic-walking-group-in-barry-28/2029-09-14/
LOCATION:The Knap\, The Knap\, Barry\, CF62 6SG\, United Kingdom
CATEGORIES:English,Nordic Walking,Physical Health
ATTACH;FMTTYPE=image/png:https://keepingmewell.com/wp-content/uploads/2022/12/NWUK-Website-Final-Logo.png
END:VEVENT
BEGIN:VEVENT
DTSTART;TZID=Europe/London:20290920T110000
DTEND;TZID=Europe/London:20290920T120000
DTSTAMP:20260420T132712
CREATED:20230111T144250Z
LAST-MODIFIED:20231024T135343Z
UID:10025331-1884596400-1884600000@keepingmewell.com
SUMMARY:Cardiff Nordic Walking Group
DESCRIPTION:Nordic walking turns a walk into a workout. Meeting at Café Castan in Llandaff Fields\, this weekly Nordic Walking group improves health and fitness and is suitable for all ages and fitness levels. Bring your own poles.
URL:https://keepingmewell.com/event/cardiff-nordic-walking-group-37/2029-09-20/
LOCATION:Cafe Castan\, Llandaff Fields\, Pontcanna\, Cardiff\, CF11 9QJ
CATEGORIES:English,Nordic Walking,Physical Activity
ATTACH;FMTTYPE=image/png:https://keepingmewell.com/wp-content/uploads/2022/12/NWUK-Website-Final-Logo.png
END:VEVENT
BEGIN:VEVENT
DTSTART;TZID=Europe/London:20290921T130000
DTEND;TZID=Europe/London:20290921T140000
DTSTAMP:20260420T132712
CREATED:20230111T091444Z
LAST-MODIFIED:20231024T135850Z
UID:10027153-1884690000-1884693600@keepingmewell.com
SUMMARY:Nordic Walking Group in Barry
DESCRIPTION:Nordic walking turns a walk into a workout. It is suitable for all ages and fitness levels. Enjoy the benefits of being outdoors\, getting fit and using your muscles while in a relaxed\, social group. Beginners are able to borrow poles. \nThe route is weather dependent. Meet by the red post box in The Knap.
URL:https://keepingmewell.com/event/nordic-walking-group-in-barry-28/2029-09-21/
LOCATION:The Knap\, The Knap\, Barry\, CF62 6SG\, United Kingdom
CATEGORIES:English,Nordic Walking,Physical Health
ATTACH;FMTTYPE=image/png:https://keepingmewell.com/wp-content/uploads/2022/12/NWUK-Website-Final-Logo.png
END:VEVENT
BEGIN:VEVENT
DTSTART;TZID=Europe/London:20290927T110000
DTEND;TZID=Europe/London:20290927T120000
DTSTAMP:20260420T132712
CREATED:20230111T144250Z
LAST-MODIFIED:20231024T135343Z
UID:10025332-1885201200-1885204800@keepingmewell.com
SUMMARY:Cardiff Nordic Walking Group
DESCRIPTION:Nordic walking turns a walk into a workout. Meeting at Café Castan in Llandaff Fields\, this weekly Nordic Walking group improves health and fitness and is suitable for all ages and fitness levels. Bring your own poles.
URL:https://keepingmewell.com/event/cardiff-nordic-walking-group-37/2029-09-27/
LOCATION:Cafe Castan\, Llandaff Fields\, Pontcanna\, Cardiff\, CF11 9QJ
CATEGORIES:English,Nordic Walking,Physical Activity
ATTACH;FMTTYPE=image/png:https://keepingmewell.com/wp-content/uploads/2022/12/NWUK-Website-Final-Logo.png
END:VEVENT
BEGIN:VEVENT
DTSTART;TZID=Europe/London:20290928T130000
DTEND;TZID=Europe/London:20290928T140000
DTSTAMP:20260420T132712
CREATED:20230111T091444Z
LAST-MODIFIED:20231024T135850Z
UID:10027154-1885294800-1885298400@keepingmewell.com
SUMMARY:Nordic Walking Group in Barry
DESCRIPTION:Nordic walking turns a walk into a workout. It is suitable for all ages and fitness levels. Enjoy the benefits of being outdoors\, getting fit and using your muscles while in a relaxed\, social group. Beginners are able to borrow poles. \nThe route is weather dependent. Meet by the red post box in The Knap.
URL:https://keepingmewell.com/event/nordic-walking-group-in-barry-28/2029-09-28/
LOCATION:The Knap\, The Knap\, Barry\, CF62 6SG\, United Kingdom
CATEGORIES:English,Nordic Walking,Physical Health
ATTACH;FMTTYPE=image/png:https://keepingmewell.com/wp-content/uploads/2022/12/NWUK-Website-Final-Logo.png
END:VEVENT
BEGIN:VEVENT
DTSTART;TZID=Europe/London:20291004T110000
DTEND;TZID=Europe/London:20291004T120000
DTSTAMP:20260420T132712
CREATED:20230111T144250Z
LAST-MODIFIED:20231024T135343Z
UID:10025333-1885806000-1885809600@keepingmewell.com
SUMMARY:Cardiff Nordic Walking Group
DESCRIPTION:Nordic walking turns a walk into a workout. Meeting at Café Castan in Llandaff Fields\, this weekly Nordic Walking group improves health and fitness and is suitable for all ages and fitness levels. Bring your own poles.
URL:https://keepingmewell.com/event/cardiff-nordic-walking-group-37/2029-10-04/
LOCATION:Cafe Castan\, Llandaff Fields\, Pontcanna\, Cardiff\, CF11 9QJ
CATEGORIES:English,Nordic Walking,Physical Activity
ATTACH;FMTTYPE=image/png:https://keepingmewell.com/wp-content/uploads/2022/12/NWUK-Website-Final-Logo.png
END:VEVENT
BEGIN:VEVENT
DTSTART;TZID=Europe/London:20291005T130000
DTEND;TZID=Europe/London:20291005T140000
DTSTAMP:20260420T132712
CREATED:20230111T091444Z
LAST-MODIFIED:20231024T135850Z
UID:10027155-1885899600-1885903200@keepingmewell.com
SUMMARY:Nordic Walking Group in Barry
DESCRIPTION:Nordic walking turns a walk into a workout. It is suitable for all ages and fitness levels. Enjoy the benefits of being outdoors\, getting fit and using your muscles while in a relaxed\, social group. Beginners are able to borrow poles. \nThe route is weather dependent. Meet by the red post box in The Knap.
URL:https://keepingmewell.com/event/nordic-walking-group-in-barry-28/2029-10-05/
LOCATION:The Knap\, The Knap\, Barry\, CF62 6SG\, United Kingdom
CATEGORIES:English,Nordic Walking,Physical Health
ATTACH;FMTTYPE=image/png:https://keepingmewell.com/wp-content/uploads/2022/12/NWUK-Website-Final-Logo.png
END:VEVENT
BEGIN:VEVENT
DTSTART;TZID=Europe/London:20291011T110000
DTEND;TZID=Europe/London:20291011T120000
DTSTAMP:20260420T132712
CREATED:20230111T144250Z
LAST-MODIFIED:20231024T135343Z
UID:10025334-1886410800-1886414400@keepingmewell.com
SUMMARY:Cardiff Nordic Walking Group
DESCRIPTION:Nordic walking turns a walk into a workout. Meeting at Café Castan in Llandaff Fields\, this weekly Nordic Walking group improves health and fitness and is suitable for all ages and fitness levels. Bring your own poles.
URL:https://keepingmewell.com/event/cardiff-nordic-walking-group-37/2029-10-11/
LOCATION:Cafe Castan\, Llandaff Fields\, Pontcanna\, Cardiff\, CF11 9QJ
CATEGORIES:English,Nordic Walking,Physical Activity
ATTACH;FMTTYPE=image/png:https://keepingmewell.com/wp-content/uploads/2022/12/NWUK-Website-Final-Logo.png
END:VEVENT
BEGIN:VEVENT
DTSTART;TZID=Europe/London:20291012T130000
DTEND;TZID=Europe/London:20291012T140000
DTSTAMP:20260420T132712
CREATED:20230111T091444Z
LAST-MODIFIED:20231024T135850Z
UID:10027156-1886504400-1886508000@keepingmewell.com
SUMMARY:Nordic Walking Group in Barry
DESCRIPTION:Nordic walking turns a walk into a workout. It is suitable for all ages and fitness levels. Enjoy the benefits of being outdoors\, getting fit and using your muscles while in a relaxed\, social group. Beginners are able to borrow poles. \nThe route is weather dependent. Meet by the red post box in The Knap.
URL:https://keepingmewell.com/event/nordic-walking-group-in-barry-28/2029-10-12/
LOCATION:The Knap\, The Knap\, Barry\, CF62 6SG\, United Kingdom
CATEGORIES:English,Nordic Walking,Physical Health
ATTACH;FMTTYPE=image/png:https://keepingmewell.com/wp-content/uploads/2022/12/NWUK-Website-Final-Logo.png
END:VEVENT
BEGIN:VEVENT
DTSTART;TZID=Europe/London:20291018T110000
DTEND;TZID=Europe/London:20291018T120000
DTSTAMP:20260420T132712
CREATED:20230111T144250Z
LAST-MODIFIED:20231024T135343Z
UID:10025335-1887015600-1887019200@keepingmewell.com
SUMMARY:Cardiff Nordic Walking Group
DESCRIPTION:Nordic walking turns a walk into a workout. Meeting at Café Castan in Llandaff Fields\, this weekly Nordic Walking group improves health and fitness and is suitable for all ages and fitness levels. Bring your own poles.
URL:https://keepingmewell.com/event/cardiff-nordic-walking-group-37/2029-10-18/
LOCATION:Cafe Castan\, Llandaff Fields\, Pontcanna\, Cardiff\, CF11 9QJ
CATEGORIES:English,Nordic Walking,Physical Activity
ATTACH;FMTTYPE=image/png:https://keepingmewell.com/wp-content/uploads/2022/12/NWUK-Website-Final-Logo.png
END:VEVENT
BEGIN:VEVENT
DTSTART;TZID=Europe/London:20291019T130000
DTEND;TZID=Europe/London:20291019T140000
DTSTAMP:20260420T132712
CREATED:20230111T091444Z
LAST-MODIFIED:20231024T135850Z
UID:10027157-1887109200-1887112800@keepingmewell.com
SUMMARY:Nordic Walking Group in Barry
DESCRIPTION:Nordic walking turns a walk into a workout. It is suitable for all ages and fitness levels. Enjoy the benefits of being outdoors\, getting fit and using your muscles while in a relaxed\, social group. Beginners are able to borrow poles. \nThe route is weather dependent. Meet by the red post box in The Knap.
URL:https://keepingmewell.com/event/nordic-walking-group-in-barry-28/2029-10-19/
LOCATION:The Knap\, The Knap\, Barry\, CF62 6SG\, United Kingdom
CATEGORIES:English,Nordic Walking,Physical Health
ATTACH;FMTTYPE=image/png:https://keepingmewell.com/wp-content/uploads/2022/12/NWUK-Website-Final-Logo.png
END:VEVENT
BEGIN:VEVENT
DTSTART;TZID=Europe/London:20291025T110000
DTEND;TZID=Europe/London:20291025T120000
DTSTAMP:20260420T132712
CREATED:20230111T144250Z
LAST-MODIFIED:20231024T135343Z
UID:10025336-1887620400-1887624000@keepingmewell.com
SUMMARY:Cardiff Nordic Walking Group
DESCRIPTION:Nordic walking turns a walk into a workout. Meeting at Café Castan in Llandaff Fields\, this weekly Nordic Walking group improves health and fitness and is suitable for all ages and fitness levels. Bring your own poles.
URL:https://keepingmewell.com/event/cardiff-nordic-walking-group-37/2029-10-25/
LOCATION:Cafe Castan\, Llandaff Fields\, Pontcanna\, Cardiff\, CF11 9QJ
CATEGORIES:English,Nordic Walking,Physical Activity
ATTACH;FMTTYPE=image/png:https://keepingmewell.com/wp-content/uploads/2022/12/NWUK-Website-Final-Logo.png
END:VEVENT
BEGIN:VEVENT
DTSTART;TZID=Europe/London:20291026T130000
DTEND;TZID=Europe/London:20291026T140000
DTSTAMP:20260420T132712
CREATED:20230111T091444Z
LAST-MODIFIED:20231024T135850Z
UID:10027158-1887714000-1887717600@keepingmewell.com
SUMMARY:Nordic Walking Group in Barry
DESCRIPTION:Nordic walking turns a walk into a workout. It is suitable for all ages and fitness levels. Enjoy the benefits of being outdoors\, getting fit and using your muscles while in a relaxed\, social group. Beginners are able to borrow poles. \nThe route is weather dependent. Meet by the red post box in The Knap.
URL:https://keepingmewell.com/event/nordic-walking-group-in-barry-28/2029-10-26/
LOCATION:The Knap\, The Knap\, Barry\, CF62 6SG\, United Kingdom
CATEGORIES:English,Nordic Walking,Physical Health
ATTACH;FMTTYPE=image/png:https://keepingmewell.com/wp-content/uploads/2022/12/NWUK-Website-Final-Logo.png
END:VEVENT
BEGIN:VEVENT
DTSTART;TZID=Europe/London:20291101T110000
DTEND;TZID=Europe/London:20291101T120000
DTSTAMP:20260420T132712
CREATED:20230111T144250Z
LAST-MODIFIED:20231024T135343Z
UID:10025337-1888225200-1888228800@keepingmewell.com
SUMMARY:Cardiff Nordic Walking Group
DESCRIPTION:Nordic walking turns a walk into a workout. Meeting at Café Castan in Llandaff Fields\, this weekly Nordic Walking group improves health and fitness and is suitable for all ages and fitness levels. Bring your own poles.
URL:https://keepingmewell.com/event/cardiff-nordic-walking-group-37/2029-11-01/
LOCATION:Cafe Castan\, Llandaff Fields\, Pontcanna\, Cardiff\, CF11 9QJ
CATEGORIES:English,Nordic Walking,Physical Activity
ATTACH;FMTTYPE=image/png:https://keepingmewell.com/wp-content/uploads/2022/12/NWUK-Website-Final-Logo.png
END:VEVENT
BEGIN:VEVENT
DTSTART;TZID=Europe/London:20291102T130000
DTEND;TZID=Europe/London:20291102T140000
DTSTAMP:20260420T132712
CREATED:20230111T091444Z
LAST-MODIFIED:20231024T135850Z
UID:10027159-1888318800-1888322400@keepingmewell.com
SUMMARY:Nordic Walking Group in Barry
DESCRIPTION:Nordic walking turns a walk into a workout. It is suitable for all ages and fitness levels. Enjoy the benefits of being outdoors\, getting fit and using your muscles while in a relaxed\, social group. Beginners are able to borrow poles. \nThe route is weather dependent. Meet by the red post box in The Knap.
URL:https://keepingmewell.com/event/nordic-walking-group-in-barry-28/2029-11-02/
LOCATION:The Knap\, The Knap\, Barry\, CF62 6SG\, United Kingdom
CATEGORIES:English,Nordic Walking,Physical Health
ATTACH;FMTTYPE=image/png:https://keepingmewell.com/wp-content/uploads/2022/12/NWUK-Website-Final-Logo.png
END:VEVENT
BEGIN:VEVENT
DTSTART;TZID=Europe/London:20291108T110000
DTEND;TZID=Europe/London:20291108T120000
DTSTAMP:20260420T132712
CREATED:20230111T144250Z
LAST-MODIFIED:20231024T135343Z
UID:10025338-1888830000-1888833600@keepingmewell.com
SUMMARY:Cardiff Nordic Walking Group
DESCRIPTION:Nordic walking turns a walk into a workout. Meeting at Café Castan in Llandaff Fields\, this weekly Nordic Walking group improves health and fitness and is suitable for all ages and fitness levels. Bring your own poles.
URL:https://keepingmewell.com/event/cardiff-nordic-walking-group-37/2029-11-08/
LOCATION:Cafe Castan\, Llandaff Fields\, Pontcanna\, Cardiff\, CF11 9QJ
CATEGORIES:English,Nordic Walking,Physical Activity
ATTACH;FMTTYPE=image/png:https://keepingmewell.com/wp-content/uploads/2022/12/NWUK-Website-Final-Logo.png
END:VEVENT
BEGIN:VEVENT
DTSTART;TZID=Europe/London:20291109T130000
DTEND;TZID=Europe/London:20291109T140000
DTSTAMP:20260420T132712
CREATED:20230111T091444Z
LAST-MODIFIED:20231024T135850Z
UID:10027160-1888923600-1888927200@keepingmewell.com
SUMMARY:Nordic Walking Group in Barry
DESCRIPTION:Nordic walking turns a walk into a workout. It is suitable for all ages and fitness levels. Enjoy the benefits of being outdoors\, getting fit and using your muscles while in a relaxed\, social group. Beginners are able to borrow poles. \nThe route is weather dependent. Meet by the red post box in The Knap.
URL:https://keepingmewell.com/event/nordic-walking-group-in-barry-28/2029-11-09/
LOCATION:The Knap\, The Knap\, Barry\, CF62 6SG\, United Kingdom
CATEGORIES:English,Nordic Walking,Physical Health
ATTACH;FMTTYPE=image/png:https://keepingmewell.com/wp-content/uploads/2022/12/NWUK-Website-Final-Logo.png
END:VEVENT
BEGIN:VEVENT
DTSTART;TZID=Europe/London:20291115T110000
DTEND;TZID=Europe/London:20291115T120000
DTSTAMP:20260420T132712
CREATED:20230111T144250Z
LAST-MODIFIED:20231024T135343Z
UID:10025339-1889434800-1889438400@keepingmewell.com
SUMMARY:Cardiff Nordic Walking Group
DESCRIPTION:Nordic walking turns a walk into a workout. Meeting at Café Castan in Llandaff Fields\, this weekly Nordic Walking group improves health and fitness and is suitable for all ages and fitness levels. Bring your own poles.
URL:https://keepingmewell.com/event/cardiff-nordic-walking-group-37/2029-11-15/
LOCATION:Cafe Castan\, Llandaff Fields\, Pontcanna\, Cardiff\, CF11 9QJ
CATEGORIES:English,Nordic Walking,Physical Activity
ATTACH;FMTTYPE=image/png:https://keepingmewell.com/wp-content/uploads/2022/12/NWUK-Website-Final-Logo.png
END:VEVENT
BEGIN:VEVENT
DTSTART;TZID=Europe/London:20291116T130000
DTEND;TZID=Europe/London:20291116T140000
DTSTAMP:20260420T132712
CREATED:20230111T091444Z
LAST-MODIFIED:20231024T135850Z
UID:10027161-1889528400-1889532000@keepingmewell.com
SUMMARY:Nordic Walking Group in Barry
DESCRIPTION:Nordic walking turns a walk into a workout. It is suitable for all ages and fitness levels. Enjoy the benefits of being outdoors\, getting fit and using your muscles while in a relaxed\, social group. Beginners are able to borrow poles. \nThe route is weather dependent. Meet by the red post box in The Knap.
URL:https://keepingmewell.com/event/nordic-walking-group-in-barry-28/2029-11-16/
LOCATION:The Knap\, The Knap\, Barry\, CF62 6SG\, United Kingdom
CATEGORIES:English,Nordic Walking,Physical Health
ATTACH;FMTTYPE=image/png:https://keepingmewell.com/wp-content/uploads/2022/12/NWUK-Website-Final-Logo.png
END:VEVENT
BEGIN:VEVENT
DTSTART;TZID=Europe/London:20291122T110000
DTEND;TZID=Europe/London:20291122T120000
DTSTAMP:20260420T132712
CREATED:20230111T144250Z
LAST-MODIFIED:20231024T135343Z
UID:10025340-1890039600-1890043200@keepingmewell.com
SUMMARY:Cardiff Nordic Walking Group
DESCRIPTION:Nordic walking turns a walk into a workout. Meeting at Café Castan in Llandaff Fields\, this weekly Nordic Walking group improves health and fitness and is suitable for all ages and fitness levels. Bring your own poles.
URL:https://keepingmewell.com/event/cardiff-nordic-walking-group-37/2029-11-22/
LOCATION:Cafe Castan\, Llandaff Fields\, Pontcanna\, Cardiff\, CF11 9QJ
CATEGORIES:English,Nordic Walking,Physical Activity
ATTACH;FMTTYPE=image/png:https://keepingmewell.com/wp-content/uploads/2022/12/NWUK-Website-Final-Logo.png
END:VEVENT
BEGIN:VEVENT
DTSTART;TZID=Europe/London:20291123T130000
DTEND;TZID=Europe/London:20291123T140000
DTSTAMP:20260420T132712
CREATED:20230111T091444Z
LAST-MODIFIED:20231024T135850Z
UID:10027162-1890133200-1890136800@keepingmewell.com
SUMMARY:Nordic Walking Group in Barry
DESCRIPTION:Nordic walking turns a walk into a workout. It is suitable for all ages and fitness levels. Enjoy the benefits of being outdoors\, getting fit and using your muscles while in a relaxed\, social group. Beginners are able to borrow poles. \nThe route is weather dependent. Meet by the red post box in The Knap.
URL:https://keepingmewell.com/event/nordic-walking-group-in-barry-28/2029-11-23/
LOCATION:The Knap\, The Knap\, Barry\, CF62 6SG\, United Kingdom
CATEGORIES:English,Nordic Walking,Physical Health
ATTACH;FMTTYPE=image/png:https://keepingmewell.com/wp-content/uploads/2022/12/NWUK-Website-Final-Logo.png
END:VEVENT
BEGIN:VEVENT
DTSTART;TZID=Europe/London:20291129T110000
DTEND;TZID=Europe/London:20291129T120000
DTSTAMP:20260420T132712
CREATED:20230111T144250Z
LAST-MODIFIED:20231024T135343Z
UID:10025341-1890644400-1890648000@keepingmewell.com
SUMMARY:Cardiff Nordic Walking Group
DESCRIPTION:Nordic walking turns a walk into a workout. Meeting at Café Castan in Llandaff Fields\, this weekly Nordic Walking group improves health and fitness and is suitable for all ages and fitness levels. Bring your own poles.
URL:https://keepingmewell.com/event/cardiff-nordic-walking-group-37/2029-11-29/
LOCATION:Cafe Castan\, Llandaff Fields\, Pontcanna\, Cardiff\, CF11 9QJ
CATEGORIES:English,Nordic Walking,Physical Activity
ATTACH;FMTTYPE=image/png:https://keepingmewell.com/wp-content/uploads/2022/12/NWUK-Website-Final-Logo.png
END:VEVENT
BEGIN:VEVENT
DTSTART;TZID=Europe/London:20291130T130000
DTEND;TZID=Europe/London:20291130T140000
DTSTAMP:20260420T132712
CREATED:20230111T091444Z
LAST-MODIFIED:20231024T135850Z
UID:10027163-1890738000-1890741600@keepingmewell.com
SUMMARY:Nordic Walking Group in Barry
DESCRIPTION:Nordic walking turns a walk into a workout. It is suitable for all ages and fitness levels. Enjoy the benefits of being outdoors\, getting fit and using your muscles while in a relaxed\, social group. Beginners are able to borrow poles. \nThe route is weather dependent. Meet by the red post box in The Knap.
URL:https://keepingmewell.com/event/nordic-walking-group-in-barry-28/2029-11-30/
LOCATION:The Knap\, The Knap\, Barry\, CF62 6SG\, United Kingdom
CATEGORIES:English,Nordic Walking,Physical Health
ATTACH;FMTTYPE=image/png:https://keepingmewell.com/wp-content/uploads/2022/12/NWUK-Website-Final-Logo.png
END:VEVENT
END:VCALENDAR