BEGIN:VCALENDAR
VERSION:2.0
PRODID:-//Keeping Me Well - ECPv6.15.20//NONSGML v1.0//EN
CALSCALE:GREGORIAN
METHOD:PUBLISH
X-ORIGINAL-URL:https://keepingmewell.com
X-WR-CALDESC:Events for Keeping Me Well
REFRESH-INTERVAL;VALUE=DURATION:PT1H
X-Robots-Tag:noindex
X-PUBLISHED-TTL:PT1H
BEGIN:VTIMEZONE
TZID:Europe/London
BEGIN:DAYLIGHT
TZOFFSETFROM:+0000
TZOFFSETTO:+0100
TZNAME:BST
DTSTART:20250330T010000
END:DAYLIGHT
BEGIN:STANDARD
TZOFFSETFROM:+0100
TZOFFSETTO:+0000
TZNAME:GMT
DTSTART:20251026T010000
END:STANDARD
BEGIN:DAYLIGHT
TZOFFSETFROM:+0000
TZOFFSETTO:+0100
TZNAME:BST
DTSTART:20260329T010000
END:DAYLIGHT
BEGIN:STANDARD
TZOFFSETFROM:+0100
TZOFFSETTO:+0000
TZNAME:GMT
DTSTART:20261025T010000
END:STANDARD
BEGIN:DAYLIGHT
TZOFFSETFROM:+0000
TZOFFSETTO:+0100
TZNAME:BST
DTSTART:20270328T010000
END:DAYLIGHT
BEGIN:STANDARD
TZOFFSETFROM:+0100
TZOFFSETTO:+0000
TZNAME:GMT
DTSTART:20271031T010000
END:STANDARD
BEGIN:DAYLIGHT
TZOFFSETFROM:+0000
TZOFFSETTO:+0100
TZNAME:BST
DTSTART:20280326T010000
END:DAYLIGHT
BEGIN:STANDARD
TZOFFSETFROM:+0100
TZOFFSETTO:+0000
TZNAME:GMT
DTSTART:20281029T010000
END:STANDARD
END:VTIMEZONE
BEGIN:VEVENT
DTSTART;TZID=Europe/London:20261231T110000
DTEND;TZID=Europe/London:20261231T120000
DTSTAMP:20260419T193757
CREATED:20230111T144250Z
LAST-MODIFIED:20231024T135343Z
UID:10015753-1798714800-1798718400@keepingmewell.com
SUMMARY:Cardiff Nordic Walking Group
DESCRIPTION:Nordic walking turns a walk into a workout. Meeting at Café Castan in Llandaff Fields\, this weekly Nordic Walking group improves health and fitness and is suitable for all ages and fitness levels. Bring your own poles.
URL:https://keepingmewell.com/event/cardiff-nordic-walking-group-37/2026-12-31/
LOCATION:Cafe Castan\, Llandaff Fields\, Pontcanna\, Cardiff\, CF11 9QJ
CATEGORIES:English,Nordic Walking,Physical Activity
ATTACH;FMTTYPE=image/png:https://keepingmewell.com/wp-content/uploads/2022/12/NWUK-Website-Final-Logo.png
END:VEVENT
BEGIN:VEVENT
DTSTART;TZID=Europe/London:20270101T130000
DTEND;TZID=Europe/London:20270101T140000
DTSTAMP:20260419T193757
CREATED:20230111T091444Z
LAST-MODIFIED:20231024T135850Z
UID:10016012-1798808400-1798812000@keepingmewell.com
SUMMARY:Nordic Walking Group in Barry
DESCRIPTION:Nordic walking turns a walk into a workout. It is suitable for all ages and fitness levels. Enjoy the benefits of being outdoors\, getting fit and using your muscles while in a relaxed\, social group. Beginners are able to borrow poles. \nThe route is weather dependent. Meet by the red post box in The Knap.
URL:https://keepingmewell.com/event/nordic-walking-group-in-barry-28/2027-01-01/
LOCATION:The Knap\, The Knap\, Barry\, CF62 6SG\, United Kingdom
CATEGORIES:English,Nordic Walking,Physical Health
ATTACH;FMTTYPE=image/png:https://keepingmewell.com/wp-content/uploads/2022/12/NWUK-Website-Final-Logo.png
END:VEVENT
BEGIN:VEVENT
DTSTART;TZID=Europe/London:20270107T110000
DTEND;TZID=Europe/London:20270107T120000
DTSTAMP:20260419T193757
CREATED:20230111T144250Z
LAST-MODIFIED:20231024T135343Z
UID:10015754-1799319600-1799323200@keepingmewell.com
SUMMARY:Cardiff Nordic Walking Group
DESCRIPTION:Nordic walking turns a walk into a workout. Meeting at Café Castan in Llandaff Fields\, this weekly Nordic Walking group improves health and fitness and is suitable for all ages and fitness levels. Bring your own poles.
URL:https://keepingmewell.com/event/cardiff-nordic-walking-group-37/2027-01-07/
LOCATION:Cafe Castan\, Llandaff Fields\, Pontcanna\, Cardiff\, CF11 9QJ
CATEGORIES:English,Nordic Walking,Physical Activity
ATTACH;FMTTYPE=image/png:https://keepingmewell.com/wp-content/uploads/2022/12/NWUK-Website-Final-Logo.png
END:VEVENT
BEGIN:VEVENT
DTSTART;TZID=Europe/London:20270108T130000
DTEND;TZID=Europe/London:20270108T140000
DTSTAMP:20260419T193757
CREATED:20230111T091444Z
LAST-MODIFIED:20231024T135850Z
UID:10016013-1799413200-1799416800@keepingmewell.com
SUMMARY:Nordic Walking Group in Barry
DESCRIPTION:Nordic walking turns a walk into a workout. It is suitable for all ages and fitness levels. Enjoy the benefits of being outdoors\, getting fit and using your muscles while in a relaxed\, social group. Beginners are able to borrow poles. \nThe route is weather dependent. Meet by the red post box in The Knap.
URL:https://keepingmewell.com/event/nordic-walking-group-in-barry-28/2027-01-08/
LOCATION:The Knap\, The Knap\, Barry\, CF62 6SG\, United Kingdom
CATEGORIES:English,Nordic Walking,Physical Health
ATTACH;FMTTYPE=image/png:https://keepingmewell.com/wp-content/uploads/2022/12/NWUK-Website-Final-Logo.png
END:VEVENT
BEGIN:VEVENT
DTSTART;TZID=Europe/London:20270114T110000
DTEND;TZID=Europe/London:20270114T120000
DTSTAMP:20260419T193757
CREATED:20230111T144250Z
LAST-MODIFIED:20231024T135343Z
UID:10015755-1799924400-1799928000@keepingmewell.com
SUMMARY:Cardiff Nordic Walking Group
DESCRIPTION:Nordic walking turns a walk into a workout. Meeting at Café Castan in Llandaff Fields\, this weekly Nordic Walking group improves health and fitness and is suitable for all ages and fitness levels. Bring your own poles.
URL:https://keepingmewell.com/event/cardiff-nordic-walking-group-37/2027-01-14/
LOCATION:Cafe Castan\, Llandaff Fields\, Pontcanna\, Cardiff\, CF11 9QJ
CATEGORIES:English,Nordic Walking,Physical Activity
ATTACH;FMTTYPE=image/png:https://keepingmewell.com/wp-content/uploads/2022/12/NWUK-Website-Final-Logo.png
END:VEVENT
BEGIN:VEVENT
DTSTART;TZID=Europe/London:20270115T130000
DTEND;TZID=Europe/London:20270115T140000
DTSTAMP:20260419T193757
CREATED:20230111T091444Z
LAST-MODIFIED:20231024T135850Z
UID:10016014-1800018000-1800021600@keepingmewell.com
SUMMARY:Nordic Walking Group in Barry
DESCRIPTION:Nordic walking turns a walk into a workout. It is suitable for all ages and fitness levels. Enjoy the benefits of being outdoors\, getting fit and using your muscles while in a relaxed\, social group. Beginners are able to borrow poles. \nThe route is weather dependent. Meet by the red post box in The Knap.
URL:https://keepingmewell.com/event/nordic-walking-group-in-barry-28/2027-01-15/
LOCATION:The Knap\, The Knap\, Barry\, CF62 6SG\, United Kingdom
CATEGORIES:English,Nordic Walking,Physical Health
ATTACH;FMTTYPE=image/png:https://keepingmewell.com/wp-content/uploads/2022/12/NWUK-Website-Final-Logo.png
END:VEVENT
BEGIN:VEVENT
DTSTART;TZID=Europe/London:20270121T110000
DTEND;TZID=Europe/London:20270121T120000
DTSTAMP:20260419T193757
CREATED:20230111T144250Z
LAST-MODIFIED:20231024T135343Z
UID:10015756-1800529200-1800532800@keepingmewell.com
SUMMARY:Cardiff Nordic Walking Group
DESCRIPTION:Nordic walking turns a walk into a workout. Meeting at Café Castan in Llandaff Fields\, this weekly Nordic Walking group improves health and fitness and is suitable for all ages and fitness levels. Bring your own poles.
URL:https://keepingmewell.com/event/cardiff-nordic-walking-group-37/2027-01-21/
LOCATION:Cafe Castan\, Llandaff Fields\, Pontcanna\, Cardiff\, CF11 9QJ
CATEGORIES:English,Nordic Walking,Physical Activity
ATTACH;FMTTYPE=image/png:https://keepingmewell.com/wp-content/uploads/2022/12/NWUK-Website-Final-Logo.png
END:VEVENT
BEGIN:VEVENT
DTSTART;TZID=Europe/London:20270122T130000
DTEND;TZID=Europe/London:20270122T140000
DTSTAMP:20260419T193757
CREATED:20230111T091444Z
LAST-MODIFIED:20231024T135850Z
UID:10016015-1800622800-1800626400@keepingmewell.com
SUMMARY:Nordic Walking Group in Barry
DESCRIPTION:Nordic walking turns a walk into a workout. It is suitable for all ages and fitness levels. Enjoy the benefits of being outdoors\, getting fit and using your muscles while in a relaxed\, social group. Beginners are able to borrow poles. \nThe route is weather dependent. Meet by the red post box in The Knap.
URL:https://keepingmewell.com/event/nordic-walking-group-in-barry-28/2027-01-22/
LOCATION:The Knap\, The Knap\, Barry\, CF62 6SG\, United Kingdom
CATEGORIES:English,Nordic Walking,Physical Health
ATTACH;FMTTYPE=image/png:https://keepingmewell.com/wp-content/uploads/2022/12/NWUK-Website-Final-Logo.png
END:VEVENT
BEGIN:VEVENT
DTSTART;TZID=Europe/London:20270128T110000
DTEND;TZID=Europe/London:20270128T120000
DTSTAMP:20260419T193757
CREATED:20230111T144250Z
LAST-MODIFIED:20231024T135343Z
UID:10015757-1801134000-1801137600@keepingmewell.com
SUMMARY:Cardiff Nordic Walking Group
DESCRIPTION:Nordic walking turns a walk into a workout. Meeting at Café Castan in Llandaff Fields\, this weekly Nordic Walking group improves health and fitness and is suitable for all ages and fitness levels. Bring your own poles.
URL:https://keepingmewell.com/event/cardiff-nordic-walking-group-37/2027-01-28/
LOCATION:Cafe Castan\, Llandaff Fields\, Pontcanna\, Cardiff\, CF11 9QJ
CATEGORIES:English,Nordic Walking,Physical Activity
ATTACH;FMTTYPE=image/png:https://keepingmewell.com/wp-content/uploads/2022/12/NWUK-Website-Final-Logo.png
END:VEVENT
BEGIN:VEVENT
DTSTART;TZID=Europe/London:20270129T130000
DTEND;TZID=Europe/London:20270129T140000
DTSTAMP:20260419T193757
CREATED:20230111T091444Z
LAST-MODIFIED:20231024T135850Z
UID:10016016-1801227600-1801231200@keepingmewell.com
SUMMARY:Nordic Walking Group in Barry
DESCRIPTION:Nordic walking turns a walk into a workout. It is suitable for all ages and fitness levels. Enjoy the benefits of being outdoors\, getting fit and using your muscles while in a relaxed\, social group. Beginners are able to borrow poles. \nThe route is weather dependent. Meet by the red post box in The Knap.
URL:https://keepingmewell.com/event/nordic-walking-group-in-barry-28/2027-01-29/
LOCATION:The Knap\, The Knap\, Barry\, CF62 6SG\, United Kingdom
CATEGORIES:English,Nordic Walking,Physical Health
ATTACH;FMTTYPE=image/png:https://keepingmewell.com/wp-content/uploads/2022/12/NWUK-Website-Final-Logo.png
END:VEVENT
BEGIN:VEVENT
DTSTART;TZID=Europe/London:20270204T110000
DTEND;TZID=Europe/London:20270204T120000
DTSTAMP:20260419T193757
CREATED:20230111T144250Z
LAST-MODIFIED:20231024T135343Z
UID:10015758-1801738800-1801742400@keepingmewell.com
SUMMARY:Cardiff Nordic Walking Group
DESCRIPTION:Nordic walking turns a walk into a workout. Meeting at Café Castan in Llandaff Fields\, this weekly Nordic Walking group improves health and fitness and is suitable for all ages and fitness levels. Bring your own poles.
URL:https://keepingmewell.com/event/cardiff-nordic-walking-group-37/2027-02-04/
LOCATION:Cafe Castan\, Llandaff Fields\, Pontcanna\, Cardiff\, CF11 9QJ
CATEGORIES:English,Nordic Walking,Physical Activity
ATTACH;FMTTYPE=image/png:https://keepingmewell.com/wp-content/uploads/2022/12/NWUK-Website-Final-Logo.png
END:VEVENT
BEGIN:VEVENT
DTSTART;TZID=Europe/London:20270205T130000
DTEND;TZID=Europe/London:20270205T140000
DTSTAMP:20260419T193757
CREATED:20230111T091444Z
LAST-MODIFIED:20231024T135850Z
UID:10016017-1801832400-1801836000@keepingmewell.com
SUMMARY:Nordic Walking Group in Barry
DESCRIPTION:Nordic walking turns a walk into a workout. It is suitable for all ages and fitness levels. Enjoy the benefits of being outdoors\, getting fit and using your muscles while in a relaxed\, social group. Beginners are able to borrow poles. \nThe route is weather dependent. Meet by the red post box in The Knap.
URL:https://keepingmewell.com/event/nordic-walking-group-in-barry-28/2027-02-05/
LOCATION:The Knap\, The Knap\, Barry\, CF62 6SG\, United Kingdom
CATEGORIES:English,Nordic Walking,Physical Health
ATTACH;FMTTYPE=image/png:https://keepingmewell.com/wp-content/uploads/2022/12/NWUK-Website-Final-Logo.png
END:VEVENT
BEGIN:VEVENT
DTSTART;TZID=Europe/London:20270211T110000
DTEND;TZID=Europe/London:20270211T120000
DTSTAMP:20260419T193757
CREATED:20230111T144250Z
LAST-MODIFIED:20231024T135343Z
UID:10015759-1802343600-1802347200@keepingmewell.com
SUMMARY:Cardiff Nordic Walking Group
DESCRIPTION:Nordic walking turns a walk into a workout. Meeting at Café Castan in Llandaff Fields\, this weekly Nordic Walking group improves health and fitness and is suitable for all ages and fitness levels. Bring your own poles.
URL:https://keepingmewell.com/event/cardiff-nordic-walking-group-37/2027-02-11/
LOCATION:Cafe Castan\, Llandaff Fields\, Pontcanna\, Cardiff\, CF11 9QJ
CATEGORIES:English,Nordic Walking,Physical Activity
ATTACH;FMTTYPE=image/png:https://keepingmewell.com/wp-content/uploads/2022/12/NWUK-Website-Final-Logo.png
END:VEVENT
BEGIN:VEVENT
DTSTART;TZID=Europe/London:20270212T130000
DTEND;TZID=Europe/London:20270212T140000
DTSTAMP:20260419T193757
CREATED:20230111T091444Z
LAST-MODIFIED:20231024T135850Z
UID:10016018-1802437200-1802440800@keepingmewell.com
SUMMARY:Nordic Walking Group in Barry
DESCRIPTION:Nordic walking turns a walk into a workout. It is suitable for all ages and fitness levels. Enjoy the benefits of being outdoors\, getting fit and using your muscles while in a relaxed\, social group. Beginners are able to borrow poles. \nThe route is weather dependent. Meet by the red post box in The Knap.
URL:https://keepingmewell.com/event/nordic-walking-group-in-barry-28/2027-02-12/
LOCATION:The Knap\, The Knap\, Barry\, CF62 6SG\, United Kingdom
CATEGORIES:English,Nordic Walking,Physical Health
ATTACH;FMTTYPE=image/png:https://keepingmewell.com/wp-content/uploads/2022/12/NWUK-Website-Final-Logo.png
END:VEVENT
BEGIN:VEVENT
DTSTART;TZID=Europe/London:20270218T110000
DTEND;TZID=Europe/London:20270218T120000
DTSTAMP:20260419T193757
CREATED:20230111T144250Z
LAST-MODIFIED:20231024T135343Z
UID:10015760-1802948400-1802952000@keepingmewell.com
SUMMARY:Cardiff Nordic Walking Group
DESCRIPTION:Nordic walking turns a walk into a workout. Meeting at Café Castan in Llandaff Fields\, this weekly Nordic Walking group improves health and fitness and is suitable for all ages and fitness levels. Bring your own poles.
URL:https://keepingmewell.com/event/cardiff-nordic-walking-group-37/2027-02-18/
LOCATION:Cafe Castan\, Llandaff Fields\, Pontcanna\, Cardiff\, CF11 9QJ
CATEGORIES:English,Nordic Walking,Physical Activity
ATTACH;FMTTYPE=image/png:https://keepingmewell.com/wp-content/uploads/2022/12/NWUK-Website-Final-Logo.png
END:VEVENT
BEGIN:VEVENT
DTSTART;TZID=Europe/London:20270219T130000
DTEND;TZID=Europe/London:20270219T140000
DTSTAMP:20260419T193757
CREATED:20230111T091444Z
LAST-MODIFIED:20231024T135850Z
UID:10016019-1803042000-1803045600@keepingmewell.com
SUMMARY:Nordic Walking Group in Barry
DESCRIPTION:Nordic walking turns a walk into a workout. It is suitable for all ages and fitness levels. Enjoy the benefits of being outdoors\, getting fit and using your muscles while in a relaxed\, social group. Beginners are able to borrow poles. \nThe route is weather dependent. Meet by the red post box in The Knap.
URL:https://keepingmewell.com/event/nordic-walking-group-in-barry-28/2027-02-19/
LOCATION:The Knap\, The Knap\, Barry\, CF62 6SG\, United Kingdom
CATEGORIES:English,Nordic Walking,Physical Health
ATTACH;FMTTYPE=image/png:https://keepingmewell.com/wp-content/uploads/2022/12/NWUK-Website-Final-Logo.png
END:VEVENT
BEGIN:VEVENT
DTSTART;TZID=Europe/London:20270225T110000
DTEND;TZID=Europe/London:20270225T120000
DTSTAMP:20260419T193757
CREATED:20230111T144250Z
LAST-MODIFIED:20231024T135343Z
UID:10015761-1803553200-1803556800@keepingmewell.com
SUMMARY:Cardiff Nordic Walking Group
DESCRIPTION:Nordic walking turns a walk into a workout. Meeting at Café Castan in Llandaff Fields\, this weekly Nordic Walking group improves health and fitness and is suitable for all ages and fitness levels. Bring your own poles.
URL:https://keepingmewell.com/event/cardiff-nordic-walking-group-37/2027-02-25/
LOCATION:Cafe Castan\, Llandaff Fields\, Pontcanna\, Cardiff\, CF11 9QJ
CATEGORIES:English,Nordic Walking,Physical Activity
ATTACH;FMTTYPE=image/png:https://keepingmewell.com/wp-content/uploads/2022/12/NWUK-Website-Final-Logo.png
END:VEVENT
BEGIN:VEVENT
DTSTART;TZID=Europe/London:20270226T130000
DTEND;TZID=Europe/London:20270226T140000
DTSTAMP:20260419T193757
CREATED:20230111T091444Z
LAST-MODIFIED:20231024T135850Z
UID:10016020-1803646800-1803650400@keepingmewell.com
SUMMARY:Nordic Walking Group in Barry
DESCRIPTION:Nordic walking turns a walk into a workout. It is suitable for all ages and fitness levels. Enjoy the benefits of being outdoors\, getting fit and using your muscles while in a relaxed\, social group. Beginners are able to borrow poles. \nThe route is weather dependent. Meet by the red post box in The Knap.
URL:https://keepingmewell.com/event/nordic-walking-group-in-barry-28/2027-02-26/
LOCATION:The Knap\, The Knap\, Barry\, CF62 6SG\, United Kingdom
CATEGORIES:English,Nordic Walking,Physical Health
ATTACH;FMTTYPE=image/png:https://keepingmewell.com/wp-content/uploads/2022/12/NWUK-Website-Final-Logo.png
END:VEVENT
BEGIN:VEVENT
DTSTART;TZID=Europe/London:20270304T110000
DTEND;TZID=Europe/London:20270304T120000
DTSTAMP:20260419T193757
CREATED:20230111T144250Z
LAST-MODIFIED:20231024T135343Z
UID:10015762-1804158000-1804161600@keepingmewell.com
SUMMARY:Cardiff Nordic Walking Group
DESCRIPTION:Nordic walking turns a walk into a workout. Meeting at Café Castan in Llandaff Fields\, this weekly Nordic Walking group improves health and fitness and is suitable for all ages and fitness levels. Bring your own poles.
URL:https://keepingmewell.com/event/cardiff-nordic-walking-group-37/2027-03-04/
LOCATION:Cafe Castan\, Llandaff Fields\, Pontcanna\, Cardiff\, CF11 9QJ
CATEGORIES:English,Nordic Walking,Physical Activity
ATTACH;FMTTYPE=image/png:https://keepingmewell.com/wp-content/uploads/2022/12/NWUK-Website-Final-Logo.png
END:VEVENT
BEGIN:VEVENT
DTSTART;TZID=Europe/London:20270305T130000
DTEND;TZID=Europe/London:20270305T140000
DTSTAMP:20260419T193757
CREATED:20230111T091444Z
LAST-MODIFIED:20231024T135850Z
UID:10016021-1804251600-1804255200@keepingmewell.com
SUMMARY:Nordic Walking Group in Barry
DESCRIPTION:Nordic walking turns a walk into a workout. It is suitable for all ages and fitness levels. Enjoy the benefits of being outdoors\, getting fit and using your muscles while in a relaxed\, social group. Beginners are able to borrow poles. \nThe route is weather dependent. Meet by the red post box in The Knap.
URL:https://keepingmewell.com/event/nordic-walking-group-in-barry-28/2027-03-05/
LOCATION:The Knap\, The Knap\, Barry\, CF62 6SG\, United Kingdom
CATEGORIES:English,Nordic Walking,Physical Health
ATTACH;FMTTYPE=image/png:https://keepingmewell.com/wp-content/uploads/2022/12/NWUK-Website-Final-Logo.png
END:VEVENT
BEGIN:VEVENT
DTSTART;TZID=Europe/London:20270311T110000
DTEND;TZID=Europe/London:20270311T120000
DTSTAMP:20260419T193757
CREATED:20230111T144250Z
LAST-MODIFIED:20231024T135343Z
UID:10015763-1804762800-1804766400@keepingmewell.com
SUMMARY:Cardiff Nordic Walking Group
DESCRIPTION:Nordic walking turns a walk into a workout. Meeting at Café Castan in Llandaff Fields\, this weekly Nordic Walking group improves health and fitness and is suitable for all ages and fitness levels. Bring your own poles.
URL:https://keepingmewell.com/event/cardiff-nordic-walking-group-37/2027-03-11/
LOCATION:Cafe Castan\, Llandaff Fields\, Pontcanna\, Cardiff\, CF11 9QJ
CATEGORIES:English,Nordic Walking,Physical Activity
ATTACH;FMTTYPE=image/png:https://keepingmewell.com/wp-content/uploads/2022/12/NWUK-Website-Final-Logo.png
END:VEVENT
BEGIN:VEVENT
DTSTART;TZID=Europe/London:20270312T130000
DTEND;TZID=Europe/London:20270312T140000
DTSTAMP:20260419T193757
CREATED:20230111T091444Z
LAST-MODIFIED:20231024T135850Z
UID:10016022-1804856400-1804860000@keepingmewell.com
SUMMARY:Nordic Walking Group in Barry
DESCRIPTION:Nordic walking turns a walk into a workout. It is suitable for all ages and fitness levels. Enjoy the benefits of being outdoors\, getting fit and using your muscles while in a relaxed\, social group. Beginners are able to borrow poles. \nThe route is weather dependent. Meet by the red post box in The Knap.
URL:https://keepingmewell.com/event/nordic-walking-group-in-barry-28/2027-03-12/
LOCATION:The Knap\, The Knap\, Barry\, CF62 6SG\, United Kingdom
CATEGORIES:English,Nordic Walking,Physical Health
ATTACH;FMTTYPE=image/png:https://keepingmewell.com/wp-content/uploads/2022/12/NWUK-Website-Final-Logo.png
END:VEVENT
BEGIN:VEVENT
DTSTART;TZID=Europe/London:20270318T110000
DTEND;TZID=Europe/London:20270318T120000
DTSTAMP:20260419T193757
CREATED:20230111T144250Z
LAST-MODIFIED:20231024T135343Z
UID:10015764-1805367600-1805371200@keepingmewell.com
SUMMARY:Cardiff Nordic Walking Group
DESCRIPTION:Nordic walking turns a walk into a workout. Meeting at Café Castan in Llandaff Fields\, this weekly Nordic Walking group improves health and fitness and is suitable for all ages and fitness levels. Bring your own poles.
URL:https://keepingmewell.com/event/cardiff-nordic-walking-group-37/2027-03-18/
LOCATION:Cafe Castan\, Llandaff Fields\, Pontcanna\, Cardiff\, CF11 9QJ
CATEGORIES:English,Nordic Walking,Physical Activity
ATTACH;FMTTYPE=image/png:https://keepingmewell.com/wp-content/uploads/2022/12/NWUK-Website-Final-Logo.png
END:VEVENT
BEGIN:VEVENT
DTSTART;TZID=Europe/London:20270319T130000
DTEND;TZID=Europe/London:20270319T140000
DTSTAMP:20260419T193757
CREATED:20230111T091444Z
LAST-MODIFIED:20231024T135850Z
UID:10016023-1805461200-1805464800@keepingmewell.com
SUMMARY:Nordic Walking Group in Barry
DESCRIPTION:Nordic walking turns a walk into a workout. It is suitable for all ages and fitness levels. Enjoy the benefits of being outdoors\, getting fit and using your muscles while in a relaxed\, social group. Beginners are able to borrow poles. \nThe route is weather dependent. Meet by the red post box in The Knap.
URL:https://keepingmewell.com/event/nordic-walking-group-in-barry-28/2027-03-19/
LOCATION:The Knap\, The Knap\, Barry\, CF62 6SG\, United Kingdom
CATEGORIES:English,Nordic Walking,Physical Health
ATTACH;FMTTYPE=image/png:https://keepingmewell.com/wp-content/uploads/2022/12/NWUK-Website-Final-Logo.png
END:VEVENT
BEGIN:VEVENT
DTSTART;TZID=Europe/London:20270325T110000
DTEND;TZID=Europe/London:20270325T120000
DTSTAMP:20260419T193757
CREATED:20230111T144250Z
LAST-MODIFIED:20231024T135343Z
UID:10015765-1805972400-1805976000@keepingmewell.com
SUMMARY:Cardiff Nordic Walking Group
DESCRIPTION:Nordic walking turns a walk into a workout. Meeting at Café Castan in Llandaff Fields\, this weekly Nordic Walking group improves health and fitness and is suitable for all ages and fitness levels. Bring your own poles.
URL:https://keepingmewell.com/event/cardiff-nordic-walking-group-37/2027-03-25/
LOCATION:Cafe Castan\, Llandaff Fields\, Pontcanna\, Cardiff\, CF11 9QJ
CATEGORIES:English,Nordic Walking,Physical Activity
ATTACH;FMTTYPE=image/png:https://keepingmewell.com/wp-content/uploads/2022/12/NWUK-Website-Final-Logo.png
END:VEVENT
BEGIN:VEVENT
DTSTART;TZID=Europe/London:20270326T130000
DTEND;TZID=Europe/London:20270326T140000
DTSTAMP:20260419T193757
CREATED:20230111T091444Z
LAST-MODIFIED:20231024T135850Z
UID:10016024-1806066000-1806069600@keepingmewell.com
SUMMARY:Nordic Walking Group in Barry
DESCRIPTION:Nordic walking turns a walk into a workout. It is suitable for all ages and fitness levels. Enjoy the benefits of being outdoors\, getting fit and using your muscles while in a relaxed\, social group. Beginners are able to borrow poles. \nThe route is weather dependent. Meet by the red post box in The Knap.
URL:https://keepingmewell.com/event/nordic-walking-group-in-barry-28/2027-03-26/
LOCATION:The Knap\, The Knap\, Barry\, CF62 6SG\, United Kingdom
CATEGORIES:English,Nordic Walking,Physical Health
ATTACH;FMTTYPE=image/png:https://keepingmewell.com/wp-content/uploads/2022/12/NWUK-Website-Final-Logo.png
END:VEVENT
BEGIN:VEVENT
DTSTART;TZID=Europe/London:20270401T110000
DTEND;TZID=Europe/London:20270401T120000
DTSTAMP:20260419T193757
CREATED:20230111T144250Z
LAST-MODIFIED:20231024T135343Z
UID:10015766-1806577200-1806580800@keepingmewell.com
SUMMARY:Cardiff Nordic Walking Group
DESCRIPTION:Nordic walking turns a walk into a workout. Meeting at Café Castan in Llandaff Fields\, this weekly Nordic Walking group improves health and fitness and is suitable for all ages and fitness levels. Bring your own poles.
URL:https://keepingmewell.com/event/cardiff-nordic-walking-group-37/2027-04-01/
LOCATION:Cafe Castan\, Llandaff Fields\, Pontcanna\, Cardiff\, CF11 9QJ
CATEGORIES:English,Nordic Walking,Physical Activity
ATTACH;FMTTYPE=image/png:https://keepingmewell.com/wp-content/uploads/2022/12/NWUK-Website-Final-Logo.png
END:VEVENT
BEGIN:VEVENT
DTSTART;TZID=Europe/London:20270402T130000
DTEND;TZID=Europe/London:20270402T140000
DTSTAMP:20260419T193757
CREATED:20230111T091444Z
LAST-MODIFIED:20231024T135850Z
UID:10016025-1806670800-1806674400@keepingmewell.com
SUMMARY:Nordic Walking Group in Barry
DESCRIPTION:Nordic walking turns a walk into a workout. It is suitable for all ages and fitness levels. Enjoy the benefits of being outdoors\, getting fit and using your muscles while in a relaxed\, social group. Beginners are able to borrow poles. \nThe route is weather dependent. Meet by the red post box in The Knap.
URL:https://keepingmewell.com/event/nordic-walking-group-in-barry-28/2027-04-02/
LOCATION:The Knap\, The Knap\, Barry\, CF62 6SG\, United Kingdom
CATEGORIES:English,Nordic Walking,Physical Health
ATTACH;FMTTYPE=image/png:https://keepingmewell.com/wp-content/uploads/2022/12/NWUK-Website-Final-Logo.png
END:VEVENT
BEGIN:VEVENT
DTSTART;TZID=Europe/London:20270408T110000
DTEND;TZID=Europe/London:20270408T120000
DTSTAMP:20260419T193757
CREATED:20230111T144250Z
LAST-MODIFIED:20231024T135343Z
UID:10015767-1807182000-1807185600@keepingmewell.com
SUMMARY:Cardiff Nordic Walking Group
DESCRIPTION:Nordic walking turns a walk into a workout. Meeting at Café Castan in Llandaff Fields\, this weekly Nordic Walking group improves health and fitness and is suitable for all ages and fitness levels. Bring your own poles.
URL:https://keepingmewell.com/event/cardiff-nordic-walking-group-37/2027-04-08/
LOCATION:Cafe Castan\, Llandaff Fields\, Pontcanna\, Cardiff\, CF11 9QJ
CATEGORIES:English,Nordic Walking,Physical Activity
ATTACH;FMTTYPE=image/png:https://keepingmewell.com/wp-content/uploads/2022/12/NWUK-Website-Final-Logo.png
END:VEVENT
BEGIN:VEVENT
DTSTART;TZID=Europe/London:20270409T130000
DTEND;TZID=Europe/London:20270409T140000
DTSTAMP:20260419T193757
CREATED:20230111T091444Z
LAST-MODIFIED:20231024T135850Z
UID:10016026-1807275600-1807279200@keepingmewell.com
SUMMARY:Nordic Walking Group in Barry
DESCRIPTION:Nordic walking turns a walk into a workout. It is suitable for all ages and fitness levels. Enjoy the benefits of being outdoors\, getting fit and using your muscles while in a relaxed\, social group. Beginners are able to borrow poles. \nThe route is weather dependent. Meet by the red post box in The Knap.
URL:https://keepingmewell.com/event/nordic-walking-group-in-barry-28/2027-04-09/
LOCATION:The Knap\, The Knap\, Barry\, CF62 6SG\, United Kingdom
CATEGORIES:English,Nordic Walking,Physical Health
ATTACH;FMTTYPE=image/png:https://keepingmewell.com/wp-content/uploads/2022/12/NWUK-Website-Final-Logo.png
END:VEVENT
END:VCALENDAR