BEGIN:VCALENDAR
VERSION:2.0
PRODID:-//Keeping Me Well - ECPv6.15.20//NONSGML v1.0//EN
CALSCALE:GREGORIAN
METHOD:PUBLISH
X-WR-CALNAME:Keeping Me Well
X-ORIGINAL-URL:https://keepingmewell.com
X-WR-CALDESC:Events for Keeping Me Well
REFRESH-INTERVAL;VALUE=DURATION:PT1H
X-Robots-Tag:noindex
X-PUBLISHED-TTL:PT1H
BEGIN:VTIMEZONE
TZID:Europe/London
BEGIN:DAYLIGHT
TZOFFSETFROM:+0000
TZOFFSETTO:+0100
TZNAME:BST
DTSTART:20250330T010000
END:DAYLIGHT
BEGIN:STANDARD
TZOFFSETFROM:+0100
TZOFFSETTO:+0000
TZNAME:GMT
DTSTART:20251026T010000
END:STANDARD
BEGIN:DAYLIGHT
TZOFFSETFROM:+0000
TZOFFSETTO:+0100
TZNAME:BST
DTSTART:20260329T010000
END:DAYLIGHT
BEGIN:STANDARD
TZOFFSETFROM:+0100
TZOFFSETTO:+0000
TZNAME:GMT
DTSTART:20261025T010000
END:STANDARD
BEGIN:DAYLIGHT
TZOFFSETFROM:+0000
TZOFFSETTO:+0100
TZNAME:BST
DTSTART:20270328T010000
END:DAYLIGHT
BEGIN:STANDARD
TZOFFSETFROM:+0100
TZOFFSETTO:+0000
TZNAME:GMT
DTSTART:20271031T010000
END:STANDARD
END:VTIMEZONE
BEGIN:VEVENT
DTSTART;TZID=Europe/London:20260807T103000
DTEND;TZID=Europe/London:20260807T113000
DTSTAMP:20260424T071238
CREATED:20230721T104422Z
LAST-MODIFIED:20231018T115917Z
UID:10006643-1786098600-1786102200@keepingmewell.com
SUMMARY:Walking for Health at Rhydypennau Hub
DESCRIPTION:Join a gentle walk taking 30 – 45 minutes around the Rhydypennau/Lakeside area. \nStarting and ending at the entrance to Rhydypennau Hub\, then refreshments provided. \nThis is a free activity.
URL:https://keepingmewell.com/event/walking-for-health-at-rhydypennau-hub-16/2026-08-07/
LOCATION:Rhydypennau Hub\, Llandennis Road\, Cyncoed\,\, Cardiff\, CF23 6EG\, United Kingdom
CATEGORIES:English,Hub,Physical Activity,Walking
ATTACH;FMTTYPE=image/png:https://keepingmewell.com/wp-content/uploads/2023/01/Cardiff-Hubs.png
END:VEVENT
BEGIN:VEVENT
DTSTART;TZID=Europe/London:20260814T103000
DTEND;TZID=Europe/London:20260814T113000
DTSTAMP:20260424T071238
CREATED:20230721T104422Z
LAST-MODIFIED:20231018T115917Z
UID:10006644-1786703400-1786707000@keepingmewell.com
SUMMARY:Walking for Health at Rhydypennau Hub
DESCRIPTION:Join a gentle walk taking 30 – 45 minutes around the Rhydypennau/Lakeside area. \nStarting and ending at the entrance to Rhydypennau Hub\, then refreshments provided. \nThis is a free activity.
URL:https://keepingmewell.com/event/walking-for-health-at-rhydypennau-hub-16/2026-08-14/
LOCATION:Rhydypennau Hub\, Llandennis Road\, Cyncoed\,\, Cardiff\, CF23 6EG\, United Kingdom
CATEGORIES:English,Hub,Physical Activity,Walking
ATTACH;FMTTYPE=image/png:https://keepingmewell.com/wp-content/uploads/2023/01/Cardiff-Hubs.png
END:VEVENT
BEGIN:VEVENT
DTSTART;TZID=Europe/London:20260821T103000
DTEND;TZID=Europe/London:20260821T113000
DTSTAMP:20260424T071238
CREATED:20230721T104422Z
LAST-MODIFIED:20231018T115917Z
UID:10006645-1787308200-1787311800@keepingmewell.com
SUMMARY:Walking for Health at Rhydypennau Hub
DESCRIPTION:Join a gentle walk taking 30 – 45 minutes around the Rhydypennau/Lakeside area. \nStarting and ending at the entrance to Rhydypennau Hub\, then refreshments provided. \nThis is a free activity.
URL:https://keepingmewell.com/event/walking-for-health-at-rhydypennau-hub-16/2026-08-21/
LOCATION:Rhydypennau Hub\, Llandennis Road\, Cyncoed\,\, Cardiff\, CF23 6EG\, United Kingdom
CATEGORIES:English,Hub,Physical Activity,Walking
ATTACH;FMTTYPE=image/png:https://keepingmewell.com/wp-content/uploads/2023/01/Cardiff-Hubs.png
END:VEVENT
BEGIN:VEVENT
DTSTART;TZID=Europe/London:20260828T103000
DTEND;TZID=Europe/London:20260828T113000
DTSTAMP:20260424T071238
CREATED:20230721T104422Z
LAST-MODIFIED:20231018T115917Z
UID:10006646-1787913000-1787916600@keepingmewell.com
SUMMARY:Walking for Health at Rhydypennau Hub
DESCRIPTION:Join a gentle walk taking 30 – 45 minutes around the Rhydypennau/Lakeside area. \nStarting and ending at the entrance to Rhydypennau Hub\, then refreshments provided. \nThis is a free activity.
URL:https://keepingmewell.com/event/walking-for-health-at-rhydypennau-hub-16/2026-08-28/
LOCATION:Rhydypennau Hub\, Llandennis Road\, Cyncoed\,\, Cardiff\, CF23 6EG\, United Kingdom
CATEGORIES:English,Hub,Physical Activity,Walking
ATTACH;FMTTYPE=image/png:https://keepingmewell.com/wp-content/uploads/2023/01/Cardiff-Hubs.png
END:VEVENT
END:VCALENDAR