BEGIN:VCALENDAR
VERSION:2.0
PRODID:-//Keeping Me Well - ECPv6.15.20//NONSGML v1.0//EN
CALSCALE:GREGORIAN
METHOD:PUBLISH
X-WR-CALNAME:Keeping Me Well
X-ORIGINAL-URL:https://keepingmewell.com
X-WR-CALDESC:Events for Keeping Me Well
REFRESH-INTERVAL;VALUE=DURATION:PT1H
X-Robots-Tag:noindex
X-PUBLISHED-TTL:PT1H
BEGIN:VTIMEZONE
TZID:Europe/London
BEGIN:DAYLIGHT
TZOFFSETFROM:+0000
TZOFFSETTO:+0100
TZNAME:BST
DTSTART:20250330T010000
END:DAYLIGHT
BEGIN:STANDARD
TZOFFSETFROM:+0100
TZOFFSETTO:+0000
TZNAME:GMT
DTSTART:20251026T010000
END:STANDARD
BEGIN:DAYLIGHT
TZOFFSETFROM:+0000
TZOFFSETTO:+0100
TZNAME:BST
DTSTART:20260329T010000
END:DAYLIGHT
BEGIN:STANDARD
TZOFFSETFROM:+0100
TZOFFSETTO:+0000
TZNAME:GMT
DTSTART:20261025T010000
END:STANDARD
BEGIN:DAYLIGHT
TZOFFSETFROM:+0000
TZOFFSETTO:+0100
TZNAME:BST
DTSTART:20270328T010000
END:DAYLIGHT
BEGIN:STANDARD
TZOFFSETFROM:+0100
TZOFFSETTO:+0000
TZNAME:GMT
DTSTART:20271031T010000
END:STANDARD
END:VTIMEZONE
BEGIN:VEVENT
DTSTART;TZID=Europe/London:20261001T140000
DTEND;TZID=Europe/London:20261001T160000
DTSTAMP:20260426T002328
CREATED:20231024T145616Z
LAST-MODIFIED:20231024T145616Z
UID:10017044-1790863200-1790870400@keepingmewell.com
SUMMARY:Clwb Cymdeithasol Memory Lane
DESCRIPTION:Gweithgareddau am ddim gan gynnwys cyrlio dan do a cherddoriaeth i bobl y mae dementia yn effithio arnynt a’u gofalwyr. \nBob Dydd Iau 2-4pm Canoflan Gymunedol Cathays Os hoffech chi ymuno new gael unrhyw cwestiynau\, ffoniwch new e-bostiwch Phill 029 2037 3144 Phill.Racz@cathays.org
URL:https://keepingmewell.com/event/clwb-cymdeithasol-memory-lane/2026-10-01/
LOCATION:Canolfan Gymunedol Cathays\, 38 Teras Cathays\, Cathays\, Caerdydd\, CF24 4HX\, United Kingdom
CATEGORIES:Cymraeg,Demensia,Gofalwyr,Iechyd meddwl
ATTACH;FMTTYPE=image/jpeg:https://keepingmewell.com/wp-content/uploads/2022/11/neurons-gf30f28b0c_640.jpg
END:VEVENT
BEGIN:VEVENT
DTSTART;TZID=Europe/London:20261002T103000
DTEND;TZID=Europe/London:20261002T113000
DTSTAMP:20260426T002328
CREATED:20230721T104713Z
LAST-MODIFIED:20231025T075056Z
UID:10017566-1790937000-1790940600@keepingmewell.com
SUMMARY:Cerdded er Lles Iechyd @ Hyb Rhydypennau
DESCRIPTION:Ymunwch â ni am dro ysgafn am 30 – 45 munud o amgylch ardal Rhydypennau / Lakeside. \nGan ddechrau ac yn gorffen wrth y fynedfa i Hyb Rhydypennau. Yna darperir lluniaeth. \nDydd Gwener 10.30am
URL:https://keepingmewell.com/event/cerdded-er-lles-iechyd-hyb-rhydypennau-27/2026-10-02/
LOCATION:Hyb Rhydypennau\, Llandennis Road\, Caerdydd\, CF23 6EG\, United Kingdom
CATEGORIES:Cerdded,Cymraeg,Gweithgarwch Corfforol,Hyb
ATTACH;FMTTYPE=image/png:https://keepingmewell.com/wp-content/uploads/2023/01/Cardiff-Hubs.png
END:VEVENT
BEGIN:VEVENT
DTSTART;TZID=Europe/London:20261005T103000
DTEND;TZID=Europe/London:20261005T113000
DTSTAMP:20260426T002328
CREATED:20231016T102837Z
LAST-MODIFIED:20231016T102837Z
UID:10004995-1791196200-1791199800@keepingmewell.com
SUMMARY:Caffi Dementia @ Hyb Grangetown
DESCRIPTION:Rhannwch frecwast o De\, Coffi\, Tost\, bisgedi a ffrwythau. Mwynhewch sesiwn ymarfer cadair am 10 munud i baratoi ar gyfer gweithgaredd yr wythnos – lliwio oedolion\, gemau bwrdd\, cardiau chwarae\, crefftau neu gelf. \nYna ymunwch â sesiwn canu gyda rhai o ganeuon mwyaf poblogaidd y 1960au. \nCroeso i bawb gan gynnwys gofalwyr.
URL:https://keepingmewell.com/event/caffi-dementia-hyb-grangetown-27/2026-10-05/
LOCATION:Hyb Grangetown\, Plas Havelock\, Grangetown\, Caerdydd\, CF11 6PA\, United Kingdom
CATEGORIES:Cymraeg,Demensia,Gofalwyr,Hyb,Iechyd meddwl
ATTACH;FMTTYPE=image/png:https://keepingmewell.com/wp-content/uploads/2023/01/Cardiff-Hubs.png
END:VEVENT
BEGIN:VEVENT
DTSTART;TZID=Europe/London:20261006T093000
DTEND;TZID=Europe/London:20261006T095000
DTSTAMP:20260426T002328
CREATED:20230323T122441Z
LAST-MODIFIED:20231025T095647Z
UID:10018892-1791279000-1791280200@keepingmewell.com
SUMMARY:Deffro ac Ymestyn – Ar-lein
DESCRIPTION:Poenau? Teimlo’n ddi-egni? Hwyliau isel? Dechreuwch eich diwrnod gyda sesiwn ymarfer corff effaith isel 20 munud. Dydd Mawrth\, Dydd Mercher\, Dydd Iau 9.30-10am \nAm fwy o wybodaeth a sut i ymuno â ni ebostiwch Sian.young2@cardiff.gov.uk
URL:https://keepingmewell.com/event/deffro-ac-ymestyn-ar-lein-26/2026-10-06/
LOCATION:Sesiwn Ar-lein
CATEGORIES:Cymraeg,Gweithgarwch Corfforol,Ymestyn
ATTACH;FMTTYPE=image/png:https://keepingmewell.com/wp-content/uploads/2023/01/Cardiff-Hubs.png
END:VEVENT
BEGIN:VEVENT
DTSTART;TZID=Europe/London:20261008T140000
DTEND;TZID=Europe/London:20261008T160000
DTSTAMP:20260426T002328
CREATED:20231024T145616Z
LAST-MODIFIED:20231024T145616Z
UID:10017045-1791468000-1791475200@keepingmewell.com
SUMMARY:Clwb Cymdeithasol Memory Lane
DESCRIPTION:Gweithgareddau am ddim gan gynnwys cyrlio dan do a cherddoriaeth i bobl y mae dementia yn effithio arnynt a’u gofalwyr. \nBob Dydd Iau 2-4pm Canoflan Gymunedol Cathays Os hoffech chi ymuno new gael unrhyw cwestiynau\, ffoniwch new e-bostiwch Phill 029 2037 3144 Phill.Racz@cathays.org
URL:https://keepingmewell.com/event/clwb-cymdeithasol-memory-lane/2026-10-08/
LOCATION:Canolfan Gymunedol Cathays\, 38 Teras Cathays\, Cathays\, Caerdydd\, CF24 4HX\, United Kingdom
CATEGORIES:Cymraeg,Demensia,Gofalwyr,Iechyd meddwl
ATTACH;FMTTYPE=image/jpeg:https://keepingmewell.com/wp-content/uploads/2022/11/neurons-gf30f28b0c_640.jpg
END:VEVENT
BEGIN:VEVENT
DTSTART;TZID=Europe/London:20261009T103000
DTEND;TZID=Europe/London:20261009T113000
DTSTAMP:20260426T002328
CREATED:20230721T104713Z
LAST-MODIFIED:20231025T075056Z
UID:10017567-1791541800-1791545400@keepingmewell.com
SUMMARY:Cerdded er Lles Iechyd @ Hyb Rhydypennau
DESCRIPTION:Ymunwch â ni am dro ysgafn am 30 – 45 munud o amgylch ardal Rhydypennau / Lakeside. \nGan ddechrau ac yn gorffen wrth y fynedfa i Hyb Rhydypennau. Yna darperir lluniaeth. \nDydd Gwener 10.30am
URL:https://keepingmewell.com/event/cerdded-er-lles-iechyd-hyb-rhydypennau-27/2026-10-09/
LOCATION:Hyb Rhydypennau\, Llandennis Road\, Caerdydd\, CF23 6EG\, United Kingdom
CATEGORIES:Cerdded,Cymraeg,Gweithgarwch Corfforol,Hyb
ATTACH;FMTTYPE=image/png:https://keepingmewell.com/wp-content/uploads/2023/01/Cardiff-Hubs.png
END:VEVENT
BEGIN:VEVENT
DTSTART;TZID=Europe/London:20261012T103000
DTEND;TZID=Europe/London:20261012T113000
DTSTAMP:20260426T002328
CREATED:20231016T102837Z
LAST-MODIFIED:20231016T102837Z
UID:10004996-1791801000-1791804600@keepingmewell.com
SUMMARY:Caffi Dementia @ Hyb Grangetown
DESCRIPTION:Rhannwch frecwast o De\, Coffi\, Tost\, bisgedi a ffrwythau. Mwynhewch sesiwn ymarfer cadair am 10 munud i baratoi ar gyfer gweithgaredd yr wythnos – lliwio oedolion\, gemau bwrdd\, cardiau chwarae\, crefftau neu gelf. \nYna ymunwch â sesiwn canu gyda rhai o ganeuon mwyaf poblogaidd y 1960au. \nCroeso i bawb gan gynnwys gofalwyr.
URL:https://keepingmewell.com/event/caffi-dementia-hyb-grangetown-27/2026-10-12/
LOCATION:Hyb Grangetown\, Plas Havelock\, Grangetown\, Caerdydd\, CF11 6PA\, United Kingdom
CATEGORIES:Cymraeg,Demensia,Gofalwyr,Hyb,Iechyd meddwl
ATTACH;FMTTYPE=image/png:https://keepingmewell.com/wp-content/uploads/2023/01/Cardiff-Hubs.png
END:VEVENT
BEGIN:VEVENT
DTSTART;TZID=Europe/London:20261013T093000
DTEND;TZID=Europe/London:20261013T095000
DTSTAMP:20260426T002328
CREATED:20230323T122441Z
LAST-MODIFIED:20231025T095647Z
UID:10018893-1791883800-1791885000@keepingmewell.com
SUMMARY:Deffro ac Ymestyn – Ar-lein
DESCRIPTION:Poenau? Teimlo’n ddi-egni? Hwyliau isel? Dechreuwch eich diwrnod gyda sesiwn ymarfer corff effaith isel 20 munud. Dydd Mawrth\, Dydd Mercher\, Dydd Iau 9.30-10am \nAm fwy o wybodaeth a sut i ymuno â ni ebostiwch Sian.young2@cardiff.gov.uk
URL:https://keepingmewell.com/event/deffro-ac-ymestyn-ar-lein-26/2026-10-13/
LOCATION:Sesiwn Ar-lein
CATEGORIES:Cymraeg,Gweithgarwch Corfforol,Ymestyn
ATTACH;FMTTYPE=image/png:https://keepingmewell.com/wp-content/uploads/2023/01/Cardiff-Hubs.png
END:VEVENT
BEGIN:VEVENT
DTSTART;TZID=Europe/London:20261015T140000
DTEND;TZID=Europe/London:20261015T160000
DTSTAMP:20260426T002328
CREATED:20231024T145616Z
LAST-MODIFIED:20231024T145616Z
UID:10017046-1792072800-1792080000@keepingmewell.com
SUMMARY:Clwb Cymdeithasol Memory Lane
DESCRIPTION:Gweithgareddau am ddim gan gynnwys cyrlio dan do a cherddoriaeth i bobl y mae dementia yn effithio arnynt a’u gofalwyr. \nBob Dydd Iau 2-4pm Canoflan Gymunedol Cathays Os hoffech chi ymuno new gael unrhyw cwestiynau\, ffoniwch new e-bostiwch Phill 029 2037 3144 Phill.Racz@cathays.org
URL:https://keepingmewell.com/event/clwb-cymdeithasol-memory-lane/2026-10-15/
LOCATION:Canolfan Gymunedol Cathays\, 38 Teras Cathays\, Cathays\, Caerdydd\, CF24 4HX\, United Kingdom
CATEGORIES:Cymraeg,Demensia,Gofalwyr,Iechyd meddwl
ATTACH;FMTTYPE=image/jpeg:https://keepingmewell.com/wp-content/uploads/2022/11/neurons-gf30f28b0c_640.jpg
END:VEVENT
BEGIN:VEVENT
DTSTART;TZID=Europe/London:20261016T103000
DTEND;TZID=Europe/London:20261016T113000
DTSTAMP:20260426T002328
CREATED:20230721T104713Z
LAST-MODIFIED:20231025T075056Z
UID:10017568-1792146600-1792150200@keepingmewell.com
SUMMARY:Cerdded er Lles Iechyd @ Hyb Rhydypennau
DESCRIPTION:Ymunwch â ni am dro ysgafn am 30 – 45 munud o amgylch ardal Rhydypennau / Lakeside. \nGan ddechrau ac yn gorffen wrth y fynedfa i Hyb Rhydypennau. Yna darperir lluniaeth. \nDydd Gwener 10.30am
URL:https://keepingmewell.com/event/cerdded-er-lles-iechyd-hyb-rhydypennau-27/2026-10-16/
LOCATION:Hyb Rhydypennau\, Llandennis Road\, Caerdydd\, CF23 6EG\, United Kingdom
CATEGORIES:Cerdded,Cymraeg,Gweithgarwch Corfforol,Hyb
ATTACH;FMTTYPE=image/png:https://keepingmewell.com/wp-content/uploads/2023/01/Cardiff-Hubs.png
END:VEVENT
BEGIN:VEVENT
DTSTART;TZID=Europe/London:20261019T103000
DTEND;TZID=Europe/London:20261019T113000
DTSTAMP:20260426T002328
CREATED:20231016T102837Z
LAST-MODIFIED:20231016T102837Z
UID:10004997-1792405800-1792409400@keepingmewell.com
SUMMARY:Caffi Dementia @ Hyb Grangetown
DESCRIPTION:Rhannwch frecwast o De\, Coffi\, Tost\, bisgedi a ffrwythau. Mwynhewch sesiwn ymarfer cadair am 10 munud i baratoi ar gyfer gweithgaredd yr wythnos – lliwio oedolion\, gemau bwrdd\, cardiau chwarae\, crefftau neu gelf. \nYna ymunwch â sesiwn canu gyda rhai o ganeuon mwyaf poblogaidd y 1960au. \nCroeso i bawb gan gynnwys gofalwyr.
URL:https://keepingmewell.com/event/caffi-dementia-hyb-grangetown-27/2026-10-19/
LOCATION:Hyb Grangetown\, Plas Havelock\, Grangetown\, Caerdydd\, CF11 6PA\, United Kingdom
CATEGORIES:Cymraeg,Demensia,Gofalwyr,Hyb,Iechyd meddwl
ATTACH;FMTTYPE=image/png:https://keepingmewell.com/wp-content/uploads/2023/01/Cardiff-Hubs.png
END:VEVENT
BEGIN:VEVENT
DTSTART;TZID=Europe/London:20261020T093000
DTEND;TZID=Europe/London:20261020T095000
DTSTAMP:20260426T002328
CREATED:20230323T122441Z
LAST-MODIFIED:20231025T095647Z
UID:10018894-1792488600-1792489800@keepingmewell.com
SUMMARY:Deffro ac Ymestyn – Ar-lein
DESCRIPTION:Poenau? Teimlo’n ddi-egni? Hwyliau isel? Dechreuwch eich diwrnod gyda sesiwn ymarfer corff effaith isel 20 munud. Dydd Mawrth\, Dydd Mercher\, Dydd Iau 9.30-10am \nAm fwy o wybodaeth a sut i ymuno â ni ebostiwch Sian.young2@cardiff.gov.uk
URL:https://keepingmewell.com/event/deffro-ac-ymestyn-ar-lein-26/2026-10-20/
LOCATION:Sesiwn Ar-lein
CATEGORIES:Cymraeg,Gweithgarwch Corfforol,Ymestyn
ATTACH;FMTTYPE=image/png:https://keepingmewell.com/wp-content/uploads/2023/01/Cardiff-Hubs.png
END:VEVENT
BEGIN:VEVENT
DTSTART;TZID=Europe/London:20261022T140000
DTEND;TZID=Europe/London:20261022T160000
DTSTAMP:20260426T002328
CREATED:20231024T145616Z
LAST-MODIFIED:20231024T145616Z
UID:10017047-1792677600-1792684800@keepingmewell.com
SUMMARY:Clwb Cymdeithasol Memory Lane
DESCRIPTION:Gweithgareddau am ddim gan gynnwys cyrlio dan do a cherddoriaeth i bobl y mae dementia yn effithio arnynt a’u gofalwyr. \nBob Dydd Iau 2-4pm Canoflan Gymunedol Cathays Os hoffech chi ymuno new gael unrhyw cwestiynau\, ffoniwch new e-bostiwch Phill 029 2037 3144 Phill.Racz@cathays.org
URL:https://keepingmewell.com/event/clwb-cymdeithasol-memory-lane/2026-10-22/
LOCATION:Canolfan Gymunedol Cathays\, 38 Teras Cathays\, Cathays\, Caerdydd\, CF24 4HX\, United Kingdom
CATEGORIES:Cymraeg,Demensia,Gofalwyr,Iechyd meddwl
ATTACH;FMTTYPE=image/jpeg:https://keepingmewell.com/wp-content/uploads/2022/11/neurons-gf30f28b0c_640.jpg
END:VEVENT
BEGIN:VEVENT
DTSTART;TZID=Europe/London:20261023T103000
DTEND;TZID=Europe/London:20261023T113000
DTSTAMP:20260426T002328
CREATED:20230721T104713Z
LAST-MODIFIED:20231025T075056Z
UID:10017569-1792751400-1792755000@keepingmewell.com
SUMMARY:Cerdded er Lles Iechyd @ Hyb Rhydypennau
DESCRIPTION:Ymunwch â ni am dro ysgafn am 30 – 45 munud o amgylch ardal Rhydypennau / Lakeside. \nGan ddechrau ac yn gorffen wrth y fynedfa i Hyb Rhydypennau. Yna darperir lluniaeth. \nDydd Gwener 10.30am
URL:https://keepingmewell.com/event/cerdded-er-lles-iechyd-hyb-rhydypennau-27/2026-10-23/
LOCATION:Hyb Rhydypennau\, Llandennis Road\, Caerdydd\, CF23 6EG\, United Kingdom
CATEGORIES:Cerdded,Cymraeg,Gweithgarwch Corfforol,Hyb
ATTACH;FMTTYPE=image/png:https://keepingmewell.com/wp-content/uploads/2023/01/Cardiff-Hubs.png
END:VEVENT
BEGIN:VEVENT
DTSTART;TZID=Europe/London:20261026T103000
DTEND;TZID=Europe/London:20261026T113000
DTSTAMP:20260426T002328
CREATED:20231016T102837Z
LAST-MODIFIED:20231016T102837Z
UID:10004998-1793010600-1793014200@keepingmewell.com
SUMMARY:Caffi Dementia @ Hyb Grangetown
DESCRIPTION:Rhannwch frecwast o De\, Coffi\, Tost\, bisgedi a ffrwythau. Mwynhewch sesiwn ymarfer cadair am 10 munud i baratoi ar gyfer gweithgaredd yr wythnos – lliwio oedolion\, gemau bwrdd\, cardiau chwarae\, crefftau neu gelf. \nYna ymunwch â sesiwn canu gyda rhai o ganeuon mwyaf poblogaidd y 1960au. \nCroeso i bawb gan gynnwys gofalwyr.
URL:https://keepingmewell.com/event/caffi-dementia-hyb-grangetown-27/2026-10-26/
LOCATION:Hyb Grangetown\, Plas Havelock\, Grangetown\, Caerdydd\, CF11 6PA\, United Kingdom
CATEGORIES:Cymraeg,Demensia,Gofalwyr,Hyb,Iechyd meddwl
ATTACH;FMTTYPE=image/png:https://keepingmewell.com/wp-content/uploads/2023/01/Cardiff-Hubs.png
END:VEVENT
BEGIN:VEVENT
DTSTART;TZID=Europe/London:20261027T093000
DTEND;TZID=Europe/London:20261027T095000
DTSTAMP:20260426T002328
CREATED:20230323T122441Z
LAST-MODIFIED:20231025T095647Z
UID:10018895-1793093400-1793094600@keepingmewell.com
SUMMARY:Deffro ac Ymestyn – Ar-lein
DESCRIPTION:Poenau? Teimlo’n ddi-egni? Hwyliau isel? Dechreuwch eich diwrnod gyda sesiwn ymarfer corff effaith isel 20 munud. Dydd Mawrth\, Dydd Mercher\, Dydd Iau 9.30-10am \nAm fwy o wybodaeth a sut i ymuno â ni ebostiwch Sian.young2@cardiff.gov.uk
URL:https://keepingmewell.com/event/deffro-ac-ymestyn-ar-lein-26/2026-10-27/
LOCATION:Sesiwn Ar-lein
CATEGORIES:Cymraeg,Gweithgarwch Corfforol,Ymestyn
ATTACH;FMTTYPE=image/png:https://keepingmewell.com/wp-content/uploads/2023/01/Cardiff-Hubs.png
END:VEVENT
BEGIN:VEVENT
DTSTART;TZID=Europe/London:20261029T140000
DTEND;TZID=Europe/London:20261029T160000
DTSTAMP:20260426T002328
CREATED:20231024T145616Z
LAST-MODIFIED:20231024T145616Z
UID:10017048-1793282400-1793289600@keepingmewell.com
SUMMARY:Clwb Cymdeithasol Memory Lane
DESCRIPTION:Gweithgareddau am ddim gan gynnwys cyrlio dan do a cherddoriaeth i bobl y mae dementia yn effithio arnynt a’u gofalwyr. \nBob Dydd Iau 2-4pm Canoflan Gymunedol Cathays Os hoffech chi ymuno new gael unrhyw cwestiynau\, ffoniwch new e-bostiwch Phill 029 2037 3144 Phill.Racz@cathays.org
URL:https://keepingmewell.com/event/clwb-cymdeithasol-memory-lane/2026-10-29/
LOCATION:Canolfan Gymunedol Cathays\, 38 Teras Cathays\, Cathays\, Caerdydd\, CF24 4HX\, United Kingdom
CATEGORIES:Cymraeg,Demensia,Gofalwyr,Iechyd meddwl
ATTACH;FMTTYPE=image/jpeg:https://keepingmewell.com/wp-content/uploads/2022/11/neurons-gf30f28b0c_640.jpg
END:VEVENT
BEGIN:VEVENT
DTSTART;TZID=Europe/London:20261030T103000
DTEND;TZID=Europe/London:20261030T113000
DTSTAMP:20260426T002328
CREATED:20230721T104713Z
LAST-MODIFIED:20231025T075056Z
UID:10017570-1793356200-1793359800@keepingmewell.com
SUMMARY:Cerdded er Lles Iechyd @ Hyb Rhydypennau
DESCRIPTION:Ymunwch â ni am dro ysgafn am 30 – 45 munud o amgylch ardal Rhydypennau / Lakeside. \nGan ddechrau ac yn gorffen wrth y fynedfa i Hyb Rhydypennau. Yna darperir lluniaeth. \nDydd Gwener 10.30am
URL:https://keepingmewell.com/event/cerdded-er-lles-iechyd-hyb-rhydypennau-27/2026-10-30/
LOCATION:Hyb Rhydypennau\, Llandennis Road\, Caerdydd\, CF23 6EG\, United Kingdom
CATEGORIES:Cerdded,Cymraeg,Gweithgarwch Corfforol,Hyb
ATTACH;FMTTYPE=image/png:https://keepingmewell.com/wp-content/uploads/2023/01/Cardiff-Hubs.png
END:VEVENT
END:VCALENDAR