BEGIN:VCALENDAR
VERSION:2.0
PRODID:-//Keeping Me Well - ECPv6.15.20//NONSGML v1.0//EN
CALSCALE:GREGORIAN
METHOD:PUBLISH
X-ORIGINAL-URL:https://keepingmewell.com
X-WR-CALDESC:Events for Keeping Me Well
REFRESH-INTERVAL;VALUE=DURATION:PT1H
X-Robots-Tag:noindex
X-PUBLISHED-TTL:PT1H
BEGIN:VTIMEZONE
TZID:Europe/London
BEGIN:DAYLIGHT
TZOFFSETFROM:+0000
TZOFFSETTO:+0100
TZNAME:BST
DTSTART:20290325T010000
END:DAYLIGHT
BEGIN:STANDARD
TZOFFSETFROM:+0100
TZOFFSETTO:+0000
TZNAME:GMT
DTSTART:20291028T010000
END:STANDARD
BEGIN:DAYLIGHT
TZOFFSETFROM:+0000
TZOFFSETTO:+0100
TZNAME:BST
DTSTART:20300331T010000
END:DAYLIGHT
BEGIN:STANDARD
TZOFFSETFROM:+0100
TZOFFSETTO:+0000
TZNAME:GMT
DTSTART:20301027T010000
END:STANDARD
BEGIN:DAYLIGHT
TZOFFSETFROM:+0000
TZOFFSETTO:+0100
TZNAME:BST
DTSTART:20310330T010000
END:DAYLIGHT
BEGIN:STANDARD
TZOFFSETFROM:+0100
TZOFFSETTO:+0000
TZNAME:GMT
DTSTART:20311026T010000
END:STANDARD
BEGIN:DAYLIGHT
TZOFFSETFROM:+0000
TZOFFSETTO:+0100
TZNAME:BST
DTSTART:20320328T010000
END:DAYLIGHT
BEGIN:STANDARD
TZOFFSETFROM:+0100
TZOFFSETTO:+0000
TZNAME:GMT
DTSTART:20321031T010000
END:STANDARD
END:VTIMEZONE
BEGIN:VEVENT
DTSTART;TZID=Europe/London:20301203T183000
DTEND;TZID=Europe/London:20301203T203000
DTSTAMP:20260422T203413
CREATED:20231016T090526Z
LAST-MODIFIED:20231016T090526Z
UID:10034933-1922553000-1922560200@keepingmewell.com
SUMMARY:Mae’r Forget-me-not Chorus
DESCRIPTION:Ydych chi’n chwilio am grwp yn Caerdydd i’ch cefnogi wrth i chi wynebu heriau dementia? Ymunwch â’n cymuned ni! \nMae ein cyfarfodydd yn cael eu cynnal bob wythnos\, ac maent yn ffordd hamddenol a hwyliog o gwrdd â phobl eraill sy’n gwybod sut beth yw byw gyda dementia neu ochr yn ochr ag ef. \nMae aelodaeth yn rhad ac am ddim ac nid oes angen atgyfeiriad arnoch. \nCysylltwch â Sadie ar 029 2236 2064 neu sadie@forgetmenotchorus.com \nSylwer nad yw FMNC yn gysylltiedig â’r eglwys nac unrhyw grwp crefyddol arall\, ac yn syml\, yn llogi’r lleoliad. \nRhy bell o gartref? Gallwch hefyd ymuno â ni o unrhyw le yn y DU gyda sesiynau ar-lein FMNC. Cyswyllt â hello@forgetmenotchorus am fwy o wybodaeth.
URL:https://keepingmewell.com/event/maer-forget-me-not-chorus-31/2030-12-03/
LOCATION:Eglwys Thornhill\, Excalibur Drive\, Thornhill\, Caerdydd\, CF14 9GA\, United Kingdom
CATEGORIES:Cymraeg,Demensia,Gofalwyr,Lles
ATTACH;FMTTYPE=image/jpeg:https://keepingmewell.com/wp-content/uploads/2023/04/Forget-Me-Not-Cardiff.jpg
ORGANIZER;CN="Forget Me Not Chorus":MAILTO:hello@forgetmenotchorus.com
END:VEVENT
BEGIN:VEVENT
DTSTART;TZID=Europe/London:20301210T183000
DTEND;TZID=Europe/London:20301210T203000
DTSTAMP:20260422T203413
CREATED:20231016T090526Z
LAST-MODIFIED:20231016T090526Z
UID:10034995-1923157800-1923165000@keepingmewell.com
SUMMARY:Mae’r Forget-me-not Chorus
DESCRIPTION:Ydych chi’n chwilio am grwp yn Caerdydd i’ch cefnogi wrth i chi wynebu heriau dementia? Ymunwch â’n cymuned ni! \nMae ein cyfarfodydd yn cael eu cynnal bob wythnos\, ac maent yn ffordd hamddenol a hwyliog o gwrdd â phobl eraill sy’n gwybod sut beth yw byw gyda dementia neu ochr yn ochr ag ef. \nMae aelodaeth yn rhad ac am ddim ac nid oes angen atgyfeiriad arnoch. \nCysylltwch â Sadie ar 029 2236 2064 neu sadie@forgetmenotchorus.com \nSylwer nad yw FMNC yn gysylltiedig â’r eglwys nac unrhyw grwp crefyddol arall\, ac yn syml\, yn llogi’r lleoliad. \nRhy bell o gartref? Gallwch hefyd ymuno â ni o unrhyw le yn y DU gyda sesiynau ar-lein FMNC. Cyswyllt â hello@forgetmenotchorus am fwy o wybodaeth.
URL:https://keepingmewell.com/event/maer-forget-me-not-chorus-31/2030-12-10/
LOCATION:Eglwys Thornhill\, Excalibur Drive\, Thornhill\, Caerdydd\, CF14 9GA\, United Kingdom
CATEGORIES:Cymraeg,Demensia,Gofalwyr,Lles
ATTACH;FMTTYPE=image/jpeg:https://keepingmewell.com/wp-content/uploads/2023/04/Forget-Me-Not-Cardiff.jpg
ORGANIZER;CN="Forget Me Not Chorus":MAILTO:hello@forgetmenotchorus.com
END:VEVENT
BEGIN:VEVENT
DTSTART;TZID=Europe/London:20301217T183000
DTEND;TZID=Europe/London:20301217T203000
DTSTAMP:20260422T203413
CREATED:20231016T090526Z
LAST-MODIFIED:20231016T090526Z
UID:10035058-1923762600-1923769800@keepingmewell.com
SUMMARY:Mae’r Forget-me-not Chorus
DESCRIPTION:Ydych chi’n chwilio am grwp yn Caerdydd i’ch cefnogi wrth i chi wynebu heriau dementia? Ymunwch â’n cymuned ni! \nMae ein cyfarfodydd yn cael eu cynnal bob wythnos\, ac maent yn ffordd hamddenol a hwyliog o gwrdd â phobl eraill sy’n gwybod sut beth yw byw gyda dementia neu ochr yn ochr ag ef. \nMae aelodaeth yn rhad ac am ddim ac nid oes angen atgyfeiriad arnoch. \nCysylltwch â Sadie ar 029 2236 2064 neu sadie@forgetmenotchorus.com \nSylwer nad yw FMNC yn gysylltiedig â’r eglwys nac unrhyw grwp crefyddol arall\, ac yn syml\, yn llogi’r lleoliad. \nRhy bell o gartref? Gallwch hefyd ymuno â ni o unrhyw le yn y DU gyda sesiynau ar-lein FMNC. Cyswyllt â hello@forgetmenotchorus am fwy o wybodaeth.
URL:https://keepingmewell.com/event/maer-forget-me-not-chorus-31/2030-12-17/
LOCATION:Eglwys Thornhill\, Excalibur Drive\, Thornhill\, Caerdydd\, CF14 9GA\, United Kingdom
CATEGORIES:Cymraeg,Demensia,Gofalwyr,Lles
ATTACH;FMTTYPE=image/jpeg:https://keepingmewell.com/wp-content/uploads/2023/04/Forget-Me-Not-Cardiff.jpg
ORGANIZER;CN="Forget Me Not Chorus":MAILTO:hello@forgetmenotchorus.com
END:VEVENT
BEGIN:VEVENT
DTSTART;TZID=Europe/London:20301224T183000
DTEND;TZID=Europe/London:20301224T203000
DTSTAMP:20260422T203413
CREATED:20231016T090526Z
LAST-MODIFIED:20231016T090526Z
UID:10035120-1924367400-1924374600@keepingmewell.com
SUMMARY:Mae’r Forget-me-not Chorus
DESCRIPTION:Ydych chi’n chwilio am grwp yn Caerdydd i’ch cefnogi wrth i chi wynebu heriau dementia? Ymunwch â’n cymuned ni! \nMae ein cyfarfodydd yn cael eu cynnal bob wythnos\, ac maent yn ffordd hamddenol a hwyliog o gwrdd â phobl eraill sy’n gwybod sut beth yw byw gyda dementia neu ochr yn ochr ag ef. \nMae aelodaeth yn rhad ac am ddim ac nid oes angen atgyfeiriad arnoch. \nCysylltwch â Sadie ar 029 2236 2064 neu sadie@forgetmenotchorus.com \nSylwer nad yw FMNC yn gysylltiedig â’r eglwys nac unrhyw grwp crefyddol arall\, ac yn syml\, yn llogi’r lleoliad. \nRhy bell o gartref? Gallwch hefyd ymuno â ni o unrhyw le yn y DU gyda sesiynau ar-lein FMNC. Cyswyllt â hello@forgetmenotchorus am fwy o wybodaeth.
URL:https://keepingmewell.com/event/maer-forget-me-not-chorus-31/2030-12-24/
LOCATION:Eglwys Thornhill\, Excalibur Drive\, Thornhill\, Caerdydd\, CF14 9GA\, United Kingdom
CATEGORIES:Cymraeg,Demensia,Gofalwyr,Lles
ATTACH;FMTTYPE=image/jpeg:https://keepingmewell.com/wp-content/uploads/2023/04/Forget-Me-Not-Cardiff.jpg
ORGANIZER;CN="Forget Me Not Chorus":MAILTO:hello@forgetmenotchorus.com
END:VEVENT
BEGIN:VEVENT
DTSTART;TZID=Europe/London:20301231T183000
DTEND;TZID=Europe/London:20301231T203000
DTSTAMP:20260422T203413
CREATED:20231016T090526Z
LAST-MODIFIED:20231016T090526Z
UID:10035182-1924972200-1924979400@keepingmewell.com
SUMMARY:Mae’r Forget-me-not Chorus
DESCRIPTION:Ydych chi’n chwilio am grwp yn Caerdydd i’ch cefnogi wrth i chi wynebu heriau dementia? Ymunwch â’n cymuned ni! \nMae ein cyfarfodydd yn cael eu cynnal bob wythnos\, ac maent yn ffordd hamddenol a hwyliog o gwrdd â phobl eraill sy’n gwybod sut beth yw byw gyda dementia neu ochr yn ochr ag ef. \nMae aelodaeth yn rhad ac am ddim ac nid oes angen atgyfeiriad arnoch. \nCysylltwch â Sadie ar 029 2236 2064 neu sadie@forgetmenotchorus.com \nSylwer nad yw FMNC yn gysylltiedig â’r eglwys nac unrhyw grwp crefyddol arall\, ac yn syml\, yn llogi’r lleoliad. \nRhy bell o gartref? Gallwch hefyd ymuno â ni o unrhyw le yn y DU gyda sesiynau ar-lein FMNC. Cyswyllt â hello@forgetmenotchorus am fwy o wybodaeth.
URL:https://keepingmewell.com/event/maer-forget-me-not-chorus-31/2030-12-31/
LOCATION:Eglwys Thornhill\, Excalibur Drive\, Thornhill\, Caerdydd\, CF14 9GA\, United Kingdom
CATEGORIES:Cymraeg,Demensia,Gofalwyr,Lles
ATTACH;FMTTYPE=image/jpeg:https://keepingmewell.com/wp-content/uploads/2023/04/Forget-Me-Not-Cardiff.jpg
ORGANIZER;CN="Forget Me Not Chorus":MAILTO:hello@forgetmenotchorus.com
END:VEVENT
BEGIN:VEVENT
DTSTART;TZID=Europe/London:20310107T183000
DTEND;TZID=Europe/London:20310107T203000
DTSTAMP:20260422T203413
CREATED:20231016T090526Z
LAST-MODIFIED:20231016T090526Z
UID:10035231-1925577000-1925584200@keepingmewell.com
SUMMARY:Mae’r Forget-me-not Chorus
DESCRIPTION:Ydych chi’n chwilio am grwp yn Caerdydd i’ch cefnogi wrth i chi wynebu heriau dementia? Ymunwch â’n cymuned ni! \nMae ein cyfarfodydd yn cael eu cynnal bob wythnos\, ac maent yn ffordd hamddenol a hwyliog o gwrdd â phobl eraill sy’n gwybod sut beth yw byw gyda dementia neu ochr yn ochr ag ef. \nMae aelodaeth yn rhad ac am ddim ac nid oes angen atgyfeiriad arnoch. \nCysylltwch â Sadie ar 029 2236 2064 neu sadie@forgetmenotchorus.com \nSylwer nad yw FMNC yn gysylltiedig â’r eglwys nac unrhyw grwp crefyddol arall\, ac yn syml\, yn llogi’r lleoliad. \nRhy bell o gartref? Gallwch hefyd ymuno â ni o unrhyw le yn y DU gyda sesiynau ar-lein FMNC. Cyswyllt â hello@forgetmenotchorus am fwy o wybodaeth.
URL:https://keepingmewell.com/event/maer-forget-me-not-chorus-31/2031-01-07/
LOCATION:Eglwys Thornhill\, Excalibur Drive\, Thornhill\, Caerdydd\, CF14 9GA\, United Kingdom
CATEGORIES:Cymraeg,Demensia,Gofalwyr,Lles
ATTACH;FMTTYPE=image/jpeg:https://keepingmewell.com/wp-content/uploads/2023/04/Forget-Me-Not-Cardiff.jpg
ORGANIZER;CN="Forget Me Not Chorus":MAILTO:hello@forgetmenotchorus.com
END:VEVENT
BEGIN:VEVENT
DTSTART;TZID=Europe/London:20310114T183000
DTEND;TZID=Europe/London:20310114T203000
DTSTAMP:20260422T203413
CREATED:20231016T090526Z
LAST-MODIFIED:20231016T090526Z
UID:10035297-1926181800-1926189000@keepingmewell.com
SUMMARY:Mae’r Forget-me-not Chorus
DESCRIPTION:Ydych chi’n chwilio am grwp yn Caerdydd i’ch cefnogi wrth i chi wynebu heriau dementia? Ymunwch â’n cymuned ni! \nMae ein cyfarfodydd yn cael eu cynnal bob wythnos\, ac maent yn ffordd hamddenol a hwyliog o gwrdd â phobl eraill sy’n gwybod sut beth yw byw gyda dementia neu ochr yn ochr ag ef. \nMae aelodaeth yn rhad ac am ddim ac nid oes angen atgyfeiriad arnoch. \nCysylltwch â Sadie ar 029 2236 2064 neu sadie@forgetmenotchorus.com \nSylwer nad yw FMNC yn gysylltiedig â’r eglwys nac unrhyw grwp crefyddol arall\, ac yn syml\, yn llogi’r lleoliad. \nRhy bell o gartref? Gallwch hefyd ymuno â ni o unrhyw le yn y DU gyda sesiynau ar-lein FMNC. Cyswyllt â hello@forgetmenotchorus am fwy o wybodaeth.
URL:https://keepingmewell.com/event/maer-forget-me-not-chorus-31/2031-01-14/
LOCATION:Eglwys Thornhill\, Excalibur Drive\, Thornhill\, Caerdydd\, CF14 9GA\, United Kingdom
CATEGORIES:Cymraeg,Demensia,Gofalwyr,Lles
ATTACH;FMTTYPE=image/jpeg:https://keepingmewell.com/wp-content/uploads/2023/04/Forget-Me-Not-Cardiff.jpg
ORGANIZER;CN="Forget Me Not Chorus":MAILTO:hello@forgetmenotchorus.com
END:VEVENT
BEGIN:VEVENT
DTSTART;TZID=Europe/London:20310121T183000
DTEND;TZID=Europe/London:20310121T203000
DTSTAMP:20260422T203413
CREATED:20231016T090526Z
LAST-MODIFIED:20231016T090526Z
UID:10035362-1926786600-1926793800@keepingmewell.com
SUMMARY:Mae’r Forget-me-not Chorus
DESCRIPTION:Ydych chi’n chwilio am grwp yn Caerdydd i’ch cefnogi wrth i chi wynebu heriau dementia? Ymunwch â’n cymuned ni! \nMae ein cyfarfodydd yn cael eu cynnal bob wythnos\, ac maent yn ffordd hamddenol a hwyliog o gwrdd â phobl eraill sy’n gwybod sut beth yw byw gyda dementia neu ochr yn ochr ag ef. \nMae aelodaeth yn rhad ac am ddim ac nid oes angen atgyfeiriad arnoch. \nCysylltwch â Sadie ar 029 2236 2064 neu sadie@forgetmenotchorus.com \nSylwer nad yw FMNC yn gysylltiedig â’r eglwys nac unrhyw grwp crefyddol arall\, ac yn syml\, yn llogi’r lleoliad. \nRhy bell o gartref? Gallwch hefyd ymuno â ni o unrhyw le yn y DU gyda sesiynau ar-lein FMNC. Cyswyllt â hello@forgetmenotchorus am fwy o wybodaeth.
URL:https://keepingmewell.com/event/maer-forget-me-not-chorus-31/2031-01-21/
LOCATION:Eglwys Thornhill\, Excalibur Drive\, Thornhill\, Caerdydd\, CF14 9GA\, United Kingdom
CATEGORIES:Cymraeg,Demensia,Gofalwyr,Lles
ATTACH;FMTTYPE=image/jpeg:https://keepingmewell.com/wp-content/uploads/2023/04/Forget-Me-Not-Cardiff.jpg
ORGANIZER;CN="Forget Me Not Chorus":MAILTO:hello@forgetmenotchorus.com
END:VEVENT
BEGIN:VEVENT
DTSTART;TZID=Europe/London:20310128T183000
DTEND;TZID=Europe/London:20310128T203000
DTSTAMP:20260422T203413
CREATED:20231016T090526Z
LAST-MODIFIED:20231016T090526Z
UID:10035417-1927391400-1927398600@keepingmewell.com
SUMMARY:Mae’r Forget-me-not Chorus
DESCRIPTION:Ydych chi’n chwilio am grwp yn Caerdydd i’ch cefnogi wrth i chi wynebu heriau dementia? Ymunwch â’n cymuned ni! \nMae ein cyfarfodydd yn cael eu cynnal bob wythnos\, ac maent yn ffordd hamddenol a hwyliog o gwrdd â phobl eraill sy’n gwybod sut beth yw byw gyda dementia neu ochr yn ochr ag ef. \nMae aelodaeth yn rhad ac am ddim ac nid oes angen atgyfeiriad arnoch. \nCysylltwch â Sadie ar 029 2236 2064 neu sadie@forgetmenotchorus.com \nSylwer nad yw FMNC yn gysylltiedig â’r eglwys nac unrhyw grwp crefyddol arall\, ac yn syml\, yn llogi’r lleoliad. \nRhy bell o gartref? Gallwch hefyd ymuno â ni o unrhyw le yn y DU gyda sesiynau ar-lein FMNC. Cyswyllt â hello@forgetmenotchorus am fwy o wybodaeth.
URL:https://keepingmewell.com/event/maer-forget-me-not-chorus-31/2031-01-28/
LOCATION:Eglwys Thornhill\, Excalibur Drive\, Thornhill\, Caerdydd\, CF14 9GA\, United Kingdom
CATEGORIES:Cymraeg,Demensia,Gofalwyr,Lles
ATTACH;FMTTYPE=image/jpeg:https://keepingmewell.com/wp-content/uploads/2023/04/Forget-Me-Not-Cardiff.jpg
ORGANIZER;CN="Forget Me Not Chorus":MAILTO:hello@forgetmenotchorus.com
END:VEVENT
BEGIN:VEVENT
DTSTART;TZID=Europe/London:20310204T183000
DTEND;TZID=Europe/London:20310204T203000
DTSTAMP:20260422T203413
CREATED:20231016T090526Z
LAST-MODIFIED:20231016T090526Z
UID:10035491-1927996200-1928003400@keepingmewell.com
SUMMARY:Mae’r Forget-me-not Chorus
DESCRIPTION:Ydych chi’n chwilio am grwp yn Caerdydd i’ch cefnogi wrth i chi wynebu heriau dementia? Ymunwch â’n cymuned ni! \nMae ein cyfarfodydd yn cael eu cynnal bob wythnos\, ac maent yn ffordd hamddenol a hwyliog o gwrdd â phobl eraill sy’n gwybod sut beth yw byw gyda dementia neu ochr yn ochr ag ef. \nMae aelodaeth yn rhad ac am ddim ac nid oes angen atgyfeiriad arnoch. \nCysylltwch â Sadie ar 029 2236 2064 neu sadie@forgetmenotchorus.com \nSylwer nad yw FMNC yn gysylltiedig â’r eglwys nac unrhyw grwp crefyddol arall\, ac yn syml\, yn llogi’r lleoliad. \nRhy bell o gartref? Gallwch hefyd ymuno â ni o unrhyw le yn y DU gyda sesiynau ar-lein FMNC. Cyswyllt â hello@forgetmenotchorus am fwy o wybodaeth.
URL:https://keepingmewell.com/event/maer-forget-me-not-chorus-31/2031-02-04/
LOCATION:Eglwys Thornhill\, Excalibur Drive\, Thornhill\, Caerdydd\, CF14 9GA\, United Kingdom
CATEGORIES:Cymraeg,Demensia,Gofalwyr,Lles
ATTACH;FMTTYPE=image/jpeg:https://keepingmewell.com/wp-content/uploads/2023/04/Forget-Me-Not-Cardiff.jpg
ORGANIZER;CN="Forget Me Not Chorus":MAILTO:hello@forgetmenotchorus.com
END:VEVENT
BEGIN:VEVENT
DTSTART;TZID=Europe/London:20310211T183000
DTEND;TZID=Europe/London:20310211T203000
DTSTAMP:20260422T203413
CREATED:20231016T090526Z
LAST-MODIFIED:20231016T090526Z
UID:10035554-1928601000-1928608200@keepingmewell.com
SUMMARY:Mae’r Forget-me-not Chorus
DESCRIPTION:Ydych chi’n chwilio am grwp yn Caerdydd i’ch cefnogi wrth i chi wynebu heriau dementia? Ymunwch â’n cymuned ni! \nMae ein cyfarfodydd yn cael eu cynnal bob wythnos\, ac maent yn ffordd hamddenol a hwyliog o gwrdd â phobl eraill sy’n gwybod sut beth yw byw gyda dementia neu ochr yn ochr ag ef. \nMae aelodaeth yn rhad ac am ddim ac nid oes angen atgyfeiriad arnoch. \nCysylltwch â Sadie ar 029 2236 2064 neu sadie@forgetmenotchorus.com \nSylwer nad yw FMNC yn gysylltiedig â’r eglwys nac unrhyw grwp crefyddol arall\, ac yn syml\, yn llogi’r lleoliad. \nRhy bell o gartref? Gallwch hefyd ymuno â ni o unrhyw le yn y DU gyda sesiynau ar-lein FMNC. Cyswyllt â hello@forgetmenotchorus am fwy o wybodaeth.
URL:https://keepingmewell.com/event/maer-forget-me-not-chorus-31/2031-02-11/
LOCATION:Eglwys Thornhill\, Excalibur Drive\, Thornhill\, Caerdydd\, CF14 9GA\, United Kingdom
CATEGORIES:Cymraeg,Demensia,Gofalwyr,Lles
ATTACH;FMTTYPE=image/jpeg:https://keepingmewell.com/wp-content/uploads/2023/04/Forget-Me-Not-Cardiff.jpg
ORGANIZER;CN="Forget Me Not Chorus":MAILTO:hello@forgetmenotchorus.com
END:VEVENT
BEGIN:VEVENT
DTSTART;TZID=Europe/London:20310218T183000
DTEND;TZID=Europe/London:20310218T203000
DTSTAMP:20260422T203413
CREATED:20231016T090526Z
LAST-MODIFIED:20231016T090526Z
UID:10035603-1929205800-1929213000@keepingmewell.com
SUMMARY:Mae’r Forget-me-not Chorus
DESCRIPTION:Ydych chi’n chwilio am grwp yn Caerdydd i’ch cefnogi wrth i chi wynebu heriau dementia? Ymunwch â’n cymuned ni! \nMae ein cyfarfodydd yn cael eu cynnal bob wythnos\, ac maent yn ffordd hamddenol a hwyliog o gwrdd â phobl eraill sy’n gwybod sut beth yw byw gyda dementia neu ochr yn ochr ag ef. \nMae aelodaeth yn rhad ac am ddim ac nid oes angen atgyfeiriad arnoch. \nCysylltwch â Sadie ar 029 2236 2064 neu sadie@forgetmenotchorus.com \nSylwer nad yw FMNC yn gysylltiedig â’r eglwys nac unrhyw grwp crefyddol arall\, ac yn syml\, yn llogi’r lleoliad. \nRhy bell o gartref? Gallwch hefyd ymuno â ni o unrhyw le yn y DU gyda sesiynau ar-lein FMNC. Cyswyllt â hello@forgetmenotchorus am fwy o wybodaeth.
URL:https://keepingmewell.com/event/maer-forget-me-not-chorus-31/2031-02-18/
LOCATION:Eglwys Thornhill\, Excalibur Drive\, Thornhill\, Caerdydd\, CF14 9GA\, United Kingdom
CATEGORIES:Cymraeg,Demensia,Gofalwyr,Lles
ATTACH;FMTTYPE=image/jpeg:https://keepingmewell.com/wp-content/uploads/2023/04/Forget-Me-Not-Cardiff.jpg
ORGANIZER;CN="Forget Me Not Chorus":MAILTO:hello@forgetmenotchorus.com
END:VEVENT
BEGIN:VEVENT
DTSTART;TZID=Europe/London:20310225T183000
DTEND;TZID=Europe/London:20310225T203000
DTSTAMP:20260422T203413
CREATED:20231016T090526Z
LAST-MODIFIED:20231016T090526Z
UID:10035677-1929810600-1929817800@keepingmewell.com
SUMMARY:Mae’r Forget-me-not Chorus
DESCRIPTION:Ydych chi’n chwilio am grwp yn Caerdydd i’ch cefnogi wrth i chi wynebu heriau dementia? Ymunwch â’n cymuned ni! \nMae ein cyfarfodydd yn cael eu cynnal bob wythnos\, ac maent yn ffordd hamddenol a hwyliog o gwrdd â phobl eraill sy’n gwybod sut beth yw byw gyda dementia neu ochr yn ochr ag ef. \nMae aelodaeth yn rhad ac am ddim ac nid oes angen atgyfeiriad arnoch. \nCysylltwch â Sadie ar 029 2236 2064 neu sadie@forgetmenotchorus.com \nSylwer nad yw FMNC yn gysylltiedig â’r eglwys nac unrhyw grwp crefyddol arall\, ac yn syml\, yn llogi’r lleoliad. \nRhy bell o gartref? Gallwch hefyd ymuno â ni o unrhyw le yn y DU gyda sesiynau ar-lein FMNC. Cyswyllt â hello@forgetmenotchorus am fwy o wybodaeth.
URL:https://keepingmewell.com/event/maer-forget-me-not-chorus-31/2031-02-25/
LOCATION:Eglwys Thornhill\, Excalibur Drive\, Thornhill\, Caerdydd\, CF14 9GA\, United Kingdom
CATEGORIES:Cymraeg,Demensia,Gofalwyr,Lles
ATTACH;FMTTYPE=image/jpeg:https://keepingmewell.com/wp-content/uploads/2023/04/Forget-Me-Not-Cardiff.jpg
ORGANIZER;CN="Forget Me Not Chorus":MAILTO:hello@forgetmenotchorus.com
END:VEVENT
BEGIN:VEVENT
DTSTART;TZID=Europe/London:20310304T183000
DTEND;TZID=Europe/London:20310304T203000
DTSTAMP:20260422T203413
CREATED:20231016T090526Z
LAST-MODIFIED:20231016T090526Z
UID:10035740-1930415400-1930422600@keepingmewell.com
SUMMARY:Mae’r Forget-me-not Chorus
DESCRIPTION:Ydych chi’n chwilio am grwp yn Caerdydd i’ch cefnogi wrth i chi wynebu heriau dementia? Ymunwch â’n cymuned ni! \nMae ein cyfarfodydd yn cael eu cynnal bob wythnos\, ac maent yn ffordd hamddenol a hwyliog o gwrdd â phobl eraill sy’n gwybod sut beth yw byw gyda dementia neu ochr yn ochr ag ef. \nMae aelodaeth yn rhad ac am ddim ac nid oes angen atgyfeiriad arnoch. \nCysylltwch â Sadie ar 029 2236 2064 neu sadie@forgetmenotchorus.com \nSylwer nad yw FMNC yn gysylltiedig â’r eglwys nac unrhyw grwp crefyddol arall\, ac yn syml\, yn llogi’r lleoliad. \nRhy bell o gartref? Gallwch hefyd ymuno â ni o unrhyw le yn y DU gyda sesiynau ar-lein FMNC. Cyswyllt â hello@forgetmenotchorus am fwy o wybodaeth.
URL:https://keepingmewell.com/event/maer-forget-me-not-chorus-31/2031-03-04/
LOCATION:Eglwys Thornhill\, Excalibur Drive\, Thornhill\, Caerdydd\, CF14 9GA\, United Kingdom
CATEGORIES:Cymraeg,Demensia,Gofalwyr,Lles
ATTACH;FMTTYPE=image/jpeg:https://keepingmewell.com/wp-content/uploads/2023/04/Forget-Me-Not-Cardiff.jpg
ORGANIZER;CN="Forget Me Not Chorus":MAILTO:hello@forgetmenotchorus.com
END:VEVENT
BEGIN:VEVENT
DTSTART;TZID=Europe/London:20310311T183000
DTEND;TZID=Europe/London:20310311T203000
DTSTAMP:20260422T203413
CREATED:20231016T090526Z
LAST-MODIFIED:20231016T090526Z
UID:10035802-1931020200-1931027400@keepingmewell.com
SUMMARY:Mae’r Forget-me-not Chorus
DESCRIPTION:Ydych chi’n chwilio am grwp yn Caerdydd i’ch cefnogi wrth i chi wynebu heriau dementia? Ymunwch â’n cymuned ni! \nMae ein cyfarfodydd yn cael eu cynnal bob wythnos\, ac maent yn ffordd hamddenol a hwyliog o gwrdd â phobl eraill sy’n gwybod sut beth yw byw gyda dementia neu ochr yn ochr ag ef. \nMae aelodaeth yn rhad ac am ddim ac nid oes angen atgyfeiriad arnoch. \nCysylltwch â Sadie ar 029 2236 2064 neu sadie@forgetmenotchorus.com \nSylwer nad yw FMNC yn gysylltiedig â’r eglwys nac unrhyw grwp crefyddol arall\, ac yn syml\, yn llogi’r lleoliad. \nRhy bell o gartref? Gallwch hefyd ymuno â ni o unrhyw le yn y DU gyda sesiynau ar-lein FMNC. Cyswyllt â hello@forgetmenotchorus am fwy o wybodaeth.
URL:https://keepingmewell.com/event/maer-forget-me-not-chorus-31/2031-03-11/
LOCATION:Eglwys Thornhill\, Excalibur Drive\, Thornhill\, Caerdydd\, CF14 9GA\, United Kingdom
CATEGORIES:Cymraeg,Demensia,Gofalwyr,Lles
ATTACH;FMTTYPE=image/jpeg:https://keepingmewell.com/wp-content/uploads/2023/04/Forget-Me-Not-Cardiff.jpg
ORGANIZER;CN="Forget Me Not Chorus":MAILTO:hello@forgetmenotchorus.com
END:VEVENT
BEGIN:VEVENT
DTSTART;TZID=Europe/London:20310318T183000
DTEND;TZID=Europe/London:20310318T203000
DTSTAMP:20260422T203413
CREATED:20231016T090526Z
LAST-MODIFIED:20231016T090526Z
UID:10035863-1931625000-1931632200@keepingmewell.com
SUMMARY:Mae’r Forget-me-not Chorus
DESCRIPTION:Ydych chi’n chwilio am grwp yn Caerdydd i’ch cefnogi wrth i chi wynebu heriau dementia? Ymunwch â’n cymuned ni! \nMae ein cyfarfodydd yn cael eu cynnal bob wythnos\, ac maent yn ffordd hamddenol a hwyliog o gwrdd â phobl eraill sy’n gwybod sut beth yw byw gyda dementia neu ochr yn ochr ag ef. \nMae aelodaeth yn rhad ac am ddim ac nid oes angen atgyfeiriad arnoch. \nCysylltwch â Sadie ar 029 2236 2064 neu sadie@forgetmenotchorus.com \nSylwer nad yw FMNC yn gysylltiedig â’r eglwys nac unrhyw grwp crefyddol arall\, ac yn syml\, yn llogi’r lleoliad. \nRhy bell o gartref? Gallwch hefyd ymuno â ni o unrhyw le yn y DU gyda sesiynau ar-lein FMNC. Cyswyllt â hello@forgetmenotchorus am fwy o wybodaeth.
URL:https://keepingmewell.com/event/maer-forget-me-not-chorus-31/2031-03-18/
LOCATION:Eglwys Thornhill\, Excalibur Drive\, Thornhill\, Caerdydd\, CF14 9GA\, United Kingdom
CATEGORIES:Cymraeg,Demensia,Gofalwyr,Lles
ATTACH;FMTTYPE=image/jpeg:https://keepingmewell.com/wp-content/uploads/2023/04/Forget-Me-Not-Cardiff.jpg
ORGANIZER;CN="Forget Me Not Chorus":MAILTO:hello@forgetmenotchorus.com
END:VEVENT
BEGIN:VEVENT
DTSTART;TZID=Europe/London:20310325T183000
DTEND;TZID=Europe/London:20310325T203000
DTSTAMP:20260422T203413
CREATED:20231016T090526Z
LAST-MODIFIED:20231016T090526Z
UID:10035922-1932229800-1932237000@keepingmewell.com
SUMMARY:Mae’r Forget-me-not Chorus
DESCRIPTION:Ydych chi’n chwilio am grwp yn Caerdydd i’ch cefnogi wrth i chi wynebu heriau dementia? Ymunwch â’n cymuned ni! \nMae ein cyfarfodydd yn cael eu cynnal bob wythnos\, ac maent yn ffordd hamddenol a hwyliog o gwrdd â phobl eraill sy’n gwybod sut beth yw byw gyda dementia neu ochr yn ochr ag ef. \nMae aelodaeth yn rhad ac am ddim ac nid oes angen atgyfeiriad arnoch. \nCysylltwch â Sadie ar 029 2236 2064 neu sadie@forgetmenotchorus.com \nSylwer nad yw FMNC yn gysylltiedig â’r eglwys nac unrhyw grwp crefyddol arall\, ac yn syml\, yn llogi’r lleoliad. \nRhy bell o gartref? Gallwch hefyd ymuno â ni o unrhyw le yn y DU gyda sesiynau ar-lein FMNC. Cyswyllt â hello@forgetmenotchorus am fwy o wybodaeth.
URL:https://keepingmewell.com/event/maer-forget-me-not-chorus-31/2031-03-25/
LOCATION:Eglwys Thornhill\, Excalibur Drive\, Thornhill\, Caerdydd\, CF14 9GA\, United Kingdom
CATEGORIES:Cymraeg,Demensia,Gofalwyr,Lles
ATTACH;FMTTYPE=image/jpeg:https://keepingmewell.com/wp-content/uploads/2023/04/Forget-Me-Not-Cardiff.jpg
ORGANIZER;CN="Forget Me Not Chorus":MAILTO:hello@forgetmenotchorus.com
END:VEVENT
BEGIN:VEVENT
DTSTART;TZID=Europe/London:20310401T183000
DTEND;TZID=Europe/London:20310401T203000
DTSTAMP:20260422T203413
CREATED:20231016T090526Z
LAST-MODIFIED:20231016T090526Z
UID:10035987-1932834600-1932841800@keepingmewell.com
SUMMARY:Mae’r Forget-me-not Chorus
DESCRIPTION:Ydych chi’n chwilio am grwp yn Caerdydd i’ch cefnogi wrth i chi wynebu heriau dementia? Ymunwch â’n cymuned ni! \nMae ein cyfarfodydd yn cael eu cynnal bob wythnos\, ac maent yn ffordd hamddenol a hwyliog o gwrdd â phobl eraill sy’n gwybod sut beth yw byw gyda dementia neu ochr yn ochr ag ef. \nMae aelodaeth yn rhad ac am ddim ac nid oes angen atgyfeiriad arnoch. \nCysylltwch â Sadie ar 029 2236 2064 neu sadie@forgetmenotchorus.com \nSylwer nad yw FMNC yn gysylltiedig â’r eglwys nac unrhyw grwp crefyddol arall\, ac yn syml\, yn llogi’r lleoliad. \nRhy bell o gartref? Gallwch hefyd ymuno â ni o unrhyw le yn y DU gyda sesiynau ar-lein FMNC. Cyswyllt â hello@forgetmenotchorus am fwy o wybodaeth.
URL:https://keepingmewell.com/event/maer-forget-me-not-chorus-31/2031-04-01/
LOCATION:Eglwys Thornhill\, Excalibur Drive\, Thornhill\, Caerdydd\, CF14 9GA\, United Kingdom
CATEGORIES:Cymraeg,Demensia,Gofalwyr,Lles
ATTACH;FMTTYPE=image/jpeg:https://keepingmewell.com/wp-content/uploads/2023/04/Forget-Me-Not-Cardiff.jpg
ORGANIZER;CN="Forget Me Not Chorus":MAILTO:hello@forgetmenotchorus.com
END:VEVENT
BEGIN:VEVENT
DTSTART;TZID=Europe/London:20310408T183000
DTEND;TZID=Europe/London:20310408T203000
DTSTAMP:20260422T203413
CREATED:20231016T090526Z
LAST-MODIFIED:20231016T090526Z
UID:10036049-1933439400-1933446600@keepingmewell.com
SUMMARY:Mae’r Forget-me-not Chorus
DESCRIPTION:Ydych chi’n chwilio am grwp yn Caerdydd i’ch cefnogi wrth i chi wynebu heriau dementia? Ymunwch â’n cymuned ni! \nMae ein cyfarfodydd yn cael eu cynnal bob wythnos\, ac maent yn ffordd hamddenol a hwyliog o gwrdd â phobl eraill sy’n gwybod sut beth yw byw gyda dementia neu ochr yn ochr ag ef. \nMae aelodaeth yn rhad ac am ddim ac nid oes angen atgyfeiriad arnoch. \nCysylltwch â Sadie ar 029 2236 2064 neu sadie@forgetmenotchorus.com \nSylwer nad yw FMNC yn gysylltiedig â’r eglwys nac unrhyw grwp crefyddol arall\, ac yn syml\, yn llogi’r lleoliad. \nRhy bell o gartref? Gallwch hefyd ymuno â ni o unrhyw le yn y DU gyda sesiynau ar-lein FMNC. Cyswyllt â hello@forgetmenotchorus am fwy o wybodaeth.
URL:https://keepingmewell.com/event/maer-forget-me-not-chorus-31/2031-04-08/
LOCATION:Eglwys Thornhill\, Excalibur Drive\, Thornhill\, Caerdydd\, CF14 9GA\, United Kingdom
CATEGORIES:Cymraeg,Demensia,Gofalwyr,Lles
ATTACH;FMTTYPE=image/jpeg:https://keepingmewell.com/wp-content/uploads/2023/04/Forget-Me-Not-Cardiff.jpg
ORGANIZER;CN="Forget Me Not Chorus":MAILTO:hello@forgetmenotchorus.com
END:VEVENT
BEGIN:VEVENT
DTSTART;TZID=Europe/London:20310415T183000
DTEND;TZID=Europe/London:20310415T203000
DTSTAMP:20260422T203413
CREATED:20231016T090526Z
LAST-MODIFIED:20231016T090526Z
UID:10036098-1934044200-1934051400@keepingmewell.com
SUMMARY:Mae’r Forget-me-not Chorus
DESCRIPTION:Ydych chi’n chwilio am grwp yn Caerdydd i’ch cefnogi wrth i chi wynebu heriau dementia? Ymunwch â’n cymuned ni! \nMae ein cyfarfodydd yn cael eu cynnal bob wythnos\, ac maent yn ffordd hamddenol a hwyliog o gwrdd â phobl eraill sy’n gwybod sut beth yw byw gyda dementia neu ochr yn ochr ag ef. \nMae aelodaeth yn rhad ac am ddim ac nid oes angen atgyfeiriad arnoch. \nCysylltwch â Sadie ar 029 2236 2064 neu sadie@forgetmenotchorus.com \nSylwer nad yw FMNC yn gysylltiedig â’r eglwys nac unrhyw grwp crefyddol arall\, ac yn syml\, yn llogi’r lleoliad. \nRhy bell o gartref? Gallwch hefyd ymuno â ni o unrhyw le yn y DU gyda sesiynau ar-lein FMNC. Cyswyllt â hello@forgetmenotchorus am fwy o wybodaeth.
URL:https://keepingmewell.com/event/maer-forget-me-not-chorus-31/2031-04-15/
LOCATION:Eglwys Thornhill\, Excalibur Drive\, Thornhill\, Caerdydd\, CF14 9GA\, United Kingdom
CATEGORIES:Cymraeg,Demensia,Gofalwyr,Lles
ATTACH;FMTTYPE=image/jpeg:https://keepingmewell.com/wp-content/uploads/2023/04/Forget-Me-Not-Cardiff.jpg
ORGANIZER;CN="Forget Me Not Chorus":MAILTO:hello@forgetmenotchorus.com
END:VEVENT
END:VCALENDAR