BEGIN:VCALENDAR
VERSION:2.0
PRODID:-//Keeping Me Well - ECPv6.15.20//NONSGML v1.0//EN
CALSCALE:GREGORIAN
METHOD:PUBLISH
X-WR-CALNAME:Keeping Me Well
X-ORIGINAL-URL:https://keepingmewell.com
X-WR-CALDESC:Events for Keeping Me Well
REFRESH-INTERVAL;VALUE=DURATION:PT1H
X-Robots-Tag:noindex
X-PUBLISHED-TTL:PT1H
BEGIN:VTIMEZONE
TZID:Europe/London
BEGIN:DAYLIGHT
TZOFFSETFROM:+0000
TZOFFSETTO:+0100
TZNAME:BST
DTSTART:20280326T010000
END:DAYLIGHT
BEGIN:STANDARD
TZOFFSETFROM:+0100
TZOFFSETTO:+0000
TZNAME:GMT
DTSTART:20281029T010000
END:STANDARD
BEGIN:DAYLIGHT
TZOFFSETFROM:+0000
TZOFFSETTO:+0100
TZNAME:BST
DTSTART:20290325T010000
END:DAYLIGHT
BEGIN:STANDARD
TZOFFSETFROM:+0100
TZOFFSETTO:+0000
TZNAME:GMT
DTSTART:20291028T010000
END:STANDARD
BEGIN:DAYLIGHT
TZOFFSETFROM:+0000
TZOFFSETTO:+0100
TZNAME:BST
DTSTART:20300331T010000
END:DAYLIGHT
BEGIN:STANDARD
TZOFFSETFROM:+0100
TZOFFSETTO:+0000
TZNAME:GMT
DTSTART:20301027T010000
END:STANDARD
END:VTIMEZONE
BEGIN:VEVENT
DTSTART;TZID=Europe/London:20290420T103000
DTEND;TZID=Europe/London:20290420T113000
DTSTAMP:20260422T065256
CREATED:20231024T101903Z
LAST-MODIFIED:20231024T101903Z
UID:10026663-1871375400-1871379000@keepingmewell.com
SUMMARY:ESCAPEE yn y Tyllgoed
DESCRIPTION:Mae digwyddiadau ESCAPEE yn sesiynau ymarfer corff dilynol i bobl sydd wedi cyflawni’r rhaglen Escape Pain ar gyfer poen clun\, pen-glin neu gefn. \nMae croeso i chi alw heibio a chymryd rhan mewn ymarfer corff sydd wedi’i gynllunio i wella eich symudiad a’ch swyddogaeth. \nYng Nghanolfan Hamdden y Tyllgoed bob dydd Gwener\, 10.30am.
URL:https://keepingmewell.com/event/escapee-yn-y-tyllgoed/2029-04-20/
LOCATION:Canolfan Hamdden y Tyllgoed\, Heol Waterhall\, y Tyllgoed\, Caerdydd\, CF5 3LL
CATEGORIES:Cymraeg,Cymru Arthritis,ESCAPEE CY,Gweithgarwch Corfforol
ATTACH;FMTTYPE=image/jpeg:https://keepingmewell.com/wp-content/uploads/2022/12/Better-Escape-logos.jpg
END:VEVENT
BEGIN:VEVENT
DTSTART;TZID=Europe/London:20290427T103000
DTEND;TZID=Europe/London:20290427T113000
DTSTAMP:20260422T065256
CREATED:20231024T101903Z
LAST-MODIFIED:20231024T101903Z
UID:10026664-1871980200-1871983800@keepingmewell.com
SUMMARY:ESCAPEE yn y Tyllgoed
DESCRIPTION:Mae digwyddiadau ESCAPEE yn sesiynau ymarfer corff dilynol i bobl sydd wedi cyflawni’r rhaglen Escape Pain ar gyfer poen clun\, pen-glin neu gefn. \nMae croeso i chi alw heibio a chymryd rhan mewn ymarfer corff sydd wedi’i gynllunio i wella eich symudiad a’ch swyddogaeth. \nYng Nghanolfan Hamdden y Tyllgoed bob dydd Gwener\, 10.30am.
URL:https://keepingmewell.com/event/escapee-yn-y-tyllgoed/2029-04-27/
LOCATION:Canolfan Hamdden y Tyllgoed\, Heol Waterhall\, y Tyllgoed\, Caerdydd\, CF5 3LL
CATEGORIES:Cymraeg,Cymru Arthritis,ESCAPEE CY,Gweithgarwch Corfforol
ATTACH;FMTTYPE=image/jpeg:https://keepingmewell.com/wp-content/uploads/2022/12/Better-Escape-logos.jpg
END:VEVENT
BEGIN:VEVENT
DTSTART;TZID=Europe/London:20290504T103000
DTEND;TZID=Europe/London:20290504T113000
DTSTAMP:20260422T065256
CREATED:20231024T101903Z
LAST-MODIFIED:20231024T101903Z
UID:10026665-1872585000-1872588600@keepingmewell.com
SUMMARY:ESCAPEE yn y Tyllgoed
DESCRIPTION:Mae digwyddiadau ESCAPEE yn sesiynau ymarfer corff dilynol i bobl sydd wedi cyflawni’r rhaglen Escape Pain ar gyfer poen clun\, pen-glin neu gefn. \nMae croeso i chi alw heibio a chymryd rhan mewn ymarfer corff sydd wedi’i gynllunio i wella eich symudiad a’ch swyddogaeth. \nYng Nghanolfan Hamdden y Tyllgoed bob dydd Gwener\, 10.30am.
URL:https://keepingmewell.com/event/escapee-yn-y-tyllgoed/2029-05-04/
LOCATION:Canolfan Hamdden y Tyllgoed\, Heol Waterhall\, y Tyllgoed\, Caerdydd\, CF5 3LL
CATEGORIES:Cymraeg,Cymru Arthritis,ESCAPEE CY,Gweithgarwch Corfforol
ATTACH;FMTTYPE=image/jpeg:https://keepingmewell.com/wp-content/uploads/2022/12/Better-Escape-logos.jpg
END:VEVENT
BEGIN:VEVENT
DTSTART;TZID=Europe/London:20290511T103000
DTEND;TZID=Europe/London:20290511T113000
DTSTAMP:20260422T065256
CREATED:20231024T101903Z
LAST-MODIFIED:20231024T101903Z
UID:10026666-1873189800-1873193400@keepingmewell.com
SUMMARY:ESCAPEE yn y Tyllgoed
DESCRIPTION:Mae digwyddiadau ESCAPEE yn sesiynau ymarfer corff dilynol i bobl sydd wedi cyflawni’r rhaglen Escape Pain ar gyfer poen clun\, pen-glin neu gefn. \nMae croeso i chi alw heibio a chymryd rhan mewn ymarfer corff sydd wedi’i gynllunio i wella eich symudiad a’ch swyddogaeth. \nYng Nghanolfan Hamdden y Tyllgoed bob dydd Gwener\, 10.30am.
URL:https://keepingmewell.com/event/escapee-yn-y-tyllgoed/2029-05-11/
LOCATION:Canolfan Hamdden y Tyllgoed\, Heol Waterhall\, y Tyllgoed\, Caerdydd\, CF5 3LL
CATEGORIES:Cymraeg,Cymru Arthritis,ESCAPEE CY,Gweithgarwch Corfforol
ATTACH;FMTTYPE=image/jpeg:https://keepingmewell.com/wp-content/uploads/2022/12/Better-Escape-logos.jpg
END:VEVENT
BEGIN:VEVENT
DTSTART;TZID=Europe/London:20290518T103000
DTEND;TZID=Europe/London:20290518T113000
DTSTAMP:20260422T065257
CREATED:20231024T101903Z
LAST-MODIFIED:20231024T101903Z
UID:10026667-1873794600-1873798200@keepingmewell.com
SUMMARY:ESCAPEE yn y Tyllgoed
DESCRIPTION:Mae digwyddiadau ESCAPEE yn sesiynau ymarfer corff dilynol i bobl sydd wedi cyflawni’r rhaglen Escape Pain ar gyfer poen clun\, pen-glin neu gefn. \nMae croeso i chi alw heibio a chymryd rhan mewn ymarfer corff sydd wedi’i gynllunio i wella eich symudiad a’ch swyddogaeth. \nYng Nghanolfan Hamdden y Tyllgoed bob dydd Gwener\, 10.30am.
URL:https://keepingmewell.com/event/escapee-yn-y-tyllgoed/2029-05-18/
LOCATION:Canolfan Hamdden y Tyllgoed\, Heol Waterhall\, y Tyllgoed\, Caerdydd\, CF5 3LL
CATEGORIES:Cymraeg,Cymru Arthritis,ESCAPEE CY,Gweithgarwch Corfforol
ATTACH;FMTTYPE=image/jpeg:https://keepingmewell.com/wp-content/uploads/2022/12/Better-Escape-logos.jpg
END:VEVENT
BEGIN:VEVENT
DTSTART;TZID=Europe/London:20290525T103000
DTEND;TZID=Europe/London:20290525T113000
DTSTAMP:20260422T065257
CREATED:20231024T101903Z
LAST-MODIFIED:20231024T101903Z
UID:10026668-1874399400-1874403000@keepingmewell.com
SUMMARY:ESCAPEE yn y Tyllgoed
DESCRIPTION:Mae digwyddiadau ESCAPEE yn sesiynau ymarfer corff dilynol i bobl sydd wedi cyflawni’r rhaglen Escape Pain ar gyfer poen clun\, pen-glin neu gefn. \nMae croeso i chi alw heibio a chymryd rhan mewn ymarfer corff sydd wedi’i gynllunio i wella eich symudiad a’ch swyddogaeth. \nYng Nghanolfan Hamdden y Tyllgoed bob dydd Gwener\, 10.30am.
URL:https://keepingmewell.com/event/escapee-yn-y-tyllgoed/2029-05-25/
LOCATION:Canolfan Hamdden y Tyllgoed\, Heol Waterhall\, y Tyllgoed\, Caerdydd\, CF5 3LL
CATEGORIES:Cymraeg,Cymru Arthritis,ESCAPEE CY,Gweithgarwch Corfforol
ATTACH;FMTTYPE=image/jpeg:https://keepingmewell.com/wp-content/uploads/2022/12/Better-Escape-logos.jpg
END:VEVENT
BEGIN:VEVENT
DTSTART;TZID=Europe/London:20290601T103000
DTEND;TZID=Europe/London:20290601T113000
DTSTAMP:20260422T065257
CREATED:20231024T101903Z
LAST-MODIFIED:20231024T101903Z
UID:10026669-1875004200-1875007800@keepingmewell.com
SUMMARY:ESCAPEE yn y Tyllgoed
DESCRIPTION:Mae digwyddiadau ESCAPEE yn sesiynau ymarfer corff dilynol i bobl sydd wedi cyflawni’r rhaglen Escape Pain ar gyfer poen clun\, pen-glin neu gefn. \nMae croeso i chi alw heibio a chymryd rhan mewn ymarfer corff sydd wedi’i gynllunio i wella eich symudiad a’ch swyddogaeth. \nYng Nghanolfan Hamdden y Tyllgoed bob dydd Gwener\, 10.30am.
URL:https://keepingmewell.com/event/escapee-yn-y-tyllgoed/2029-06-01/
LOCATION:Canolfan Hamdden y Tyllgoed\, Heol Waterhall\, y Tyllgoed\, Caerdydd\, CF5 3LL
CATEGORIES:Cymraeg,Cymru Arthritis,ESCAPEE CY,Gweithgarwch Corfforol
ATTACH;FMTTYPE=image/jpeg:https://keepingmewell.com/wp-content/uploads/2022/12/Better-Escape-logos.jpg
END:VEVENT
BEGIN:VEVENT
DTSTART;TZID=Europe/London:20290608T103000
DTEND;TZID=Europe/London:20290608T113000
DTSTAMP:20260422T065257
CREATED:20231024T101903Z
LAST-MODIFIED:20231024T101903Z
UID:10026670-1875609000-1875612600@keepingmewell.com
SUMMARY:ESCAPEE yn y Tyllgoed
DESCRIPTION:Mae digwyddiadau ESCAPEE yn sesiynau ymarfer corff dilynol i bobl sydd wedi cyflawni’r rhaglen Escape Pain ar gyfer poen clun\, pen-glin neu gefn. \nMae croeso i chi alw heibio a chymryd rhan mewn ymarfer corff sydd wedi’i gynllunio i wella eich symudiad a’ch swyddogaeth. \nYng Nghanolfan Hamdden y Tyllgoed bob dydd Gwener\, 10.30am.
URL:https://keepingmewell.com/event/escapee-yn-y-tyllgoed/2029-06-08/
LOCATION:Canolfan Hamdden y Tyllgoed\, Heol Waterhall\, y Tyllgoed\, Caerdydd\, CF5 3LL
CATEGORIES:Cymraeg,Cymru Arthritis,ESCAPEE CY,Gweithgarwch Corfforol
ATTACH;FMTTYPE=image/jpeg:https://keepingmewell.com/wp-content/uploads/2022/12/Better-Escape-logos.jpg
END:VEVENT
BEGIN:VEVENT
DTSTART;TZID=Europe/London:20290615T103000
DTEND;TZID=Europe/London:20290615T113000
DTSTAMP:20260422T065257
CREATED:20231024T101903Z
LAST-MODIFIED:20231024T101903Z
UID:10026671-1876213800-1876217400@keepingmewell.com
SUMMARY:ESCAPEE yn y Tyllgoed
DESCRIPTION:Mae digwyddiadau ESCAPEE yn sesiynau ymarfer corff dilynol i bobl sydd wedi cyflawni’r rhaglen Escape Pain ar gyfer poen clun\, pen-glin neu gefn. \nMae croeso i chi alw heibio a chymryd rhan mewn ymarfer corff sydd wedi’i gynllunio i wella eich symudiad a’ch swyddogaeth. \nYng Nghanolfan Hamdden y Tyllgoed bob dydd Gwener\, 10.30am.
URL:https://keepingmewell.com/event/escapee-yn-y-tyllgoed/2029-06-15/
LOCATION:Canolfan Hamdden y Tyllgoed\, Heol Waterhall\, y Tyllgoed\, Caerdydd\, CF5 3LL
CATEGORIES:Cymraeg,Cymru Arthritis,ESCAPEE CY,Gweithgarwch Corfforol
ATTACH;FMTTYPE=image/jpeg:https://keepingmewell.com/wp-content/uploads/2022/12/Better-Escape-logos.jpg
END:VEVENT
BEGIN:VEVENT
DTSTART;TZID=Europe/London:20290622T103000
DTEND;TZID=Europe/London:20290622T113000
DTSTAMP:20260422T065257
CREATED:20231024T101903Z
LAST-MODIFIED:20231024T101903Z
UID:10026672-1876818600-1876822200@keepingmewell.com
SUMMARY:ESCAPEE yn y Tyllgoed
DESCRIPTION:Mae digwyddiadau ESCAPEE yn sesiynau ymarfer corff dilynol i bobl sydd wedi cyflawni’r rhaglen Escape Pain ar gyfer poen clun\, pen-glin neu gefn. \nMae croeso i chi alw heibio a chymryd rhan mewn ymarfer corff sydd wedi’i gynllunio i wella eich symudiad a’ch swyddogaeth. \nYng Nghanolfan Hamdden y Tyllgoed bob dydd Gwener\, 10.30am.
URL:https://keepingmewell.com/event/escapee-yn-y-tyllgoed/2029-06-22/
LOCATION:Canolfan Hamdden y Tyllgoed\, Heol Waterhall\, y Tyllgoed\, Caerdydd\, CF5 3LL
CATEGORIES:Cymraeg,Cymru Arthritis,ESCAPEE CY,Gweithgarwch Corfforol
ATTACH;FMTTYPE=image/jpeg:https://keepingmewell.com/wp-content/uploads/2022/12/Better-Escape-logos.jpg
END:VEVENT
BEGIN:VEVENT
DTSTART;TZID=Europe/London:20290629T103000
DTEND;TZID=Europe/London:20290629T113000
DTSTAMP:20260422T065257
CREATED:20231024T101903Z
LAST-MODIFIED:20231024T101903Z
UID:10026673-1877423400-1877427000@keepingmewell.com
SUMMARY:ESCAPEE yn y Tyllgoed
DESCRIPTION:Mae digwyddiadau ESCAPEE yn sesiynau ymarfer corff dilynol i bobl sydd wedi cyflawni’r rhaglen Escape Pain ar gyfer poen clun\, pen-glin neu gefn. \nMae croeso i chi alw heibio a chymryd rhan mewn ymarfer corff sydd wedi’i gynllunio i wella eich symudiad a’ch swyddogaeth. \nYng Nghanolfan Hamdden y Tyllgoed bob dydd Gwener\, 10.30am.
URL:https://keepingmewell.com/event/escapee-yn-y-tyllgoed/2029-06-29/
LOCATION:Canolfan Hamdden y Tyllgoed\, Heol Waterhall\, y Tyllgoed\, Caerdydd\, CF5 3LL
CATEGORIES:Cymraeg,Cymru Arthritis,ESCAPEE CY,Gweithgarwch Corfforol
ATTACH;FMTTYPE=image/jpeg:https://keepingmewell.com/wp-content/uploads/2022/12/Better-Escape-logos.jpg
END:VEVENT
BEGIN:VEVENT
DTSTART;TZID=Europe/London:20290706T103000
DTEND;TZID=Europe/London:20290706T113000
DTSTAMP:20260422T065257
CREATED:20231024T101903Z
LAST-MODIFIED:20231024T101903Z
UID:10026674-1878028200-1878031800@keepingmewell.com
SUMMARY:ESCAPEE yn y Tyllgoed
DESCRIPTION:Mae digwyddiadau ESCAPEE yn sesiynau ymarfer corff dilynol i bobl sydd wedi cyflawni’r rhaglen Escape Pain ar gyfer poen clun\, pen-glin neu gefn. \nMae croeso i chi alw heibio a chymryd rhan mewn ymarfer corff sydd wedi’i gynllunio i wella eich symudiad a’ch swyddogaeth. \nYng Nghanolfan Hamdden y Tyllgoed bob dydd Gwener\, 10.30am.
URL:https://keepingmewell.com/event/escapee-yn-y-tyllgoed/2029-07-06/
LOCATION:Canolfan Hamdden y Tyllgoed\, Heol Waterhall\, y Tyllgoed\, Caerdydd\, CF5 3LL
CATEGORIES:Cymraeg,Cymru Arthritis,ESCAPEE CY,Gweithgarwch Corfforol
ATTACH;FMTTYPE=image/jpeg:https://keepingmewell.com/wp-content/uploads/2022/12/Better-Escape-logos.jpg
END:VEVENT
BEGIN:VEVENT
DTSTART;TZID=Europe/London:20290713T103000
DTEND;TZID=Europe/London:20290713T113000
DTSTAMP:20260422T065257
CREATED:20231024T101903Z
LAST-MODIFIED:20231024T101903Z
UID:10026675-1878633000-1878636600@keepingmewell.com
SUMMARY:ESCAPEE yn y Tyllgoed
DESCRIPTION:Mae digwyddiadau ESCAPEE yn sesiynau ymarfer corff dilynol i bobl sydd wedi cyflawni’r rhaglen Escape Pain ar gyfer poen clun\, pen-glin neu gefn. \nMae croeso i chi alw heibio a chymryd rhan mewn ymarfer corff sydd wedi’i gynllunio i wella eich symudiad a’ch swyddogaeth. \nYng Nghanolfan Hamdden y Tyllgoed bob dydd Gwener\, 10.30am.
URL:https://keepingmewell.com/event/escapee-yn-y-tyllgoed/2029-07-13/
LOCATION:Canolfan Hamdden y Tyllgoed\, Heol Waterhall\, y Tyllgoed\, Caerdydd\, CF5 3LL
CATEGORIES:Cymraeg,Cymru Arthritis,ESCAPEE CY,Gweithgarwch Corfforol
ATTACH;FMTTYPE=image/jpeg:https://keepingmewell.com/wp-content/uploads/2022/12/Better-Escape-logos.jpg
END:VEVENT
BEGIN:VEVENT
DTSTART;TZID=Europe/London:20290720T103000
DTEND;TZID=Europe/London:20290720T113000
DTSTAMP:20260422T065257
CREATED:20231024T101903Z
LAST-MODIFIED:20231024T101903Z
UID:10026676-1879237800-1879241400@keepingmewell.com
SUMMARY:ESCAPEE yn y Tyllgoed
DESCRIPTION:Mae digwyddiadau ESCAPEE yn sesiynau ymarfer corff dilynol i bobl sydd wedi cyflawni’r rhaglen Escape Pain ar gyfer poen clun\, pen-glin neu gefn. \nMae croeso i chi alw heibio a chymryd rhan mewn ymarfer corff sydd wedi’i gynllunio i wella eich symudiad a’ch swyddogaeth. \nYng Nghanolfan Hamdden y Tyllgoed bob dydd Gwener\, 10.30am.
URL:https://keepingmewell.com/event/escapee-yn-y-tyllgoed/2029-07-20/
LOCATION:Canolfan Hamdden y Tyllgoed\, Heol Waterhall\, y Tyllgoed\, Caerdydd\, CF5 3LL
CATEGORIES:Cymraeg,Cymru Arthritis,ESCAPEE CY,Gweithgarwch Corfforol
ATTACH;FMTTYPE=image/jpeg:https://keepingmewell.com/wp-content/uploads/2022/12/Better-Escape-logos.jpg
END:VEVENT
BEGIN:VEVENT
DTSTART;TZID=Europe/London:20290727T103000
DTEND;TZID=Europe/London:20290727T113000
DTSTAMP:20260422T065257
CREATED:20231024T101903Z
LAST-MODIFIED:20231024T101903Z
UID:10026677-1879842600-1879846200@keepingmewell.com
SUMMARY:ESCAPEE yn y Tyllgoed
DESCRIPTION:Mae digwyddiadau ESCAPEE yn sesiynau ymarfer corff dilynol i bobl sydd wedi cyflawni’r rhaglen Escape Pain ar gyfer poen clun\, pen-glin neu gefn. \nMae croeso i chi alw heibio a chymryd rhan mewn ymarfer corff sydd wedi’i gynllunio i wella eich symudiad a’ch swyddogaeth. \nYng Nghanolfan Hamdden y Tyllgoed bob dydd Gwener\, 10.30am.
URL:https://keepingmewell.com/event/escapee-yn-y-tyllgoed/2029-07-27/
LOCATION:Canolfan Hamdden y Tyllgoed\, Heol Waterhall\, y Tyllgoed\, Caerdydd\, CF5 3LL
CATEGORIES:Cymraeg,Cymru Arthritis,ESCAPEE CY,Gweithgarwch Corfforol
ATTACH;FMTTYPE=image/jpeg:https://keepingmewell.com/wp-content/uploads/2022/12/Better-Escape-logos.jpg
END:VEVENT
BEGIN:VEVENT
DTSTART;TZID=Europe/London:20290803T103000
DTEND;TZID=Europe/London:20290803T113000
DTSTAMP:20260422T065257
CREATED:20231024T101903Z
LAST-MODIFIED:20231024T101903Z
UID:10026678-1880447400-1880451000@keepingmewell.com
SUMMARY:ESCAPEE yn y Tyllgoed
DESCRIPTION:Mae digwyddiadau ESCAPEE yn sesiynau ymarfer corff dilynol i bobl sydd wedi cyflawni’r rhaglen Escape Pain ar gyfer poen clun\, pen-glin neu gefn. \nMae croeso i chi alw heibio a chymryd rhan mewn ymarfer corff sydd wedi’i gynllunio i wella eich symudiad a’ch swyddogaeth. \nYng Nghanolfan Hamdden y Tyllgoed bob dydd Gwener\, 10.30am.
URL:https://keepingmewell.com/event/escapee-yn-y-tyllgoed/2029-08-03/
LOCATION:Canolfan Hamdden y Tyllgoed\, Heol Waterhall\, y Tyllgoed\, Caerdydd\, CF5 3LL
CATEGORIES:Cymraeg,Cymru Arthritis,ESCAPEE CY,Gweithgarwch Corfforol
ATTACH;FMTTYPE=image/jpeg:https://keepingmewell.com/wp-content/uploads/2022/12/Better-Escape-logos.jpg
END:VEVENT
BEGIN:VEVENT
DTSTART;TZID=Europe/London:20290810T103000
DTEND;TZID=Europe/London:20290810T113000
DTSTAMP:20260422T065257
CREATED:20231024T101903Z
LAST-MODIFIED:20231024T101903Z
UID:10026679-1881052200-1881055800@keepingmewell.com
SUMMARY:ESCAPEE yn y Tyllgoed
DESCRIPTION:Mae digwyddiadau ESCAPEE yn sesiynau ymarfer corff dilynol i bobl sydd wedi cyflawni’r rhaglen Escape Pain ar gyfer poen clun\, pen-glin neu gefn. \nMae croeso i chi alw heibio a chymryd rhan mewn ymarfer corff sydd wedi’i gynllunio i wella eich symudiad a’ch swyddogaeth. \nYng Nghanolfan Hamdden y Tyllgoed bob dydd Gwener\, 10.30am.
URL:https://keepingmewell.com/event/escapee-yn-y-tyllgoed/2029-08-10/
LOCATION:Canolfan Hamdden y Tyllgoed\, Heol Waterhall\, y Tyllgoed\, Caerdydd\, CF5 3LL
CATEGORIES:Cymraeg,Cymru Arthritis,ESCAPEE CY,Gweithgarwch Corfforol
ATTACH;FMTTYPE=image/jpeg:https://keepingmewell.com/wp-content/uploads/2022/12/Better-Escape-logos.jpg
END:VEVENT
BEGIN:VEVENT
DTSTART;TZID=Europe/London:20290817T103000
DTEND;TZID=Europe/London:20290817T113000
DTSTAMP:20260422T065257
CREATED:20231024T101903Z
LAST-MODIFIED:20231024T101903Z
UID:10026680-1881657000-1881660600@keepingmewell.com
SUMMARY:ESCAPEE yn y Tyllgoed
DESCRIPTION:Mae digwyddiadau ESCAPEE yn sesiynau ymarfer corff dilynol i bobl sydd wedi cyflawni’r rhaglen Escape Pain ar gyfer poen clun\, pen-glin neu gefn. \nMae croeso i chi alw heibio a chymryd rhan mewn ymarfer corff sydd wedi’i gynllunio i wella eich symudiad a’ch swyddogaeth. \nYng Nghanolfan Hamdden y Tyllgoed bob dydd Gwener\, 10.30am.
URL:https://keepingmewell.com/event/escapee-yn-y-tyllgoed/2029-08-17/
LOCATION:Canolfan Hamdden y Tyllgoed\, Heol Waterhall\, y Tyllgoed\, Caerdydd\, CF5 3LL
CATEGORIES:Cymraeg,Cymru Arthritis,ESCAPEE CY,Gweithgarwch Corfforol
ATTACH;FMTTYPE=image/jpeg:https://keepingmewell.com/wp-content/uploads/2022/12/Better-Escape-logos.jpg
END:VEVENT
BEGIN:VEVENT
DTSTART;TZID=Europe/London:20290824T103000
DTEND;TZID=Europe/London:20290824T113000
DTSTAMP:20260422T065257
CREATED:20231024T101903Z
LAST-MODIFIED:20231024T101903Z
UID:10026681-1882261800-1882265400@keepingmewell.com
SUMMARY:ESCAPEE yn y Tyllgoed
DESCRIPTION:Mae digwyddiadau ESCAPEE yn sesiynau ymarfer corff dilynol i bobl sydd wedi cyflawni’r rhaglen Escape Pain ar gyfer poen clun\, pen-glin neu gefn. \nMae croeso i chi alw heibio a chymryd rhan mewn ymarfer corff sydd wedi’i gynllunio i wella eich symudiad a’ch swyddogaeth. \nYng Nghanolfan Hamdden y Tyllgoed bob dydd Gwener\, 10.30am.
URL:https://keepingmewell.com/event/escapee-yn-y-tyllgoed/2029-08-24/
LOCATION:Canolfan Hamdden y Tyllgoed\, Heol Waterhall\, y Tyllgoed\, Caerdydd\, CF5 3LL
CATEGORIES:Cymraeg,Cymru Arthritis,ESCAPEE CY,Gweithgarwch Corfforol
ATTACH;FMTTYPE=image/jpeg:https://keepingmewell.com/wp-content/uploads/2022/12/Better-Escape-logos.jpg
END:VEVENT
BEGIN:VEVENT
DTSTART;TZID=Europe/London:20290831T103000
DTEND;TZID=Europe/London:20290831T113000
DTSTAMP:20260422T065257
CREATED:20231024T101903Z
LAST-MODIFIED:20231024T101903Z
UID:10026682-1882866600-1882870200@keepingmewell.com
SUMMARY:ESCAPEE yn y Tyllgoed
DESCRIPTION:Mae digwyddiadau ESCAPEE yn sesiynau ymarfer corff dilynol i bobl sydd wedi cyflawni’r rhaglen Escape Pain ar gyfer poen clun\, pen-glin neu gefn. \nMae croeso i chi alw heibio a chymryd rhan mewn ymarfer corff sydd wedi’i gynllunio i wella eich symudiad a’ch swyddogaeth. \nYng Nghanolfan Hamdden y Tyllgoed bob dydd Gwener\, 10.30am.
URL:https://keepingmewell.com/event/escapee-yn-y-tyllgoed/2029-08-31/
LOCATION:Canolfan Hamdden y Tyllgoed\, Heol Waterhall\, y Tyllgoed\, Caerdydd\, CF5 3LL
CATEGORIES:Cymraeg,Cymru Arthritis,ESCAPEE CY,Gweithgarwch Corfforol
ATTACH;FMTTYPE=image/jpeg:https://keepingmewell.com/wp-content/uploads/2022/12/Better-Escape-logos.jpg
END:VEVENT
BEGIN:VEVENT
DTSTART;TZID=Europe/London:20290907T103000
DTEND;TZID=Europe/London:20290907T113000
DTSTAMP:20260422T065257
CREATED:20231024T101903Z
LAST-MODIFIED:20231024T101903Z
UID:10026683-1883471400-1883475000@keepingmewell.com
SUMMARY:ESCAPEE yn y Tyllgoed
DESCRIPTION:Mae digwyddiadau ESCAPEE yn sesiynau ymarfer corff dilynol i bobl sydd wedi cyflawni’r rhaglen Escape Pain ar gyfer poen clun\, pen-glin neu gefn. \nMae croeso i chi alw heibio a chymryd rhan mewn ymarfer corff sydd wedi’i gynllunio i wella eich symudiad a’ch swyddogaeth. \nYng Nghanolfan Hamdden y Tyllgoed bob dydd Gwener\, 10.30am.
URL:https://keepingmewell.com/event/escapee-yn-y-tyllgoed/2029-09-07/
LOCATION:Canolfan Hamdden y Tyllgoed\, Heol Waterhall\, y Tyllgoed\, Caerdydd\, CF5 3LL
CATEGORIES:Cymraeg,Cymru Arthritis,ESCAPEE CY,Gweithgarwch Corfforol
ATTACH;FMTTYPE=image/jpeg:https://keepingmewell.com/wp-content/uploads/2022/12/Better-Escape-logos.jpg
END:VEVENT
BEGIN:VEVENT
DTSTART;TZID=Europe/London:20290914T103000
DTEND;TZID=Europe/London:20290914T113000
DTSTAMP:20260422T065257
CREATED:20231024T101903Z
LAST-MODIFIED:20231024T101903Z
UID:10026684-1884076200-1884079800@keepingmewell.com
SUMMARY:ESCAPEE yn y Tyllgoed
DESCRIPTION:Mae digwyddiadau ESCAPEE yn sesiynau ymarfer corff dilynol i bobl sydd wedi cyflawni’r rhaglen Escape Pain ar gyfer poen clun\, pen-glin neu gefn. \nMae croeso i chi alw heibio a chymryd rhan mewn ymarfer corff sydd wedi’i gynllunio i wella eich symudiad a’ch swyddogaeth. \nYng Nghanolfan Hamdden y Tyllgoed bob dydd Gwener\, 10.30am.
URL:https://keepingmewell.com/event/escapee-yn-y-tyllgoed/2029-09-14/
LOCATION:Canolfan Hamdden y Tyllgoed\, Heol Waterhall\, y Tyllgoed\, Caerdydd\, CF5 3LL
CATEGORIES:Cymraeg,Cymru Arthritis,ESCAPEE CY,Gweithgarwch Corfforol
ATTACH;FMTTYPE=image/jpeg:https://keepingmewell.com/wp-content/uploads/2022/12/Better-Escape-logos.jpg
END:VEVENT
BEGIN:VEVENT
DTSTART;TZID=Europe/London:20290921T103000
DTEND;TZID=Europe/London:20290921T113000
DTSTAMP:20260422T065257
CREATED:20231024T101903Z
LAST-MODIFIED:20231024T101903Z
UID:10026685-1884681000-1884684600@keepingmewell.com
SUMMARY:ESCAPEE yn y Tyllgoed
DESCRIPTION:Mae digwyddiadau ESCAPEE yn sesiynau ymarfer corff dilynol i bobl sydd wedi cyflawni’r rhaglen Escape Pain ar gyfer poen clun\, pen-glin neu gefn. \nMae croeso i chi alw heibio a chymryd rhan mewn ymarfer corff sydd wedi’i gynllunio i wella eich symudiad a’ch swyddogaeth. \nYng Nghanolfan Hamdden y Tyllgoed bob dydd Gwener\, 10.30am.
URL:https://keepingmewell.com/event/escapee-yn-y-tyllgoed/2029-09-21/
LOCATION:Canolfan Hamdden y Tyllgoed\, Heol Waterhall\, y Tyllgoed\, Caerdydd\, CF5 3LL
CATEGORIES:Cymraeg,Cymru Arthritis,ESCAPEE CY,Gweithgarwch Corfforol
ATTACH;FMTTYPE=image/jpeg:https://keepingmewell.com/wp-content/uploads/2022/12/Better-Escape-logos.jpg
END:VEVENT
BEGIN:VEVENT
DTSTART;TZID=Europe/London:20290928T103000
DTEND;TZID=Europe/London:20290928T113000
DTSTAMP:20260422T065257
CREATED:20231024T101903Z
LAST-MODIFIED:20231024T101903Z
UID:10026686-1885285800-1885289400@keepingmewell.com
SUMMARY:ESCAPEE yn y Tyllgoed
DESCRIPTION:Mae digwyddiadau ESCAPEE yn sesiynau ymarfer corff dilynol i bobl sydd wedi cyflawni’r rhaglen Escape Pain ar gyfer poen clun\, pen-glin neu gefn. \nMae croeso i chi alw heibio a chymryd rhan mewn ymarfer corff sydd wedi’i gynllunio i wella eich symudiad a’ch swyddogaeth. \nYng Nghanolfan Hamdden y Tyllgoed bob dydd Gwener\, 10.30am.
URL:https://keepingmewell.com/event/escapee-yn-y-tyllgoed/2029-09-28/
LOCATION:Canolfan Hamdden y Tyllgoed\, Heol Waterhall\, y Tyllgoed\, Caerdydd\, CF5 3LL
CATEGORIES:Cymraeg,Cymru Arthritis,ESCAPEE CY,Gweithgarwch Corfforol
ATTACH;FMTTYPE=image/jpeg:https://keepingmewell.com/wp-content/uploads/2022/12/Better-Escape-logos.jpg
END:VEVENT
BEGIN:VEVENT
DTSTART;TZID=Europe/London:20291005T103000
DTEND;TZID=Europe/London:20291005T113000
DTSTAMP:20260422T065257
CREATED:20231024T101903Z
LAST-MODIFIED:20231024T101903Z
UID:10026687-1885890600-1885894200@keepingmewell.com
SUMMARY:ESCAPEE yn y Tyllgoed
DESCRIPTION:Mae digwyddiadau ESCAPEE yn sesiynau ymarfer corff dilynol i bobl sydd wedi cyflawni’r rhaglen Escape Pain ar gyfer poen clun\, pen-glin neu gefn. \nMae croeso i chi alw heibio a chymryd rhan mewn ymarfer corff sydd wedi’i gynllunio i wella eich symudiad a’ch swyddogaeth. \nYng Nghanolfan Hamdden y Tyllgoed bob dydd Gwener\, 10.30am.
URL:https://keepingmewell.com/event/escapee-yn-y-tyllgoed/2029-10-05/
LOCATION:Canolfan Hamdden y Tyllgoed\, Heol Waterhall\, y Tyllgoed\, Caerdydd\, CF5 3LL
CATEGORIES:Cymraeg,Cymru Arthritis,ESCAPEE CY,Gweithgarwch Corfforol
ATTACH;FMTTYPE=image/jpeg:https://keepingmewell.com/wp-content/uploads/2022/12/Better-Escape-logos.jpg
END:VEVENT
BEGIN:VEVENT
DTSTART;TZID=Europe/London:20291012T103000
DTEND;TZID=Europe/London:20291012T113000
DTSTAMP:20260422T065257
CREATED:20231024T101903Z
LAST-MODIFIED:20231024T101903Z
UID:10026688-1886495400-1886499000@keepingmewell.com
SUMMARY:ESCAPEE yn y Tyllgoed
DESCRIPTION:Mae digwyddiadau ESCAPEE yn sesiynau ymarfer corff dilynol i bobl sydd wedi cyflawni’r rhaglen Escape Pain ar gyfer poen clun\, pen-glin neu gefn. \nMae croeso i chi alw heibio a chymryd rhan mewn ymarfer corff sydd wedi’i gynllunio i wella eich symudiad a’ch swyddogaeth. \nYng Nghanolfan Hamdden y Tyllgoed bob dydd Gwener\, 10.30am.
URL:https://keepingmewell.com/event/escapee-yn-y-tyllgoed/2029-10-12/
LOCATION:Canolfan Hamdden y Tyllgoed\, Heol Waterhall\, y Tyllgoed\, Caerdydd\, CF5 3LL
CATEGORIES:Cymraeg,Cymru Arthritis,ESCAPEE CY,Gweithgarwch Corfforol
ATTACH;FMTTYPE=image/jpeg:https://keepingmewell.com/wp-content/uploads/2022/12/Better-Escape-logos.jpg
END:VEVENT
BEGIN:VEVENT
DTSTART;TZID=Europe/London:20291019T103000
DTEND;TZID=Europe/London:20291019T113000
DTSTAMP:20260422T065257
CREATED:20231024T101903Z
LAST-MODIFIED:20231024T101903Z
UID:10026689-1887100200-1887103800@keepingmewell.com
SUMMARY:ESCAPEE yn y Tyllgoed
DESCRIPTION:Mae digwyddiadau ESCAPEE yn sesiynau ymarfer corff dilynol i bobl sydd wedi cyflawni’r rhaglen Escape Pain ar gyfer poen clun\, pen-glin neu gefn. \nMae croeso i chi alw heibio a chymryd rhan mewn ymarfer corff sydd wedi’i gynllunio i wella eich symudiad a’ch swyddogaeth. \nYng Nghanolfan Hamdden y Tyllgoed bob dydd Gwener\, 10.30am.
URL:https://keepingmewell.com/event/escapee-yn-y-tyllgoed/2029-10-19/
LOCATION:Canolfan Hamdden y Tyllgoed\, Heol Waterhall\, y Tyllgoed\, Caerdydd\, CF5 3LL
CATEGORIES:Cymraeg,Cymru Arthritis,ESCAPEE CY,Gweithgarwch Corfforol
ATTACH;FMTTYPE=image/jpeg:https://keepingmewell.com/wp-content/uploads/2022/12/Better-Escape-logos.jpg
END:VEVENT
BEGIN:VEVENT
DTSTART;TZID=Europe/London:20291026T103000
DTEND;TZID=Europe/London:20291026T113000
DTSTAMP:20260422T065257
CREATED:20231024T101903Z
LAST-MODIFIED:20231024T101903Z
UID:10026690-1887705000-1887708600@keepingmewell.com
SUMMARY:ESCAPEE yn y Tyllgoed
DESCRIPTION:Mae digwyddiadau ESCAPEE yn sesiynau ymarfer corff dilynol i bobl sydd wedi cyflawni’r rhaglen Escape Pain ar gyfer poen clun\, pen-glin neu gefn. \nMae croeso i chi alw heibio a chymryd rhan mewn ymarfer corff sydd wedi’i gynllunio i wella eich symudiad a’ch swyddogaeth. \nYng Nghanolfan Hamdden y Tyllgoed bob dydd Gwener\, 10.30am.
URL:https://keepingmewell.com/event/escapee-yn-y-tyllgoed/2029-10-26/
LOCATION:Canolfan Hamdden y Tyllgoed\, Heol Waterhall\, y Tyllgoed\, Caerdydd\, CF5 3LL
CATEGORIES:Cymraeg,Cymru Arthritis,ESCAPEE CY,Gweithgarwch Corfforol
ATTACH;FMTTYPE=image/jpeg:https://keepingmewell.com/wp-content/uploads/2022/12/Better-Escape-logos.jpg
END:VEVENT
BEGIN:VEVENT
DTSTART;TZID=Europe/London:20291102T103000
DTEND;TZID=Europe/London:20291102T113000
DTSTAMP:20260422T065257
CREATED:20231024T101903Z
LAST-MODIFIED:20231024T101903Z
UID:10026691-1888309800-1888313400@keepingmewell.com
SUMMARY:ESCAPEE yn y Tyllgoed
DESCRIPTION:Mae digwyddiadau ESCAPEE yn sesiynau ymarfer corff dilynol i bobl sydd wedi cyflawni’r rhaglen Escape Pain ar gyfer poen clun\, pen-glin neu gefn. \nMae croeso i chi alw heibio a chymryd rhan mewn ymarfer corff sydd wedi’i gynllunio i wella eich symudiad a’ch swyddogaeth. \nYng Nghanolfan Hamdden y Tyllgoed bob dydd Gwener\, 10.30am.
URL:https://keepingmewell.com/event/escapee-yn-y-tyllgoed/2029-11-02/
LOCATION:Canolfan Hamdden y Tyllgoed\, Heol Waterhall\, y Tyllgoed\, Caerdydd\, CF5 3LL
CATEGORIES:Cymraeg,Cymru Arthritis,ESCAPEE CY,Gweithgarwch Corfforol
ATTACH;FMTTYPE=image/jpeg:https://keepingmewell.com/wp-content/uploads/2022/12/Better-Escape-logos.jpg
END:VEVENT
BEGIN:VEVENT
DTSTART;TZID=Europe/London:20291109T103000
DTEND;TZID=Europe/London:20291109T113000
DTSTAMP:20260422T065257
CREATED:20231024T101903Z
LAST-MODIFIED:20231024T101903Z
UID:10026692-1888914600-1888918200@keepingmewell.com
SUMMARY:ESCAPEE yn y Tyllgoed
DESCRIPTION:Mae digwyddiadau ESCAPEE yn sesiynau ymarfer corff dilynol i bobl sydd wedi cyflawni’r rhaglen Escape Pain ar gyfer poen clun\, pen-glin neu gefn. \nMae croeso i chi alw heibio a chymryd rhan mewn ymarfer corff sydd wedi’i gynllunio i wella eich symudiad a’ch swyddogaeth. \nYng Nghanolfan Hamdden y Tyllgoed bob dydd Gwener\, 10.30am.
URL:https://keepingmewell.com/event/escapee-yn-y-tyllgoed/2029-11-09/
LOCATION:Canolfan Hamdden y Tyllgoed\, Heol Waterhall\, y Tyllgoed\, Caerdydd\, CF5 3LL
CATEGORIES:Cymraeg,Cymru Arthritis,ESCAPEE CY,Gweithgarwch Corfforol
ATTACH;FMTTYPE=image/jpeg:https://keepingmewell.com/wp-content/uploads/2022/12/Better-Escape-logos.jpg
END:VEVENT
END:VCALENDAR