BEGIN:VCALENDAR
VERSION:2.0
PRODID:-//Keeping Me Well - ECPv6.15.16//NONSGML v1.0//EN
CALSCALE:GREGORIAN
METHOD:PUBLISH
X-WR-CALNAME:Keeping Me Well
X-ORIGINAL-URL:https://keepingmewell.com
X-WR-CALDESC:Events for Keeping Me Well
REFRESH-INTERVAL;VALUE=DURATION:PT1H
X-Robots-Tag:noindex
X-PUBLISHED-TTL:PT1H
BEGIN:VTIMEZONE
TZID:Europe/London
BEGIN:DAYLIGHT
TZOFFSETFROM:+0000
TZOFFSETTO:+0100
TZNAME:BST
DTSTART:20250330T010000
END:DAYLIGHT
BEGIN:STANDARD
TZOFFSETFROM:+0100
TZOFFSETTO:+0000
TZNAME:GMT
DTSTART:20251026T010000
END:STANDARD
BEGIN:DAYLIGHT
TZOFFSETFROM:+0000
TZOFFSETTO:+0100
TZNAME:BST
DTSTART:20260329T010000
END:DAYLIGHT
BEGIN:STANDARD
TZOFFSETFROM:+0100
TZOFFSETTO:+0000
TZNAME:GMT
DTSTART:20261025T010000
END:STANDARD
BEGIN:DAYLIGHT
TZOFFSETFROM:+0000
TZOFFSETTO:+0100
TZNAME:BST
DTSTART:20270328T010000
END:DAYLIGHT
BEGIN:STANDARD
TZOFFSETFROM:+0100
TZOFFSETTO:+0000
TZNAME:GMT
DTSTART:20271031T010000
END:STANDARD
END:VTIMEZONE
BEGIN:VEVENT
DTSTART;TZID=Europe/London:20260220T103000
DTEND;TZID=Europe/London:20260220T113000
DTSTAMP:20260219T165209
CREATED:20231024T101140Z
LAST-MODIFIED:20231024T101140Z
UID:10008971-1771583400-1771587000@keepingmewell.com
SUMMARY:ESCAPEE Event in Fairwater
DESCRIPTION:The ESCAPEE events are follow-up exercise sessions for people who have attended the Escape Pain programme for hip\, knee or back pain. \nYou are welcome to drop-in and take part in exercise designed to improve your movement and function. \nAt Fairwater Leisure Centre every Friday\, 10.30-11.30am.
URL:https://keepingmewell.com/event/escapee-event-in-fairwater/2026-02-20/
LOCATION:Fairwater Leisure Centre\, Waterhall Road\, Cardiff\, CF5 3LL\, United Kingdom
CATEGORIES:Arthritis,English,ESCAPEE,Physical Activity
ATTACH;FMTTYPE=image/jpeg:https://keepingmewell.com/wp-content/uploads/2022/12/Better-Escape-logos.jpg
END:VEVENT
BEGIN:VEVENT
DTSTART;TZID=Europe/London:20260227T103000
DTEND;TZID=Europe/London:20260227T113000
DTSTAMP:20260219T165209
CREATED:20231024T101140Z
LAST-MODIFIED:20231024T101140Z
UID:10008972-1772188200-1772191800@keepingmewell.com
SUMMARY:ESCAPEE Event in Fairwater
DESCRIPTION:The ESCAPEE events are follow-up exercise sessions for people who have attended the Escape Pain programme for hip\, knee or back pain. \nYou are welcome to drop-in and take part in exercise designed to improve your movement and function. \nAt Fairwater Leisure Centre every Friday\, 10.30-11.30am.
URL:https://keepingmewell.com/event/escapee-event-in-fairwater/2026-02-27/
LOCATION:Fairwater Leisure Centre\, Waterhall Road\, Cardiff\, CF5 3LL\, United Kingdom
CATEGORIES:Arthritis,English,ESCAPEE,Physical Activity
ATTACH;FMTTYPE=image/jpeg:https://keepingmewell.com/wp-content/uploads/2022/12/Better-Escape-logos.jpg
END:VEVENT
BEGIN:VEVENT
DTSTART;TZID=Europe/London:20260306T103000
DTEND;TZID=Europe/London:20260306T113000
DTSTAMP:20260219T165209
CREATED:20231024T101140Z
LAST-MODIFIED:20231024T101140Z
UID:10008973-1772793000-1772796600@keepingmewell.com
SUMMARY:ESCAPEE Event in Fairwater
DESCRIPTION:The ESCAPEE events are follow-up exercise sessions for people who have attended the Escape Pain programme for hip\, knee or back pain. \nYou are welcome to drop-in and take part in exercise designed to improve your movement and function. \nAt Fairwater Leisure Centre every Friday\, 10.30-11.30am.
URL:https://keepingmewell.com/event/escapee-event-in-fairwater/2026-03-06/
LOCATION:Fairwater Leisure Centre\, Waterhall Road\, Cardiff\, CF5 3LL\, United Kingdom
CATEGORIES:Arthritis,English,ESCAPEE,Physical Activity
ATTACH;FMTTYPE=image/jpeg:https://keepingmewell.com/wp-content/uploads/2022/12/Better-Escape-logos.jpg
END:VEVENT
BEGIN:VEVENT
DTSTART;TZID=Europe/London:20260313T103000
DTEND;TZID=Europe/London:20260313T113000
DTSTAMP:20260219T165209
CREATED:20231024T101140Z
LAST-MODIFIED:20231024T101140Z
UID:10008974-1773397800-1773401400@keepingmewell.com
SUMMARY:ESCAPEE Event in Fairwater
DESCRIPTION:The ESCAPEE events are follow-up exercise sessions for people who have attended the Escape Pain programme for hip\, knee or back pain. \nYou are welcome to drop-in and take part in exercise designed to improve your movement and function. \nAt Fairwater Leisure Centre every Friday\, 10.30-11.30am.
URL:https://keepingmewell.com/event/escapee-event-in-fairwater/2026-03-13/
LOCATION:Fairwater Leisure Centre\, Waterhall Road\, Cardiff\, CF5 3LL\, United Kingdom
CATEGORIES:Arthritis,English,ESCAPEE,Physical Activity
ATTACH;FMTTYPE=image/jpeg:https://keepingmewell.com/wp-content/uploads/2022/12/Better-Escape-logos.jpg
END:VEVENT
BEGIN:VEVENT
DTSTART;TZID=Europe/London:20260320T103000
DTEND;TZID=Europe/London:20260320T113000
DTSTAMP:20260219T165209
CREATED:20231024T101140Z
LAST-MODIFIED:20231024T101140Z
UID:10008975-1774002600-1774006200@keepingmewell.com
SUMMARY:ESCAPEE Event in Fairwater
DESCRIPTION:The ESCAPEE events are follow-up exercise sessions for people who have attended the Escape Pain programme for hip\, knee or back pain. \nYou are welcome to drop-in and take part in exercise designed to improve your movement and function. \nAt Fairwater Leisure Centre every Friday\, 10.30-11.30am.
URL:https://keepingmewell.com/event/escapee-event-in-fairwater/2026-03-20/
LOCATION:Fairwater Leisure Centre\, Waterhall Road\, Cardiff\, CF5 3LL\, United Kingdom
CATEGORIES:Arthritis,English,ESCAPEE,Physical Activity
ATTACH;FMTTYPE=image/jpeg:https://keepingmewell.com/wp-content/uploads/2022/12/Better-Escape-logos.jpg
END:VEVENT
BEGIN:VEVENT
DTSTART;TZID=Europe/London:20260327T103000
DTEND;TZID=Europe/London:20260327T113000
DTSTAMP:20260219T165209
CREATED:20231024T101140Z
LAST-MODIFIED:20231024T101140Z
UID:10008976-1774607400-1774611000@keepingmewell.com
SUMMARY:ESCAPEE Event in Fairwater
DESCRIPTION:The ESCAPEE events are follow-up exercise sessions for people who have attended the Escape Pain programme for hip\, knee or back pain. \nYou are welcome to drop-in and take part in exercise designed to improve your movement and function. \nAt Fairwater Leisure Centre every Friday\, 10.30-11.30am.
URL:https://keepingmewell.com/event/escapee-event-in-fairwater/2026-03-27/
LOCATION:Fairwater Leisure Centre\, Waterhall Road\, Cardiff\, CF5 3LL\, United Kingdom
CATEGORIES:Arthritis,English,ESCAPEE,Physical Activity
ATTACH;FMTTYPE=image/jpeg:https://keepingmewell.com/wp-content/uploads/2022/12/Better-Escape-logos.jpg
END:VEVENT
BEGIN:VEVENT
DTSTART;TZID=Europe/London:20260403T103000
DTEND;TZID=Europe/London:20260403T113000
DTSTAMP:20260219T165209
CREATED:20231024T101140Z
LAST-MODIFIED:20231024T101140Z
UID:10008977-1775212200-1775215800@keepingmewell.com
SUMMARY:ESCAPEE Event in Fairwater
DESCRIPTION:The ESCAPEE events are follow-up exercise sessions for people who have attended the Escape Pain programme for hip\, knee or back pain. \nYou are welcome to drop-in and take part in exercise designed to improve your movement and function. \nAt Fairwater Leisure Centre every Friday\, 10.30-11.30am.
URL:https://keepingmewell.com/event/escapee-event-in-fairwater/2026-04-03/
LOCATION:Fairwater Leisure Centre\, Waterhall Road\, Cardiff\, CF5 3LL\, United Kingdom
CATEGORIES:Arthritis,English,ESCAPEE,Physical Activity
ATTACH;FMTTYPE=image/jpeg:https://keepingmewell.com/wp-content/uploads/2022/12/Better-Escape-logos.jpg
END:VEVENT
BEGIN:VEVENT
DTSTART;TZID=Europe/London:20260410T103000
DTEND;TZID=Europe/London:20260410T113000
DTSTAMP:20260219T165209
CREATED:20231024T101140Z
LAST-MODIFIED:20231024T101140Z
UID:10008978-1775817000-1775820600@keepingmewell.com
SUMMARY:ESCAPEE Event in Fairwater
DESCRIPTION:The ESCAPEE events are follow-up exercise sessions for people who have attended the Escape Pain programme for hip\, knee or back pain. \nYou are welcome to drop-in and take part in exercise designed to improve your movement and function. \nAt Fairwater Leisure Centre every Friday\, 10.30-11.30am.
URL:https://keepingmewell.com/event/escapee-event-in-fairwater/2026-04-10/
LOCATION:Fairwater Leisure Centre\, Waterhall Road\, Cardiff\, CF5 3LL\, United Kingdom
CATEGORIES:Arthritis,English,ESCAPEE,Physical Activity
ATTACH;FMTTYPE=image/jpeg:https://keepingmewell.com/wp-content/uploads/2022/12/Better-Escape-logos.jpg
END:VEVENT
BEGIN:VEVENT
DTSTART;TZID=Europe/London:20260417T103000
DTEND;TZID=Europe/London:20260417T113000
DTSTAMP:20260219T165209
CREATED:20231024T101140Z
LAST-MODIFIED:20231024T101140Z
UID:10008979-1776421800-1776425400@keepingmewell.com
SUMMARY:ESCAPEE Event in Fairwater
DESCRIPTION:The ESCAPEE events are follow-up exercise sessions for people who have attended the Escape Pain programme for hip\, knee or back pain. \nYou are welcome to drop-in and take part in exercise designed to improve your movement and function. \nAt Fairwater Leisure Centre every Friday\, 10.30-11.30am.
URL:https://keepingmewell.com/event/escapee-event-in-fairwater/2026-04-17/
LOCATION:Fairwater Leisure Centre\, Waterhall Road\, Cardiff\, CF5 3LL\, United Kingdom
CATEGORIES:Arthritis,English,ESCAPEE,Physical Activity
ATTACH;FMTTYPE=image/jpeg:https://keepingmewell.com/wp-content/uploads/2022/12/Better-Escape-logos.jpg
END:VEVENT
BEGIN:VEVENT
DTSTART;TZID=Europe/London:20260424T103000
DTEND;TZID=Europe/London:20260424T113000
DTSTAMP:20260219T165209
CREATED:20231024T101140Z
LAST-MODIFIED:20231024T101140Z
UID:10008980-1777026600-1777030200@keepingmewell.com
SUMMARY:ESCAPEE Event in Fairwater
DESCRIPTION:The ESCAPEE events are follow-up exercise sessions for people who have attended the Escape Pain programme for hip\, knee or back pain. \nYou are welcome to drop-in and take part in exercise designed to improve your movement and function. \nAt Fairwater Leisure Centre every Friday\, 10.30-11.30am.
URL:https://keepingmewell.com/event/escapee-event-in-fairwater/2026-04-24/
LOCATION:Fairwater Leisure Centre\, Waterhall Road\, Cardiff\, CF5 3LL\, United Kingdom
CATEGORIES:Arthritis,English,ESCAPEE,Physical Activity
ATTACH;FMTTYPE=image/jpeg:https://keepingmewell.com/wp-content/uploads/2022/12/Better-Escape-logos.jpg
END:VEVENT
BEGIN:VEVENT
DTSTART;TZID=Europe/London:20260501T103000
DTEND;TZID=Europe/London:20260501T113000
DTSTAMP:20260219T165209
CREATED:20231024T101140Z
LAST-MODIFIED:20231024T101140Z
UID:10008981-1777631400-1777635000@keepingmewell.com
SUMMARY:ESCAPEE Event in Fairwater
DESCRIPTION:The ESCAPEE events are follow-up exercise sessions for people who have attended the Escape Pain programme for hip\, knee or back pain. \nYou are welcome to drop-in and take part in exercise designed to improve your movement and function. \nAt Fairwater Leisure Centre every Friday\, 10.30-11.30am.
URL:https://keepingmewell.com/event/escapee-event-in-fairwater/2026-05-01/
LOCATION:Fairwater Leisure Centre\, Waterhall Road\, Cardiff\, CF5 3LL\, United Kingdom
CATEGORIES:Arthritis,English,ESCAPEE,Physical Activity
ATTACH;FMTTYPE=image/jpeg:https://keepingmewell.com/wp-content/uploads/2022/12/Better-Escape-logos.jpg
END:VEVENT
BEGIN:VEVENT
DTSTART;TZID=Europe/London:20260508T103000
DTEND;TZID=Europe/London:20260508T113000
DTSTAMP:20260219T165209
CREATED:20231024T101140Z
LAST-MODIFIED:20231024T101140Z
UID:10008982-1778236200-1778239800@keepingmewell.com
SUMMARY:ESCAPEE Event in Fairwater
DESCRIPTION:The ESCAPEE events are follow-up exercise sessions for people who have attended the Escape Pain programme for hip\, knee or back pain. \nYou are welcome to drop-in and take part in exercise designed to improve your movement and function. \nAt Fairwater Leisure Centre every Friday\, 10.30-11.30am.
URL:https://keepingmewell.com/event/escapee-event-in-fairwater/2026-05-08/
LOCATION:Fairwater Leisure Centre\, Waterhall Road\, Cardiff\, CF5 3LL\, United Kingdom
CATEGORIES:Arthritis,English,ESCAPEE,Physical Activity
ATTACH;FMTTYPE=image/jpeg:https://keepingmewell.com/wp-content/uploads/2022/12/Better-Escape-logos.jpg
END:VEVENT
BEGIN:VEVENT
DTSTART;TZID=Europe/London:20260515T103000
DTEND;TZID=Europe/London:20260515T113000
DTSTAMP:20260219T165209
CREATED:20231024T101140Z
LAST-MODIFIED:20231024T101140Z
UID:10008983-1778841000-1778844600@keepingmewell.com
SUMMARY:ESCAPEE Event in Fairwater
DESCRIPTION:The ESCAPEE events are follow-up exercise sessions for people who have attended the Escape Pain programme for hip\, knee or back pain. \nYou are welcome to drop-in and take part in exercise designed to improve your movement and function. \nAt Fairwater Leisure Centre every Friday\, 10.30-11.30am.
URL:https://keepingmewell.com/event/escapee-event-in-fairwater/2026-05-15/
LOCATION:Fairwater Leisure Centre\, Waterhall Road\, Cardiff\, CF5 3LL\, United Kingdom
CATEGORIES:Arthritis,English,ESCAPEE,Physical Activity
ATTACH;FMTTYPE=image/jpeg:https://keepingmewell.com/wp-content/uploads/2022/12/Better-Escape-logos.jpg
END:VEVENT
BEGIN:VEVENT
DTSTART;TZID=Europe/London:20260522T103000
DTEND;TZID=Europe/London:20260522T113000
DTSTAMP:20260219T165209
CREATED:20231024T101140Z
LAST-MODIFIED:20231024T101140Z
UID:10008984-1779445800-1779449400@keepingmewell.com
SUMMARY:ESCAPEE Event in Fairwater
DESCRIPTION:The ESCAPEE events are follow-up exercise sessions for people who have attended the Escape Pain programme for hip\, knee or back pain. \nYou are welcome to drop-in and take part in exercise designed to improve your movement and function. \nAt Fairwater Leisure Centre every Friday\, 10.30-11.30am.
URL:https://keepingmewell.com/event/escapee-event-in-fairwater/2026-05-22/
LOCATION:Fairwater Leisure Centre\, Waterhall Road\, Cardiff\, CF5 3LL\, United Kingdom
CATEGORIES:Arthritis,English,ESCAPEE,Physical Activity
ATTACH;FMTTYPE=image/jpeg:https://keepingmewell.com/wp-content/uploads/2022/12/Better-Escape-logos.jpg
END:VEVENT
BEGIN:VEVENT
DTSTART;TZID=Europe/London:20260529T103000
DTEND;TZID=Europe/London:20260529T113000
DTSTAMP:20260219T165209
CREATED:20231024T101140Z
LAST-MODIFIED:20231024T101140Z
UID:10008985-1780050600-1780054200@keepingmewell.com
SUMMARY:ESCAPEE Event in Fairwater
DESCRIPTION:The ESCAPEE events are follow-up exercise sessions for people who have attended the Escape Pain programme for hip\, knee or back pain. \nYou are welcome to drop-in and take part in exercise designed to improve your movement and function. \nAt Fairwater Leisure Centre every Friday\, 10.30-11.30am.
URL:https://keepingmewell.com/event/escapee-event-in-fairwater/2026-05-29/
LOCATION:Fairwater Leisure Centre\, Waterhall Road\, Cardiff\, CF5 3LL\, United Kingdom
CATEGORIES:Arthritis,English,ESCAPEE,Physical Activity
ATTACH;FMTTYPE=image/jpeg:https://keepingmewell.com/wp-content/uploads/2022/12/Better-Escape-logos.jpg
END:VEVENT
BEGIN:VEVENT
DTSTART;TZID=Europe/London:20260605T103000
DTEND;TZID=Europe/London:20260605T113000
DTSTAMP:20260219T165209
CREATED:20231024T101140Z
LAST-MODIFIED:20231024T101140Z
UID:10008986-1780655400-1780659000@keepingmewell.com
SUMMARY:ESCAPEE Event in Fairwater
DESCRIPTION:The ESCAPEE events are follow-up exercise sessions for people who have attended the Escape Pain programme for hip\, knee or back pain. \nYou are welcome to drop-in and take part in exercise designed to improve your movement and function. \nAt Fairwater Leisure Centre every Friday\, 10.30-11.30am.
URL:https://keepingmewell.com/event/escapee-event-in-fairwater/2026-06-05/
LOCATION:Fairwater Leisure Centre\, Waterhall Road\, Cardiff\, CF5 3LL\, United Kingdom
CATEGORIES:Arthritis,English,ESCAPEE,Physical Activity
ATTACH;FMTTYPE=image/jpeg:https://keepingmewell.com/wp-content/uploads/2022/12/Better-Escape-logos.jpg
END:VEVENT
BEGIN:VEVENT
DTSTART;TZID=Europe/London:20260612T103000
DTEND;TZID=Europe/London:20260612T113000
DTSTAMP:20260219T165209
CREATED:20231024T101140Z
LAST-MODIFIED:20231024T101140Z
UID:10008987-1781260200-1781263800@keepingmewell.com
SUMMARY:ESCAPEE Event in Fairwater
DESCRIPTION:The ESCAPEE events are follow-up exercise sessions for people who have attended the Escape Pain programme for hip\, knee or back pain. \nYou are welcome to drop-in and take part in exercise designed to improve your movement and function. \nAt Fairwater Leisure Centre every Friday\, 10.30-11.30am.
URL:https://keepingmewell.com/event/escapee-event-in-fairwater/2026-06-12/
LOCATION:Fairwater Leisure Centre\, Waterhall Road\, Cardiff\, CF5 3LL\, United Kingdom
CATEGORIES:Arthritis,English,ESCAPEE,Physical Activity
ATTACH;FMTTYPE=image/jpeg:https://keepingmewell.com/wp-content/uploads/2022/12/Better-Escape-logos.jpg
END:VEVENT
BEGIN:VEVENT
DTSTART;TZID=Europe/London:20260619T103000
DTEND;TZID=Europe/London:20260619T113000
DTSTAMP:20260219T165209
CREATED:20231024T101140Z
LAST-MODIFIED:20231024T101140Z
UID:10008988-1781865000-1781868600@keepingmewell.com
SUMMARY:ESCAPEE Event in Fairwater
DESCRIPTION:The ESCAPEE events are follow-up exercise sessions for people who have attended the Escape Pain programme for hip\, knee or back pain. \nYou are welcome to drop-in and take part in exercise designed to improve your movement and function. \nAt Fairwater Leisure Centre every Friday\, 10.30-11.30am.
URL:https://keepingmewell.com/event/escapee-event-in-fairwater/2026-06-19/
LOCATION:Fairwater Leisure Centre\, Waterhall Road\, Cardiff\, CF5 3LL\, United Kingdom
CATEGORIES:Arthritis,English,ESCAPEE,Physical Activity
ATTACH;FMTTYPE=image/jpeg:https://keepingmewell.com/wp-content/uploads/2022/12/Better-Escape-logos.jpg
END:VEVENT
BEGIN:VEVENT
DTSTART;TZID=Europe/London:20260626T103000
DTEND;TZID=Europe/London:20260626T113000
DTSTAMP:20260219T165209
CREATED:20231024T101140Z
LAST-MODIFIED:20231024T101140Z
UID:10008989-1782469800-1782473400@keepingmewell.com
SUMMARY:ESCAPEE Event in Fairwater
DESCRIPTION:The ESCAPEE events are follow-up exercise sessions for people who have attended the Escape Pain programme for hip\, knee or back pain. \nYou are welcome to drop-in and take part in exercise designed to improve your movement and function. \nAt Fairwater Leisure Centre every Friday\, 10.30-11.30am.
URL:https://keepingmewell.com/event/escapee-event-in-fairwater/2026-06-26/
LOCATION:Fairwater Leisure Centre\, Waterhall Road\, Cardiff\, CF5 3LL\, United Kingdom
CATEGORIES:Arthritis,English,ESCAPEE,Physical Activity
ATTACH;FMTTYPE=image/jpeg:https://keepingmewell.com/wp-content/uploads/2022/12/Better-Escape-logos.jpg
END:VEVENT
BEGIN:VEVENT
DTSTART;TZID=Europe/London:20260703T103000
DTEND;TZID=Europe/London:20260703T113000
DTSTAMP:20260219T165209
CREATED:20231024T101140Z
LAST-MODIFIED:20231024T101140Z
UID:10008990-1783074600-1783078200@keepingmewell.com
SUMMARY:ESCAPEE Event in Fairwater
DESCRIPTION:The ESCAPEE events are follow-up exercise sessions for people who have attended the Escape Pain programme for hip\, knee or back pain. \nYou are welcome to drop-in and take part in exercise designed to improve your movement and function. \nAt Fairwater Leisure Centre every Friday\, 10.30-11.30am.
URL:https://keepingmewell.com/event/escapee-event-in-fairwater/2026-07-03/
LOCATION:Fairwater Leisure Centre\, Waterhall Road\, Cardiff\, CF5 3LL\, United Kingdom
CATEGORIES:Arthritis,English,ESCAPEE,Physical Activity
ATTACH;FMTTYPE=image/jpeg:https://keepingmewell.com/wp-content/uploads/2022/12/Better-Escape-logos.jpg
END:VEVENT
BEGIN:VEVENT
DTSTART;TZID=Europe/London:20260710T103000
DTEND;TZID=Europe/London:20260710T113000
DTSTAMP:20260219T165209
CREATED:20231024T101140Z
LAST-MODIFIED:20231024T101140Z
UID:10008991-1783679400-1783683000@keepingmewell.com
SUMMARY:ESCAPEE Event in Fairwater
DESCRIPTION:The ESCAPEE events are follow-up exercise sessions for people who have attended the Escape Pain programme for hip\, knee or back pain. \nYou are welcome to drop-in and take part in exercise designed to improve your movement and function. \nAt Fairwater Leisure Centre every Friday\, 10.30-11.30am.
URL:https://keepingmewell.com/event/escapee-event-in-fairwater/2026-07-10/
LOCATION:Fairwater Leisure Centre\, Waterhall Road\, Cardiff\, CF5 3LL\, United Kingdom
CATEGORIES:Arthritis,English,ESCAPEE,Physical Activity
ATTACH;FMTTYPE=image/jpeg:https://keepingmewell.com/wp-content/uploads/2022/12/Better-Escape-logos.jpg
END:VEVENT
BEGIN:VEVENT
DTSTART;TZID=Europe/London:20260717T103000
DTEND;TZID=Europe/London:20260717T113000
DTSTAMP:20260219T165209
CREATED:20231024T101140Z
LAST-MODIFIED:20231024T101140Z
UID:10008992-1784284200-1784287800@keepingmewell.com
SUMMARY:ESCAPEE Event in Fairwater
DESCRIPTION:The ESCAPEE events are follow-up exercise sessions for people who have attended the Escape Pain programme for hip\, knee or back pain. \nYou are welcome to drop-in and take part in exercise designed to improve your movement and function. \nAt Fairwater Leisure Centre every Friday\, 10.30-11.30am.
URL:https://keepingmewell.com/event/escapee-event-in-fairwater/2026-07-17/
LOCATION:Fairwater Leisure Centre\, Waterhall Road\, Cardiff\, CF5 3LL\, United Kingdom
CATEGORIES:Arthritis,English,ESCAPEE,Physical Activity
ATTACH;FMTTYPE=image/jpeg:https://keepingmewell.com/wp-content/uploads/2022/12/Better-Escape-logos.jpg
END:VEVENT
BEGIN:VEVENT
DTSTART;TZID=Europe/London:20260724T103000
DTEND;TZID=Europe/London:20260724T113000
DTSTAMP:20260219T165209
CREATED:20231024T101140Z
LAST-MODIFIED:20231024T101140Z
UID:10008993-1784889000-1784892600@keepingmewell.com
SUMMARY:ESCAPEE Event in Fairwater
DESCRIPTION:The ESCAPEE events are follow-up exercise sessions for people who have attended the Escape Pain programme for hip\, knee or back pain. \nYou are welcome to drop-in and take part in exercise designed to improve your movement and function. \nAt Fairwater Leisure Centre every Friday\, 10.30-11.30am.
URL:https://keepingmewell.com/event/escapee-event-in-fairwater/2026-07-24/
LOCATION:Fairwater Leisure Centre\, Waterhall Road\, Cardiff\, CF5 3LL\, United Kingdom
CATEGORIES:Arthritis,English,ESCAPEE,Physical Activity
ATTACH;FMTTYPE=image/jpeg:https://keepingmewell.com/wp-content/uploads/2022/12/Better-Escape-logos.jpg
END:VEVENT
BEGIN:VEVENT
DTSTART;TZID=Europe/London:20260731T103000
DTEND;TZID=Europe/London:20260731T113000
DTSTAMP:20260219T165209
CREATED:20231024T101140Z
LAST-MODIFIED:20231024T101140Z
UID:10008994-1785493800-1785497400@keepingmewell.com
SUMMARY:ESCAPEE Event in Fairwater
DESCRIPTION:The ESCAPEE events are follow-up exercise sessions for people who have attended the Escape Pain programme for hip\, knee or back pain. \nYou are welcome to drop-in and take part in exercise designed to improve your movement and function. \nAt Fairwater Leisure Centre every Friday\, 10.30-11.30am.
URL:https://keepingmewell.com/event/escapee-event-in-fairwater/2026-07-31/
LOCATION:Fairwater Leisure Centre\, Waterhall Road\, Cardiff\, CF5 3LL\, United Kingdom
CATEGORIES:Arthritis,English,ESCAPEE,Physical Activity
ATTACH;FMTTYPE=image/jpeg:https://keepingmewell.com/wp-content/uploads/2022/12/Better-Escape-logos.jpg
END:VEVENT
BEGIN:VEVENT
DTSTART;TZID=Europe/London:20260807T103000
DTEND;TZID=Europe/London:20260807T113000
DTSTAMP:20260219T165209
CREATED:20231024T101140Z
LAST-MODIFIED:20231024T101140Z
UID:10008995-1786098600-1786102200@keepingmewell.com
SUMMARY:ESCAPEE Event in Fairwater
DESCRIPTION:The ESCAPEE events are follow-up exercise sessions for people who have attended the Escape Pain programme for hip\, knee or back pain. \nYou are welcome to drop-in and take part in exercise designed to improve your movement and function. \nAt Fairwater Leisure Centre every Friday\, 10.30-11.30am.
URL:https://keepingmewell.com/event/escapee-event-in-fairwater/2026-08-07/
LOCATION:Fairwater Leisure Centre\, Waterhall Road\, Cardiff\, CF5 3LL\, United Kingdom
CATEGORIES:Arthritis,English,ESCAPEE,Physical Activity
ATTACH;FMTTYPE=image/jpeg:https://keepingmewell.com/wp-content/uploads/2022/12/Better-Escape-logos.jpg
END:VEVENT
BEGIN:VEVENT
DTSTART;TZID=Europe/London:20260814T103000
DTEND;TZID=Europe/London:20260814T113000
DTSTAMP:20260219T165209
CREATED:20231024T101140Z
LAST-MODIFIED:20231024T101140Z
UID:10008996-1786703400-1786707000@keepingmewell.com
SUMMARY:ESCAPEE Event in Fairwater
DESCRIPTION:The ESCAPEE events are follow-up exercise sessions for people who have attended the Escape Pain programme for hip\, knee or back pain. \nYou are welcome to drop-in and take part in exercise designed to improve your movement and function. \nAt Fairwater Leisure Centre every Friday\, 10.30-11.30am.
URL:https://keepingmewell.com/event/escapee-event-in-fairwater/2026-08-14/
LOCATION:Fairwater Leisure Centre\, Waterhall Road\, Cardiff\, CF5 3LL\, United Kingdom
CATEGORIES:Arthritis,English,ESCAPEE,Physical Activity
ATTACH;FMTTYPE=image/jpeg:https://keepingmewell.com/wp-content/uploads/2022/12/Better-Escape-logos.jpg
END:VEVENT
BEGIN:VEVENT
DTSTART;TZID=Europe/London:20260821T103000
DTEND;TZID=Europe/London:20260821T113000
DTSTAMP:20260219T165209
CREATED:20231024T101140Z
LAST-MODIFIED:20231024T101140Z
UID:10008997-1787308200-1787311800@keepingmewell.com
SUMMARY:ESCAPEE Event in Fairwater
DESCRIPTION:The ESCAPEE events are follow-up exercise sessions for people who have attended the Escape Pain programme for hip\, knee or back pain. \nYou are welcome to drop-in and take part in exercise designed to improve your movement and function. \nAt Fairwater Leisure Centre every Friday\, 10.30-11.30am.
URL:https://keepingmewell.com/event/escapee-event-in-fairwater/2026-08-21/
LOCATION:Fairwater Leisure Centre\, Waterhall Road\, Cardiff\, CF5 3LL\, United Kingdom
CATEGORIES:Arthritis,English,ESCAPEE,Physical Activity
ATTACH;FMTTYPE=image/jpeg:https://keepingmewell.com/wp-content/uploads/2022/12/Better-Escape-logos.jpg
END:VEVENT
BEGIN:VEVENT
DTSTART;TZID=Europe/London:20260828T103000
DTEND;TZID=Europe/London:20260828T113000
DTSTAMP:20260219T165209
CREATED:20231024T101140Z
LAST-MODIFIED:20231024T101140Z
UID:10008998-1787913000-1787916600@keepingmewell.com
SUMMARY:ESCAPEE Event in Fairwater
DESCRIPTION:The ESCAPEE events are follow-up exercise sessions for people who have attended the Escape Pain programme for hip\, knee or back pain. \nYou are welcome to drop-in and take part in exercise designed to improve your movement and function. \nAt Fairwater Leisure Centre every Friday\, 10.30-11.30am.
URL:https://keepingmewell.com/event/escapee-event-in-fairwater/2026-08-28/
LOCATION:Fairwater Leisure Centre\, Waterhall Road\, Cardiff\, CF5 3LL\, United Kingdom
CATEGORIES:Arthritis,English,ESCAPEE,Physical Activity
ATTACH;FMTTYPE=image/jpeg:https://keepingmewell.com/wp-content/uploads/2022/12/Better-Escape-logos.jpg
END:VEVENT
BEGIN:VEVENT
DTSTART;TZID=Europe/London:20260904T103000
DTEND;TZID=Europe/London:20260904T113000
DTSTAMP:20260219T165209
CREATED:20231024T101140Z
LAST-MODIFIED:20231024T101140Z
UID:10008999-1788517800-1788521400@keepingmewell.com
SUMMARY:ESCAPEE Event in Fairwater
DESCRIPTION:The ESCAPEE events are follow-up exercise sessions for people who have attended the Escape Pain programme for hip\, knee or back pain. \nYou are welcome to drop-in and take part in exercise designed to improve your movement and function. \nAt Fairwater Leisure Centre every Friday\, 10.30-11.30am.
URL:https://keepingmewell.com/event/escapee-event-in-fairwater/2026-09-04/
LOCATION:Fairwater Leisure Centre\, Waterhall Road\, Cardiff\, CF5 3LL\, United Kingdom
CATEGORIES:Arthritis,English,ESCAPEE,Physical Activity
ATTACH;FMTTYPE=image/jpeg:https://keepingmewell.com/wp-content/uploads/2022/12/Better-Escape-logos.jpg
END:VEVENT
BEGIN:VEVENT
DTSTART;TZID=Europe/London:20260911T103000
DTEND;TZID=Europe/London:20260911T113000
DTSTAMP:20260219T165209
CREATED:20231024T101140Z
LAST-MODIFIED:20231024T101140Z
UID:10009000-1789122600-1789126200@keepingmewell.com
SUMMARY:ESCAPEE Event in Fairwater
DESCRIPTION:The ESCAPEE events are follow-up exercise sessions for people who have attended the Escape Pain programme for hip\, knee or back pain. \nYou are welcome to drop-in and take part in exercise designed to improve your movement and function. \nAt Fairwater Leisure Centre every Friday\, 10.30-11.30am.
URL:https://keepingmewell.com/event/escapee-event-in-fairwater/2026-09-11/
LOCATION:Fairwater Leisure Centre\, Waterhall Road\, Cardiff\, CF5 3LL\, United Kingdom
CATEGORIES:Arthritis,English,ESCAPEE,Physical Activity
ATTACH;FMTTYPE=image/jpeg:https://keepingmewell.com/wp-content/uploads/2022/12/Better-Escape-logos.jpg
END:VEVENT
END:VCALENDAR