BEGIN:VCALENDAR
VERSION:2.0
PRODID:-//Keeping Me Well - ECPv6.15.20//NONSGML v1.0//EN
CALSCALE:GREGORIAN
METHOD:PUBLISH
X-ORIGINAL-URL:https://keepingmewell.com
X-WR-CALDESC:Events for Keeping Me Well
REFRESH-INTERVAL;VALUE=DURATION:PT1H
X-Robots-Tag:noindex
X-PUBLISHED-TTL:PT1H
BEGIN:VTIMEZONE
TZID:Europe/London
BEGIN:DAYLIGHT
TZOFFSETFROM:+0000
TZOFFSETTO:+0100
TZNAME:BST
DTSTART:20260329T010000
END:DAYLIGHT
BEGIN:STANDARD
TZOFFSETFROM:+0100
TZOFFSETTO:+0000
TZNAME:GMT
DTSTART:20261025T010000
END:STANDARD
BEGIN:DAYLIGHT
TZOFFSETFROM:+0000
TZOFFSETTO:+0100
TZNAME:BST
DTSTART:20270328T010000
END:DAYLIGHT
BEGIN:STANDARD
TZOFFSETFROM:+0100
TZOFFSETTO:+0000
TZNAME:GMT
DTSTART:20271031T010000
END:STANDARD
BEGIN:DAYLIGHT
TZOFFSETFROM:+0000
TZOFFSETTO:+0100
TZNAME:BST
DTSTART:20280326T010000
END:DAYLIGHT
BEGIN:STANDARD
TZOFFSETFROM:+0100
TZOFFSETTO:+0000
TZNAME:GMT
DTSTART:20281029T010000
END:STANDARD
END:VTIMEZONE
BEGIN:VEVENT
DTSTART;TZID=Europe/London:20270402T103000
DTEND;TZID=Europe/London:20270402T113000
DTSTAMP:20260425T043546
CREATED:20231024T101140Z
LAST-MODIFIED:20231024T101140Z
UID:10009029-1806661800-1806665400@keepingmewell.com
SUMMARY:ESCAPEE Event in Fairwater
DESCRIPTION:The ESCAPEE events are follow-up exercise sessions for people who have attended the Escape Pain programme for hip\, knee or back pain. \nYou are welcome to drop-in and take part in exercise designed to improve your movement and function. \nAt Fairwater Leisure Centre every Friday\, 10.30-11.30am.
URL:https://keepingmewell.com/event/escapee-event-in-fairwater/2027-04-02/
LOCATION:Fairwater Leisure Centre\, Waterhall Road\, Cardiff\, CF5 3LL\, United Kingdom
CATEGORIES:Arthritis,English,ESCAPEE,Physical Activity
ATTACH;FMTTYPE=image/jpeg:https://keepingmewell.com/wp-content/uploads/2022/12/Better-Escape-logos.jpg
END:VEVENT
BEGIN:VEVENT
DTSTART;TZID=Europe/London:20270409T103000
DTEND;TZID=Europe/London:20270409T113000
DTSTAMP:20260425T043546
CREATED:20231024T101140Z
LAST-MODIFIED:20231024T101140Z
UID:10009030-1807266600-1807270200@keepingmewell.com
SUMMARY:ESCAPEE Event in Fairwater
DESCRIPTION:The ESCAPEE events are follow-up exercise sessions for people who have attended the Escape Pain programme for hip\, knee or back pain. \nYou are welcome to drop-in and take part in exercise designed to improve your movement and function. \nAt Fairwater Leisure Centre every Friday\, 10.30-11.30am.
URL:https://keepingmewell.com/event/escapee-event-in-fairwater/2027-04-09/
LOCATION:Fairwater Leisure Centre\, Waterhall Road\, Cardiff\, CF5 3LL\, United Kingdom
CATEGORIES:Arthritis,English,ESCAPEE,Physical Activity
ATTACH;FMTTYPE=image/jpeg:https://keepingmewell.com/wp-content/uploads/2022/12/Better-Escape-logos.jpg
END:VEVENT
BEGIN:VEVENT
DTSTART;TZID=Europe/London:20270416T103000
DTEND;TZID=Europe/London:20270416T113000
DTSTAMP:20260425T043546
CREATED:20231024T101140Z
LAST-MODIFIED:20231024T101140Z
UID:10009031-1807871400-1807875000@keepingmewell.com
SUMMARY:ESCAPEE Event in Fairwater
DESCRIPTION:The ESCAPEE events are follow-up exercise sessions for people who have attended the Escape Pain programme for hip\, knee or back pain. \nYou are welcome to drop-in and take part in exercise designed to improve your movement and function. \nAt Fairwater Leisure Centre every Friday\, 10.30-11.30am.
URL:https://keepingmewell.com/event/escapee-event-in-fairwater/2027-04-16/
LOCATION:Fairwater Leisure Centre\, Waterhall Road\, Cardiff\, CF5 3LL\, United Kingdom
CATEGORIES:Arthritis,English,ESCAPEE,Physical Activity
ATTACH;FMTTYPE=image/jpeg:https://keepingmewell.com/wp-content/uploads/2022/12/Better-Escape-logos.jpg
END:VEVENT
BEGIN:VEVENT
DTSTART;TZID=Europe/London:20270423T103000
DTEND;TZID=Europe/London:20270423T113000
DTSTAMP:20260425T043546
CREATED:20231024T101140Z
LAST-MODIFIED:20231024T101140Z
UID:10009032-1808476200-1808479800@keepingmewell.com
SUMMARY:ESCAPEE Event in Fairwater
DESCRIPTION:The ESCAPEE events are follow-up exercise sessions for people who have attended the Escape Pain programme for hip\, knee or back pain. \nYou are welcome to drop-in and take part in exercise designed to improve your movement and function. \nAt Fairwater Leisure Centre every Friday\, 10.30-11.30am.
URL:https://keepingmewell.com/event/escapee-event-in-fairwater/2027-04-23/
LOCATION:Fairwater Leisure Centre\, Waterhall Road\, Cardiff\, CF5 3LL\, United Kingdom
CATEGORIES:Arthritis,English,ESCAPEE,Physical Activity
ATTACH;FMTTYPE=image/jpeg:https://keepingmewell.com/wp-content/uploads/2022/12/Better-Escape-logos.jpg
END:VEVENT
BEGIN:VEVENT
DTSTART;TZID=Europe/London:20270430T103000
DTEND;TZID=Europe/London:20270430T113000
DTSTAMP:20260425T043546
CREATED:20231024T101140Z
LAST-MODIFIED:20231024T101140Z
UID:10009033-1809081000-1809084600@keepingmewell.com
SUMMARY:ESCAPEE Event in Fairwater
DESCRIPTION:The ESCAPEE events are follow-up exercise sessions for people who have attended the Escape Pain programme for hip\, knee or back pain. \nYou are welcome to drop-in and take part in exercise designed to improve your movement and function. \nAt Fairwater Leisure Centre every Friday\, 10.30-11.30am.
URL:https://keepingmewell.com/event/escapee-event-in-fairwater/2027-04-30/
LOCATION:Fairwater Leisure Centre\, Waterhall Road\, Cardiff\, CF5 3LL\, United Kingdom
CATEGORIES:Arthritis,English,ESCAPEE,Physical Activity
ATTACH;FMTTYPE=image/jpeg:https://keepingmewell.com/wp-content/uploads/2022/12/Better-Escape-logos.jpg
END:VEVENT
BEGIN:VEVENT
DTSTART;TZID=Europe/London:20270507T103000
DTEND;TZID=Europe/London:20270507T113000
DTSTAMP:20260425T043546
CREATED:20231024T101140Z
LAST-MODIFIED:20231024T101140Z
UID:10009034-1809685800-1809689400@keepingmewell.com
SUMMARY:ESCAPEE Event in Fairwater
DESCRIPTION:The ESCAPEE events are follow-up exercise sessions for people who have attended the Escape Pain programme for hip\, knee or back pain. \nYou are welcome to drop-in and take part in exercise designed to improve your movement and function. \nAt Fairwater Leisure Centre every Friday\, 10.30-11.30am.
URL:https://keepingmewell.com/event/escapee-event-in-fairwater/2027-05-07/
LOCATION:Fairwater Leisure Centre\, Waterhall Road\, Cardiff\, CF5 3LL\, United Kingdom
CATEGORIES:Arthritis,English,ESCAPEE,Physical Activity
ATTACH;FMTTYPE=image/jpeg:https://keepingmewell.com/wp-content/uploads/2022/12/Better-Escape-logos.jpg
END:VEVENT
BEGIN:VEVENT
DTSTART;TZID=Europe/London:20270514T103000
DTEND;TZID=Europe/London:20270514T113000
DTSTAMP:20260425T043546
CREATED:20231024T101140Z
LAST-MODIFIED:20231024T101140Z
UID:10009035-1810290600-1810294200@keepingmewell.com
SUMMARY:ESCAPEE Event in Fairwater
DESCRIPTION:The ESCAPEE events are follow-up exercise sessions for people who have attended the Escape Pain programme for hip\, knee or back pain. \nYou are welcome to drop-in and take part in exercise designed to improve your movement and function. \nAt Fairwater Leisure Centre every Friday\, 10.30-11.30am.
URL:https://keepingmewell.com/event/escapee-event-in-fairwater/2027-05-14/
LOCATION:Fairwater Leisure Centre\, Waterhall Road\, Cardiff\, CF5 3LL\, United Kingdom
CATEGORIES:Arthritis,English,ESCAPEE,Physical Activity
ATTACH;FMTTYPE=image/jpeg:https://keepingmewell.com/wp-content/uploads/2022/12/Better-Escape-logos.jpg
END:VEVENT
BEGIN:VEVENT
DTSTART;TZID=Europe/London:20270521T103000
DTEND;TZID=Europe/London:20270521T113000
DTSTAMP:20260425T043546
CREATED:20231024T101140Z
LAST-MODIFIED:20231024T101140Z
UID:10009036-1810895400-1810899000@keepingmewell.com
SUMMARY:ESCAPEE Event in Fairwater
DESCRIPTION:The ESCAPEE events are follow-up exercise sessions for people who have attended the Escape Pain programme for hip\, knee or back pain. \nYou are welcome to drop-in and take part in exercise designed to improve your movement and function. \nAt Fairwater Leisure Centre every Friday\, 10.30-11.30am.
URL:https://keepingmewell.com/event/escapee-event-in-fairwater/2027-05-21/
LOCATION:Fairwater Leisure Centre\, Waterhall Road\, Cardiff\, CF5 3LL\, United Kingdom
CATEGORIES:Arthritis,English,ESCAPEE,Physical Activity
ATTACH;FMTTYPE=image/jpeg:https://keepingmewell.com/wp-content/uploads/2022/12/Better-Escape-logos.jpg
END:VEVENT
BEGIN:VEVENT
DTSTART;TZID=Europe/London:20270528T103000
DTEND;TZID=Europe/London:20270528T113000
DTSTAMP:20260425T043546
CREATED:20231024T101140Z
LAST-MODIFIED:20231024T101140Z
UID:10009037-1811500200-1811503800@keepingmewell.com
SUMMARY:ESCAPEE Event in Fairwater
DESCRIPTION:The ESCAPEE events are follow-up exercise sessions for people who have attended the Escape Pain programme for hip\, knee or back pain. \nYou are welcome to drop-in and take part in exercise designed to improve your movement and function. \nAt Fairwater Leisure Centre every Friday\, 10.30-11.30am.
URL:https://keepingmewell.com/event/escapee-event-in-fairwater/2027-05-28/
LOCATION:Fairwater Leisure Centre\, Waterhall Road\, Cardiff\, CF5 3LL\, United Kingdom
CATEGORIES:Arthritis,English,ESCAPEE,Physical Activity
ATTACH;FMTTYPE=image/jpeg:https://keepingmewell.com/wp-content/uploads/2022/12/Better-Escape-logos.jpg
END:VEVENT
BEGIN:VEVENT
DTSTART;TZID=Europe/London:20270604T103000
DTEND;TZID=Europe/London:20270604T113000
DTSTAMP:20260425T043546
CREATED:20231024T101140Z
LAST-MODIFIED:20231024T101140Z
UID:10009038-1812105000-1812108600@keepingmewell.com
SUMMARY:ESCAPEE Event in Fairwater
DESCRIPTION:The ESCAPEE events are follow-up exercise sessions for people who have attended the Escape Pain programme for hip\, knee or back pain. \nYou are welcome to drop-in and take part in exercise designed to improve your movement and function. \nAt Fairwater Leisure Centre every Friday\, 10.30-11.30am.
URL:https://keepingmewell.com/event/escapee-event-in-fairwater/2027-06-04/
LOCATION:Fairwater Leisure Centre\, Waterhall Road\, Cardiff\, CF5 3LL\, United Kingdom
CATEGORIES:Arthritis,English,ESCAPEE,Physical Activity
ATTACH;FMTTYPE=image/jpeg:https://keepingmewell.com/wp-content/uploads/2022/12/Better-Escape-logos.jpg
END:VEVENT
BEGIN:VEVENT
DTSTART;TZID=Europe/London:20270611T103000
DTEND;TZID=Europe/London:20270611T113000
DTSTAMP:20260425T043546
CREATED:20231024T101140Z
LAST-MODIFIED:20231024T101140Z
UID:10009039-1812709800-1812713400@keepingmewell.com
SUMMARY:ESCAPEE Event in Fairwater
DESCRIPTION:The ESCAPEE events are follow-up exercise sessions for people who have attended the Escape Pain programme for hip\, knee or back pain. \nYou are welcome to drop-in and take part in exercise designed to improve your movement and function. \nAt Fairwater Leisure Centre every Friday\, 10.30-11.30am.
URL:https://keepingmewell.com/event/escapee-event-in-fairwater/2027-06-11/
LOCATION:Fairwater Leisure Centre\, Waterhall Road\, Cardiff\, CF5 3LL\, United Kingdom
CATEGORIES:Arthritis,English,ESCAPEE,Physical Activity
ATTACH;FMTTYPE=image/jpeg:https://keepingmewell.com/wp-content/uploads/2022/12/Better-Escape-logos.jpg
END:VEVENT
BEGIN:VEVENT
DTSTART;TZID=Europe/London:20270618T103000
DTEND;TZID=Europe/London:20270618T113000
DTSTAMP:20260425T043546
CREATED:20231024T101140Z
LAST-MODIFIED:20231024T101140Z
UID:10009040-1813314600-1813318200@keepingmewell.com
SUMMARY:ESCAPEE Event in Fairwater
DESCRIPTION:The ESCAPEE events are follow-up exercise sessions for people who have attended the Escape Pain programme for hip\, knee or back pain. \nYou are welcome to drop-in and take part in exercise designed to improve your movement and function. \nAt Fairwater Leisure Centre every Friday\, 10.30-11.30am.
URL:https://keepingmewell.com/event/escapee-event-in-fairwater/2027-06-18/
LOCATION:Fairwater Leisure Centre\, Waterhall Road\, Cardiff\, CF5 3LL\, United Kingdom
CATEGORIES:Arthritis,English,ESCAPEE,Physical Activity
ATTACH;FMTTYPE=image/jpeg:https://keepingmewell.com/wp-content/uploads/2022/12/Better-Escape-logos.jpg
END:VEVENT
BEGIN:VEVENT
DTSTART;TZID=Europe/London:20270625T103000
DTEND;TZID=Europe/London:20270625T113000
DTSTAMP:20260425T043546
CREATED:20231024T101140Z
LAST-MODIFIED:20231024T101140Z
UID:10009041-1813919400-1813923000@keepingmewell.com
SUMMARY:ESCAPEE Event in Fairwater
DESCRIPTION:The ESCAPEE events are follow-up exercise sessions for people who have attended the Escape Pain programme for hip\, knee or back pain. \nYou are welcome to drop-in and take part in exercise designed to improve your movement and function. \nAt Fairwater Leisure Centre every Friday\, 10.30-11.30am.
URL:https://keepingmewell.com/event/escapee-event-in-fairwater/2027-06-25/
LOCATION:Fairwater Leisure Centre\, Waterhall Road\, Cardiff\, CF5 3LL\, United Kingdom
CATEGORIES:Arthritis,English,ESCAPEE,Physical Activity
ATTACH;FMTTYPE=image/jpeg:https://keepingmewell.com/wp-content/uploads/2022/12/Better-Escape-logos.jpg
END:VEVENT
BEGIN:VEVENT
DTSTART;TZID=Europe/London:20270702T103000
DTEND;TZID=Europe/London:20270702T113000
DTSTAMP:20260425T043546
CREATED:20231024T101140Z
LAST-MODIFIED:20231024T101140Z
UID:10009042-1814524200-1814527800@keepingmewell.com
SUMMARY:ESCAPEE Event in Fairwater
DESCRIPTION:The ESCAPEE events are follow-up exercise sessions for people who have attended the Escape Pain programme for hip\, knee or back pain. \nYou are welcome to drop-in and take part in exercise designed to improve your movement and function. \nAt Fairwater Leisure Centre every Friday\, 10.30-11.30am.
URL:https://keepingmewell.com/event/escapee-event-in-fairwater/2027-07-02/
LOCATION:Fairwater Leisure Centre\, Waterhall Road\, Cardiff\, CF5 3LL\, United Kingdom
CATEGORIES:Arthritis,English,ESCAPEE,Physical Activity
ATTACH;FMTTYPE=image/jpeg:https://keepingmewell.com/wp-content/uploads/2022/12/Better-Escape-logos.jpg
END:VEVENT
BEGIN:VEVENT
DTSTART;TZID=Europe/London:20270709T103000
DTEND;TZID=Europe/London:20270709T113000
DTSTAMP:20260425T043546
CREATED:20231024T101140Z
LAST-MODIFIED:20231024T101140Z
UID:10009043-1815129000-1815132600@keepingmewell.com
SUMMARY:ESCAPEE Event in Fairwater
DESCRIPTION:The ESCAPEE events are follow-up exercise sessions for people who have attended the Escape Pain programme for hip\, knee or back pain. \nYou are welcome to drop-in and take part in exercise designed to improve your movement and function. \nAt Fairwater Leisure Centre every Friday\, 10.30-11.30am.
URL:https://keepingmewell.com/event/escapee-event-in-fairwater/2027-07-09/
LOCATION:Fairwater Leisure Centre\, Waterhall Road\, Cardiff\, CF5 3LL\, United Kingdom
CATEGORIES:Arthritis,English,ESCAPEE,Physical Activity
ATTACH;FMTTYPE=image/jpeg:https://keepingmewell.com/wp-content/uploads/2022/12/Better-Escape-logos.jpg
END:VEVENT
BEGIN:VEVENT
DTSTART;TZID=Europe/London:20270716T103000
DTEND;TZID=Europe/London:20270716T113000
DTSTAMP:20260425T043546
CREATED:20231024T101140Z
LAST-MODIFIED:20231024T101140Z
UID:10009044-1815733800-1815737400@keepingmewell.com
SUMMARY:ESCAPEE Event in Fairwater
DESCRIPTION:The ESCAPEE events are follow-up exercise sessions for people who have attended the Escape Pain programme for hip\, knee or back pain. \nYou are welcome to drop-in and take part in exercise designed to improve your movement and function. \nAt Fairwater Leisure Centre every Friday\, 10.30-11.30am.
URL:https://keepingmewell.com/event/escapee-event-in-fairwater/2027-07-16/
LOCATION:Fairwater Leisure Centre\, Waterhall Road\, Cardiff\, CF5 3LL\, United Kingdom
CATEGORIES:Arthritis,English,ESCAPEE,Physical Activity
ATTACH;FMTTYPE=image/jpeg:https://keepingmewell.com/wp-content/uploads/2022/12/Better-Escape-logos.jpg
END:VEVENT
BEGIN:VEVENT
DTSTART;TZID=Europe/London:20270723T103000
DTEND;TZID=Europe/London:20270723T113000
DTSTAMP:20260425T043546
CREATED:20231024T101140Z
LAST-MODIFIED:20231024T101140Z
UID:10009045-1816338600-1816342200@keepingmewell.com
SUMMARY:ESCAPEE Event in Fairwater
DESCRIPTION:The ESCAPEE events are follow-up exercise sessions for people who have attended the Escape Pain programme for hip\, knee or back pain. \nYou are welcome to drop-in and take part in exercise designed to improve your movement and function. \nAt Fairwater Leisure Centre every Friday\, 10.30-11.30am.
URL:https://keepingmewell.com/event/escapee-event-in-fairwater/2027-07-23/
LOCATION:Fairwater Leisure Centre\, Waterhall Road\, Cardiff\, CF5 3LL\, United Kingdom
CATEGORIES:Arthritis,English,ESCAPEE,Physical Activity
ATTACH;FMTTYPE=image/jpeg:https://keepingmewell.com/wp-content/uploads/2022/12/Better-Escape-logos.jpg
END:VEVENT
BEGIN:VEVENT
DTSTART;TZID=Europe/London:20270730T103000
DTEND;TZID=Europe/London:20270730T113000
DTSTAMP:20260425T043546
CREATED:20231024T101140Z
LAST-MODIFIED:20231024T101140Z
UID:10009046-1816943400-1816947000@keepingmewell.com
SUMMARY:ESCAPEE Event in Fairwater
DESCRIPTION:The ESCAPEE events are follow-up exercise sessions for people who have attended the Escape Pain programme for hip\, knee or back pain. \nYou are welcome to drop-in and take part in exercise designed to improve your movement and function. \nAt Fairwater Leisure Centre every Friday\, 10.30-11.30am.
URL:https://keepingmewell.com/event/escapee-event-in-fairwater/2027-07-30/
LOCATION:Fairwater Leisure Centre\, Waterhall Road\, Cardiff\, CF5 3LL\, United Kingdom
CATEGORIES:Arthritis,English,ESCAPEE,Physical Activity
ATTACH;FMTTYPE=image/jpeg:https://keepingmewell.com/wp-content/uploads/2022/12/Better-Escape-logos.jpg
END:VEVENT
BEGIN:VEVENT
DTSTART;TZID=Europe/London:20270806T103000
DTEND;TZID=Europe/London:20270806T113000
DTSTAMP:20260425T043546
CREATED:20231024T101140Z
LAST-MODIFIED:20231024T101140Z
UID:10009047-1817548200-1817551800@keepingmewell.com
SUMMARY:ESCAPEE Event in Fairwater
DESCRIPTION:The ESCAPEE events are follow-up exercise sessions for people who have attended the Escape Pain programme for hip\, knee or back pain. \nYou are welcome to drop-in and take part in exercise designed to improve your movement and function. \nAt Fairwater Leisure Centre every Friday\, 10.30-11.30am.
URL:https://keepingmewell.com/event/escapee-event-in-fairwater/2027-08-06/
LOCATION:Fairwater Leisure Centre\, Waterhall Road\, Cardiff\, CF5 3LL\, United Kingdom
CATEGORIES:Arthritis,English,ESCAPEE,Physical Activity
ATTACH;FMTTYPE=image/jpeg:https://keepingmewell.com/wp-content/uploads/2022/12/Better-Escape-logos.jpg
END:VEVENT
BEGIN:VEVENT
DTSTART;TZID=Europe/London:20270813T103000
DTEND;TZID=Europe/London:20270813T113000
DTSTAMP:20260425T043546
CREATED:20231024T101140Z
LAST-MODIFIED:20231024T101140Z
UID:10009048-1818153000-1818156600@keepingmewell.com
SUMMARY:ESCAPEE Event in Fairwater
DESCRIPTION:The ESCAPEE events are follow-up exercise sessions for people who have attended the Escape Pain programme for hip\, knee or back pain. \nYou are welcome to drop-in and take part in exercise designed to improve your movement and function. \nAt Fairwater Leisure Centre every Friday\, 10.30-11.30am.
URL:https://keepingmewell.com/event/escapee-event-in-fairwater/2027-08-13/
LOCATION:Fairwater Leisure Centre\, Waterhall Road\, Cardiff\, CF5 3LL\, United Kingdom
CATEGORIES:Arthritis,English,ESCAPEE,Physical Activity
ATTACH;FMTTYPE=image/jpeg:https://keepingmewell.com/wp-content/uploads/2022/12/Better-Escape-logos.jpg
END:VEVENT
BEGIN:VEVENT
DTSTART;TZID=Europe/London:20270820T103000
DTEND;TZID=Europe/London:20270820T113000
DTSTAMP:20260425T043546
CREATED:20231024T101140Z
LAST-MODIFIED:20231024T101140Z
UID:10009049-1818757800-1818761400@keepingmewell.com
SUMMARY:ESCAPEE Event in Fairwater
DESCRIPTION:The ESCAPEE events are follow-up exercise sessions for people who have attended the Escape Pain programme for hip\, knee or back pain. \nYou are welcome to drop-in and take part in exercise designed to improve your movement and function. \nAt Fairwater Leisure Centre every Friday\, 10.30-11.30am.
URL:https://keepingmewell.com/event/escapee-event-in-fairwater/2027-08-20/
LOCATION:Fairwater Leisure Centre\, Waterhall Road\, Cardiff\, CF5 3LL\, United Kingdom
CATEGORIES:Arthritis,English,ESCAPEE,Physical Activity
ATTACH;FMTTYPE=image/jpeg:https://keepingmewell.com/wp-content/uploads/2022/12/Better-Escape-logos.jpg
END:VEVENT
BEGIN:VEVENT
DTSTART;TZID=Europe/London:20270827T103000
DTEND;TZID=Europe/London:20270827T113000
DTSTAMP:20260425T043546
CREATED:20231024T101140Z
LAST-MODIFIED:20231024T101140Z
UID:10009050-1819362600-1819366200@keepingmewell.com
SUMMARY:ESCAPEE Event in Fairwater
DESCRIPTION:The ESCAPEE events are follow-up exercise sessions for people who have attended the Escape Pain programme for hip\, knee or back pain. \nYou are welcome to drop-in and take part in exercise designed to improve your movement and function. \nAt Fairwater Leisure Centre every Friday\, 10.30-11.30am.
URL:https://keepingmewell.com/event/escapee-event-in-fairwater/2027-08-27/
LOCATION:Fairwater Leisure Centre\, Waterhall Road\, Cardiff\, CF5 3LL\, United Kingdom
CATEGORIES:Arthritis,English,ESCAPEE,Physical Activity
ATTACH;FMTTYPE=image/jpeg:https://keepingmewell.com/wp-content/uploads/2022/12/Better-Escape-logos.jpg
END:VEVENT
BEGIN:VEVENT
DTSTART;TZID=Europe/London:20270903T103000
DTEND;TZID=Europe/London:20270903T113000
DTSTAMP:20260425T043546
CREATED:20231024T101140Z
LAST-MODIFIED:20231024T101140Z
UID:10009051-1819967400-1819971000@keepingmewell.com
SUMMARY:ESCAPEE Event in Fairwater
DESCRIPTION:The ESCAPEE events are follow-up exercise sessions for people who have attended the Escape Pain programme for hip\, knee or back pain. \nYou are welcome to drop-in and take part in exercise designed to improve your movement and function. \nAt Fairwater Leisure Centre every Friday\, 10.30-11.30am.
URL:https://keepingmewell.com/event/escapee-event-in-fairwater/2027-09-03/
LOCATION:Fairwater Leisure Centre\, Waterhall Road\, Cardiff\, CF5 3LL\, United Kingdom
CATEGORIES:Arthritis,English,ESCAPEE,Physical Activity
ATTACH;FMTTYPE=image/jpeg:https://keepingmewell.com/wp-content/uploads/2022/12/Better-Escape-logos.jpg
END:VEVENT
BEGIN:VEVENT
DTSTART;TZID=Europe/London:20270910T103000
DTEND;TZID=Europe/London:20270910T113000
DTSTAMP:20260425T043546
CREATED:20231024T101140Z
LAST-MODIFIED:20231024T101140Z
UID:10009052-1820572200-1820575800@keepingmewell.com
SUMMARY:ESCAPEE Event in Fairwater
DESCRIPTION:The ESCAPEE events are follow-up exercise sessions for people who have attended the Escape Pain programme for hip\, knee or back pain. \nYou are welcome to drop-in and take part in exercise designed to improve your movement and function. \nAt Fairwater Leisure Centre every Friday\, 10.30-11.30am.
URL:https://keepingmewell.com/event/escapee-event-in-fairwater/2027-09-10/
LOCATION:Fairwater Leisure Centre\, Waterhall Road\, Cardiff\, CF5 3LL\, United Kingdom
CATEGORIES:Arthritis,English,ESCAPEE,Physical Activity
ATTACH;FMTTYPE=image/jpeg:https://keepingmewell.com/wp-content/uploads/2022/12/Better-Escape-logos.jpg
END:VEVENT
BEGIN:VEVENT
DTSTART;TZID=Europe/London:20270917T103000
DTEND;TZID=Europe/London:20270917T113000
DTSTAMP:20260425T043546
CREATED:20231024T101140Z
LAST-MODIFIED:20231024T101140Z
UID:10009053-1821177000-1821180600@keepingmewell.com
SUMMARY:ESCAPEE Event in Fairwater
DESCRIPTION:The ESCAPEE events are follow-up exercise sessions for people who have attended the Escape Pain programme for hip\, knee or back pain. \nYou are welcome to drop-in and take part in exercise designed to improve your movement and function. \nAt Fairwater Leisure Centre every Friday\, 10.30-11.30am.
URL:https://keepingmewell.com/event/escapee-event-in-fairwater/2027-09-17/
LOCATION:Fairwater Leisure Centre\, Waterhall Road\, Cardiff\, CF5 3LL\, United Kingdom
CATEGORIES:Arthritis,English,ESCAPEE,Physical Activity
ATTACH;FMTTYPE=image/jpeg:https://keepingmewell.com/wp-content/uploads/2022/12/Better-Escape-logos.jpg
END:VEVENT
BEGIN:VEVENT
DTSTART;TZID=Europe/London:20270924T103000
DTEND;TZID=Europe/London:20270924T113000
DTSTAMP:20260425T043546
CREATED:20231024T101140Z
LAST-MODIFIED:20231024T101140Z
UID:10009054-1821781800-1821785400@keepingmewell.com
SUMMARY:ESCAPEE Event in Fairwater
DESCRIPTION:The ESCAPEE events are follow-up exercise sessions for people who have attended the Escape Pain programme for hip\, knee or back pain. \nYou are welcome to drop-in and take part in exercise designed to improve your movement and function. \nAt Fairwater Leisure Centre every Friday\, 10.30-11.30am.
URL:https://keepingmewell.com/event/escapee-event-in-fairwater/2027-09-24/
LOCATION:Fairwater Leisure Centre\, Waterhall Road\, Cardiff\, CF5 3LL\, United Kingdom
CATEGORIES:Arthritis,English,ESCAPEE,Physical Activity
ATTACH;FMTTYPE=image/jpeg:https://keepingmewell.com/wp-content/uploads/2022/12/Better-Escape-logos.jpg
END:VEVENT
BEGIN:VEVENT
DTSTART;TZID=Europe/London:20271001T103000
DTEND;TZID=Europe/London:20271001T113000
DTSTAMP:20260425T043546
CREATED:20231024T101140Z
LAST-MODIFIED:20231024T101140Z
UID:10009055-1822386600-1822390200@keepingmewell.com
SUMMARY:ESCAPEE Event in Fairwater
DESCRIPTION:The ESCAPEE events are follow-up exercise sessions for people who have attended the Escape Pain programme for hip\, knee or back pain. \nYou are welcome to drop-in and take part in exercise designed to improve your movement and function. \nAt Fairwater Leisure Centre every Friday\, 10.30-11.30am.
URL:https://keepingmewell.com/event/escapee-event-in-fairwater/2027-10-01/
LOCATION:Fairwater Leisure Centre\, Waterhall Road\, Cardiff\, CF5 3LL\, United Kingdom
CATEGORIES:Arthritis,English,ESCAPEE,Physical Activity
ATTACH;FMTTYPE=image/jpeg:https://keepingmewell.com/wp-content/uploads/2022/12/Better-Escape-logos.jpg
END:VEVENT
BEGIN:VEVENT
DTSTART;TZID=Europe/London:20271008T103000
DTEND;TZID=Europe/London:20271008T113000
DTSTAMP:20260425T043546
CREATED:20231024T101140Z
LAST-MODIFIED:20231024T101140Z
UID:10009056-1822991400-1822995000@keepingmewell.com
SUMMARY:ESCAPEE Event in Fairwater
DESCRIPTION:The ESCAPEE events are follow-up exercise sessions for people who have attended the Escape Pain programme for hip\, knee or back pain. \nYou are welcome to drop-in and take part in exercise designed to improve your movement and function. \nAt Fairwater Leisure Centre every Friday\, 10.30-11.30am.
URL:https://keepingmewell.com/event/escapee-event-in-fairwater/2027-10-08/
LOCATION:Fairwater Leisure Centre\, Waterhall Road\, Cardiff\, CF5 3LL\, United Kingdom
CATEGORIES:Arthritis,English,ESCAPEE,Physical Activity
ATTACH;FMTTYPE=image/jpeg:https://keepingmewell.com/wp-content/uploads/2022/12/Better-Escape-logos.jpg
END:VEVENT
BEGIN:VEVENT
DTSTART;TZID=Europe/London:20271015T103000
DTEND;TZID=Europe/London:20271015T113000
DTSTAMP:20260425T043546
CREATED:20231024T101140Z
LAST-MODIFIED:20231024T101140Z
UID:10009057-1823596200-1823599800@keepingmewell.com
SUMMARY:ESCAPEE Event in Fairwater
DESCRIPTION:The ESCAPEE events are follow-up exercise sessions for people who have attended the Escape Pain programme for hip\, knee or back pain. \nYou are welcome to drop-in and take part in exercise designed to improve your movement and function. \nAt Fairwater Leisure Centre every Friday\, 10.30-11.30am.
URL:https://keepingmewell.com/event/escapee-event-in-fairwater/2027-10-15/
LOCATION:Fairwater Leisure Centre\, Waterhall Road\, Cardiff\, CF5 3LL\, United Kingdom
CATEGORIES:Arthritis,English,ESCAPEE,Physical Activity
ATTACH;FMTTYPE=image/jpeg:https://keepingmewell.com/wp-content/uploads/2022/12/Better-Escape-logos.jpg
END:VEVENT
BEGIN:VEVENT
DTSTART;TZID=Europe/London:20271022T103000
DTEND;TZID=Europe/London:20271022T113000
DTSTAMP:20260425T043546
CREATED:20231024T101140Z
LAST-MODIFIED:20231024T101140Z
UID:10009058-1824201000-1824204600@keepingmewell.com
SUMMARY:ESCAPEE Event in Fairwater
DESCRIPTION:The ESCAPEE events are follow-up exercise sessions for people who have attended the Escape Pain programme for hip\, knee or back pain. \nYou are welcome to drop-in and take part in exercise designed to improve your movement and function. \nAt Fairwater Leisure Centre every Friday\, 10.30-11.30am.
URL:https://keepingmewell.com/event/escapee-event-in-fairwater/2027-10-22/
LOCATION:Fairwater Leisure Centre\, Waterhall Road\, Cardiff\, CF5 3LL\, United Kingdom
CATEGORIES:Arthritis,English,ESCAPEE,Physical Activity
ATTACH;FMTTYPE=image/jpeg:https://keepingmewell.com/wp-content/uploads/2022/12/Better-Escape-logos.jpg
END:VEVENT
END:VCALENDAR