BEGIN:VCALENDAR
VERSION:2.0
PRODID:-//Keeping Me Well - ECPv6.15.20//NONSGML v1.0//EN
CALSCALE:GREGORIAN
METHOD:PUBLISH
X-WR-CALNAME:Keeping Me Well
X-ORIGINAL-URL:https://keepingmewell.com
X-WR-CALDESC:Events for Keeping Me Well
REFRESH-INTERVAL;VALUE=DURATION:PT1H
X-Robots-Tag:noindex
X-PUBLISHED-TTL:PT1H
BEGIN:VTIMEZONE
TZID:Europe/London
BEGIN:DAYLIGHT
TZOFFSETFROM:+0000
TZOFFSETTO:+0100
TZNAME:BST
DTSTART:20270328T010000
END:DAYLIGHT
BEGIN:STANDARD
TZOFFSETFROM:+0100
TZOFFSETTO:+0000
TZNAME:GMT
DTSTART:20271031T010000
END:STANDARD
BEGIN:DAYLIGHT
TZOFFSETFROM:+0000
TZOFFSETTO:+0100
TZNAME:BST
DTSTART:20280326T010000
END:DAYLIGHT
BEGIN:STANDARD
TZOFFSETFROM:+0100
TZOFFSETTO:+0000
TZNAME:GMT
DTSTART:20281029T010000
END:STANDARD
BEGIN:DAYLIGHT
TZOFFSETFROM:+0000
TZOFFSETTO:+0100
TZNAME:BST
DTSTART:20290325T010000
END:DAYLIGHT
BEGIN:STANDARD
TZOFFSETFROM:+0100
TZOFFSETTO:+0000
TZNAME:GMT
DTSTART:20291028T010000
END:STANDARD
END:VTIMEZONE
BEGIN:VEVENT
DTSTART;TZID=Europe/London:20280517T130000
DTEND;TZID=Europe/London:20280517T140000
DTSTAMP:20260422T012550
CREATED:20231025T112258Z
LAST-MODIFIED:20231025T112258Z
UID:10021051-1842181200-1842184800@keepingmewell.com
SUMMARY:Tai Chi yn Llanrhymni
DESCRIPTION:Mae Tai Chi yn seiliedig ar anadlu dwfn a symudiadau ysgafn\, araf\, ysgafn\, sy’n ddosbarth trawiad isel\, ond mae angen y gallu i ffocysu. \nMae Tai Chi\, a elwir hefyd yn Tai Chi Chuan\, yn cyfuno anadlu dwfn ac ymlaciol gyda symudiadau esmwyth. \nAddas ar gyfer pob oed a gallu \n 
URL:https://keepingmewell.com/event/tai-chi-yn-llanrhymni/2028-05-17/
LOCATION:Hyb Llanrhymni\, Countisbury Avenue\, Caerdydd\, CF3 5NQ\, United Kingdom
CATEGORIES:Cymraeg,Gweithgarwch Corfforol,Lles,Wellbeing
ATTACH;FMTTYPE=image/png:https://keepingmewell.com/wp-content/uploads/2023/01/Cardiff-Hubs.png
END:VEVENT
BEGIN:VEVENT
DTSTART;TZID=Europe/London:20280524T130000
DTEND;TZID=Europe/London:20280524T140000
DTSTAMP:20260422T012550
CREATED:20231025T112258Z
LAST-MODIFIED:20231025T112258Z
UID:10021052-1842786000-1842789600@keepingmewell.com
SUMMARY:Tai Chi yn Llanrhymni
DESCRIPTION:Mae Tai Chi yn seiliedig ar anadlu dwfn a symudiadau ysgafn\, araf\, ysgafn\, sy’n ddosbarth trawiad isel\, ond mae angen y gallu i ffocysu. \nMae Tai Chi\, a elwir hefyd yn Tai Chi Chuan\, yn cyfuno anadlu dwfn ac ymlaciol gyda symudiadau esmwyth. \nAddas ar gyfer pob oed a gallu \n 
URL:https://keepingmewell.com/event/tai-chi-yn-llanrhymni/2028-05-24/
LOCATION:Hyb Llanrhymni\, Countisbury Avenue\, Caerdydd\, CF3 5NQ\, United Kingdom
CATEGORIES:Cymraeg,Gweithgarwch Corfforol,Lles,Wellbeing
ATTACH;FMTTYPE=image/png:https://keepingmewell.com/wp-content/uploads/2023/01/Cardiff-Hubs.png
END:VEVENT
BEGIN:VEVENT
DTSTART;TZID=Europe/London:20280531T130000
DTEND;TZID=Europe/London:20280531T140000
DTSTAMP:20260422T012550
CREATED:20231025T112258Z
LAST-MODIFIED:20231025T112258Z
UID:10021053-1843390800-1843394400@keepingmewell.com
SUMMARY:Tai Chi yn Llanrhymni
DESCRIPTION:Mae Tai Chi yn seiliedig ar anadlu dwfn a symudiadau ysgafn\, araf\, ysgafn\, sy’n ddosbarth trawiad isel\, ond mae angen y gallu i ffocysu. \nMae Tai Chi\, a elwir hefyd yn Tai Chi Chuan\, yn cyfuno anadlu dwfn ac ymlaciol gyda symudiadau esmwyth. \nAddas ar gyfer pob oed a gallu \n 
URL:https://keepingmewell.com/event/tai-chi-yn-llanrhymni/2028-05-31/
LOCATION:Hyb Llanrhymni\, Countisbury Avenue\, Caerdydd\, CF3 5NQ\, United Kingdom
CATEGORIES:Cymraeg,Gweithgarwch Corfforol,Lles,Wellbeing
ATTACH;FMTTYPE=image/png:https://keepingmewell.com/wp-content/uploads/2023/01/Cardiff-Hubs.png
END:VEVENT
BEGIN:VEVENT
DTSTART;TZID=Europe/London:20280607T130000
DTEND;TZID=Europe/London:20280607T140000
DTSTAMP:20260422T012550
CREATED:20231025T112258Z
LAST-MODIFIED:20231025T112258Z
UID:10021054-1843995600-1843999200@keepingmewell.com
SUMMARY:Tai Chi yn Llanrhymni
DESCRIPTION:Mae Tai Chi yn seiliedig ar anadlu dwfn a symudiadau ysgafn\, araf\, ysgafn\, sy’n ddosbarth trawiad isel\, ond mae angen y gallu i ffocysu. \nMae Tai Chi\, a elwir hefyd yn Tai Chi Chuan\, yn cyfuno anadlu dwfn ac ymlaciol gyda symudiadau esmwyth. \nAddas ar gyfer pob oed a gallu \n 
URL:https://keepingmewell.com/event/tai-chi-yn-llanrhymni/2028-06-07/
LOCATION:Hyb Llanrhymni\, Countisbury Avenue\, Caerdydd\, CF3 5NQ\, United Kingdom
CATEGORIES:Cymraeg,Gweithgarwch Corfforol,Lles,Wellbeing
ATTACH;FMTTYPE=image/png:https://keepingmewell.com/wp-content/uploads/2023/01/Cardiff-Hubs.png
END:VEVENT
BEGIN:VEVENT
DTSTART;TZID=Europe/London:20280614T130000
DTEND;TZID=Europe/London:20280614T140000
DTSTAMP:20260422T012550
CREATED:20231025T112258Z
LAST-MODIFIED:20231025T112258Z
UID:10021055-1844600400-1844604000@keepingmewell.com
SUMMARY:Tai Chi yn Llanrhymni
DESCRIPTION:Mae Tai Chi yn seiliedig ar anadlu dwfn a symudiadau ysgafn\, araf\, ysgafn\, sy’n ddosbarth trawiad isel\, ond mae angen y gallu i ffocysu. \nMae Tai Chi\, a elwir hefyd yn Tai Chi Chuan\, yn cyfuno anadlu dwfn ac ymlaciol gyda symudiadau esmwyth. \nAddas ar gyfer pob oed a gallu \n 
URL:https://keepingmewell.com/event/tai-chi-yn-llanrhymni/2028-06-14/
LOCATION:Hyb Llanrhymni\, Countisbury Avenue\, Caerdydd\, CF3 5NQ\, United Kingdom
CATEGORIES:Cymraeg,Gweithgarwch Corfforol,Lles,Wellbeing
ATTACH;FMTTYPE=image/png:https://keepingmewell.com/wp-content/uploads/2023/01/Cardiff-Hubs.png
END:VEVENT
BEGIN:VEVENT
DTSTART;TZID=Europe/London:20280621T130000
DTEND;TZID=Europe/London:20280621T140000
DTSTAMP:20260422T012550
CREATED:20231025T112258Z
LAST-MODIFIED:20231025T112258Z
UID:10021056-1845205200-1845208800@keepingmewell.com
SUMMARY:Tai Chi yn Llanrhymni
DESCRIPTION:Mae Tai Chi yn seiliedig ar anadlu dwfn a symudiadau ysgafn\, araf\, ysgafn\, sy’n ddosbarth trawiad isel\, ond mae angen y gallu i ffocysu. \nMae Tai Chi\, a elwir hefyd yn Tai Chi Chuan\, yn cyfuno anadlu dwfn ac ymlaciol gyda symudiadau esmwyth. \nAddas ar gyfer pob oed a gallu \n 
URL:https://keepingmewell.com/event/tai-chi-yn-llanrhymni/2028-06-21/
LOCATION:Hyb Llanrhymni\, Countisbury Avenue\, Caerdydd\, CF3 5NQ\, United Kingdom
CATEGORIES:Cymraeg,Gweithgarwch Corfforol,Lles,Wellbeing
ATTACH;FMTTYPE=image/png:https://keepingmewell.com/wp-content/uploads/2023/01/Cardiff-Hubs.png
END:VEVENT
BEGIN:VEVENT
DTSTART;TZID=Europe/London:20280628T130000
DTEND;TZID=Europe/London:20280628T140000
DTSTAMP:20260422T012550
CREATED:20231025T112258Z
LAST-MODIFIED:20231025T112258Z
UID:10021057-1845810000-1845813600@keepingmewell.com
SUMMARY:Tai Chi yn Llanrhymni
DESCRIPTION:Mae Tai Chi yn seiliedig ar anadlu dwfn a symudiadau ysgafn\, araf\, ysgafn\, sy’n ddosbarth trawiad isel\, ond mae angen y gallu i ffocysu. \nMae Tai Chi\, a elwir hefyd yn Tai Chi Chuan\, yn cyfuno anadlu dwfn ac ymlaciol gyda symudiadau esmwyth. \nAddas ar gyfer pob oed a gallu \n 
URL:https://keepingmewell.com/event/tai-chi-yn-llanrhymni/2028-06-28/
LOCATION:Hyb Llanrhymni\, Countisbury Avenue\, Caerdydd\, CF3 5NQ\, United Kingdom
CATEGORIES:Cymraeg,Gweithgarwch Corfforol,Lles,Wellbeing
ATTACH;FMTTYPE=image/png:https://keepingmewell.com/wp-content/uploads/2023/01/Cardiff-Hubs.png
END:VEVENT
BEGIN:VEVENT
DTSTART;TZID=Europe/London:20280705T130000
DTEND;TZID=Europe/London:20280705T140000
DTSTAMP:20260422T012550
CREATED:20231025T112258Z
LAST-MODIFIED:20231025T112258Z
UID:10021058-1846414800-1846418400@keepingmewell.com
SUMMARY:Tai Chi yn Llanrhymni
DESCRIPTION:Mae Tai Chi yn seiliedig ar anadlu dwfn a symudiadau ysgafn\, araf\, ysgafn\, sy’n ddosbarth trawiad isel\, ond mae angen y gallu i ffocysu. \nMae Tai Chi\, a elwir hefyd yn Tai Chi Chuan\, yn cyfuno anadlu dwfn ac ymlaciol gyda symudiadau esmwyth. \nAddas ar gyfer pob oed a gallu \n 
URL:https://keepingmewell.com/event/tai-chi-yn-llanrhymni/2028-07-05/
LOCATION:Hyb Llanrhymni\, Countisbury Avenue\, Caerdydd\, CF3 5NQ\, United Kingdom
CATEGORIES:Cymraeg,Gweithgarwch Corfforol,Lles,Wellbeing
ATTACH;FMTTYPE=image/png:https://keepingmewell.com/wp-content/uploads/2023/01/Cardiff-Hubs.png
END:VEVENT
BEGIN:VEVENT
DTSTART;TZID=Europe/London:20280712T130000
DTEND;TZID=Europe/London:20280712T140000
DTSTAMP:20260422T012550
CREATED:20231025T112258Z
LAST-MODIFIED:20231025T112258Z
UID:10021059-1847019600-1847023200@keepingmewell.com
SUMMARY:Tai Chi yn Llanrhymni
DESCRIPTION:Mae Tai Chi yn seiliedig ar anadlu dwfn a symudiadau ysgafn\, araf\, ysgafn\, sy’n ddosbarth trawiad isel\, ond mae angen y gallu i ffocysu. \nMae Tai Chi\, a elwir hefyd yn Tai Chi Chuan\, yn cyfuno anadlu dwfn ac ymlaciol gyda symudiadau esmwyth. \nAddas ar gyfer pob oed a gallu \n 
URL:https://keepingmewell.com/event/tai-chi-yn-llanrhymni/2028-07-12/
LOCATION:Hyb Llanrhymni\, Countisbury Avenue\, Caerdydd\, CF3 5NQ\, United Kingdom
CATEGORIES:Cymraeg,Gweithgarwch Corfforol,Lles,Wellbeing
ATTACH;FMTTYPE=image/png:https://keepingmewell.com/wp-content/uploads/2023/01/Cardiff-Hubs.png
END:VEVENT
BEGIN:VEVENT
DTSTART;TZID=Europe/London:20280719T130000
DTEND;TZID=Europe/London:20280719T140000
DTSTAMP:20260422T012550
CREATED:20231025T112258Z
LAST-MODIFIED:20231025T112258Z
UID:10021060-1847624400-1847628000@keepingmewell.com
SUMMARY:Tai Chi yn Llanrhymni
DESCRIPTION:Mae Tai Chi yn seiliedig ar anadlu dwfn a symudiadau ysgafn\, araf\, ysgafn\, sy’n ddosbarth trawiad isel\, ond mae angen y gallu i ffocysu. \nMae Tai Chi\, a elwir hefyd yn Tai Chi Chuan\, yn cyfuno anadlu dwfn ac ymlaciol gyda symudiadau esmwyth. \nAddas ar gyfer pob oed a gallu \n 
URL:https://keepingmewell.com/event/tai-chi-yn-llanrhymni/2028-07-19/
LOCATION:Hyb Llanrhymni\, Countisbury Avenue\, Caerdydd\, CF3 5NQ\, United Kingdom
CATEGORIES:Cymraeg,Gweithgarwch Corfforol,Lles,Wellbeing
ATTACH;FMTTYPE=image/png:https://keepingmewell.com/wp-content/uploads/2023/01/Cardiff-Hubs.png
END:VEVENT
BEGIN:VEVENT
DTSTART;TZID=Europe/London:20280726T130000
DTEND;TZID=Europe/London:20280726T140000
DTSTAMP:20260422T012550
CREATED:20231025T112258Z
LAST-MODIFIED:20231025T112258Z
UID:10021061-1848229200-1848232800@keepingmewell.com
SUMMARY:Tai Chi yn Llanrhymni
DESCRIPTION:Mae Tai Chi yn seiliedig ar anadlu dwfn a symudiadau ysgafn\, araf\, ysgafn\, sy’n ddosbarth trawiad isel\, ond mae angen y gallu i ffocysu. \nMae Tai Chi\, a elwir hefyd yn Tai Chi Chuan\, yn cyfuno anadlu dwfn ac ymlaciol gyda symudiadau esmwyth. \nAddas ar gyfer pob oed a gallu \n 
URL:https://keepingmewell.com/event/tai-chi-yn-llanrhymni/2028-07-26/
LOCATION:Hyb Llanrhymni\, Countisbury Avenue\, Caerdydd\, CF3 5NQ\, United Kingdom
CATEGORIES:Cymraeg,Gweithgarwch Corfforol,Lles,Wellbeing
ATTACH;FMTTYPE=image/png:https://keepingmewell.com/wp-content/uploads/2023/01/Cardiff-Hubs.png
END:VEVENT
BEGIN:VEVENT
DTSTART;TZID=Europe/London:20280802T130000
DTEND;TZID=Europe/London:20280802T140000
DTSTAMP:20260422T012550
CREATED:20231025T112258Z
LAST-MODIFIED:20231025T112258Z
UID:10021062-1848834000-1848837600@keepingmewell.com
SUMMARY:Tai Chi yn Llanrhymni
DESCRIPTION:Mae Tai Chi yn seiliedig ar anadlu dwfn a symudiadau ysgafn\, araf\, ysgafn\, sy’n ddosbarth trawiad isel\, ond mae angen y gallu i ffocysu. \nMae Tai Chi\, a elwir hefyd yn Tai Chi Chuan\, yn cyfuno anadlu dwfn ac ymlaciol gyda symudiadau esmwyth. \nAddas ar gyfer pob oed a gallu \n 
URL:https://keepingmewell.com/event/tai-chi-yn-llanrhymni/2028-08-02/
LOCATION:Hyb Llanrhymni\, Countisbury Avenue\, Caerdydd\, CF3 5NQ\, United Kingdom
CATEGORIES:Cymraeg,Gweithgarwch Corfforol,Lles,Wellbeing
ATTACH;FMTTYPE=image/png:https://keepingmewell.com/wp-content/uploads/2023/01/Cardiff-Hubs.png
END:VEVENT
BEGIN:VEVENT
DTSTART;TZID=Europe/London:20280809T130000
DTEND;TZID=Europe/London:20280809T140000
DTSTAMP:20260422T012550
CREATED:20231025T112258Z
LAST-MODIFIED:20231025T112258Z
UID:10021063-1849438800-1849442400@keepingmewell.com
SUMMARY:Tai Chi yn Llanrhymni
DESCRIPTION:Mae Tai Chi yn seiliedig ar anadlu dwfn a symudiadau ysgafn\, araf\, ysgafn\, sy’n ddosbarth trawiad isel\, ond mae angen y gallu i ffocysu. \nMae Tai Chi\, a elwir hefyd yn Tai Chi Chuan\, yn cyfuno anadlu dwfn ac ymlaciol gyda symudiadau esmwyth. \nAddas ar gyfer pob oed a gallu \n 
URL:https://keepingmewell.com/event/tai-chi-yn-llanrhymni/2028-08-09/
LOCATION:Hyb Llanrhymni\, Countisbury Avenue\, Caerdydd\, CF3 5NQ\, United Kingdom
CATEGORIES:Cymraeg,Gweithgarwch Corfforol,Lles,Wellbeing
ATTACH;FMTTYPE=image/png:https://keepingmewell.com/wp-content/uploads/2023/01/Cardiff-Hubs.png
END:VEVENT
BEGIN:VEVENT
DTSTART;TZID=Europe/London:20280816T130000
DTEND;TZID=Europe/London:20280816T140000
DTSTAMP:20260422T012550
CREATED:20231025T112258Z
LAST-MODIFIED:20231025T112258Z
UID:10021064-1850043600-1850047200@keepingmewell.com
SUMMARY:Tai Chi yn Llanrhymni
DESCRIPTION:Mae Tai Chi yn seiliedig ar anadlu dwfn a symudiadau ysgafn\, araf\, ysgafn\, sy’n ddosbarth trawiad isel\, ond mae angen y gallu i ffocysu. \nMae Tai Chi\, a elwir hefyd yn Tai Chi Chuan\, yn cyfuno anadlu dwfn ac ymlaciol gyda symudiadau esmwyth. \nAddas ar gyfer pob oed a gallu \n 
URL:https://keepingmewell.com/event/tai-chi-yn-llanrhymni/2028-08-16/
LOCATION:Hyb Llanrhymni\, Countisbury Avenue\, Caerdydd\, CF3 5NQ\, United Kingdom
CATEGORIES:Cymraeg,Gweithgarwch Corfforol,Lles,Wellbeing
ATTACH;FMTTYPE=image/png:https://keepingmewell.com/wp-content/uploads/2023/01/Cardiff-Hubs.png
END:VEVENT
BEGIN:VEVENT
DTSTART;TZID=Europe/London:20280823T130000
DTEND;TZID=Europe/London:20280823T140000
DTSTAMP:20260422T012550
CREATED:20231025T112258Z
LAST-MODIFIED:20231025T112258Z
UID:10021065-1850648400-1850652000@keepingmewell.com
SUMMARY:Tai Chi yn Llanrhymni
DESCRIPTION:Mae Tai Chi yn seiliedig ar anadlu dwfn a symudiadau ysgafn\, araf\, ysgafn\, sy’n ddosbarth trawiad isel\, ond mae angen y gallu i ffocysu. \nMae Tai Chi\, a elwir hefyd yn Tai Chi Chuan\, yn cyfuno anadlu dwfn ac ymlaciol gyda symudiadau esmwyth. \nAddas ar gyfer pob oed a gallu \n 
URL:https://keepingmewell.com/event/tai-chi-yn-llanrhymni/2028-08-23/
LOCATION:Hyb Llanrhymni\, Countisbury Avenue\, Caerdydd\, CF3 5NQ\, United Kingdom
CATEGORIES:Cymraeg,Gweithgarwch Corfforol,Lles,Wellbeing
ATTACH;FMTTYPE=image/png:https://keepingmewell.com/wp-content/uploads/2023/01/Cardiff-Hubs.png
END:VEVENT
BEGIN:VEVENT
DTSTART;TZID=Europe/London:20280830T130000
DTEND;TZID=Europe/London:20280830T140000
DTSTAMP:20260422T012550
CREATED:20231025T112258Z
LAST-MODIFIED:20231025T112258Z
UID:10021066-1851253200-1851256800@keepingmewell.com
SUMMARY:Tai Chi yn Llanrhymni
DESCRIPTION:Mae Tai Chi yn seiliedig ar anadlu dwfn a symudiadau ysgafn\, araf\, ysgafn\, sy’n ddosbarth trawiad isel\, ond mae angen y gallu i ffocysu. \nMae Tai Chi\, a elwir hefyd yn Tai Chi Chuan\, yn cyfuno anadlu dwfn ac ymlaciol gyda symudiadau esmwyth. \nAddas ar gyfer pob oed a gallu \n 
URL:https://keepingmewell.com/event/tai-chi-yn-llanrhymni/2028-08-30/
LOCATION:Hyb Llanrhymni\, Countisbury Avenue\, Caerdydd\, CF3 5NQ\, United Kingdom
CATEGORIES:Cymraeg,Gweithgarwch Corfforol,Lles,Wellbeing
ATTACH;FMTTYPE=image/png:https://keepingmewell.com/wp-content/uploads/2023/01/Cardiff-Hubs.png
END:VEVENT
BEGIN:VEVENT
DTSTART;TZID=Europe/London:20280906T130000
DTEND;TZID=Europe/London:20280906T140000
DTSTAMP:20260422T012550
CREATED:20231025T112258Z
LAST-MODIFIED:20231025T112258Z
UID:10021067-1851858000-1851861600@keepingmewell.com
SUMMARY:Tai Chi yn Llanrhymni
DESCRIPTION:Mae Tai Chi yn seiliedig ar anadlu dwfn a symudiadau ysgafn\, araf\, ysgafn\, sy’n ddosbarth trawiad isel\, ond mae angen y gallu i ffocysu. \nMae Tai Chi\, a elwir hefyd yn Tai Chi Chuan\, yn cyfuno anadlu dwfn ac ymlaciol gyda symudiadau esmwyth. \nAddas ar gyfer pob oed a gallu \n 
URL:https://keepingmewell.com/event/tai-chi-yn-llanrhymni/2028-09-06/
LOCATION:Hyb Llanrhymni\, Countisbury Avenue\, Caerdydd\, CF3 5NQ\, United Kingdom
CATEGORIES:Cymraeg,Gweithgarwch Corfforol,Lles,Wellbeing
ATTACH;FMTTYPE=image/png:https://keepingmewell.com/wp-content/uploads/2023/01/Cardiff-Hubs.png
END:VEVENT
BEGIN:VEVENT
DTSTART;TZID=Europe/London:20280913T130000
DTEND;TZID=Europe/London:20280913T140000
DTSTAMP:20260422T012550
CREATED:20231025T112258Z
LAST-MODIFIED:20231025T112258Z
UID:10021068-1852462800-1852466400@keepingmewell.com
SUMMARY:Tai Chi yn Llanrhymni
DESCRIPTION:Mae Tai Chi yn seiliedig ar anadlu dwfn a symudiadau ysgafn\, araf\, ysgafn\, sy’n ddosbarth trawiad isel\, ond mae angen y gallu i ffocysu. \nMae Tai Chi\, a elwir hefyd yn Tai Chi Chuan\, yn cyfuno anadlu dwfn ac ymlaciol gyda symudiadau esmwyth. \nAddas ar gyfer pob oed a gallu \n 
URL:https://keepingmewell.com/event/tai-chi-yn-llanrhymni/2028-09-13/
LOCATION:Hyb Llanrhymni\, Countisbury Avenue\, Caerdydd\, CF3 5NQ\, United Kingdom
CATEGORIES:Cymraeg,Gweithgarwch Corfforol,Lles,Wellbeing
ATTACH;FMTTYPE=image/png:https://keepingmewell.com/wp-content/uploads/2023/01/Cardiff-Hubs.png
END:VEVENT
BEGIN:VEVENT
DTSTART;TZID=Europe/London:20280920T130000
DTEND;TZID=Europe/London:20280920T140000
DTSTAMP:20260422T012550
CREATED:20231025T112258Z
LAST-MODIFIED:20231025T112258Z
UID:10021069-1853067600-1853071200@keepingmewell.com
SUMMARY:Tai Chi yn Llanrhymni
DESCRIPTION:Mae Tai Chi yn seiliedig ar anadlu dwfn a symudiadau ysgafn\, araf\, ysgafn\, sy’n ddosbarth trawiad isel\, ond mae angen y gallu i ffocysu. \nMae Tai Chi\, a elwir hefyd yn Tai Chi Chuan\, yn cyfuno anadlu dwfn ac ymlaciol gyda symudiadau esmwyth. \nAddas ar gyfer pob oed a gallu \n 
URL:https://keepingmewell.com/event/tai-chi-yn-llanrhymni/2028-09-20/
LOCATION:Hyb Llanrhymni\, Countisbury Avenue\, Caerdydd\, CF3 5NQ\, United Kingdom
CATEGORIES:Cymraeg,Gweithgarwch Corfforol,Lles,Wellbeing
ATTACH;FMTTYPE=image/png:https://keepingmewell.com/wp-content/uploads/2023/01/Cardiff-Hubs.png
END:VEVENT
BEGIN:VEVENT
DTSTART;TZID=Europe/London:20280927T130000
DTEND;TZID=Europe/London:20280927T140000
DTSTAMP:20260422T012550
CREATED:20231025T112258Z
LAST-MODIFIED:20231025T112258Z
UID:10021070-1853672400-1853676000@keepingmewell.com
SUMMARY:Tai Chi yn Llanrhymni
DESCRIPTION:Mae Tai Chi yn seiliedig ar anadlu dwfn a symudiadau ysgafn\, araf\, ysgafn\, sy’n ddosbarth trawiad isel\, ond mae angen y gallu i ffocysu. \nMae Tai Chi\, a elwir hefyd yn Tai Chi Chuan\, yn cyfuno anadlu dwfn ac ymlaciol gyda symudiadau esmwyth. \nAddas ar gyfer pob oed a gallu \n 
URL:https://keepingmewell.com/event/tai-chi-yn-llanrhymni/2028-09-27/
LOCATION:Hyb Llanrhymni\, Countisbury Avenue\, Caerdydd\, CF3 5NQ\, United Kingdom
CATEGORIES:Cymraeg,Gweithgarwch Corfforol,Lles,Wellbeing
ATTACH;FMTTYPE=image/png:https://keepingmewell.com/wp-content/uploads/2023/01/Cardiff-Hubs.png
END:VEVENT
BEGIN:VEVENT
DTSTART;TZID=Europe/London:20281004T130000
DTEND;TZID=Europe/London:20281004T140000
DTSTAMP:20260422T012550
CREATED:20231025T112258Z
LAST-MODIFIED:20231025T112258Z
UID:10021071-1854277200-1854280800@keepingmewell.com
SUMMARY:Tai Chi yn Llanrhymni
DESCRIPTION:Mae Tai Chi yn seiliedig ar anadlu dwfn a symudiadau ysgafn\, araf\, ysgafn\, sy’n ddosbarth trawiad isel\, ond mae angen y gallu i ffocysu. \nMae Tai Chi\, a elwir hefyd yn Tai Chi Chuan\, yn cyfuno anadlu dwfn ac ymlaciol gyda symudiadau esmwyth. \nAddas ar gyfer pob oed a gallu \n 
URL:https://keepingmewell.com/event/tai-chi-yn-llanrhymni/2028-10-04/
LOCATION:Hyb Llanrhymni\, Countisbury Avenue\, Caerdydd\, CF3 5NQ\, United Kingdom
CATEGORIES:Cymraeg,Gweithgarwch Corfforol,Lles,Wellbeing
ATTACH;FMTTYPE=image/png:https://keepingmewell.com/wp-content/uploads/2023/01/Cardiff-Hubs.png
END:VEVENT
BEGIN:VEVENT
DTSTART;TZID=Europe/London:20281011T130000
DTEND;TZID=Europe/London:20281011T140000
DTSTAMP:20260422T012550
CREATED:20231025T112258Z
LAST-MODIFIED:20231025T112258Z
UID:10021072-1854882000-1854885600@keepingmewell.com
SUMMARY:Tai Chi yn Llanrhymni
DESCRIPTION:Mae Tai Chi yn seiliedig ar anadlu dwfn a symudiadau ysgafn\, araf\, ysgafn\, sy’n ddosbarth trawiad isel\, ond mae angen y gallu i ffocysu. \nMae Tai Chi\, a elwir hefyd yn Tai Chi Chuan\, yn cyfuno anadlu dwfn ac ymlaciol gyda symudiadau esmwyth. \nAddas ar gyfer pob oed a gallu \n 
URL:https://keepingmewell.com/event/tai-chi-yn-llanrhymni/2028-10-11/
LOCATION:Hyb Llanrhymni\, Countisbury Avenue\, Caerdydd\, CF3 5NQ\, United Kingdom
CATEGORIES:Cymraeg,Gweithgarwch Corfforol,Lles,Wellbeing
ATTACH;FMTTYPE=image/png:https://keepingmewell.com/wp-content/uploads/2023/01/Cardiff-Hubs.png
END:VEVENT
BEGIN:VEVENT
DTSTART;TZID=Europe/London:20281018T130000
DTEND;TZID=Europe/London:20281018T140000
DTSTAMP:20260422T012550
CREATED:20231025T112258Z
LAST-MODIFIED:20231025T112258Z
UID:10021073-1855486800-1855490400@keepingmewell.com
SUMMARY:Tai Chi yn Llanrhymni
DESCRIPTION:Mae Tai Chi yn seiliedig ar anadlu dwfn a symudiadau ysgafn\, araf\, ysgafn\, sy’n ddosbarth trawiad isel\, ond mae angen y gallu i ffocysu. \nMae Tai Chi\, a elwir hefyd yn Tai Chi Chuan\, yn cyfuno anadlu dwfn ac ymlaciol gyda symudiadau esmwyth. \nAddas ar gyfer pob oed a gallu \n 
URL:https://keepingmewell.com/event/tai-chi-yn-llanrhymni/2028-10-18/
LOCATION:Hyb Llanrhymni\, Countisbury Avenue\, Caerdydd\, CF3 5NQ\, United Kingdom
CATEGORIES:Cymraeg,Gweithgarwch Corfforol,Lles,Wellbeing
ATTACH;FMTTYPE=image/png:https://keepingmewell.com/wp-content/uploads/2023/01/Cardiff-Hubs.png
END:VEVENT
BEGIN:VEVENT
DTSTART;TZID=Europe/London:20281025T130000
DTEND;TZID=Europe/London:20281025T140000
DTSTAMP:20260422T012550
CREATED:20231025T112258Z
LAST-MODIFIED:20231025T112258Z
UID:10021074-1856091600-1856095200@keepingmewell.com
SUMMARY:Tai Chi yn Llanrhymni
DESCRIPTION:Mae Tai Chi yn seiliedig ar anadlu dwfn a symudiadau ysgafn\, araf\, ysgafn\, sy’n ddosbarth trawiad isel\, ond mae angen y gallu i ffocysu. \nMae Tai Chi\, a elwir hefyd yn Tai Chi Chuan\, yn cyfuno anadlu dwfn ac ymlaciol gyda symudiadau esmwyth. \nAddas ar gyfer pob oed a gallu \n 
URL:https://keepingmewell.com/event/tai-chi-yn-llanrhymni/2028-10-25/
LOCATION:Hyb Llanrhymni\, Countisbury Avenue\, Caerdydd\, CF3 5NQ\, United Kingdom
CATEGORIES:Cymraeg,Gweithgarwch Corfforol,Lles,Wellbeing
ATTACH;FMTTYPE=image/png:https://keepingmewell.com/wp-content/uploads/2023/01/Cardiff-Hubs.png
END:VEVENT
BEGIN:VEVENT
DTSTART;TZID=Europe/London:20281101T130000
DTEND;TZID=Europe/London:20281101T140000
DTSTAMP:20260422T012550
CREATED:20231025T112258Z
LAST-MODIFIED:20231025T112258Z
UID:10022394-1856696400-1856700000@keepingmewell.com
SUMMARY:Tai Chi yn Llanrhymni
DESCRIPTION:Mae Tai Chi yn seiliedig ar anadlu dwfn a symudiadau ysgafn\, araf\, ysgafn\, sy’n ddosbarth trawiad isel\, ond mae angen y gallu i ffocysu. \nMae Tai Chi\, a elwir hefyd yn Tai Chi Chuan\, yn cyfuno anadlu dwfn ac ymlaciol gyda symudiadau esmwyth. \nAddas ar gyfer pob oed a gallu \n 
URL:https://keepingmewell.com/event/tai-chi-yn-llanrhymni/2028-11-01/
LOCATION:Hyb Llanrhymni\, Countisbury Avenue\, Caerdydd\, CF3 5NQ\, United Kingdom
CATEGORIES:Cymraeg,Gweithgarwch Corfforol,Lles,Wellbeing
ATTACH;FMTTYPE=image/png:https://keepingmewell.com/wp-content/uploads/2023/01/Cardiff-Hubs.png
END:VEVENT
BEGIN:VEVENT
DTSTART;TZID=Europe/London:20281108T130000
DTEND;TZID=Europe/London:20281108T140000
DTSTAMP:20260422T012550
CREATED:20231025T112258Z
LAST-MODIFIED:20231025T112258Z
UID:10022395-1857301200-1857304800@keepingmewell.com
SUMMARY:Tai Chi yn Llanrhymni
DESCRIPTION:Mae Tai Chi yn seiliedig ar anadlu dwfn a symudiadau ysgafn\, araf\, ysgafn\, sy’n ddosbarth trawiad isel\, ond mae angen y gallu i ffocysu. \nMae Tai Chi\, a elwir hefyd yn Tai Chi Chuan\, yn cyfuno anadlu dwfn ac ymlaciol gyda symudiadau esmwyth. \nAddas ar gyfer pob oed a gallu \n 
URL:https://keepingmewell.com/event/tai-chi-yn-llanrhymni/2028-11-08/
LOCATION:Hyb Llanrhymni\, Countisbury Avenue\, Caerdydd\, CF3 5NQ\, United Kingdom
CATEGORIES:Cymraeg,Gweithgarwch Corfforol,Lles,Wellbeing
ATTACH;FMTTYPE=image/png:https://keepingmewell.com/wp-content/uploads/2023/01/Cardiff-Hubs.png
END:VEVENT
BEGIN:VEVENT
DTSTART;TZID=Europe/London:20281115T130000
DTEND;TZID=Europe/London:20281115T140000
DTSTAMP:20260422T012550
CREATED:20231025T112258Z
LAST-MODIFIED:20231025T112258Z
UID:10022396-1857906000-1857909600@keepingmewell.com
SUMMARY:Tai Chi yn Llanrhymni
DESCRIPTION:Mae Tai Chi yn seiliedig ar anadlu dwfn a symudiadau ysgafn\, araf\, ysgafn\, sy’n ddosbarth trawiad isel\, ond mae angen y gallu i ffocysu. \nMae Tai Chi\, a elwir hefyd yn Tai Chi Chuan\, yn cyfuno anadlu dwfn ac ymlaciol gyda symudiadau esmwyth. \nAddas ar gyfer pob oed a gallu \n 
URL:https://keepingmewell.com/event/tai-chi-yn-llanrhymni/2028-11-15/
LOCATION:Hyb Llanrhymni\, Countisbury Avenue\, Caerdydd\, CF3 5NQ\, United Kingdom
CATEGORIES:Cymraeg,Gweithgarwch Corfforol,Lles,Wellbeing
ATTACH;FMTTYPE=image/png:https://keepingmewell.com/wp-content/uploads/2023/01/Cardiff-Hubs.png
END:VEVENT
BEGIN:VEVENT
DTSTART;TZID=Europe/London:20281122T130000
DTEND;TZID=Europe/London:20281122T140000
DTSTAMP:20260422T012550
CREATED:20231025T112258Z
LAST-MODIFIED:20231025T112258Z
UID:10022397-1858510800-1858514400@keepingmewell.com
SUMMARY:Tai Chi yn Llanrhymni
DESCRIPTION:Mae Tai Chi yn seiliedig ar anadlu dwfn a symudiadau ysgafn\, araf\, ysgafn\, sy’n ddosbarth trawiad isel\, ond mae angen y gallu i ffocysu. \nMae Tai Chi\, a elwir hefyd yn Tai Chi Chuan\, yn cyfuno anadlu dwfn ac ymlaciol gyda symudiadau esmwyth. \nAddas ar gyfer pob oed a gallu \n 
URL:https://keepingmewell.com/event/tai-chi-yn-llanrhymni/2028-11-22/
LOCATION:Hyb Llanrhymni\, Countisbury Avenue\, Caerdydd\, CF3 5NQ\, United Kingdom
CATEGORIES:Cymraeg,Gweithgarwch Corfforol,Lles,Wellbeing
ATTACH;FMTTYPE=image/png:https://keepingmewell.com/wp-content/uploads/2023/01/Cardiff-Hubs.png
END:VEVENT
BEGIN:VEVENT
DTSTART;TZID=Europe/London:20281129T130000
DTEND;TZID=Europe/London:20281129T140000
DTSTAMP:20260422T012550
CREATED:20231025T112258Z
LAST-MODIFIED:20231025T112258Z
UID:10022597-1859115600-1859119200@keepingmewell.com
SUMMARY:Tai Chi yn Llanrhymni
DESCRIPTION:Mae Tai Chi yn seiliedig ar anadlu dwfn a symudiadau ysgafn\, araf\, ysgafn\, sy’n ddosbarth trawiad isel\, ond mae angen y gallu i ffocysu. \nMae Tai Chi\, a elwir hefyd yn Tai Chi Chuan\, yn cyfuno anadlu dwfn ac ymlaciol gyda symudiadau esmwyth. \nAddas ar gyfer pob oed a gallu \n 
URL:https://keepingmewell.com/event/tai-chi-yn-llanrhymni/2028-11-29/
LOCATION:Hyb Llanrhymni\, Countisbury Avenue\, Caerdydd\, CF3 5NQ\, United Kingdom
CATEGORIES:Cymraeg,Gweithgarwch Corfforol,Lles,Wellbeing
ATTACH;FMTTYPE=image/png:https://keepingmewell.com/wp-content/uploads/2023/01/Cardiff-Hubs.png
END:VEVENT
BEGIN:VEVENT
DTSTART;TZID=Europe/London:20281206T130000
DTEND;TZID=Europe/London:20281206T140000
DTSTAMP:20260422T012550
CREATED:20231025T112258Z
LAST-MODIFIED:20231025T112258Z
UID:10022659-1859720400-1859724000@keepingmewell.com
SUMMARY:Tai Chi yn Llanrhymni
DESCRIPTION:Mae Tai Chi yn seiliedig ar anadlu dwfn a symudiadau ysgafn\, araf\, ysgafn\, sy’n ddosbarth trawiad isel\, ond mae angen y gallu i ffocysu. \nMae Tai Chi\, a elwir hefyd yn Tai Chi Chuan\, yn cyfuno anadlu dwfn ac ymlaciol gyda symudiadau esmwyth. \nAddas ar gyfer pob oed a gallu \n 
URL:https://keepingmewell.com/event/tai-chi-yn-llanrhymni/2028-12-06/
LOCATION:Hyb Llanrhymni\, Countisbury Avenue\, Caerdydd\, CF3 5NQ\, United Kingdom
CATEGORIES:Cymraeg,Gweithgarwch Corfforol,Lles,Wellbeing
ATTACH;FMTTYPE=image/png:https://keepingmewell.com/wp-content/uploads/2023/01/Cardiff-Hubs.png
END:VEVENT
END:VCALENDAR