BEGIN:VCALENDAR
VERSION:2.0
PRODID:-//Keeping Me Well - ECPv6.15.20//NONSGML v1.0//EN
CALSCALE:GREGORIAN
METHOD:PUBLISH
X-WR-CALNAME:Keeping Me Well
X-ORIGINAL-URL:https://keepingmewell.com
X-WR-CALDESC:Events for Keeping Me Well
REFRESH-INTERVAL;VALUE=DURATION:PT1H
X-Robots-Tag:noindex
X-PUBLISHED-TTL:PT1H
BEGIN:VTIMEZONE
TZID:Europe/London
BEGIN:DAYLIGHT
TZOFFSETFROM:+0000
TZOFFSETTO:+0100
TZNAME:BST
DTSTART:20280326T010000
END:DAYLIGHT
BEGIN:STANDARD
TZOFFSETFROM:+0100
TZOFFSETTO:+0000
TZNAME:GMT
DTSTART:20281029T010000
END:STANDARD
BEGIN:DAYLIGHT
TZOFFSETFROM:+0000
TZOFFSETTO:+0100
TZNAME:BST
DTSTART:20290325T010000
END:DAYLIGHT
BEGIN:STANDARD
TZOFFSETFROM:+0100
TZOFFSETTO:+0000
TZNAME:GMT
DTSTART:20291028T010000
END:STANDARD
BEGIN:DAYLIGHT
TZOFFSETFROM:+0000
TZOFFSETTO:+0100
TZNAME:BST
DTSTART:20300331T010000
END:DAYLIGHT
BEGIN:STANDARD
TZOFFSETFROM:+0100
TZOFFSETTO:+0000
TZNAME:GMT
DTSTART:20301027T010000
END:STANDARD
END:VTIMEZONE
BEGIN:VEVENT
DTSTART;TZID=Europe/London:20290124T130000
DTEND;TZID=Europe/London:20290124T140000
DTSTAMP:20260422T021902
CREATED:20231025T112258Z
LAST-MODIFIED:20231025T112258Z
UID:10023145-1863954000-1863957600@keepingmewell.com
SUMMARY:Tai Chi yn Llanrhymni
DESCRIPTION:Mae Tai Chi yn seiliedig ar anadlu dwfn a symudiadau ysgafn\, araf\, ysgafn\, sy’n ddosbarth trawiad isel\, ond mae angen y gallu i ffocysu. \nMae Tai Chi\, a elwir hefyd yn Tai Chi Chuan\, yn cyfuno anadlu dwfn ac ymlaciol gyda symudiadau esmwyth. \nAddas ar gyfer pob oed a gallu \n 
URL:https://keepingmewell.com/event/tai-chi-yn-llanrhymni/2029-01-24/
LOCATION:Hyb Llanrhymni\, Countisbury Avenue\, Caerdydd\, CF3 5NQ\, United Kingdom
CATEGORIES:Cymraeg,Gweithgarwch Corfforol,Lles,Wellbeing
ATTACH;FMTTYPE=image/png:https://keepingmewell.com/wp-content/uploads/2023/01/Cardiff-Hubs.png
END:VEVENT
BEGIN:VEVENT
DTSTART;TZID=Europe/London:20290131T130000
DTEND;TZID=Europe/London:20290131T140000
DTSTAMP:20260422T021902
CREATED:20231025T112258Z
LAST-MODIFIED:20231025T112258Z
UID:10023146-1864558800-1864562400@keepingmewell.com
SUMMARY:Tai Chi yn Llanrhymni
DESCRIPTION:Mae Tai Chi yn seiliedig ar anadlu dwfn a symudiadau ysgafn\, araf\, ysgafn\, sy’n ddosbarth trawiad isel\, ond mae angen y gallu i ffocysu. \nMae Tai Chi\, a elwir hefyd yn Tai Chi Chuan\, yn cyfuno anadlu dwfn ac ymlaciol gyda symudiadau esmwyth. \nAddas ar gyfer pob oed a gallu \n 
URL:https://keepingmewell.com/event/tai-chi-yn-llanrhymni/2029-01-31/
LOCATION:Hyb Llanrhymni\, Countisbury Avenue\, Caerdydd\, CF3 5NQ\, United Kingdom
CATEGORIES:Cymraeg,Gweithgarwch Corfforol,Lles,Wellbeing
ATTACH;FMTTYPE=image/png:https://keepingmewell.com/wp-content/uploads/2023/01/Cardiff-Hubs.png
END:VEVENT
BEGIN:VEVENT
DTSTART;TZID=Europe/London:20290207T130000
DTEND;TZID=Europe/London:20290207T140000
DTSTAMP:20260422T021902
CREATED:20231025T112258Z
LAST-MODIFIED:20231025T112258Z
UID:10023147-1865163600-1865167200@keepingmewell.com
SUMMARY:Tai Chi yn Llanrhymni
DESCRIPTION:Mae Tai Chi yn seiliedig ar anadlu dwfn a symudiadau ysgafn\, araf\, ysgafn\, sy’n ddosbarth trawiad isel\, ond mae angen y gallu i ffocysu. \nMae Tai Chi\, a elwir hefyd yn Tai Chi Chuan\, yn cyfuno anadlu dwfn ac ymlaciol gyda symudiadau esmwyth. \nAddas ar gyfer pob oed a gallu \n 
URL:https://keepingmewell.com/event/tai-chi-yn-llanrhymni/2029-02-07/
LOCATION:Hyb Llanrhymni\, Countisbury Avenue\, Caerdydd\, CF3 5NQ\, United Kingdom
CATEGORIES:Cymraeg,Gweithgarwch Corfforol,Lles,Wellbeing
ATTACH;FMTTYPE=image/png:https://keepingmewell.com/wp-content/uploads/2023/01/Cardiff-Hubs.png
END:VEVENT
BEGIN:VEVENT
DTSTART;TZID=Europe/London:20290214T130000
DTEND;TZID=Europe/London:20290214T140000
DTSTAMP:20260422T021902
CREATED:20231025T112258Z
LAST-MODIFIED:20231025T112258Z
UID:10023148-1865768400-1865772000@keepingmewell.com
SUMMARY:Tai Chi yn Llanrhymni
DESCRIPTION:Mae Tai Chi yn seiliedig ar anadlu dwfn a symudiadau ysgafn\, araf\, ysgafn\, sy’n ddosbarth trawiad isel\, ond mae angen y gallu i ffocysu. \nMae Tai Chi\, a elwir hefyd yn Tai Chi Chuan\, yn cyfuno anadlu dwfn ac ymlaciol gyda symudiadau esmwyth. \nAddas ar gyfer pob oed a gallu \n 
URL:https://keepingmewell.com/event/tai-chi-yn-llanrhymni/2029-02-14/
LOCATION:Hyb Llanrhymni\, Countisbury Avenue\, Caerdydd\, CF3 5NQ\, United Kingdom
CATEGORIES:Cymraeg,Gweithgarwch Corfforol,Lles,Wellbeing
ATTACH;FMTTYPE=image/png:https://keepingmewell.com/wp-content/uploads/2023/01/Cardiff-Hubs.png
END:VEVENT
BEGIN:VEVENT
DTSTART;TZID=Europe/London:20290221T130000
DTEND;TZID=Europe/London:20290221T140000
DTSTAMP:20260422T021902
CREATED:20231025T112258Z
LAST-MODIFIED:20231025T112258Z
UID:10029359-1866373200-1866376800@keepingmewell.com
SUMMARY:Tai Chi yn Llanrhymni
DESCRIPTION:Mae Tai Chi yn seiliedig ar anadlu dwfn a symudiadau ysgafn\, araf\, ysgafn\, sy’n ddosbarth trawiad isel\, ond mae angen y gallu i ffocysu. \nMae Tai Chi\, a elwir hefyd yn Tai Chi Chuan\, yn cyfuno anadlu dwfn ac ymlaciol gyda symudiadau esmwyth. \nAddas ar gyfer pob oed a gallu \n 
URL:https://keepingmewell.com/event/tai-chi-yn-llanrhymni/2029-02-21/
LOCATION:Hyb Llanrhymni\, Countisbury Avenue\, Caerdydd\, CF3 5NQ\, United Kingdom
CATEGORIES:Cymraeg,Gweithgarwch Corfforol,Lles,Wellbeing
ATTACH;FMTTYPE=image/png:https://keepingmewell.com/wp-content/uploads/2023/01/Cardiff-Hubs.png
END:VEVENT
BEGIN:VEVENT
DTSTART;TZID=Europe/London:20290228T130000
DTEND;TZID=Europe/London:20290228T140000
DTSTAMP:20260422T021902
CREATED:20231025T112258Z
LAST-MODIFIED:20231025T112258Z
UID:10029360-1866978000-1866981600@keepingmewell.com
SUMMARY:Tai Chi yn Llanrhymni
DESCRIPTION:Mae Tai Chi yn seiliedig ar anadlu dwfn a symudiadau ysgafn\, araf\, ysgafn\, sy’n ddosbarth trawiad isel\, ond mae angen y gallu i ffocysu. \nMae Tai Chi\, a elwir hefyd yn Tai Chi Chuan\, yn cyfuno anadlu dwfn ac ymlaciol gyda symudiadau esmwyth. \nAddas ar gyfer pob oed a gallu \n 
URL:https://keepingmewell.com/event/tai-chi-yn-llanrhymni/2029-02-28/
LOCATION:Hyb Llanrhymni\, Countisbury Avenue\, Caerdydd\, CF3 5NQ\, United Kingdom
CATEGORIES:Cymraeg,Gweithgarwch Corfforol,Lles,Wellbeing
ATTACH;FMTTYPE=image/png:https://keepingmewell.com/wp-content/uploads/2023/01/Cardiff-Hubs.png
END:VEVENT
BEGIN:VEVENT
DTSTART;TZID=Europe/London:20290307T130000
DTEND;TZID=Europe/London:20290307T140000
DTSTAMP:20260422T021902
CREATED:20231025T112258Z
LAST-MODIFIED:20231025T112258Z
UID:10029361-1867582800-1867586400@keepingmewell.com
SUMMARY:Tai Chi yn Llanrhymni
DESCRIPTION:Mae Tai Chi yn seiliedig ar anadlu dwfn a symudiadau ysgafn\, araf\, ysgafn\, sy’n ddosbarth trawiad isel\, ond mae angen y gallu i ffocysu. \nMae Tai Chi\, a elwir hefyd yn Tai Chi Chuan\, yn cyfuno anadlu dwfn ac ymlaciol gyda symudiadau esmwyth. \nAddas ar gyfer pob oed a gallu \n 
URL:https://keepingmewell.com/event/tai-chi-yn-llanrhymni/2029-03-07/
LOCATION:Hyb Llanrhymni\, Countisbury Avenue\, Caerdydd\, CF3 5NQ\, United Kingdom
CATEGORIES:Cymraeg,Gweithgarwch Corfforol,Lles,Wellbeing
ATTACH;FMTTYPE=image/png:https://keepingmewell.com/wp-content/uploads/2023/01/Cardiff-Hubs.png
END:VEVENT
BEGIN:VEVENT
DTSTART;TZID=Europe/London:20290314T130000
DTEND;TZID=Europe/London:20290314T140000
DTSTAMP:20260422T021902
CREATED:20231025T112258Z
LAST-MODIFIED:20231025T112258Z
UID:10029362-1868187600-1868191200@keepingmewell.com
SUMMARY:Tai Chi yn Llanrhymni
DESCRIPTION:Mae Tai Chi yn seiliedig ar anadlu dwfn a symudiadau ysgafn\, araf\, ysgafn\, sy’n ddosbarth trawiad isel\, ond mae angen y gallu i ffocysu. \nMae Tai Chi\, a elwir hefyd yn Tai Chi Chuan\, yn cyfuno anadlu dwfn ac ymlaciol gyda symudiadau esmwyth. \nAddas ar gyfer pob oed a gallu \n 
URL:https://keepingmewell.com/event/tai-chi-yn-llanrhymni/2029-03-14/
LOCATION:Hyb Llanrhymni\, Countisbury Avenue\, Caerdydd\, CF3 5NQ\, United Kingdom
CATEGORIES:Cymraeg,Gweithgarwch Corfforol,Lles,Wellbeing
ATTACH;FMTTYPE=image/png:https://keepingmewell.com/wp-content/uploads/2023/01/Cardiff-Hubs.png
END:VEVENT
BEGIN:VEVENT
DTSTART;TZID=Europe/London:20290321T130000
DTEND;TZID=Europe/London:20290321T140000
DTSTAMP:20260422T021902
CREATED:20231025T112258Z
LAST-MODIFIED:20231025T112258Z
UID:10029363-1868792400-1868796000@keepingmewell.com
SUMMARY:Tai Chi yn Llanrhymni
DESCRIPTION:Mae Tai Chi yn seiliedig ar anadlu dwfn a symudiadau ysgafn\, araf\, ysgafn\, sy’n ddosbarth trawiad isel\, ond mae angen y gallu i ffocysu. \nMae Tai Chi\, a elwir hefyd yn Tai Chi Chuan\, yn cyfuno anadlu dwfn ac ymlaciol gyda symudiadau esmwyth. \nAddas ar gyfer pob oed a gallu \n 
URL:https://keepingmewell.com/event/tai-chi-yn-llanrhymni/2029-03-21/
LOCATION:Hyb Llanrhymni\, Countisbury Avenue\, Caerdydd\, CF3 5NQ\, United Kingdom
CATEGORIES:Cymraeg,Gweithgarwch Corfforol,Lles,Wellbeing
ATTACH;FMTTYPE=image/png:https://keepingmewell.com/wp-content/uploads/2023/01/Cardiff-Hubs.png
END:VEVENT
BEGIN:VEVENT
DTSTART;TZID=Europe/London:20290328T130000
DTEND;TZID=Europe/London:20290328T140000
DTSTAMP:20260422T021902
CREATED:20231025T112258Z
LAST-MODIFIED:20231025T112258Z
UID:10029364-1869397200-1869400800@keepingmewell.com
SUMMARY:Tai Chi yn Llanrhymni
DESCRIPTION:Mae Tai Chi yn seiliedig ar anadlu dwfn a symudiadau ysgafn\, araf\, ysgafn\, sy’n ddosbarth trawiad isel\, ond mae angen y gallu i ffocysu. \nMae Tai Chi\, a elwir hefyd yn Tai Chi Chuan\, yn cyfuno anadlu dwfn ac ymlaciol gyda symudiadau esmwyth. \nAddas ar gyfer pob oed a gallu \n 
URL:https://keepingmewell.com/event/tai-chi-yn-llanrhymni/2029-03-28/
LOCATION:Hyb Llanrhymni\, Countisbury Avenue\, Caerdydd\, CF3 5NQ\, United Kingdom
CATEGORIES:Cymraeg,Gweithgarwch Corfforol,Lles,Wellbeing
ATTACH;FMTTYPE=image/png:https://keepingmewell.com/wp-content/uploads/2023/01/Cardiff-Hubs.png
END:VEVENT
BEGIN:VEVENT
DTSTART;TZID=Europe/London:20290404T130000
DTEND;TZID=Europe/London:20290404T140000
DTSTAMP:20260422T021902
CREATED:20231025T112258Z
LAST-MODIFIED:20231025T112258Z
UID:10029365-1870002000-1870005600@keepingmewell.com
SUMMARY:Tai Chi yn Llanrhymni
DESCRIPTION:Mae Tai Chi yn seiliedig ar anadlu dwfn a symudiadau ysgafn\, araf\, ysgafn\, sy’n ddosbarth trawiad isel\, ond mae angen y gallu i ffocysu. \nMae Tai Chi\, a elwir hefyd yn Tai Chi Chuan\, yn cyfuno anadlu dwfn ac ymlaciol gyda symudiadau esmwyth. \nAddas ar gyfer pob oed a gallu \n 
URL:https://keepingmewell.com/event/tai-chi-yn-llanrhymni/2029-04-04/
LOCATION:Hyb Llanrhymni\, Countisbury Avenue\, Caerdydd\, CF3 5NQ\, United Kingdom
CATEGORIES:Cymraeg,Gweithgarwch Corfforol,Lles,Wellbeing
ATTACH;FMTTYPE=image/png:https://keepingmewell.com/wp-content/uploads/2023/01/Cardiff-Hubs.png
END:VEVENT
BEGIN:VEVENT
DTSTART;TZID=Europe/London:20290411T130000
DTEND;TZID=Europe/London:20290411T140000
DTSTAMP:20260422T021902
CREATED:20231025T112258Z
LAST-MODIFIED:20231025T112258Z
UID:10029366-1870606800-1870610400@keepingmewell.com
SUMMARY:Tai Chi yn Llanrhymni
DESCRIPTION:Mae Tai Chi yn seiliedig ar anadlu dwfn a symudiadau ysgafn\, araf\, ysgafn\, sy’n ddosbarth trawiad isel\, ond mae angen y gallu i ffocysu. \nMae Tai Chi\, a elwir hefyd yn Tai Chi Chuan\, yn cyfuno anadlu dwfn ac ymlaciol gyda symudiadau esmwyth. \nAddas ar gyfer pob oed a gallu \n 
URL:https://keepingmewell.com/event/tai-chi-yn-llanrhymni/2029-04-11/
LOCATION:Hyb Llanrhymni\, Countisbury Avenue\, Caerdydd\, CF3 5NQ\, United Kingdom
CATEGORIES:Cymraeg,Gweithgarwch Corfforol,Lles,Wellbeing
ATTACH;FMTTYPE=image/png:https://keepingmewell.com/wp-content/uploads/2023/01/Cardiff-Hubs.png
END:VEVENT
BEGIN:VEVENT
DTSTART;TZID=Europe/London:20290418T130000
DTEND;TZID=Europe/London:20290418T140000
DTSTAMP:20260422T021902
CREATED:20231025T112258Z
LAST-MODIFIED:20231025T112258Z
UID:10029367-1871211600-1871215200@keepingmewell.com
SUMMARY:Tai Chi yn Llanrhymni
DESCRIPTION:Mae Tai Chi yn seiliedig ar anadlu dwfn a symudiadau ysgafn\, araf\, ysgafn\, sy’n ddosbarth trawiad isel\, ond mae angen y gallu i ffocysu. \nMae Tai Chi\, a elwir hefyd yn Tai Chi Chuan\, yn cyfuno anadlu dwfn ac ymlaciol gyda symudiadau esmwyth. \nAddas ar gyfer pob oed a gallu \n 
URL:https://keepingmewell.com/event/tai-chi-yn-llanrhymni/2029-04-18/
LOCATION:Hyb Llanrhymni\, Countisbury Avenue\, Caerdydd\, CF3 5NQ\, United Kingdom
CATEGORIES:Cymraeg,Gweithgarwch Corfforol,Lles,Wellbeing
ATTACH;FMTTYPE=image/png:https://keepingmewell.com/wp-content/uploads/2023/01/Cardiff-Hubs.png
END:VEVENT
BEGIN:VEVENT
DTSTART;TZID=Europe/London:20290425T130000
DTEND;TZID=Europe/London:20290425T140000
DTSTAMP:20260422T021902
CREATED:20231025T112258Z
LAST-MODIFIED:20231025T112258Z
UID:10029368-1871816400-1871820000@keepingmewell.com
SUMMARY:Tai Chi yn Llanrhymni
DESCRIPTION:Mae Tai Chi yn seiliedig ar anadlu dwfn a symudiadau ysgafn\, araf\, ysgafn\, sy’n ddosbarth trawiad isel\, ond mae angen y gallu i ffocysu. \nMae Tai Chi\, a elwir hefyd yn Tai Chi Chuan\, yn cyfuno anadlu dwfn ac ymlaciol gyda symudiadau esmwyth. \nAddas ar gyfer pob oed a gallu \n 
URL:https://keepingmewell.com/event/tai-chi-yn-llanrhymni/2029-04-25/
LOCATION:Hyb Llanrhymni\, Countisbury Avenue\, Caerdydd\, CF3 5NQ\, United Kingdom
CATEGORIES:Cymraeg,Gweithgarwch Corfforol,Lles,Wellbeing
ATTACH;FMTTYPE=image/png:https://keepingmewell.com/wp-content/uploads/2023/01/Cardiff-Hubs.png
END:VEVENT
BEGIN:VEVENT
DTSTART;TZID=Europe/London:20290502T130000
DTEND;TZID=Europe/London:20290502T140000
DTSTAMP:20260422T021902
CREATED:20231025T112258Z
LAST-MODIFIED:20231025T112258Z
UID:10029369-1872421200-1872424800@keepingmewell.com
SUMMARY:Tai Chi yn Llanrhymni
DESCRIPTION:Mae Tai Chi yn seiliedig ar anadlu dwfn a symudiadau ysgafn\, araf\, ysgafn\, sy’n ddosbarth trawiad isel\, ond mae angen y gallu i ffocysu. \nMae Tai Chi\, a elwir hefyd yn Tai Chi Chuan\, yn cyfuno anadlu dwfn ac ymlaciol gyda symudiadau esmwyth. \nAddas ar gyfer pob oed a gallu \n 
URL:https://keepingmewell.com/event/tai-chi-yn-llanrhymni/2029-05-02/
LOCATION:Hyb Llanrhymni\, Countisbury Avenue\, Caerdydd\, CF3 5NQ\, United Kingdom
CATEGORIES:Cymraeg,Gweithgarwch Corfforol,Lles,Wellbeing
ATTACH;FMTTYPE=image/png:https://keepingmewell.com/wp-content/uploads/2023/01/Cardiff-Hubs.png
END:VEVENT
BEGIN:VEVENT
DTSTART;TZID=Europe/London:20290509T130000
DTEND;TZID=Europe/London:20290509T140000
DTSTAMP:20260422T021902
CREATED:20231025T112258Z
LAST-MODIFIED:20231025T112258Z
UID:10029370-1873026000-1873029600@keepingmewell.com
SUMMARY:Tai Chi yn Llanrhymni
DESCRIPTION:Mae Tai Chi yn seiliedig ar anadlu dwfn a symudiadau ysgafn\, araf\, ysgafn\, sy’n ddosbarth trawiad isel\, ond mae angen y gallu i ffocysu. \nMae Tai Chi\, a elwir hefyd yn Tai Chi Chuan\, yn cyfuno anadlu dwfn ac ymlaciol gyda symudiadau esmwyth. \nAddas ar gyfer pob oed a gallu \n 
URL:https://keepingmewell.com/event/tai-chi-yn-llanrhymni/2029-05-09/
LOCATION:Hyb Llanrhymni\, Countisbury Avenue\, Caerdydd\, CF3 5NQ\, United Kingdom
CATEGORIES:Cymraeg,Gweithgarwch Corfforol,Lles,Wellbeing
ATTACH;FMTTYPE=image/png:https://keepingmewell.com/wp-content/uploads/2023/01/Cardiff-Hubs.png
END:VEVENT
BEGIN:VEVENT
DTSTART;TZID=Europe/London:20290516T130000
DTEND;TZID=Europe/London:20290516T140000
DTSTAMP:20260422T021902
CREATED:20231025T112258Z
LAST-MODIFIED:20231025T112258Z
UID:10029371-1873630800-1873634400@keepingmewell.com
SUMMARY:Tai Chi yn Llanrhymni
DESCRIPTION:Mae Tai Chi yn seiliedig ar anadlu dwfn a symudiadau ysgafn\, araf\, ysgafn\, sy’n ddosbarth trawiad isel\, ond mae angen y gallu i ffocysu. \nMae Tai Chi\, a elwir hefyd yn Tai Chi Chuan\, yn cyfuno anadlu dwfn ac ymlaciol gyda symudiadau esmwyth. \nAddas ar gyfer pob oed a gallu \n 
URL:https://keepingmewell.com/event/tai-chi-yn-llanrhymni/2029-05-16/
LOCATION:Hyb Llanrhymni\, Countisbury Avenue\, Caerdydd\, CF3 5NQ\, United Kingdom
CATEGORIES:Cymraeg,Gweithgarwch Corfforol,Lles,Wellbeing
ATTACH;FMTTYPE=image/png:https://keepingmewell.com/wp-content/uploads/2023/01/Cardiff-Hubs.png
END:VEVENT
BEGIN:VEVENT
DTSTART;TZID=Europe/London:20290523T130000
DTEND;TZID=Europe/London:20290523T140000
DTSTAMP:20260422T021902
CREATED:20231025T112258Z
LAST-MODIFIED:20231025T112258Z
UID:10029372-1874235600-1874239200@keepingmewell.com
SUMMARY:Tai Chi yn Llanrhymni
DESCRIPTION:Mae Tai Chi yn seiliedig ar anadlu dwfn a symudiadau ysgafn\, araf\, ysgafn\, sy’n ddosbarth trawiad isel\, ond mae angen y gallu i ffocysu. \nMae Tai Chi\, a elwir hefyd yn Tai Chi Chuan\, yn cyfuno anadlu dwfn ac ymlaciol gyda symudiadau esmwyth. \nAddas ar gyfer pob oed a gallu \n 
URL:https://keepingmewell.com/event/tai-chi-yn-llanrhymni/2029-05-23/
LOCATION:Hyb Llanrhymni\, Countisbury Avenue\, Caerdydd\, CF3 5NQ\, United Kingdom
CATEGORIES:Cymraeg,Gweithgarwch Corfforol,Lles,Wellbeing
ATTACH;FMTTYPE=image/png:https://keepingmewell.com/wp-content/uploads/2023/01/Cardiff-Hubs.png
END:VEVENT
BEGIN:VEVENT
DTSTART;TZID=Europe/London:20290530T130000
DTEND;TZID=Europe/London:20290530T140000
DTSTAMP:20260422T021902
CREATED:20231025T112258Z
LAST-MODIFIED:20231025T112258Z
UID:10029373-1874840400-1874844000@keepingmewell.com
SUMMARY:Tai Chi yn Llanrhymni
DESCRIPTION:Mae Tai Chi yn seiliedig ar anadlu dwfn a symudiadau ysgafn\, araf\, ysgafn\, sy’n ddosbarth trawiad isel\, ond mae angen y gallu i ffocysu. \nMae Tai Chi\, a elwir hefyd yn Tai Chi Chuan\, yn cyfuno anadlu dwfn ac ymlaciol gyda symudiadau esmwyth. \nAddas ar gyfer pob oed a gallu \n 
URL:https://keepingmewell.com/event/tai-chi-yn-llanrhymni/2029-05-30/
LOCATION:Hyb Llanrhymni\, Countisbury Avenue\, Caerdydd\, CF3 5NQ\, United Kingdom
CATEGORIES:Cymraeg,Gweithgarwch Corfforol,Lles,Wellbeing
ATTACH;FMTTYPE=image/png:https://keepingmewell.com/wp-content/uploads/2023/01/Cardiff-Hubs.png
END:VEVENT
BEGIN:VEVENT
DTSTART;TZID=Europe/London:20290606T130000
DTEND;TZID=Europe/London:20290606T140000
DTSTAMP:20260422T021902
CREATED:20231025T112258Z
LAST-MODIFIED:20231025T112258Z
UID:10029374-1875445200-1875448800@keepingmewell.com
SUMMARY:Tai Chi yn Llanrhymni
DESCRIPTION:Mae Tai Chi yn seiliedig ar anadlu dwfn a symudiadau ysgafn\, araf\, ysgafn\, sy’n ddosbarth trawiad isel\, ond mae angen y gallu i ffocysu. \nMae Tai Chi\, a elwir hefyd yn Tai Chi Chuan\, yn cyfuno anadlu dwfn ac ymlaciol gyda symudiadau esmwyth. \nAddas ar gyfer pob oed a gallu \n 
URL:https://keepingmewell.com/event/tai-chi-yn-llanrhymni/2029-06-06/
LOCATION:Hyb Llanrhymni\, Countisbury Avenue\, Caerdydd\, CF3 5NQ\, United Kingdom
CATEGORIES:Cymraeg,Gweithgarwch Corfforol,Lles,Wellbeing
ATTACH;FMTTYPE=image/png:https://keepingmewell.com/wp-content/uploads/2023/01/Cardiff-Hubs.png
END:VEVENT
BEGIN:VEVENT
DTSTART;TZID=Europe/London:20290613T130000
DTEND;TZID=Europe/London:20290613T140000
DTSTAMP:20260422T021902
CREATED:20231025T112258Z
LAST-MODIFIED:20231025T112258Z
UID:10029375-1876050000-1876053600@keepingmewell.com
SUMMARY:Tai Chi yn Llanrhymni
DESCRIPTION:Mae Tai Chi yn seiliedig ar anadlu dwfn a symudiadau ysgafn\, araf\, ysgafn\, sy’n ddosbarth trawiad isel\, ond mae angen y gallu i ffocysu. \nMae Tai Chi\, a elwir hefyd yn Tai Chi Chuan\, yn cyfuno anadlu dwfn ac ymlaciol gyda symudiadau esmwyth. \nAddas ar gyfer pob oed a gallu \n 
URL:https://keepingmewell.com/event/tai-chi-yn-llanrhymni/2029-06-13/
LOCATION:Hyb Llanrhymni\, Countisbury Avenue\, Caerdydd\, CF3 5NQ\, United Kingdom
CATEGORIES:Cymraeg,Gweithgarwch Corfforol,Lles,Wellbeing
ATTACH;FMTTYPE=image/png:https://keepingmewell.com/wp-content/uploads/2023/01/Cardiff-Hubs.png
END:VEVENT
BEGIN:VEVENT
DTSTART;TZID=Europe/London:20290620T130000
DTEND;TZID=Europe/London:20290620T140000
DTSTAMP:20260422T021902
CREATED:20231025T112258Z
LAST-MODIFIED:20231025T112258Z
UID:10029376-1876654800-1876658400@keepingmewell.com
SUMMARY:Tai Chi yn Llanrhymni
DESCRIPTION:Mae Tai Chi yn seiliedig ar anadlu dwfn a symudiadau ysgafn\, araf\, ysgafn\, sy’n ddosbarth trawiad isel\, ond mae angen y gallu i ffocysu. \nMae Tai Chi\, a elwir hefyd yn Tai Chi Chuan\, yn cyfuno anadlu dwfn ac ymlaciol gyda symudiadau esmwyth. \nAddas ar gyfer pob oed a gallu \n 
URL:https://keepingmewell.com/event/tai-chi-yn-llanrhymni/2029-06-20/
LOCATION:Hyb Llanrhymni\, Countisbury Avenue\, Caerdydd\, CF3 5NQ\, United Kingdom
CATEGORIES:Cymraeg,Gweithgarwch Corfforol,Lles,Wellbeing
ATTACH;FMTTYPE=image/png:https://keepingmewell.com/wp-content/uploads/2023/01/Cardiff-Hubs.png
END:VEVENT
BEGIN:VEVENT
DTSTART;TZID=Europe/London:20290627T130000
DTEND;TZID=Europe/London:20290627T140000
DTSTAMP:20260422T021902
CREATED:20231025T112258Z
LAST-MODIFIED:20231025T112258Z
UID:10029377-1877259600-1877263200@keepingmewell.com
SUMMARY:Tai Chi yn Llanrhymni
DESCRIPTION:Mae Tai Chi yn seiliedig ar anadlu dwfn a symudiadau ysgafn\, araf\, ysgafn\, sy’n ddosbarth trawiad isel\, ond mae angen y gallu i ffocysu. \nMae Tai Chi\, a elwir hefyd yn Tai Chi Chuan\, yn cyfuno anadlu dwfn ac ymlaciol gyda symudiadau esmwyth. \nAddas ar gyfer pob oed a gallu \n 
URL:https://keepingmewell.com/event/tai-chi-yn-llanrhymni/2029-06-27/
LOCATION:Hyb Llanrhymni\, Countisbury Avenue\, Caerdydd\, CF3 5NQ\, United Kingdom
CATEGORIES:Cymraeg,Gweithgarwch Corfforol,Lles,Wellbeing
ATTACH;FMTTYPE=image/png:https://keepingmewell.com/wp-content/uploads/2023/01/Cardiff-Hubs.png
END:VEVENT
BEGIN:VEVENT
DTSTART;TZID=Europe/London:20290704T130000
DTEND;TZID=Europe/London:20290704T140000
DTSTAMP:20260422T021902
CREATED:20231025T112258Z
LAST-MODIFIED:20231025T112258Z
UID:10029378-1877864400-1877868000@keepingmewell.com
SUMMARY:Tai Chi yn Llanrhymni
DESCRIPTION:Mae Tai Chi yn seiliedig ar anadlu dwfn a symudiadau ysgafn\, araf\, ysgafn\, sy’n ddosbarth trawiad isel\, ond mae angen y gallu i ffocysu. \nMae Tai Chi\, a elwir hefyd yn Tai Chi Chuan\, yn cyfuno anadlu dwfn ac ymlaciol gyda symudiadau esmwyth. \nAddas ar gyfer pob oed a gallu \n 
URL:https://keepingmewell.com/event/tai-chi-yn-llanrhymni/2029-07-04/
LOCATION:Hyb Llanrhymni\, Countisbury Avenue\, Caerdydd\, CF3 5NQ\, United Kingdom
CATEGORIES:Cymraeg,Gweithgarwch Corfforol,Lles,Wellbeing
ATTACH;FMTTYPE=image/png:https://keepingmewell.com/wp-content/uploads/2023/01/Cardiff-Hubs.png
END:VEVENT
BEGIN:VEVENT
DTSTART;TZID=Europe/London:20290711T130000
DTEND;TZID=Europe/London:20290711T140000
DTSTAMP:20260422T021902
CREATED:20231025T112258Z
LAST-MODIFIED:20231025T112258Z
UID:10029379-1878469200-1878472800@keepingmewell.com
SUMMARY:Tai Chi yn Llanrhymni
DESCRIPTION:Mae Tai Chi yn seiliedig ar anadlu dwfn a symudiadau ysgafn\, araf\, ysgafn\, sy’n ddosbarth trawiad isel\, ond mae angen y gallu i ffocysu. \nMae Tai Chi\, a elwir hefyd yn Tai Chi Chuan\, yn cyfuno anadlu dwfn ac ymlaciol gyda symudiadau esmwyth. \nAddas ar gyfer pob oed a gallu \n 
URL:https://keepingmewell.com/event/tai-chi-yn-llanrhymni/2029-07-11/
LOCATION:Hyb Llanrhymni\, Countisbury Avenue\, Caerdydd\, CF3 5NQ\, United Kingdom
CATEGORIES:Cymraeg,Gweithgarwch Corfforol,Lles,Wellbeing
ATTACH;FMTTYPE=image/png:https://keepingmewell.com/wp-content/uploads/2023/01/Cardiff-Hubs.png
END:VEVENT
BEGIN:VEVENT
DTSTART;TZID=Europe/London:20290718T130000
DTEND;TZID=Europe/London:20290718T140000
DTSTAMP:20260422T021902
CREATED:20231025T112258Z
LAST-MODIFIED:20231025T112258Z
UID:10029380-1879074000-1879077600@keepingmewell.com
SUMMARY:Tai Chi yn Llanrhymni
DESCRIPTION:Mae Tai Chi yn seiliedig ar anadlu dwfn a symudiadau ysgafn\, araf\, ysgafn\, sy’n ddosbarth trawiad isel\, ond mae angen y gallu i ffocysu. \nMae Tai Chi\, a elwir hefyd yn Tai Chi Chuan\, yn cyfuno anadlu dwfn ac ymlaciol gyda symudiadau esmwyth. \nAddas ar gyfer pob oed a gallu \n 
URL:https://keepingmewell.com/event/tai-chi-yn-llanrhymni/2029-07-18/
LOCATION:Hyb Llanrhymni\, Countisbury Avenue\, Caerdydd\, CF3 5NQ\, United Kingdom
CATEGORIES:Cymraeg,Gweithgarwch Corfforol,Lles,Wellbeing
ATTACH;FMTTYPE=image/png:https://keepingmewell.com/wp-content/uploads/2023/01/Cardiff-Hubs.png
END:VEVENT
BEGIN:VEVENT
DTSTART;TZID=Europe/London:20290725T130000
DTEND;TZID=Europe/London:20290725T140000
DTSTAMP:20260422T021902
CREATED:20231025T112258Z
LAST-MODIFIED:20231025T112258Z
UID:10029381-1879678800-1879682400@keepingmewell.com
SUMMARY:Tai Chi yn Llanrhymni
DESCRIPTION:Mae Tai Chi yn seiliedig ar anadlu dwfn a symudiadau ysgafn\, araf\, ysgafn\, sy’n ddosbarth trawiad isel\, ond mae angen y gallu i ffocysu. \nMae Tai Chi\, a elwir hefyd yn Tai Chi Chuan\, yn cyfuno anadlu dwfn ac ymlaciol gyda symudiadau esmwyth. \nAddas ar gyfer pob oed a gallu \n 
URL:https://keepingmewell.com/event/tai-chi-yn-llanrhymni/2029-07-25/
LOCATION:Hyb Llanrhymni\, Countisbury Avenue\, Caerdydd\, CF3 5NQ\, United Kingdom
CATEGORIES:Cymraeg,Gweithgarwch Corfforol,Lles,Wellbeing
ATTACH;FMTTYPE=image/png:https://keepingmewell.com/wp-content/uploads/2023/01/Cardiff-Hubs.png
END:VEVENT
BEGIN:VEVENT
DTSTART;TZID=Europe/London:20290801T130000
DTEND;TZID=Europe/London:20290801T140000
DTSTAMP:20260422T021903
CREATED:20231025T112258Z
LAST-MODIFIED:20231025T112258Z
UID:10029382-1880283600-1880287200@keepingmewell.com
SUMMARY:Tai Chi yn Llanrhymni
DESCRIPTION:Mae Tai Chi yn seiliedig ar anadlu dwfn a symudiadau ysgafn\, araf\, ysgafn\, sy’n ddosbarth trawiad isel\, ond mae angen y gallu i ffocysu. \nMae Tai Chi\, a elwir hefyd yn Tai Chi Chuan\, yn cyfuno anadlu dwfn ac ymlaciol gyda symudiadau esmwyth. \nAddas ar gyfer pob oed a gallu \n 
URL:https://keepingmewell.com/event/tai-chi-yn-llanrhymni/2029-08-01/
LOCATION:Hyb Llanrhymni\, Countisbury Avenue\, Caerdydd\, CF3 5NQ\, United Kingdom
CATEGORIES:Cymraeg,Gweithgarwch Corfforol,Lles,Wellbeing
ATTACH;FMTTYPE=image/png:https://keepingmewell.com/wp-content/uploads/2023/01/Cardiff-Hubs.png
END:VEVENT
BEGIN:VEVENT
DTSTART;TZID=Europe/London:20290808T130000
DTEND;TZID=Europe/London:20290808T140000
DTSTAMP:20260422T021903
CREATED:20231025T112258Z
LAST-MODIFIED:20231025T112258Z
UID:10029383-1880888400-1880892000@keepingmewell.com
SUMMARY:Tai Chi yn Llanrhymni
DESCRIPTION:Mae Tai Chi yn seiliedig ar anadlu dwfn a symudiadau ysgafn\, araf\, ysgafn\, sy’n ddosbarth trawiad isel\, ond mae angen y gallu i ffocysu. \nMae Tai Chi\, a elwir hefyd yn Tai Chi Chuan\, yn cyfuno anadlu dwfn ac ymlaciol gyda symudiadau esmwyth. \nAddas ar gyfer pob oed a gallu \n 
URL:https://keepingmewell.com/event/tai-chi-yn-llanrhymni/2029-08-08/
LOCATION:Hyb Llanrhymni\, Countisbury Avenue\, Caerdydd\, CF3 5NQ\, United Kingdom
CATEGORIES:Cymraeg,Gweithgarwch Corfforol,Lles,Wellbeing
ATTACH;FMTTYPE=image/png:https://keepingmewell.com/wp-content/uploads/2023/01/Cardiff-Hubs.png
END:VEVENT
BEGIN:VEVENT
DTSTART;TZID=Europe/London:20290815T130000
DTEND;TZID=Europe/London:20290815T140000
DTSTAMP:20260422T021903
CREATED:20231025T112258Z
LAST-MODIFIED:20231025T112258Z
UID:10029384-1881493200-1881496800@keepingmewell.com
SUMMARY:Tai Chi yn Llanrhymni
DESCRIPTION:Mae Tai Chi yn seiliedig ar anadlu dwfn a symudiadau ysgafn\, araf\, ysgafn\, sy’n ddosbarth trawiad isel\, ond mae angen y gallu i ffocysu. \nMae Tai Chi\, a elwir hefyd yn Tai Chi Chuan\, yn cyfuno anadlu dwfn ac ymlaciol gyda symudiadau esmwyth. \nAddas ar gyfer pob oed a gallu \n 
URL:https://keepingmewell.com/event/tai-chi-yn-llanrhymni/2029-08-15/
LOCATION:Hyb Llanrhymni\, Countisbury Avenue\, Caerdydd\, CF3 5NQ\, United Kingdom
CATEGORIES:Cymraeg,Gweithgarwch Corfforol,Lles,Wellbeing
ATTACH;FMTTYPE=image/png:https://keepingmewell.com/wp-content/uploads/2023/01/Cardiff-Hubs.png
END:VEVENT
END:VCALENDAR