BEGIN:VCALENDAR
VERSION:2.0
PRODID:-//Keeping Me Well - ECPv6.15.20//NONSGML v1.0//EN
CALSCALE:GREGORIAN
METHOD:PUBLISH
X-ORIGINAL-URL:https://keepingmewell.com
X-WR-CALDESC:Events for Keeping Me Well
REFRESH-INTERVAL;VALUE=DURATION:PT1H
X-Robots-Tag:noindex
X-PUBLISHED-TTL:PT1H
BEGIN:VTIMEZONE
TZID:Europe/London
BEGIN:DAYLIGHT
TZOFFSETFROM:+0000
TZOFFSETTO:+0100
TZNAME:BST
DTSTART:20240331T010000
END:DAYLIGHT
BEGIN:STANDARD
TZOFFSETFROM:+0100
TZOFFSETTO:+0000
TZNAME:GMT
DTSTART:20241027T010000
END:STANDARD
BEGIN:DAYLIGHT
TZOFFSETFROM:+0000
TZOFFSETTO:+0100
TZNAME:BST
DTSTART:20250330T010000
END:DAYLIGHT
BEGIN:STANDARD
TZOFFSETFROM:+0100
TZOFFSETTO:+0000
TZNAME:GMT
DTSTART:20251026T010000
END:STANDARD
BEGIN:DAYLIGHT
TZOFFSETFROM:+0000
TZOFFSETTO:+0100
TZNAME:BST
DTSTART:20260329T010000
END:DAYLIGHT
BEGIN:STANDARD
TZOFFSETFROM:+0100
TZOFFSETTO:+0000
TZNAME:GMT
DTSTART:20261025T010000
END:STANDARD
BEGIN:DAYLIGHT
TZOFFSETFROM:+0000
TZOFFSETTO:+0100
TZNAME:BST
DTSTART:20270328T010000
END:DAYLIGHT
BEGIN:STANDARD
TZOFFSETFROM:+0100
TZOFFSETTO:+0000
TZNAME:GMT
DTSTART:20271031T010000
END:STANDARD
END:VTIMEZONE
BEGIN:VEVENT
DTSTART;TZID=Europe/London:20260416T110000
DTEND;TZID=Europe/London:20260416T120000
DTSTAMP:20260420T135515
CREATED:20230111T114451Z
LAST-MODIFIED:20231024T145927Z
UID:10017281-1776337200-1776340800@keepingmewell.com
SUMMARY:Grwp Cerdded Nordig Caerdydd
DESCRIPTION:Mae cerdded Nordig yn troi taith gerdded yn ymarfer corff. Gan gyfarfod yng Nghaffi Castan yng Nghaeau Llandaf\, mae’r grwp \nCerdded Nordig wythnosol hwn yn gwella iechyd a ffitrwydd ac yn addas ar gyfer pob oedran a lefel ffitrwydd. Dewch a’ch polion eich hun.
URL:https://keepingmewell.com/event/grwp-cerdded-nordig-caerdydd-11/2026-04-16/
LOCATION:Nghaffi Castan\, Nghaeau Llandaf\, Pontcanna\, Caerdydd\, CF11 9QJ
CATEGORIES:Cerdded Nordig,Cymraeg,Gweithgarwch Corfforol
ATTACH;FMTTYPE=image/png:https://keepingmewell.com/wp-content/uploads/2022/12/NWUK-Website-Final-Logo.png
END:VEVENT
BEGIN:VEVENT
DTSTART;TZID=Europe/London:20260409T110000
DTEND;TZID=Europe/London:20260409T120000
DTSTAMP:20260420T135515
CREATED:20230111T114451Z
LAST-MODIFIED:20231024T145927Z
UID:10017280-1775732400-1775736000@keepingmewell.com
SUMMARY:Grwp Cerdded Nordig Caerdydd
DESCRIPTION:Mae cerdded Nordig yn troi taith gerdded yn ymarfer corff. Gan gyfarfod yng Nghaffi Castan yng Nghaeau Llandaf\, mae’r grwp \nCerdded Nordig wythnosol hwn yn gwella iechyd a ffitrwydd ac yn addas ar gyfer pob oedran a lefel ffitrwydd. Dewch a’ch polion eich hun.
URL:https://keepingmewell.com/event/grwp-cerdded-nordig-caerdydd-11/2026-04-09/
LOCATION:Nghaffi Castan\, Nghaeau Llandaf\, Pontcanna\, Caerdydd\, CF11 9QJ
CATEGORIES:Cerdded Nordig,Cymraeg,Gweithgarwch Corfforol
ATTACH;FMTTYPE=image/png:https://keepingmewell.com/wp-content/uploads/2022/12/NWUK-Website-Final-Logo.png
END:VEVENT
BEGIN:VEVENT
DTSTART;TZID=Europe/London:20260402T110000
DTEND;TZID=Europe/London:20260402T120000
DTSTAMP:20260420T135515
CREATED:20230111T114451Z
LAST-MODIFIED:20231024T145927Z
UID:10017279-1775127600-1775131200@keepingmewell.com
SUMMARY:Grwp Cerdded Nordig Caerdydd
DESCRIPTION:Mae cerdded Nordig yn troi taith gerdded yn ymarfer corff. Gan gyfarfod yng Nghaffi Castan yng Nghaeau Llandaf\, mae’r grwp \nCerdded Nordig wythnosol hwn yn gwella iechyd a ffitrwydd ac yn addas ar gyfer pob oedran a lefel ffitrwydd. Dewch a’ch polion eich hun.
URL:https://keepingmewell.com/event/grwp-cerdded-nordig-caerdydd-11/2026-04-02/
LOCATION:Nghaffi Castan\, Nghaeau Llandaf\, Pontcanna\, Caerdydd\, CF11 9QJ
CATEGORIES:Cerdded Nordig,Cymraeg,Gweithgarwch Corfforol
ATTACH;FMTTYPE=image/png:https://keepingmewell.com/wp-content/uploads/2022/12/NWUK-Website-Final-Logo.png
END:VEVENT
BEGIN:VEVENT
DTSTART;TZID=Europe/London:20260326T110000
DTEND;TZID=Europe/London:20260326T120000
DTSTAMP:20260420T135515
CREATED:20230111T114451Z
LAST-MODIFIED:20231024T145927Z
UID:10017278-1774522800-1774526400@keepingmewell.com
SUMMARY:Grwp Cerdded Nordig Caerdydd
DESCRIPTION:Mae cerdded Nordig yn troi taith gerdded yn ymarfer corff. Gan gyfarfod yng Nghaffi Castan yng Nghaeau Llandaf\, mae’r grwp \nCerdded Nordig wythnosol hwn yn gwella iechyd a ffitrwydd ac yn addas ar gyfer pob oedran a lefel ffitrwydd. Dewch a’ch polion eich hun.
URL:https://keepingmewell.com/event/grwp-cerdded-nordig-caerdydd-11/2026-03-26/
LOCATION:Nghaffi Castan\, Nghaeau Llandaf\, Pontcanna\, Caerdydd\, CF11 9QJ
CATEGORIES:Cerdded Nordig,Cymraeg,Gweithgarwch Corfforol
ATTACH;FMTTYPE=image/png:https://keepingmewell.com/wp-content/uploads/2022/12/NWUK-Website-Final-Logo.png
END:VEVENT
BEGIN:VEVENT
DTSTART;TZID=Europe/London:20260319T110000
DTEND;TZID=Europe/London:20260319T120000
DTSTAMP:20260420T135515
CREATED:20230111T114451Z
LAST-MODIFIED:20231024T145927Z
UID:10017277-1773918000-1773921600@keepingmewell.com
SUMMARY:Grwp Cerdded Nordig Caerdydd
DESCRIPTION:Mae cerdded Nordig yn troi taith gerdded yn ymarfer corff. Gan gyfarfod yng Nghaffi Castan yng Nghaeau Llandaf\, mae’r grwp \nCerdded Nordig wythnosol hwn yn gwella iechyd a ffitrwydd ac yn addas ar gyfer pob oedran a lefel ffitrwydd. Dewch a’ch polion eich hun.
URL:https://keepingmewell.com/event/grwp-cerdded-nordig-caerdydd-11/2026-03-19/
LOCATION:Nghaffi Castan\, Nghaeau Llandaf\, Pontcanna\, Caerdydd\, CF11 9QJ
CATEGORIES:Cerdded Nordig,Cymraeg,Gweithgarwch Corfforol
ATTACH;FMTTYPE=image/png:https://keepingmewell.com/wp-content/uploads/2022/12/NWUK-Website-Final-Logo.png
END:VEVENT
BEGIN:VEVENT
DTSTART;TZID=Europe/London:20260312T110000
DTEND;TZID=Europe/London:20260312T120000
DTSTAMP:20260420T135515
CREATED:20230111T114451Z
LAST-MODIFIED:20231024T145927Z
UID:10017276-1773313200-1773316800@keepingmewell.com
SUMMARY:Grwp Cerdded Nordig Caerdydd
DESCRIPTION:Mae cerdded Nordig yn troi taith gerdded yn ymarfer corff. Gan gyfarfod yng Nghaffi Castan yng Nghaeau Llandaf\, mae’r grwp \nCerdded Nordig wythnosol hwn yn gwella iechyd a ffitrwydd ac yn addas ar gyfer pob oedran a lefel ffitrwydd. Dewch a’ch polion eich hun.
URL:https://keepingmewell.com/event/grwp-cerdded-nordig-caerdydd-11/2026-03-12/
LOCATION:Nghaffi Castan\, Nghaeau Llandaf\, Pontcanna\, Caerdydd\, CF11 9QJ
CATEGORIES:Cerdded Nordig,Cymraeg,Gweithgarwch Corfforol
ATTACH;FMTTYPE=image/png:https://keepingmewell.com/wp-content/uploads/2022/12/NWUK-Website-Final-Logo.png
END:VEVENT
BEGIN:VEVENT
DTSTART;TZID=Europe/London:20260305T110000
DTEND;TZID=Europe/London:20260305T120000
DTSTAMP:20260420T135515
CREATED:20230111T114451Z
LAST-MODIFIED:20231024T145927Z
UID:10017275-1772708400-1772712000@keepingmewell.com
SUMMARY:Grwp Cerdded Nordig Caerdydd
DESCRIPTION:Mae cerdded Nordig yn troi taith gerdded yn ymarfer corff. Gan gyfarfod yng Nghaffi Castan yng Nghaeau Llandaf\, mae’r grwp \nCerdded Nordig wythnosol hwn yn gwella iechyd a ffitrwydd ac yn addas ar gyfer pob oedran a lefel ffitrwydd. Dewch a’ch polion eich hun.
URL:https://keepingmewell.com/event/grwp-cerdded-nordig-caerdydd-11/2026-03-05/
LOCATION:Nghaffi Castan\, Nghaeau Llandaf\, Pontcanna\, Caerdydd\, CF11 9QJ
CATEGORIES:Cerdded Nordig,Cymraeg,Gweithgarwch Corfforol
ATTACH;FMTTYPE=image/png:https://keepingmewell.com/wp-content/uploads/2022/12/NWUK-Website-Final-Logo.png
END:VEVENT
BEGIN:VEVENT
DTSTART;TZID=Europe/London:20260226T110000
DTEND;TZID=Europe/London:20260226T120000
DTSTAMP:20260420T135515
CREATED:20230111T114451Z
LAST-MODIFIED:20231024T145927Z
UID:10017274-1772103600-1772107200@keepingmewell.com
SUMMARY:Grwp Cerdded Nordig Caerdydd
DESCRIPTION:Mae cerdded Nordig yn troi taith gerdded yn ymarfer corff. Gan gyfarfod yng Nghaffi Castan yng Nghaeau Llandaf\, mae’r grwp \nCerdded Nordig wythnosol hwn yn gwella iechyd a ffitrwydd ac yn addas ar gyfer pob oedran a lefel ffitrwydd. Dewch a’ch polion eich hun.
URL:https://keepingmewell.com/event/grwp-cerdded-nordig-caerdydd-11/2026-02-26/
LOCATION:Nghaffi Castan\, Nghaeau Llandaf\, Pontcanna\, Caerdydd\, CF11 9QJ
CATEGORIES:Cerdded Nordig,Cymraeg,Gweithgarwch Corfforol
ATTACH;FMTTYPE=image/png:https://keepingmewell.com/wp-content/uploads/2022/12/NWUK-Website-Final-Logo.png
END:VEVENT
BEGIN:VEVENT
DTSTART;TZID=Europe/London:20260219T110000
DTEND;TZID=Europe/London:20260219T120000
DTSTAMP:20260420T135515
CREATED:20230111T114451Z
LAST-MODIFIED:20231024T145927Z
UID:10017273-1771498800-1771502400@keepingmewell.com
SUMMARY:Grwp Cerdded Nordig Caerdydd
DESCRIPTION:Mae cerdded Nordig yn troi taith gerdded yn ymarfer corff. Gan gyfarfod yng Nghaffi Castan yng Nghaeau Llandaf\, mae’r grwp \nCerdded Nordig wythnosol hwn yn gwella iechyd a ffitrwydd ac yn addas ar gyfer pob oedran a lefel ffitrwydd. Dewch a’ch polion eich hun.
URL:https://keepingmewell.com/event/grwp-cerdded-nordig-caerdydd-11/2026-02-19/
LOCATION:Nghaffi Castan\, Nghaeau Llandaf\, Pontcanna\, Caerdydd\, CF11 9QJ
CATEGORIES:Cerdded Nordig,Cymraeg,Gweithgarwch Corfforol
ATTACH;FMTTYPE=image/png:https://keepingmewell.com/wp-content/uploads/2022/12/NWUK-Website-Final-Logo.png
END:VEVENT
BEGIN:VEVENT
DTSTART;TZID=Europe/London:20260212T110000
DTEND;TZID=Europe/London:20260212T120000
DTSTAMP:20260420T135515
CREATED:20230111T114451Z
LAST-MODIFIED:20231024T145927Z
UID:10017272-1770894000-1770897600@keepingmewell.com
SUMMARY:Grwp Cerdded Nordig Caerdydd
DESCRIPTION:Mae cerdded Nordig yn troi taith gerdded yn ymarfer corff. Gan gyfarfod yng Nghaffi Castan yng Nghaeau Llandaf\, mae’r grwp \nCerdded Nordig wythnosol hwn yn gwella iechyd a ffitrwydd ac yn addas ar gyfer pob oedran a lefel ffitrwydd. Dewch a’ch polion eich hun.
URL:https://keepingmewell.com/event/grwp-cerdded-nordig-caerdydd-11/2026-02-12/
LOCATION:Nghaffi Castan\, Nghaeau Llandaf\, Pontcanna\, Caerdydd\, CF11 9QJ
CATEGORIES:Cerdded Nordig,Cymraeg,Gweithgarwch Corfforol
ATTACH;FMTTYPE=image/png:https://keepingmewell.com/wp-content/uploads/2022/12/NWUK-Website-Final-Logo.png
END:VEVENT
BEGIN:VEVENT
DTSTART;TZID=Europe/London:20260205T110000
DTEND;TZID=Europe/London:20260205T120000
DTSTAMP:20260420T135515
CREATED:20230111T114451Z
LAST-MODIFIED:20231024T145927Z
UID:10017271-1770289200-1770292800@keepingmewell.com
SUMMARY:Grwp Cerdded Nordig Caerdydd
DESCRIPTION:Mae cerdded Nordig yn troi taith gerdded yn ymarfer corff. Gan gyfarfod yng Nghaffi Castan yng Nghaeau Llandaf\, mae’r grwp \nCerdded Nordig wythnosol hwn yn gwella iechyd a ffitrwydd ac yn addas ar gyfer pob oedran a lefel ffitrwydd. Dewch a’ch polion eich hun.
URL:https://keepingmewell.com/event/grwp-cerdded-nordig-caerdydd-11/2026-02-05/
LOCATION:Nghaffi Castan\, Nghaeau Llandaf\, Pontcanna\, Caerdydd\, CF11 9QJ
CATEGORIES:Cerdded Nordig,Cymraeg,Gweithgarwch Corfforol
ATTACH;FMTTYPE=image/png:https://keepingmewell.com/wp-content/uploads/2022/12/NWUK-Website-Final-Logo.png
END:VEVENT
BEGIN:VEVENT
DTSTART;TZID=Europe/London:20260129T110000
DTEND;TZID=Europe/London:20260129T120000
DTSTAMP:20260420T135515
CREATED:20230111T114451Z
LAST-MODIFIED:20231024T145927Z
UID:10017270-1769684400-1769688000@keepingmewell.com
SUMMARY:Grwp Cerdded Nordig Caerdydd
DESCRIPTION:Mae cerdded Nordig yn troi taith gerdded yn ymarfer corff. Gan gyfarfod yng Nghaffi Castan yng Nghaeau Llandaf\, mae’r grwp \nCerdded Nordig wythnosol hwn yn gwella iechyd a ffitrwydd ac yn addas ar gyfer pob oedran a lefel ffitrwydd. Dewch a’ch polion eich hun.
URL:https://keepingmewell.com/event/grwp-cerdded-nordig-caerdydd-11/2026-01-29/
LOCATION:Nghaffi Castan\, Nghaeau Llandaf\, Pontcanna\, Caerdydd\, CF11 9QJ
CATEGORIES:Cerdded Nordig,Cymraeg,Gweithgarwch Corfforol
ATTACH;FMTTYPE=image/png:https://keepingmewell.com/wp-content/uploads/2022/12/NWUK-Website-Final-Logo.png
END:VEVENT
BEGIN:VEVENT
DTSTART;TZID=Europe/London:20260122T110000
DTEND;TZID=Europe/London:20260122T120000
DTSTAMP:20260420T135515
CREATED:20230111T114451Z
LAST-MODIFIED:20231024T145927Z
UID:10017269-1769079600-1769083200@keepingmewell.com
SUMMARY:Grwp Cerdded Nordig Caerdydd
DESCRIPTION:Mae cerdded Nordig yn troi taith gerdded yn ymarfer corff. Gan gyfarfod yng Nghaffi Castan yng Nghaeau Llandaf\, mae’r grwp \nCerdded Nordig wythnosol hwn yn gwella iechyd a ffitrwydd ac yn addas ar gyfer pob oedran a lefel ffitrwydd. Dewch a’ch polion eich hun.
URL:https://keepingmewell.com/event/grwp-cerdded-nordig-caerdydd-11/2026-01-22/
LOCATION:Nghaffi Castan\, Nghaeau Llandaf\, Pontcanna\, Caerdydd\, CF11 9QJ
CATEGORIES:Cerdded Nordig,Cymraeg,Gweithgarwch Corfforol
ATTACH;FMTTYPE=image/png:https://keepingmewell.com/wp-content/uploads/2022/12/NWUK-Website-Final-Logo.png
END:VEVENT
BEGIN:VEVENT
DTSTART;TZID=Europe/London:20260115T110000
DTEND;TZID=Europe/London:20260115T120000
DTSTAMP:20260420T135515
CREATED:20230111T114451Z
LAST-MODIFIED:20231024T145927Z
UID:10017268-1768474800-1768478400@keepingmewell.com
SUMMARY:Grwp Cerdded Nordig Caerdydd
DESCRIPTION:Mae cerdded Nordig yn troi taith gerdded yn ymarfer corff. Gan gyfarfod yng Nghaffi Castan yng Nghaeau Llandaf\, mae’r grwp \nCerdded Nordig wythnosol hwn yn gwella iechyd a ffitrwydd ac yn addas ar gyfer pob oedran a lefel ffitrwydd. Dewch a’ch polion eich hun.
URL:https://keepingmewell.com/event/grwp-cerdded-nordig-caerdydd-11/2026-01-15/
LOCATION:Nghaffi Castan\, Nghaeau Llandaf\, Pontcanna\, Caerdydd\, CF11 9QJ
CATEGORIES:Cerdded Nordig,Cymraeg,Gweithgarwch Corfforol
ATTACH;FMTTYPE=image/png:https://keepingmewell.com/wp-content/uploads/2022/12/NWUK-Website-Final-Logo.png
END:VEVENT
BEGIN:VEVENT
DTSTART;TZID=Europe/London:20260108T110000
DTEND;TZID=Europe/London:20260108T120000
DTSTAMP:20260420T135515
CREATED:20230111T114451Z
LAST-MODIFIED:20231024T145927Z
UID:10017267-1767870000-1767873600@keepingmewell.com
SUMMARY:Grwp Cerdded Nordig Caerdydd
DESCRIPTION:Mae cerdded Nordig yn troi taith gerdded yn ymarfer corff. Gan gyfarfod yng Nghaffi Castan yng Nghaeau Llandaf\, mae’r grwp \nCerdded Nordig wythnosol hwn yn gwella iechyd a ffitrwydd ac yn addas ar gyfer pob oedran a lefel ffitrwydd. Dewch a’ch polion eich hun.
URL:https://keepingmewell.com/event/grwp-cerdded-nordig-caerdydd-11/2026-01-08/
LOCATION:Nghaffi Castan\, Nghaeau Llandaf\, Pontcanna\, Caerdydd\, CF11 9QJ
CATEGORIES:Cerdded Nordig,Cymraeg,Gweithgarwch Corfforol
ATTACH;FMTTYPE=image/png:https://keepingmewell.com/wp-content/uploads/2022/12/NWUK-Website-Final-Logo.png
END:VEVENT
BEGIN:VEVENT
DTSTART;TZID=Europe/London:20260101T110000
DTEND;TZID=Europe/London:20260101T120000
DTSTAMP:20260420T135515
CREATED:20230111T114451Z
LAST-MODIFIED:20231024T145927Z
UID:10017266-1767265200-1767268800@keepingmewell.com
SUMMARY:Grwp Cerdded Nordig Caerdydd
DESCRIPTION:Mae cerdded Nordig yn troi taith gerdded yn ymarfer corff. Gan gyfarfod yng Nghaffi Castan yng Nghaeau Llandaf\, mae’r grwp \nCerdded Nordig wythnosol hwn yn gwella iechyd a ffitrwydd ac yn addas ar gyfer pob oedran a lefel ffitrwydd. Dewch a’ch polion eich hun.
URL:https://keepingmewell.com/event/grwp-cerdded-nordig-caerdydd-11/2026-01-01/
LOCATION:Nghaffi Castan\, Nghaeau Llandaf\, Pontcanna\, Caerdydd\, CF11 9QJ
CATEGORIES:Cerdded Nordig,Cymraeg,Gweithgarwch Corfforol
ATTACH;FMTTYPE=image/png:https://keepingmewell.com/wp-content/uploads/2022/12/NWUK-Website-Final-Logo.png
END:VEVENT
BEGIN:VEVENT
DTSTART;TZID=Europe/London:20251225T110000
DTEND;TZID=Europe/London:20251225T120000
DTSTAMP:20260420T135515
CREATED:20230111T114451Z
LAST-MODIFIED:20231024T145927Z
UID:10017265-1766660400-1766664000@keepingmewell.com
SUMMARY:Grwp Cerdded Nordig Caerdydd
DESCRIPTION:Mae cerdded Nordig yn troi taith gerdded yn ymarfer corff. Gan gyfarfod yng Nghaffi Castan yng Nghaeau Llandaf\, mae’r grwp \nCerdded Nordig wythnosol hwn yn gwella iechyd a ffitrwydd ac yn addas ar gyfer pob oedran a lefel ffitrwydd. Dewch a’ch polion eich hun.
URL:https://keepingmewell.com/event/grwp-cerdded-nordig-caerdydd-11/2025-12-25/
LOCATION:Nghaffi Castan\, Nghaeau Llandaf\, Pontcanna\, Caerdydd\, CF11 9QJ
CATEGORIES:Cerdded Nordig,Cymraeg,Gweithgarwch Corfforol
ATTACH;FMTTYPE=image/png:https://keepingmewell.com/wp-content/uploads/2022/12/NWUK-Website-Final-Logo.png
END:VEVENT
BEGIN:VEVENT
DTSTART;TZID=Europe/London:20251218T110000
DTEND;TZID=Europe/London:20251218T120000
DTSTAMP:20260420T135515
CREATED:20230111T114451Z
LAST-MODIFIED:20231024T145927Z
UID:10017264-1766055600-1766059200@keepingmewell.com
SUMMARY:Grwp Cerdded Nordig Caerdydd
DESCRIPTION:Mae cerdded Nordig yn troi taith gerdded yn ymarfer corff. Gan gyfarfod yng Nghaffi Castan yng Nghaeau Llandaf\, mae’r grwp \nCerdded Nordig wythnosol hwn yn gwella iechyd a ffitrwydd ac yn addas ar gyfer pob oedran a lefel ffitrwydd. Dewch a’ch polion eich hun.
URL:https://keepingmewell.com/event/grwp-cerdded-nordig-caerdydd-11/2025-12-18/
LOCATION:Nghaffi Castan\, Nghaeau Llandaf\, Pontcanna\, Caerdydd\, CF11 9QJ
CATEGORIES:Cerdded Nordig,Cymraeg,Gweithgarwch Corfforol
ATTACH;FMTTYPE=image/png:https://keepingmewell.com/wp-content/uploads/2022/12/NWUK-Website-Final-Logo.png
END:VEVENT
BEGIN:VEVENT
DTSTART;TZID=Europe/London:20251211T110000
DTEND;TZID=Europe/London:20251211T120000
DTSTAMP:20260420T135515
CREATED:20230111T114451Z
LAST-MODIFIED:20231024T145927Z
UID:10017263-1765450800-1765454400@keepingmewell.com
SUMMARY:Grwp Cerdded Nordig Caerdydd
DESCRIPTION:Mae cerdded Nordig yn troi taith gerdded yn ymarfer corff. Gan gyfarfod yng Nghaffi Castan yng Nghaeau Llandaf\, mae’r grwp \nCerdded Nordig wythnosol hwn yn gwella iechyd a ffitrwydd ac yn addas ar gyfer pob oedran a lefel ffitrwydd. Dewch a’ch polion eich hun.
URL:https://keepingmewell.com/event/grwp-cerdded-nordig-caerdydd-11/2025-12-11/
LOCATION:Nghaffi Castan\, Nghaeau Llandaf\, Pontcanna\, Caerdydd\, CF11 9QJ
CATEGORIES:Cerdded Nordig,Cymraeg,Gweithgarwch Corfforol
ATTACH;FMTTYPE=image/png:https://keepingmewell.com/wp-content/uploads/2022/12/NWUK-Website-Final-Logo.png
END:VEVENT
END:VCALENDAR