BEGIN:VCALENDAR
VERSION:2.0
PRODID:-//Keeping Me Well - ECPv6.15.20//NONSGML v1.0//EN
CALSCALE:GREGORIAN
METHOD:PUBLISH
X-ORIGINAL-URL:https://keepingmewell.com
X-WR-CALDESC:Events for Keeping Me Well
REFRESH-INTERVAL;VALUE=DURATION:PT1H
X-Robots-Tag:noindex
X-PUBLISHED-TTL:PT1H
BEGIN:VTIMEZONE
TZID:Europe/London
BEGIN:DAYLIGHT
TZOFFSETFROM:+0000
TZOFFSETTO:+0100
TZNAME:BST
DTSTART:20250330T010000
END:DAYLIGHT
BEGIN:STANDARD
TZOFFSETFROM:+0100
TZOFFSETTO:+0000
TZNAME:GMT
DTSTART:20251026T010000
END:STANDARD
BEGIN:DAYLIGHT
TZOFFSETFROM:+0000
TZOFFSETTO:+0100
TZNAME:BST
DTSTART:20260329T010000
END:DAYLIGHT
BEGIN:STANDARD
TZOFFSETFROM:+0100
TZOFFSETTO:+0000
TZNAME:GMT
DTSTART:20261025T010000
END:STANDARD
BEGIN:DAYLIGHT
TZOFFSETFROM:+0000
TZOFFSETTO:+0100
TZNAME:BST
DTSTART:20270328T010000
END:DAYLIGHT
BEGIN:STANDARD
TZOFFSETFROM:+0100
TZOFFSETTO:+0000
TZNAME:GMT
DTSTART:20271031T010000
END:STANDARD
END:VTIMEZONE
BEGIN:VEVENT
DTSTART;TZID=Europe/London:20260423T113000
DTEND;TZID=Europe/London:20260423T121500
DTSTAMP:20260426T020317
CREATED:20230823T134207Z
LAST-MODIFIED:20231024T114559Z
UID:10010792-1776943800-1776946500@keepingmewell.com
SUMMARY:ESCAPEE event in Penarth
DESCRIPTION:The ESCAPEE events are follow-up exercise sessions for people who have attended the Escape Pain programme for hip\, knee or back pain. \nYou are welcome to drop-in and take part in exercise designed to improve your movement and function. \nAt Penarth Leisure Centre every Thursday\, 11.30am-12.15pm.
URL:https://keepingmewell.com/event/escapee-event-201/2026-04-23/
LOCATION:Penarth Leisure Centre\, Andrew Road\, Cogan\, Penarth\, CF64 2NS\, United Kingdom
CATEGORIES:Arthritis,English,ESCAPEE,Physical Activity
ATTACH;FMTTYPE=image/jpeg:https://keepingmewell.com/wp-content/uploads/2022/12/Leisure-Centre-Escape-logos.jpg
END:VEVENT
BEGIN:VEVENT
DTSTART;TZID=Europe/London:20260420T113000
DTEND;TZID=Europe/London:20260420T121500
DTSTAMP:20260426T020317
CREATED:20231024T113426Z
LAST-MODIFIED:20231024T113426Z
UID:10010532-1776684600-1776687300@keepingmewell.com
SUMMARY:ESCAPEE event in Penarth
DESCRIPTION:The ESCAPEE events are follow-up exercise sessions for people who have attended the Escape Pain programme for hip\, knee or back pain. \nYou are welcome to drop-in and take part in exercise designed to improve your movement and function. \nAt Penarth Leisure Centre every Monday\, 11.30am-12.15pm.
URL:https://keepingmewell.com/event/escapee-event-in-penarth/2026-04-20/
LOCATION:Penarth Leisure Centre\, Andrew Road\, Cogan\, Penarth\, CF64 2NS\, United Kingdom
CATEGORIES:Arthritis,English,ESCAPEE,Physical Activity
ATTACH;FMTTYPE=image/jpeg:https://keepingmewell.com/wp-content/uploads/2022/12/Leisure-Centre-Escape-logos.jpg
END:VEVENT
BEGIN:VEVENT
DTSTART;TZID=Europe/London:20260416T113000
DTEND;TZID=Europe/London:20260416T121500
DTSTAMP:20260426T020317
CREATED:20230823T134207Z
LAST-MODIFIED:20231024T114559Z
UID:10010791-1776339000-1776341700@keepingmewell.com
SUMMARY:ESCAPEE event in Penarth
DESCRIPTION:The ESCAPEE events are follow-up exercise sessions for people who have attended the Escape Pain programme for hip\, knee or back pain. \nYou are welcome to drop-in and take part in exercise designed to improve your movement and function. \nAt Penarth Leisure Centre every Thursday\, 11.30am-12.15pm.
URL:https://keepingmewell.com/event/escapee-event-201/2026-04-16/
LOCATION:Penarth Leisure Centre\, Andrew Road\, Cogan\, Penarth\, CF64 2NS\, United Kingdom
CATEGORIES:Arthritis,English,ESCAPEE,Physical Activity
ATTACH;FMTTYPE=image/jpeg:https://keepingmewell.com/wp-content/uploads/2022/12/Leisure-Centre-Escape-logos.jpg
END:VEVENT
BEGIN:VEVENT
DTSTART;TZID=Europe/London:20260413T113000
DTEND;TZID=Europe/London:20260413T121500
DTSTAMP:20260426T020317
CREATED:20231024T113426Z
LAST-MODIFIED:20231024T113426Z
UID:10010531-1776079800-1776082500@keepingmewell.com
SUMMARY:ESCAPEE event in Penarth
DESCRIPTION:The ESCAPEE events are follow-up exercise sessions for people who have attended the Escape Pain programme for hip\, knee or back pain. \nYou are welcome to drop-in and take part in exercise designed to improve your movement and function. \nAt Penarth Leisure Centre every Monday\, 11.30am-12.15pm.
URL:https://keepingmewell.com/event/escapee-event-in-penarth/2026-04-13/
LOCATION:Penarth Leisure Centre\, Andrew Road\, Cogan\, Penarth\, CF64 2NS\, United Kingdom
CATEGORIES:Arthritis,English,ESCAPEE,Physical Activity
ATTACH;FMTTYPE=image/jpeg:https://keepingmewell.com/wp-content/uploads/2022/12/Leisure-Centre-Escape-logos.jpg
END:VEVENT
BEGIN:VEVENT
DTSTART;TZID=Europe/London:20260409T113000
DTEND;TZID=Europe/London:20260409T121500
DTSTAMP:20260426T020317
CREATED:20230823T134207Z
LAST-MODIFIED:20231024T114559Z
UID:10010790-1775734200-1775736900@keepingmewell.com
SUMMARY:ESCAPEE event in Penarth
DESCRIPTION:The ESCAPEE events are follow-up exercise sessions for people who have attended the Escape Pain programme for hip\, knee or back pain. \nYou are welcome to drop-in and take part in exercise designed to improve your movement and function. \nAt Penarth Leisure Centre every Thursday\, 11.30am-12.15pm.
URL:https://keepingmewell.com/event/escapee-event-201/2026-04-09/
LOCATION:Penarth Leisure Centre\, Andrew Road\, Cogan\, Penarth\, CF64 2NS\, United Kingdom
CATEGORIES:Arthritis,English,ESCAPEE,Physical Activity
ATTACH;FMTTYPE=image/jpeg:https://keepingmewell.com/wp-content/uploads/2022/12/Leisure-Centre-Escape-logos.jpg
END:VEVENT
BEGIN:VEVENT
DTSTART;TZID=Europe/London:20260406T113000
DTEND;TZID=Europe/London:20260406T121500
DTSTAMP:20260426T020317
CREATED:20231024T113426Z
LAST-MODIFIED:20231024T113426Z
UID:10010530-1775475000-1775477700@keepingmewell.com
SUMMARY:ESCAPEE event in Penarth
DESCRIPTION:The ESCAPEE events are follow-up exercise sessions for people who have attended the Escape Pain programme for hip\, knee or back pain. \nYou are welcome to drop-in and take part in exercise designed to improve your movement and function. \nAt Penarth Leisure Centre every Monday\, 11.30am-12.15pm.
URL:https://keepingmewell.com/event/escapee-event-in-penarth/2026-04-06/
LOCATION:Penarth Leisure Centre\, Andrew Road\, Cogan\, Penarth\, CF64 2NS\, United Kingdom
CATEGORIES:Arthritis,English,ESCAPEE,Physical Activity
ATTACH;FMTTYPE=image/jpeg:https://keepingmewell.com/wp-content/uploads/2022/12/Leisure-Centre-Escape-logos.jpg
END:VEVENT
BEGIN:VEVENT
DTSTART;TZID=Europe/London:20260402T113000
DTEND;TZID=Europe/London:20260402T121500
DTSTAMP:20260426T020317
CREATED:20230823T134207Z
LAST-MODIFIED:20231024T114559Z
UID:10010789-1775129400-1775132100@keepingmewell.com
SUMMARY:ESCAPEE event in Penarth
DESCRIPTION:The ESCAPEE events are follow-up exercise sessions for people who have attended the Escape Pain programme for hip\, knee or back pain. \nYou are welcome to drop-in and take part in exercise designed to improve your movement and function. \nAt Penarth Leisure Centre every Thursday\, 11.30am-12.15pm.
URL:https://keepingmewell.com/event/escapee-event-201/2026-04-02/
LOCATION:Penarth Leisure Centre\, Andrew Road\, Cogan\, Penarth\, CF64 2NS\, United Kingdom
CATEGORIES:Arthritis,English,ESCAPEE,Physical Activity
ATTACH;FMTTYPE=image/jpeg:https://keepingmewell.com/wp-content/uploads/2022/12/Leisure-Centre-Escape-logos.jpg
END:VEVENT
BEGIN:VEVENT
DTSTART;TZID=Europe/London:20260330T113000
DTEND;TZID=Europe/London:20260330T121500
DTSTAMP:20260426T020317
CREATED:20231024T113426Z
LAST-MODIFIED:20231024T113426Z
UID:10010529-1774870200-1774872900@keepingmewell.com
SUMMARY:ESCAPEE event in Penarth
DESCRIPTION:The ESCAPEE events are follow-up exercise sessions for people who have attended the Escape Pain programme for hip\, knee or back pain. \nYou are welcome to drop-in and take part in exercise designed to improve your movement and function. \nAt Penarth Leisure Centre every Monday\, 11.30am-12.15pm.
URL:https://keepingmewell.com/event/escapee-event-in-penarth/2026-03-30/
LOCATION:Penarth Leisure Centre\, Andrew Road\, Cogan\, Penarth\, CF64 2NS\, United Kingdom
CATEGORIES:Arthritis,English,ESCAPEE,Physical Activity
ATTACH;FMTTYPE=image/jpeg:https://keepingmewell.com/wp-content/uploads/2022/12/Leisure-Centre-Escape-logos.jpg
END:VEVENT
BEGIN:VEVENT
DTSTART;TZID=Europe/London:20260326T113000
DTEND;TZID=Europe/London:20260326T121500
DTSTAMP:20260426T020317
CREATED:20230823T134207Z
LAST-MODIFIED:20231024T114559Z
UID:10010788-1774524600-1774527300@keepingmewell.com
SUMMARY:ESCAPEE event in Penarth
DESCRIPTION:The ESCAPEE events are follow-up exercise sessions for people who have attended the Escape Pain programme for hip\, knee or back pain. \nYou are welcome to drop-in and take part in exercise designed to improve your movement and function. \nAt Penarth Leisure Centre every Thursday\, 11.30am-12.15pm.
URL:https://keepingmewell.com/event/escapee-event-201/2026-03-26/
LOCATION:Penarth Leisure Centre\, Andrew Road\, Cogan\, Penarth\, CF64 2NS\, United Kingdom
CATEGORIES:Arthritis,English,ESCAPEE,Physical Activity
ATTACH;FMTTYPE=image/jpeg:https://keepingmewell.com/wp-content/uploads/2022/12/Leisure-Centre-Escape-logos.jpg
END:VEVENT
BEGIN:VEVENT
DTSTART;TZID=Europe/London:20260323T113000
DTEND;TZID=Europe/London:20260323T121500
DTSTAMP:20260426T020317
CREATED:20231024T113426Z
LAST-MODIFIED:20231024T113426Z
UID:10010528-1774265400-1774268100@keepingmewell.com
SUMMARY:ESCAPEE event in Penarth
DESCRIPTION:The ESCAPEE events are follow-up exercise sessions for people who have attended the Escape Pain programme for hip\, knee or back pain. \nYou are welcome to drop-in and take part in exercise designed to improve your movement and function. \nAt Penarth Leisure Centre every Monday\, 11.30am-12.15pm.
URL:https://keepingmewell.com/event/escapee-event-in-penarth/2026-03-23/
LOCATION:Penarth Leisure Centre\, Andrew Road\, Cogan\, Penarth\, CF64 2NS\, United Kingdom
CATEGORIES:Arthritis,English,ESCAPEE,Physical Activity
ATTACH;FMTTYPE=image/jpeg:https://keepingmewell.com/wp-content/uploads/2022/12/Leisure-Centre-Escape-logos.jpg
END:VEVENT
BEGIN:VEVENT
DTSTART;TZID=Europe/London:20260319T113000
DTEND;TZID=Europe/London:20260319T121500
DTSTAMP:20260426T020317
CREATED:20230823T134207Z
LAST-MODIFIED:20231024T114559Z
UID:10010787-1773919800-1773922500@keepingmewell.com
SUMMARY:ESCAPEE event in Penarth
DESCRIPTION:The ESCAPEE events are follow-up exercise sessions for people who have attended the Escape Pain programme for hip\, knee or back pain. \nYou are welcome to drop-in and take part in exercise designed to improve your movement and function. \nAt Penarth Leisure Centre every Thursday\, 11.30am-12.15pm.
URL:https://keepingmewell.com/event/escapee-event-201/2026-03-19/
LOCATION:Penarth Leisure Centre\, Andrew Road\, Cogan\, Penarth\, CF64 2NS\, United Kingdom
CATEGORIES:Arthritis,English,ESCAPEE,Physical Activity
ATTACH;FMTTYPE=image/jpeg:https://keepingmewell.com/wp-content/uploads/2022/12/Leisure-Centre-Escape-logos.jpg
END:VEVENT
BEGIN:VEVENT
DTSTART;TZID=Europe/London:20260316T113000
DTEND;TZID=Europe/London:20260316T121500
DTSTAMP:20260426T020317
CREATED:20231024T113426Z
LAST-MODIFIED:20231024T113426Z
UID:10010527-1773660600-1773663300@keepingmewell.com
SUMMARY:ESCAPEE event in Penarth
DESCRIPTION:The ESCAPEE events are follow-up exercise sessions for people who have attended the Escape Pain programme for hip\, knee or back pain. \nYou are welcome to drop-in and take part in exercise designed to improve your movement and function. \nAt Penarth Leisure Centre every Monday\, 11.30am-12.15pm.
URL:https://keepingmewell.com/event/escapee-event-in-penarth/2026-03-16/
LOCATION:Penarth Leisure Centre\, Andrew Road\, Cogan\, Penarth\, CF64 2NS\, United Kingdom
CATEGORIES:Arthritis,English,ESCAPEE,Physical Activity
ATTACH;FMTTYPE=image/jpeg:https://keepingmewell.com/wp-content/uploads/2022/12/Leisure-Centre-Escape-logos.jpg
END:VEVENT
BEGIN:VEVENT
DTSTART;TZID=Europe/London:20260312T113000
DTEND;TZID=Europe/London:20260312T121500
DTSTAMP:20260426T020317
CREATED:20230823T134207Z
LAST-MODIFIED:20231024T114559Z
UID:10010786-1773315000-1773317700@keepingmewell.com
SUMMARY:ESCAPEE event in Penarth
DESCRIPTION:The ESCAPEE events are follow-up exercise sessions for people who have attended the Escape Pain programme for hip\, knee or back pain. \nYou are welcome to drop-in and take part in exercise designed to improve your movement and function. \nAt Penarth Leisure Centre every Thursday\, 11.30am-12.15pm.
URL:https://keepingmewell.com/event/escapee-event-201/2026-03-12/
LOCATION:Penarth Leisure Centre\, Andrew Road\, Cogan\, Penarth\, CF64 2NS\, United Kingdom
CATEGORIES:Arthritis,English,ESCAPEE,Physical Activity
ATTACH;FMTTYPE=image/jpeg:https://keepingmewell.com/wp-content/uploads/2022/12/Leisure-Centre-Escape-logos.jpg
END:VEVENT
BEGIN:VEVENT
DTSTART;TZID=Europe/London:20260309T113000
DTEND;TZID=Europe/London:20260309T121500
DTSTAMP:20260426T020317
CREATED:20231024T113426Z
LAST-MODIFIED:20231024T113426Z
UID:10010526-1773055800-1773058500@keepingmewell.com
SUMMARY:ESCAPEE event in Penarth
DESCRIPTION:The ESCAPEE events are follow-up exercise sessions for people who have attended the Escape Pain programme for hip\, knee or back pain. \nYou are welcome to drop-in and take part in exercise designed to improve your movement and function. \nAt Penarth Leisure Centre every Monday\, 11.30am-12.15pm.
URL:https://keepingmewell.com/event/escapee-event-in-penarth/2026-03-09/
LOCATION:Penarth Leisure Centre\, Andrew Road\, Cogan\, Penarth\, CF64 2NS\, United Kingdom
CATEGORIES:Arthritis,English,ESCAPEE,Physical Activity
ATTACH;FMTTYPE=image/jpeg:https://keepingmewell.com/wp-content/uploads/2022/12/Leisure-Centre-Escape-logos.jpg
END:VEVENT
BEGIN:VEVENT
DTSTART;TZID=Europe/London:20260305T113000
DTEND;TZID=Europe/London:20260305T121500
DTSTAMP:20260426T020317
CREATED:20230823T134207Z
LAST-MODIFIED:20231024T114559Z
UID:10010785-1772710200-1772712900@keepingmewell.com
SUMMARY:ESCAPEE event in Penarth
DESCRIPTION:The ESCAPEE events are follow-up exercise sessions for people who have attended the Escape Pain programme for hip\, knee or back pain. \nYou are welcome to drop-in and take part in exercise designed to improve your movement and function. \nAt Penarth Leisure Centre every Thursday\, 11.30am-12.15pm.
URL:https://keepingmewell.com/event/escapee-event-201/2026-03-05/
LOCATION:Penarth Leisure Centre\, Andrew Road\, Cogan\, Penarth\, CF64 2NS\, United Kingdom
CATEGORIES:Arthritis,English,ESCAPEE,Physical Activity
ATTACH;FMTTYPE=image/jpeg:https://keepingmewell.com/wp-content/uploads/2022/12/Leisure-Centre-Escape-logos.jpg
END:VEVENT
BEGIN:VEVENT
DTSTART;TZID=Europe/London:20260302T113000
DTEND;TZID=Europe/London:20260302T121500
DTSTAMP:20260426T020317
CREATED:20231024T113426Z
LAST-MODIFIED:20231024T113426Z
UID:10010525-1772451000-1772453700@keepingmewell.com
SUMMARY:ESCAPEE event in Penarth
DESCRIPTION:The ESCAPEE events are follow-up exercise sessions for people who have attended the Escape Pain programme for hip\, knee or back pain. \nYou are welcome to drop-in and take part in exercise designed to improve your movement and function. \nAt Penarth Leisure Centre every Monday\, 11.30am-12.15pm.
URL:https://keepingmewell.com/event/escapee-event-in-penarth/2026-03-02/
LOCATION:Penarth Leisure Centre\, Andrew Road\, Cogan\, Penarth\, CF64 2NS\, United Kingdom
CATEGORIES:Arthritis,English,ESCAPEE,Physical Activity
ATTACH;FMTTYPE=image/jpeg:https://keepingmewell.com/wp-content/uploads/2022/12/Leisure-Centre-Escape-logos.jpg
END:VEVENT
BEGIN:VEVENT
DTSTART;TZID=Europe/London:20260226T113000
DTEND;TZID=Europe/London:20260226T121500
DTSTAMP:20260426T020317
CREATED:20230823T134207Z
LAST-MODIFIED:20231024T114559Z
UID:10010784-1772105400-1772108100@keepingmewell.com
SUMMARY:ESCAPEE event in Penarth
DESCRIPTION:The ESCAPEE events are follow-up exercise sessions for people who have attended the Escape Pain programme for hip\, knee or back pain. \nYou are welcome to drop-in and take part in exercise designed to improve your movement and function. \nAt Penarth Leisure Centre every Thursday\, 11.30am-12.15pm.
URL:https://keepingmewell.com/event/escapee-event-201/2026-02-26/
LOCATION:Penarth Leisure Centre\, Andrew Road\, Cogan\, Penarth\, CF64 2NS\, United Kingdom
CATEGORIES:Arthritis,English,ESCAPEE,Physical Activity
ATTACH;FMTTYPE=image/jpeg:https://keepingmewell.com/wp-content/uploads/2022/12/Leisure-Centre-Escape-logos.jpg
END:VEVENT
BEGIN:VEVENT
DTSTART;TZID=Europe/London:20260223T113000
DTEND;TZID=Europe/London:20260223T121500
DTSTAMP:20260426T020317
CREATED:20231024T113426Z
LAST-MODIFIED:20231024T113426Z
UID:10010524-1771846200-1771848900@keepingmewell.com
SUMMARY:ESCAPEE event in Penarth
DESCRIPTION:The ESCAPEE events are follow-up exercise sessions for people who have attended the Escape Pain programme for hip\, knee or back pain. \nYou are welcome to drop-in and take part in exercise designed to improve your movement and function. \nAt Penarth Leisure Centre every Monday\, 11.30am-12.15pm.
URL:https://keepingmewell.com/event/escapee-event-in-penarth/2026-02-23/
LOCATION:Penarth Leisure Centre\, Andrew Road\, Cogan\, Penarth\, CF64 2NS\, United Kingdom
CATEGORIES:Arthritis,English,ESCAPEE,Physical Activity
ATTACH;FMTTYPE=image/jpeg:https://keepingmewell.com/wp-content/uploads/2022/12/Leisure-Centre-Escape-logos.jpg
END:VEVENT
BEGIN:VEVENT
DTSTART;TZID=Europe/London:20260219T113000
DTEND;TZID=Europe/London:20260219T121500
DTSTAMP:20260426T020317
CREATED:20230823T134207Z
LAST-MODIFIED:20231024T114559Z
UID:10010783-1771500600-1771503300@keepingmewell.com
SUMMARY:ESCAPEE event in Penarth
DESCRIPTION:The ESCAPEE events are follow-up exercise sessions for people who have attended the Escape Pain programme for hip\, knee or back pain. \nYou are welcome to drop-in and take part in exercise designed to improve your movement and function. \nAt Penarth Leisure Centre every Thursday\, 11.30am-12.15pm.
URL:https://keepingmewell.com/event/escapee-event-201/2026-02-19/
LOCATION:Penarth Leisure Centre\, Andrew Road\, Cogan\, Penarth\, CF64 2NS\, United Kingdom
CATEGORIES:Arthritis,English,ESCAPEE,Physical Activity
ATTACH;FMTTYPE=image/jpeg:https://keepingmewell.com/wp-content/uploads/2022/12/Leisure-Centre-Escape-logos.jpg
END:VEVENT
BEGIN:VEVENT
DTSTART;TZID=Europe/London:20260216T113000
DTEND;TZID=Europe/London:20260216T121500
DTSTAMP:20260426T020317
CREATED:20231024T113426Z
LAST-MODIFIED:20231024T113426Z
UID:10010523-1771241400-1771244100@keepingmewell.com
SUMMARY:ESCAPEE event in Penarth
DESCRIPTION:The ESCAPEE events are follow-up exercise sessions for people who have attended the Escape Pain programme for hip\, knee or back pain. \nYou are welcome to drop-in and take part in exercise designed to improve your movement and function. \nAt Penarth Leisure Centre every Monday\, 11.30am-12.15pm.
URL:https://keepingmewell.com/event/escapee-event-in-penarth/2026-02-16/
LOCATION:Penarth Leisure Centre\, Andrew Road\, Cogan\, Penarth\, CF64 2NS\, United Kingdom
CATEGORIES:Arthritis,English,ESCAPEE,Physical Activity
ATTACH;FMTTYPE=image/jpeg:https://keepingmewell.com/wp-content/uploads/2022/12/Leisure-Centre-Escape-logos.jpg
END:VEVENT
BEGIN:VEVENT
DTSTART;TZID=Europe/London:20260212T113000
DTEND;TZID=Europe/London:20260212T121500
DTSTAMP:20260426T020317
CREATED:20230823T134207Z
LAST-MODIFIED:20231024T114559Z
UID:10010782-1770895800-1770898500@keepingmewell.com
SUMMARY:ESCAPEE event in Penarth
DESCRIPTION:The ESCAPEE events are follow-up exercise sessions for people who have attended the Escape Pain programme for hip\, knee or back pain. \nYou are welcome to drop-in and take part in exercise designed to improve your movement and function. \nAt Penarth Leisure Centre every Thursday\, 11.30am-12.15pm.
URL:https://keepingmewell.com/event/escapee-event-201/2026-02-12/
LOCATION:Penarth Leisure Centre\, Andrew Road\, Cogan\, Penarth\, CF64 2NS\, United Kingdom
CATEGORIES:Arthritis,English,ESCAPEE,Physical Activity
ATTACH;FMTTYPE=image/jpeg:https://keepingmewell.com/wp-content/uploads/2022/12/Leisure-Centre-Escape-logos.jpg
END:VEVENT
BEGIN:VEVENT
DTSTART;TZID=Europe/London:20260209T113000
DTEND;TZID=Europe/London:20260209T121500
DTSTAMP:20260426T020317
CREATED:20231024T113426Z
LAST-MODIFIED:20231024T113426Z
UID:10010522-1770636600-1770639300@keepingmewell.com
SUMMARY:ESCAPEE event in Penarth
DESCRIPTION:The ESCAPEE events are follow-up exercise sessions for people who have attended the Escape Pain programme for hip\, knee or back pain. \nYou are welcome to drop-in and take part in exercise designed to improve your movement and function. \nAt Penarth Leisure Centre every Monday\, 11.30am-12.15pm.
URL:https://keepingmewell.com/event/escapee-event-in-penarth/2026-02-09/
LOCATION:Penarth Leisure Centre\, Andrew Road\, Cogan\, Penarth\, CF64 2NS\, United Kingdom
CATEGORIES:Arthritis,English,ESCAPEE,Physical Activity
ATTACH;FMTTYPE=image/jpeg:https://keepingmewell.com/wp-content/uploads/2022/12/Leisure-Centre-Escape-logos.jpg
END:VEVENT
BEGIN:VEVENT
DTSTART;TZID=Europe/London:20260205T113000
DTEND;TZID=Europe/London:20260205T121500
DTSTAMP:20260426T020317
CREATED:20230823T134207Z
LAST-MODIFIED:20231024T114559Z
UID:10010781-1770291000-1770293700@keepingmewell.com
SUMMARY:ESCAPEE event in Penarth
DESCRIPTION:The ESCAPEE events are follow-up exercise sessions for people who have attended the Escape Pain programme for hip\, knee or back pain. \nYou are welcome to drop-in and take part in exercise designed to improve your movement and function. \nAt Penarth Leisure Centre every Thursday\, 11.30am-12.15pm.
URL:https://keepingmewell.com/event/escapee-event-201/2026-02-05/
LOCATION:Penarth Leisure Centre\, Andrew Road\, Cogan\, Penarth\, CF64 2NS\, United Kingdom
CATEGORIES:Arthritis,English,ESCAPEE,Physical Activity
ATTACH;FMTTYPE=image/jpeg:https://keepingmewell.com/wp-content/uploads/2022/12/Leisure-Centre-Escape-logos.jpg
END:VEVENT
BEGIN:VEVENT
DTSTART;TZID=Europe/London:20260202T113000
DTEND;TZID=Europe/London:20260202T121500
DTSTAMP:20260426T020317
CREATED:20231024T113426Z
LAST-MODIFIED:20231024T113426Z
UID:10010521-1770031800-1770034500@keepingmewell.com
SUMMARY:ESCAPEE event in Penarth
DESCRIPTION:The ESCAPEE events are follow-up exercise sessions for people who have attended the Escape Pain programme for hip\, knee or back pain. \nYou are welcome to drop-in and take part in exercise designed to improve your movement and function. \nAt Penarth Leisure Centre every Monday\, 11.30am-12.15pm.
URL:https://keepingmewell.com/event/escapee-event-in-penarth/2026-02-02/
LOCATION:Penarth Leisure Centre\, Andrew Road\, Cogan\, Penarth\, CF64 2NS\, United Kingdom
CATEGORIES:Arthritis,English,ESCAPEE,Physical Activity
ATTACH;FMTTYPE=image/jpeg:https://keepingmewell.com/wp-content/uploads/2022/12/Leisure-Centre-Escape-logos.jpg
END:VEVENT
BEGIN:VEVENT
DTSTART;TZID=Europe/London:20260129T113000
DTEND;TZID=Europe/London:20260129T121500
DTSTAMP:20260426T020317
CREATED:20230823T134207Z
LAST-MODIFIED:20231024T114559Z
UID:10010780-1769686200-1769688900@keepingmewell.com
SUMMARY:ESCAPEE event in Penarth
DESCRIPTION:The ESCAPEE events are follow-up exercise sessions for people who have attended the Escape Pain programme for hip\, knee or back pain. \nYou are welcome to drop-in and take part in exercise designed to improve your movement and function. \nAt Penarth Leisure Centre every Thursday\, 11.30am-12.15pm.
URL:https://keepingmewell.com/event/escapee-event-201/2026-01-29/
LOCATION:Penarth Leisure Centre\, Andrew Road\, Cogan\, Penarth\, CF64 2NS\, United Kingdom
CATEGORIES:Arthritis,English,ESCAPEE,Physical Activity
ATTACH;FMTTYPE=image/jpeg:https://keepingmewell.com/wp-content/uploads/2022/12/Leisure-Centre-Escape-logos.jpg
END:VEVENT
BEGIN:VEVENT
DTSTART;TZID=Europe/London:20260126T113000
DTEND;TZID=Europe/London:20260126T121500
DTSTAMP:20260426T020317
CREATED:20231024T113426Z
LAST-MODIFIED:20231024T113426Z
UID:10010520-1769427000-1769429700@keepingmewell.com
SUMMARY:ESCAPEE event in Penarth
DESCRIPTION:The ESCAPEE events are follow-up exercise sessions for people who have attended the Escape Pain programme for hip\, knee or back pain. \nYou are welcome to drop-in and take part in exercise designed to improve your movement and function. \nAt Penarth Leisure Centre every Monday\, 11.30am-12.15pm.
URL:https://keepingmewell.com/event/escapee-event-in-penarth/2026-01-26/
LOCATION:Penarth Leisure Centre\, Andrew Road\, Cogan\, Penarth\, CF64 2NS\, United Kingdom
CATEGORIES:Arthritis,English,ESCAPEE,Physical Activity
ATTACH;FMTTYPE=image/jpeg:https://keepingmewell.com/wp-content/uploads/2022/12/Leisure-Centre-Escape-logos.jpg
END:VEVENT
BEGIN:VEVENT
DTSTART;TZID=Europe/London:20260122T113000
DTEND;TZID=Europe/London:20260122T121500
DTSTAMP:20260426T020317
CREATED:20230823T134207Z
LAST-MODIFIED:20231024T114559Z
UID:10010779-1769081400-1769084100@keepingmewell.com
SUMMARY:ESCAPEE event in Penarth
DESCRIPTION:The ESCAPEE events are follow-up exercise sessions for people who have attended the Escape Pain programme for hip\, knee or back pain. \nYou are welcome to drop-in and take part in exercise designed to improve your movement and function. \nAt Penarth Leisure Centre every Thursday\, 11.30am-12.15pm.
URL:https://keepingmewell.com/event/escapee-event-201/2026-01-22/
LOCATION:Penarth Leisure Centre\, Andrew Road\, Cogan\, Penarth\, CF64 2NS\, United Kingdom
CATEGORIES:Arthritis,English,ESCAPEE,Physical Activity
ATTACH;FMTTYPE=image/jpeg:https://keepingmewell.com/wp-content/uploads/2022/12/Leisure-Centre-Escape-logos.jpg
END:VEVENT
BEGIN:VEVENT
DTSTART;TZID=Europe/London:20260119T113000
DTEND;TZID=Europe/London:20260119T121500
DTSTAMP:20260426T020317
CREATED:20231024T113426Z
LAST-MODIFIED:20231024T113426Z
UID:10010519-1768822200-1768824900@keepingmewell.com
SUMMARY:ESCAPEE event in Penarth
DESCRIPTION:The ESCAPEE events are follow-up exercise sessions for people who have attended the Escape Pain programme for hip\, knee or back pain. \nYou are welcome to drop-in and take part in exercise designed to improve your movement and function. \nAt Penarth Leisure Centre every Monday\, 11.30am-12.15pm.
URL:https://keepingmewell.com/event/escapee-event-in-penarth/2026-01-19/
LOCATION:Penarth Leisure Centre\, Andrew Road\, Cogan\, Penarth\, CF64 2NS\, United Kingdom
CATEGORIES:Arthritis,English,ESCAPEE,Physical Activity
ATTACH;FMTTYPE=image/jpeg:https://keepingmewell.com/wp-content/uploads/2022/12/Leisure-Centre-Escape-logos.jpg
END:VEVENT
BEGIN:VEVENT
DTSTART;TZID=Europe/London:20260115T113000
DTEND;TZID=Europe/London:20260115T121500
DTSTAMP:20260426T020317
CREATED:20230823T134207Z
LAST-MODIFIED:20231024T114559Z
UID:10010778-1768476600-1768479300@keepingmewell.com
SUMMARY:ESCAPEE event in Penarth
DESCRIPTION:The ESCAPEE events are follow-up exercise sessions for people who have attended the Escape Pain programme for hip\, knee or back pain. \nYou are welcome to drop-in and take part in exercise designed to improve your movement and function. \nAt Penarth Leisure Centre every Thursday\, 11.30am-12.15pm.
URL:https://keepingmewell.com/event/escapee-event-201/2026-01-15/
LOCATION:Penarth Leisure Centre\, Andrew Road\, Cogan\, Penarth\, CF64 2NS\, United Kingdom
CATEGORIES:Arthritis,English,ESCAPEE,Physical Activity
ATTACH;FMTTYPE=image/jpeg:https://keepingmewell.com/wp-content/uploads/2022/12/Leisure-Centre-Escape-logos.jpg
END:VEVENT
BEGIN:VEVENT
DTSTART;TZID=Europe/London:20260112T113000
DTEND;TZID=Europe/London:20260112T121500
DTSTAMP:20260426T020317
CREATED:20231024T113426Z
LAST-MODIFIED:20231024T113426Z
UID:10010518-1768217400-1768220100@keepingmewell.com
SUMMARY:ESCAPEE event in Penarth
DESCRIPTION:The ESCAPEE events are follow-up exercise sessions for people who have attended the Escape Pain programme for hip\, knee or back pain. \nYou are welcome to drop-in and take part in exercise designed to improve your movement and function. \nAt Penarth Leisure Centre every Monday\, 11.30am-12.15pm.
URL:https://keepingmewell.com/event/escapee-event-in-penarth/2026-01-12/
LOCATION:Penarth Leisure Centre\, Andrew Road\, Cogan\, Penarth\, CF64 2NS\, United Kingdom
CATEGORIES:Arthritis,English,ESCAPEE,Physical Activity
ATTACH;FMTTYPE=image/jpeg:https://keepingmewell.com/wp-content/uploads/2022/12/Leisure-Centre-Escape-logos.jpg
END:VEVENT
END:VCALENDAR