BEGIN:VCALENDAR
VERSION:2.0
PRODID:-//Keeping Me Well - ECPv6.15.20//NONSGML v1.0//EN
CALSCALE:GREGORIAN
METHOD:PUBLISH
X-WR-CALNAME:Keeping Me Well
X-ORIGINAL-URL:https://keepingmewell.com
X-WR-CALDESC:Events for Keeping Me Well
REFRESH-INTERVAL;VALUE=DURATION:PT1H
X-Robots-Tag:noindex
X-PUBLISHED-TTL:PT1H
BEGIN:VTIMEZONE
TZID:Europe/London
BEGIN:DAYLIGHT
TZOFFSETFROM:+0000
TZOFFSETTO:+0100
TZNAME:BST
DTSTART:20240331T010000
END:DAYLIGHT
BEGIN:STANDARD
TZOFFSETFROM:+0100
TZOFFSETTO:+0000
TZNAME:GMT
DTSTART:20241027T010000
END:STANDARD
BEGIN:DAYLIGHT
TZOFFSETFROM:+0000
TZOFFSETTO:+0100
TZNAME:BST
DTSTART:20250330T010000
END:DAYLIGHT
BEGIN:STANDARD
TZOFFSETFROM:+0100
TZOFFSETTO:+0000
TZNAME:GMT
DTSTART:20251026T010000
END:STANDARD
BEGIN:DAYLIGHT
TZOFFSETFROM:+0000
TZOFFSETTO:+0100
TZNAME:BST
DTSTART:20260329T010000
END:DAYLIGHT
BEGIN:STANDARD
TZOFFSETFROM:+0100
TZOFFSETTO:+0000
TZNAME:GMT
DTSTART:20261025T010000
END:STANDARD
BEGIN:DAYLIGHT
TZOFFSETFROM:+0000
TZOFFSETTO:+0100
TZNAME:BST
DTSTART:20270328T010000
END:DAYLIGHT
BEGIN:STANDARD
TZOFFSETFROM:+0100
TZOFFSETTO:+0000
TZNAME:GMT
DTSTART:20271031T010000
END:STANDARD
END:VTIMEZONE
BEGIN:VEVENT
DTSTART;TZID=Europe/London:20260417T130000
DTEND;TZID=Europe/London:20260417T140000
DTSTAMP:20260424T131953
CREATED:20230111T091444Z
LAST-MODIFIED:20231024T135850Z
UID:10015975-1776430800-1776434400@keepingmewell.com
SUMMARY:Nordic Walking Group in Barry
DESCRIPTION:Nordic walking turns a walk into a workout. It is suitable for all ages and fitness levels. Enjoy the benefits of being outdoors\, getting fit and using your muscles while in a relaxed\, social group. Beginners are able to borrow poles. \nThe route is weather dependent. Meet by the red post box in The Knap.
URL:https://keepingmewell.com/event/nordic-walking-group-in-barry-28/2026-04-17/
LOCATION:The Knap\, The Knap\, Barry\, CF62 6SG\, United Kingdom
CATEGORIES:English,Nordic Walking,Physical Health
ATTACH;FMTTYPE=image/png:https://keepingmewell.com/wp-content/uploads/2022/12/NWUK-Website-Final-Logo.png
END:VEVENT
BEGIN:VEVENT
DTSTART;TZID=Europe/London:20260410T130000
DTEND;TZID=Europe/London:20260410T140000
DTSTAMP:20260424T131953
CREATED:20230111T091444Z
LAST-MODIFIED:20231024T135850Z
UID:10015974-1775826000-1775829600@keepingmewell.com
SUMMARY:Nordic Walking Group in Barry
DESCRIPTION:Nordic walking turns a walk into a workout. It is suitable for all ages and fitness levels. Enjoy the benefits of being outdoors\, getting fit and using your muscles while in a relaxed\, social group. Beginners are able to borrow poles. \nThe route is weather dependent. Meet by the red post box in The Knap.
URL:https://keepingmewell.com/event/nordic-walking-group-in-barry-28/2026-04-10/
LOCATION:The Knap\, The Knap\, Barry\, CF62 6SG\, United Kingdom
CATEGORIES:English,Nordic Walking,Physical Health
ATTACH;FMTTYPE=image/png:https://keepingmewell.com/wp-content/uploads/2022/12/NWUK-Website-Final-Logo.png
END:VEVENT
BEGIN:VEVENT
DTSTART;TZID=Europe/London:20260403T130000
DTEND;TZID=Europe/London:20260403T140000
DTSTAMP:20260424T131953
CREATED:20230111T091444Z
LAST-MODIFIED:20231024T135850Z
UID:10015973-1775221200-1775224800@keepingmewell.com
SUMMARY:Nordic Walking Group in Barry
DESCRIPTION:Nordic walking turns a walk into a workout. It is suitable for all ages and fitness levels. Enjoy the benefits of being outdoors\, getting fit and using your muscles while in a relaxed\, social group. Beginners are able to borrow poles. \nThe route is weather dependent. Meet by the red post box in The Knap.
URL:https://keepingmewell.com/event/nordic-walking-group-in-barry-28/2026-04-03/
LOCATION:The Knap\, The Knap\, Barry\, CF62 6SG\, United Kingdom
CATEGORIES:English,Nordic Walking,Physical Health
ATTACH;FMTTYPE=image/png:https://keepingmewell.com/wp-content/uploads/2022/12/NWUK-Website-Final-Logo.png
END:VEVENT
BEGIN:VEVENT
DTSTART;TZID=Europe/London:20260327T130000
DTEND;TZID=Europe/London:20260327T140000
DTSTAMP:20260424T131953
CREATED:20230111T091444Z
LAST-MODIFIED:20231024T135850Z
UID:10015972-1774616400-1774620000@keepingmewell.com
SUMMARY:Nordic Walking Group in Barry
DESCRIPTION:Nordic walking turns a walk into a workout. It is suitable for all ages and fitness levels. Enjoy the benefits of being outdoors\, getting fit and using your muscles while in a relaxed\, social group. Beginners are able to borrow poles. \nThe route is weather dependent. Meet by the red post box in The Knap.
URL:https://keepingmewell.com/event/nordic-walking-group-in-barry-28/2026-03-27/
LOCATION:The Knap\, The Knap\, Barry\, CF62 6SG\, United Kingdom
CATEGORIES:English,Nordic Walking,Physical Health
ATTACH;FMTTYPE=image/png:https://keepingmewell.com/wp-content/uploads/2022/12/NWUK-Website-Final-Logo.png
END:VEVENT
BEGIN:VEVENT
DTSTART;TZID=Europe/London:20260320T130000
DTEND;TZID=Europe/London:20260320T140000
DTSTAMP:20260424T131953
CREATED:20230111T091444Z
LAST-MODIFIED:20231024T135850Z
UID:10015971-1774011600-1774015200@keepingmewell.com
SUMMARY:Nordic Walking Group in Barry
DESCRIPTION:Nordic walking turns a walk into a workout. It is suitable for all ages and fitness levels. Enjoy the benefits of being outdoors\, getting fit and using your muscles while in a relaxed\, social group. Beginners are able to borrow poles. \nThe route is weather dependent. Meet by the red post box in The Knap.
URL:https://keepingmewell.com/event/nordic-walking-group-in-barry-28/2026-03-20/
LOCATION:The Knap\, The Knap\, Barry\, CF62 6SG\, United Kingdom
CATEGORIES:English,Nordic Walking,Physical Health
ATTACH;FMTTYPE=image/png:https://keepingmewell.com/wp-content/uploads/2022/12/NWUK-Website-Final-Logo.png
END:VEVENT
BEGIN:VEVENT
DTSTART;TZID=Europe/London:20260313T130000
DTEND;TZID=Europe/London:20260313T140000
DTSTAMP:20260424T131953
CREATED:20230111T091444Z
LAST-MODIFIED:20231024T135850Z
UID:10015970-1773406800-1773410400@keepingmewell.com
SUMMARY:Nordic Walking Group in Barry
DESCRIPTION:Nordic walking turns a walk into a workout. It is suitable for all ages and fitness levels. Enjoy the benefits of being outdoors\, getting fit and using your muscles while in a relaxed\, social group. Beginners are able to borrow poles. \nThe route is weather dependent. Meet by the red post box in The Knap.
URL:https://keepingmewell.com/event/nordic-walking-group-in-barry-28/2026-03-13/
LOCATION:The Knap\, The Knap\, Barry\, CF62 6SG\, United Kingdom
CATEGORIES:English,Nordic Walking,Physical Health
ATTACH;FMTTYPE=image/png:https://keepingmewell.com/wp-content/uploads/2022/12/NWUK-Website-Final-Logo.png
END:VEVENT
BEGIN:VEVENT
DTSTART;TZID=Europe/London:20260306T130000
DTEND;TZID=Europe/London:20260306T140000
DTSTAMP:20260424T131953
CREATED:20230111T091444Z
LAST-MODIFIED:20231024T135850Z
UID:10015969-1772802000-1772805600@keepingmewell.com
SUMMARY:Nordic Walking Group in Barry
DESCRIPTION:Nordic walking turns a walk into a workout. It is suitable for all ages and fitness levels. Enjoy the benefits of being outdoors\, getting fit and using your muscles while in a relaxed\, social group. Beginners are able to borrow poles. \nThe route is weather dependent. Meet by the red post box in The Knap.
URL:https://keepingmewell.com/event/nordic-walking-group-in-barry-28/2026-03-06/
LOCATION:The Knap\, The Knap\, Barry\, CF62 6SG\, United Kingdom
CATEGORIES:English,Nordic Walking,Physical Health
ATTACH;FMTTYPE=image/png:https://keepingmewell.com/wp-content/uploads/2022/12/NWUK-Website-Final-Logo.png
END:VEVENT
BEGIN:VEVENT
DTSTART;TZID=Europe/London:20260227T130000
DTEND;TZID=Europe/London:20260227T140000
DTSTAMP:20260424T131953
CREATED:20230111T091444Z
LAST-MODIFIED:20231024T135850Z
UID:10015968-1772197200-1772200800@keepingmewell.com
SUMMARY:Nordic Walking Group in Barry
DESCRIPTION:Nordic walking turns a walk into a workout. It is suitable for all ages and fitness levels. Enjoy the benefits of being outdoors\, getting fit and using your muscles while in a relaxed\, social group. Beginners are able to borrow poles. \nThe route is weather dependent. Meet by the red post box in The Knap.
URL:https://keepingmewell.com/event/nordic-walking-group-in-barry-28/2026-02-27/
LOCATION:The Knap\, The Knap\, Barry\, CF62 6SG\, United Kingdom
CATEGORIES:English,Nordic Walking,Physical Health
ATTACH;FMTTYPE=image/png:https://keepingmewell.com/wp-content/uploads/2022/12/NWUK-Website-Final-Logo.png
END:VEVENT
BEGIN:VEVENT
DTSTART;TZID=Europe/London:20260220T130000
DTEND;TZID=Europe/London:20260220T140000
DTSTAMP:20260424T131953
CREATED:20230111T091444Z
LAST-MODIFIED:20231024T135850Z
UID:10015967-1771592400-1771596000@keepingmewell.com
SUMMARY:Nordic Walking Group in Barry
DESCRIPTION:Nordic walking turns a walk into a workout. It is suitable for all ages and fitness levels. Enjoy the benefits of being outdoors\, getting fit and using your muscles while in a relaxed\, social group. Beginners are able to borrow poles. \nThe route is weather dependent. Meet by the red post box in The Knap.
URL:https://keepingmewell.com/event/nordic-walking-group-in-barry-28/2026-02-20/
LOCATION:The Knap\, The Knap\, Barry\, CF62 6SG\, United Kingdom
CATEGORIES:English,Nordic Walking,Physical Health
ATTACH;FMTTYPE=image/png:https://keepingmewell.com/wp-content/uploads/2022/12/NWUK-Website-Final-Logo.png
END:VEVENT
BEGIN:VEVENT
DTSTART;TZID=Europe/London:20260213T130000
DTEND;TZID=Europe/London:20260213T140000
DTSTAMP:20260424T131953
CREATED:20230111T091444Z
LAST-MODIFIED:20231024T135850Z
UID:10015966-1770987600-1770991200@keepingmewell.com
SUMMARY:Nordic Walking Group in Barry
DESCRIPTION:Nordic walking turns a walk into a workout. It is suitable for all ages and fitness levels. Enjoy the benefits of being outdoors\, getting fit and using your muscles while in a relaxed\, social group. Beginners are able to borrow poles. \nThe route is weather dependent. Meet by the red post box in The Knap.
URL:https://keepingmewell.com/event/nordic-walking-group-in-barry-28/2026-02-13/
LOCATION:The Knap\, The Knap\, Barry\, CF62 6SG\, United Kingdom
CATEGORIES:English,Nordic Walking,Physical Health
ATTACH;FMTTYPE=image/png:https://keepingmewell.com/wp-content/uploads/2022/12/NWUK-Website-Final-Logo.png
END:VEVENT
BEGIN:VEVENT
DTSTART;TZID=Europe/London:20260206T130000
DTEND;TZID=Europe/London:20260206T140000
DTSTAMP:20260424T131953
CREATED:20230111T091444Z
LAST-MODIFIED:20231024T135850Z
UID:10015965-1770382800-1770386400@keepingmewell.com
SUMMARY:Nordic Walking Group in Barry
DESCRIPTION:Nordic walking turns a walk into a workout. It is suitable for all ages and fitness levels. Enjoy the benefits of being outdoors\, getting fit and using your muscles while in a relaxed\, social group. Beginners are able to borrow poles. \nThe route is weather dependent. Meet by the red post box in The Knap.
URL:https://keepingmewell.com/event/nordic-walking-group-in-barry-28/2026-02-06/
LOCATION:The Knap\, The Knap\, Barry\, CF62 6SG\, United Kingdom
CATEGORIES:English,Nordic Walking,Physical Health
ATTACH;FMTTYPE=image/png:https://keepingmewell.com/wp-content/uploads/2022/12/NWUK-Website-Final-Logo.png
END:VEVENT
BEGIN:VEVENT
DTSTART;TZID=Europe/London:20260130T130000
DTEND;TZID=Europe/London:20260130T140000
DTSTAMP:20260424T131953
CREATED:20230111T091444Z
LAST-MODIFIED:20231024T135850Z
UID:10015964-1769778000-1769781600@keepingmewell.com
SUMMARY:Nordic Walking Group in Barry
DESCRIPTION:Nordic walking turns a walk into a workout. It is suitable for all ages and fitness levels. Enjoy the benefits of being outdoors\, getting fit and using your muscles while in a relaxed\, social group. Beginners are able to borrow poles. \nThe route is weather dependent. Meet by the red post box in The Knap.
URL:https://keepingmewell.com/event/nordic-walking-group-in-barry-28/2026-01-30/
LOCATION:The Knap\, The Knap\, Barry\, CF62 6SG\, United Kingdom
CATEGORIES:English,Nordic Walking,Physical Health
ATTACH;FMTTYPE=image/png:https://keepingmewell.com/wp-content/uploads/2022/12/NWUK-Website-Final-Logo.png
END:VEVENT
BEGIN:VEVENT
DTSTART;TZID=Europe/London:20260123T130000
DTEND;TZID=Europe/London:20260123T140000
DTSTAMP:20260424T131953
CREATED:20230111T091444Z
LAST-MODIFIED:20231024T135850Z
UID:10015963-1769173200-1769176800@keepingmewell.com
SUMMARY:Nordic Walking Group in Barry
DESCRIPTION:Nordic walking turns a walk into a workout. It is suitable for all ages and fitness levels. Enjoy the benefits of being outdoors\, getting fit and using your muscles while in a relaxed\, social group. Beginners are able to borrow poles. \nThe route is weather dependent. Meet by the red post box in The Knap.
URL:https://keepingmewell.com/event/nordic-walking-group-in-barry-28/2026-01-23/
LOCATION:The Knap\, The Knap\, Barry\, CF62 6SG\, United Kingdom
CATEGORIES:English,Nordic Walking,Physical Health
ATTACH;FMTTYPE=image/png:https://keepingmewell.com/wp-content/uploads/2022/12/NWUK-Website-Final-Logo.png
END:VEVENT
BEGIN:VEVENT
DTSTART;TZID=Europe/London:20260116T130000
DTEND;TZID=Europe/London:20260116T140000
DTSTAMP:20260424T131953
CREATED:20230111T091444Z
LAST-MODIFIED:20231024T135850Z
UID:10015962-1768568400-1768572000@keepingmewell.com
SUMMARY:Nordic Walking Group in Barry
DESCRIPTION:Nordic walking turns a walk into a workout. It is suitable for all ages and fitness levels. Enjoy the benefits of being outdoors\, getting fit and using your muscles while in a relaxed\, social group. Beginners are able to borrow poles. \nThe route is weather dependent. Meet by the red post box in The Knap.
URL:https://keepingmewell.com/event/nordic-walking-group-in-barry-28/2026-01-16/
LOCATION:The Knap\, The Knap\, Barry\, CF62 6SG\, United Kingdom
CATEGORIES:English,Nordic Walking,Physical Health
ATTACH;FMTTYPE=image/png:https://keepingmewell.com/wp-content/uploads/2022/12/NWUK-Website-Final-Logo.png
END:VEVENT
BEGIN:VEVENT
DTSTART;TZID=Europe/London:20260109T130000
DTEND;TZID=Europe/London:20260109T140000
DTSTAMP:20260424T131953
CREATED:20230111T091444Z
LAST-MODIFIED:20231024T135850Z
UID:10015961-1767963600-1767967200@keepingmewell.com
SUMMARY:Nordic Walking Group in Barry
DESCRIPTION:Nordic walking turns a walk into a workout. It is suitable for all ages and fitness levels. Enjoy the benefits of being outdoors\, getting fit and using your muscles while in a relaxed\, social group. Beginners are able to borrow poles. \nThe route is weather dependent. Meet by the red post box in The Knap.
URL:https://keepingmewell.com/event/nordic-walking-group-in-barry-28/2026-01-09/
LOCATION:The Knap\, The Knap\, Barry\, CF62 6SG\, United Kingdom
CATEGORIES:English,Nordic Walking,Physical Health
ATTACH;FMTTYPE=image/png:https://keepingmewell.com/wp-content/uploads/2022/12/NWUK-Website-Final-Logo.png
END:VEVENT
BEGIN:VEVENT
DTSTART;TZID=Europe/London:20260102T130000
DTEND;TZID=Europe/London:20260102T140000
DTSTAMP:20260424T131953
CREATED:20230111T091444Z
LAST-MODIFIED:20231024T135850Z
UID:10015960-1767358800-1767362400@keepingmewell.com
SUMMARY:Nordic Walking Group in Barry
DESCRIPTION:Nordic walking turns a walk into a workout. It is suitable for all ages and fitness levels. Enjoy the benefits of being outdoors\, getting fit and using your muscles while in a relaxed\, social group. Beginners are able to borrow poles. \nThe route is weather dependent. Meet by the red post box in The Knap.
URL:https://keepingmewell.com/event/nordic-walking-group-in-barry-28/2026-01-02/
LOCATION:The Knap\, The Knap\, Barry\, CF62 6SG\, United Kingdom
CATEGORIES:English,Nordic Walking,Physical Health
ATTACH;FMTTYPE=image/png:https://keepingmewell.com/wp-content/uploads/2022/12/NWUK-Website-Final-Logo.png
END:VEVENT
BEGIN:VEVENT
DTSTART;TZID=Europe/London:20251226T130000
DTEND;TZID=Europe/London:20251226T140000
DTSTAMP:20260424T131953
CREATED:20230111T091444Z
LAST-MODIFIED:20231024T135850Z
UID:10015959-1766754000-1766757600@keepingmewell.com
SUMMARY:Nordic Walking Group in Barry
DESCRIPTION:Nordic walking turns a walk into a workout. It is suitable for all ages and fitness levels. Enjoy the benefits of being outdoors\, getting fit and using your muscles while in a relaxed\, social group. Beginners are able to borrow poles. \nThe route is weather dependent. Meet by the red post box in The Knap.
URL:https://keepingmewell.com/event/nordic-walking-group-in-barry-28/2025-12-26/
LOCATION:The Knap\, The Knap\, Barry\, CF62 6SG\, United Kingdom
CATEGORIES:English,Nordic Walking,Physical Health
ATTACH;FMTTYPE=image/png:https://keepingmewell.com/wp-content/uploads/2022/12/NWUK-Website-Final-Logo.png
END:VEVENT
BEGIN:VEVENT
DTSTART;TZID=Europe/London:20251219T130000
DTEND;TZID=Europe/London:20251219T140000
DTSTAMP:20260424T131953
CREATED:20230111T091444Z
LAST-MODIFIED:20231024T135850Z
UID:10015958-1766149200-1766152800@keepingmewell.com
SUMMARY:Nordic Walking Group in Barry
DESCRIPTION:Nordic walking turns a walk into a workout. It is suitable for all ages and fitness levels. Enjoy the benefits of being outdoors\, getting fit and using your muscles while in a relaxed\, social group. Beginners are able to borrow poles. \nThe route is weather dependent. Meet by the red post box in The Knap.
URL:https://keepingmewell.com/event/nordic-walking-group-in-barry-28/2025-12-19/
LOCATION:The Knap\, The Knap\, Barry\, CF62 6SG\, United Kingdom
CATEGORIES:English,Nordic Walking,Physical Health
ATTACH;FMTTYPE=image/png:https://keepingmewell.com/wp-content/uploads/2022/12/NWUK-Website-Final-Logo.png
END:VEVENT
END:VCALENDAR