BEGIN:VCALENDAR
VERSION:2.0
PRODID:-//Keeping Me Well - ECPv6.15.20//NONSGML v1.0//EN
CALSCALE:GREGORIAN
METHOD:PUBLISH
X-ORIGINAL-URL:https://keepingmewell.com
X-WR-CALDESC:Events for Keeping Me Well
REFRESH-INTERVAL;VALUE=DURATION:PT1H
X-Robots-Tag:noindex
X-PUBLISHED-TTL:PT1H
BEGIN:VTIMEZONE
TZID:Europe/London
BEGIN:DAYLIGHT
TZOFFSETFROM:+0000
TZOFFSETTO:+0100
TZNAME:BST
DTSTART:20270328T010000
END:DAYLIGHT
BEGIN:STANDARD
TZOFFSETFROM:+0100
TZOFFSETTO:+0000
TZNAME:GMT
DTSTART:20271031T010000
END:STANDARD
BEGIN:DAYLIGHT
TZOFFSETFROM:+0000
TZOFFSETTO:+0100
TZNAME:BST
DTSTART:20280326T010000
END:DAYLIGHT
BEGIN:STANDARD
TZOFFSETFROM:+0100
TZOFFSETTO:+0000
TZNAME:GMT
DTSTART:20281029T010000
END:STANDARD
BEGIN:DAYLIGHT
TZOFFSETFROM:+0000
TZOFFSETTO:+0100
TZNAME:BST
DTSTART:20290325T010000
END:DAYLIGHT
BEGIN:STANDARD
TZOFFSETFROM:+0100
TZOFFSETTO:+0000
TZNAME:GMT
DTSTART:20291028T010000
END:STANDARD
BEGIN:DAYLIGHT
TZOFFSETFROM:+0000
TZOFFSETTO:+0100
TZNAME:BST
DTSTART:20300331T010000
END:DAYLIGHT
BEGIN:STANDARD
TZOFFSETFROM:+0100
TZOFFSETTO:+0000
TZNAME:GMT
DTSTART:20301027T010000
END:STANDARD
END:VTIMEZONE
BEGIN:VEVENT
DTSTART;TZID=Europe/London:20281103T130000
DTEND;TZID=Europe/London:20281103T140000
DTSTAMP:20260420T204803
CREATED:20230111T091444Z
LAST-MODIFIED:20231024T135850Z
UID:10022534-1856869200-1856872800@keepingmewell.com
SUMMARY:Nordic Walking Group in Barry
DESCRIPTION:Nordic walking turns a walk into a workout. It is suitable for all ages and fitness levels. Enjoy the benefits of being outdoors\, getting fit and using your muscles while in a relaxed\, social group. Beginners are able to borrow poles. \nThe route is weather dependent. Meet by the red post box in The Knap.
URL:https://keepingmewell.com/event/nordic-walking-group-in-barry-28/2028-11-03/
LOCATION:The Knap\, The Knap\, Barry\, CF62 6SG\, United Kingdom
CATEGORIES:English,Nordic Walking,Physical Health
ATTACH;FMTTYPE=image/png:https://keepingmewell.com/wp-content/uploads/2022/12/NWUK-Website-Final-Logo.png
END:VEVENT
BEGIN:VEVENT
DTSTART;TZID=Europe/London:20281110T130000
DTEND;TZID=Europe/London:20281110T140000
DTSTAMP:20260420T204803
CREATED:20230111T091444Z
LAST-MODIFIED:20231024T135850Z
UID:10022535-1857474000-1857477600@keepingmewell.com
SUMMARY:Nordic Walking Group in Barry
DESCRIPTION:Nordic walking turns a walk into a workout. It is suitable for all ages and fitness levels. Enjoy the benefits of being outdoors\, getting fit and using your muscles while in a relaxed\, social group. Beginners are able to borrow poles. \nThe route is weather dependent. Meet by the red post box in The Knap.
URL:https://keepingmewell.com/event/nordic-walking-group-in-barry-28/2028-11-10/
LOCATION:The Knap\, The Knap\, Barry\, CF62 6SG\, United Kingdom
CATEGORIES:English,Nordic Walking,Physical Health
ATTACH;FMTTYPE=image/png:https://keepingmewell.com/wp-content/uploads/2022/12/NWUK-Website-Final-Logo.png
END:VEVENT
BEGIN:VEVENT
DTSTART;TZID=Europe/London:20281117T130000
DTEND;TZID=Europe/London:20281117T140000
DTSTAMP:20260420T204803
CREATED:20230111T091444Z
LAST-MODIFIED:20231024T135850Z
UID:10022536-1858078800-1858082400@keepingmewell.com
SUMMARY:Nordic Walking Group in Barry
DESCRIPTION:Nordic walking turns a walk into a workout. It is suitable for all ages and fitness levels. Enjoy the benefits of being outdoors\, getting fit and using your muscles while in a relaxed\, social group. Beginners are able to borrow poles. \nThe route is weather dependent. Meet by the red post box in The Knap.
URL:https://keepingmewell.com/event/nordic-walking-group-in-barry-28/2028-11-17/
LOCATION:The Knap\, The Knap\, Barry\, CF62 6SG\, United Kingdom
CATEGORIES:English,Nordic Walking,Physical Health
ATTACH;FMTTYPE=image/png:https://keepingmewell.com/wp-content/uploads/2022/12/NWUK-Website-Final-Logo.png
END:VEVENT
BEGIN:VEVENT
DTSTART;TZID=Europe/London:20281124T130000
DTEND;TZID=Europe/London:20281124T140000
DTSTAMP:20260420T204803
CREATED:20230111T091444Z
LAST-MODIFIED:20231024T135850Z
UID:10022537-1858683600-1858687200@keepingmewell.com
SUMMARY:Nordic Walking Group in Barry
DESCRIPTION:Nordic walking turns a walk into a workout. It is suitable for all ages and fitness levels. Enjoy the benefits of being outdoors\, getting fit and using your muscles while in a relaxed\, social group. Beginners are able to borrow poles. \nThe route is weather dependent. Meet by the red post box in The Knap.
URL:https://keepingmewell.com/event/nordic-walking-group-in-barry-28/2028-11-24/
LOCATION:The Knap\, The Knap\, Barry\, CF62 6SG\, United Kingdom
CATEGORIES:English,Nordic Walking,Physical Health
ATTACH;FMTTYPE=image/png:https://keepingmewell.com/wp-content/uploads/2022/12/NWUK-Website-Final-Logo.png
END:VEVENT
BEGIN:VEVENT
DTSTART;TZID=Europe/London:20281201T130000
DTEND;TZID=Europe/London:20281201T140000
DTSTAMP:20260420T204803
CREATED:20230111T091444Z
LAST-MODIFIED:20231024T135850Z
UID:10022631-1859288400-1859292000@keepingmewell.com
SUMMARY:Nordic Walking Group in Barry
DESCRIPTION:Nordic walking turns a walk into a workout. It is suitable for all ages and fitness levels. Enjoy the benefits of being outdoors\, getting fit and using your muscles while in a relaxed\, social group. Beginners are able to borrow poles. \nThe route is weather dependent. Meet by the red post box in The Knap.
URL:https://keepingmewell.com/event/nordic-walking-group-in-barry-28/2028-12-01/
LOCATION:The Knap\, The Knap\, Barry\, CF62 6SG\, United Kingdom
CATEGORIES:English,Nordic Walking,Physical Health
ATTACH;FMTTYPE=image/png:https://keepingmewell.com/wp-content/uploads/2022/12/NWUK-Website-Final-Logo.png
END:VEVENT
BEGIN:VEVENT
DTSTART;TZID=Europe/London:20281208T130000
DTEND;TZID=Europe/London:20281208T140000
DTSTAMP:20260420T204803
CREATED:20230111T091444Z
LAST-MODIFIED:20231024T135850Z
UID:10022892-1859893200-1859896800@keepingmewell.com
SUMMARY:Nordic Walking Group in Barry
DESCRIPTION:Nordic walking turns a walk into a workout. It is suitable for all ages and fitness levels. Enjoy the benefits of being outdoors\, getting fit and using your muscles while in a relaxed\, social group. Beginners are able to borrow poles. \nThe route is weather dependent. Meet by the red post box in The Knap.
URL:https://keepingmewell.com/event/nordic-walking-group-in-barry-28/2028-12-08/
LOCATION:The Knap\, The Knap\, Barry\, CF62 6SG\, United Kingdom
CATEGORIES:English,Nordic Walking,Physical Health
ATTACH;FMTTYPE=image/png:https://keepingmewell.com/wp-content/uploads/2022/12/NWUK-Website-Final-Logo.png
END:VEVENT
BEGIN:VEVENT
DTSTART;TZID=Europe/London:20281215T130000
DTEND;TZID=Europe/London:20281215T140000
DTSTAMP:20260420T204803
CREATED:20230111T091444Z
LAST-MODIFIED:20231024T135850Z
UID:10022893-1860498000-1860501600@keepingmewell.com
SUMMARY:Nordic Walking Group in Barry
DESCRIPTION:Nordic walking turns a walk into a workout. It is suitable for all ages and fitness levels. Enjoy the benefits of being outdoors\, getting fit and using your muscles while in a relaxed\, social group. Beginners are able to borrow poles. \nThe route is weather dependent. Meet by the red post box in The Knap.
URL:https://keepingmewell.com/event/nordic-walking-group-in-barry-28/2028-12-15/
LOCATION:The Knap\, The Knap\, Barry\, CF62 6SG\, United Kingdom
CATEGORIES:English,Nordic Walking,Physical Health
ATTACH;FMTTYPE=image/png:https://keepingmewell.com/wp-content/uploads/2022/12/NWUK-Website-Final-Logo.png
END:VEVENT
BEGIN:VEVENT
DTSTART;TZID=Europe/London:20281222T130000
DTEND;TZID=Europe/London:20281222T140000
DTSTAMP:20260420T204803
CREATED:20230111T091444Z
LAST-MODIFIED:20231024T135850Z
UID:10022894-1861102800-1861106400@keepingmewell.com
SUMMARY:Nordic Walking Group in Barry
DESCRIPTION:Nordic walking turns a walk into a workout. It is suitable for all ages and fitness levels. Enjoy the benefits of being outdoors\, getting fit and using your muscles while in a relaxed\, social group. Beginners are able to borrow poles. \nThe route is weather dependent. Meet by the red post box in The Knap.
URL:https://keepingmewell.com/event/nordic-walking-group-in-barry-28/2028-12-22/
LOCATION:The Knap\, The Knap\, Barry\, CF62 6SG\, United Kingdom
CATEGORIES:English,Nordic Walking,Physical Health
ATTACH;FMTTYPE=image/png:https://keepingmewell.com/wp-content/uploads/2022/12/NWUK-Website-Final-Logo.png
END:VEVENT
BEGIN:VEVENT
DTSTART;TZID=Europe/London:20281229T130000
DTEND;TZID=Europe/London:20281229T140000
DTSTAMP:20260420T204803
CREATED:20230111T091444Z
LAST-MODIFIED:20231024T135850Z
UID:10022895-1861707600-1861711200@keepingmewell.com
SUMMARY:Nordic Walking Group in Barry
DESCRIPTION:Nordic walking turns a walk into a workout. It is suitable for all ages and fitness levels. Enjoy the benefits of being outdoors\, getting fit and using your muscles while in a relaxed\, social group. Beginners are able to borrow poles. \nThe route is weather dependent. Meet by the red post box in The Knap.
URL:https://keepingmewell.com/event/nordic-walking-group-in-barry-28/2028-12-29/
LOCATION:The Knap\, The Knap\, Barry\, CF62 6SG\, United Kingdom
CATEGORIES:English,Nordic Walking,Physical Health
ATTACH;FMTTYPE=image/png:https://keepingmewell.com/wp-content/uploads/2022/12/NWUK-Website-Final-Logo.png
END:VEVENT
BEGIN:VEVENT
DTSTART;TZID=Europe/London:20290105T130000
DTEND;TZID=Europe/London:20290105T140000
DTSTAMP:20260420T204803
CREATED:20230111T091444Z
LAST-MODIFIED:20231024T135850Z
UID:10022896-1862312400-1862316000@keepingmewell.com
SUMMARY:Nordic Walking Group in Barry
DESCRIPTION:Nordic walking turns a walk into a workout. It is suitable for all ages and fitness levels. Enjoy the benefits of being outdoors\, getting fit and using your muscles while in a relaxed\, social group. Beginners are able to borrow poles. \nThe route is weather dependent. Meet by the red post box in The Knap.
URL:https://keepingmewell.com/event/nordic-walking-group-in-barry-28/2029-01-05/
LOCATION:The Knap\, The Knap\, Barry\, CF62 6SG\, United Kingdom
CATEGORIES:English,Nordic Walking,Physical Health
ATTACH;FMTTYPE=image/png:https://keepingmewell.com/wp-content/uploads/2022/12/NWUK-Website-Final-Logo.png
END:VEVENT
BEGIN:VEVENT
DTSTART;TZID=Europe/London:20290112T130000
DTEND;TZID=Europe/London:20290112T140000
DTSTAMP:20260420T204803
CREATED:20230111T091444Z
LAST-MODIFIED:20231024T135850Z
UID:10022897-1862917200-1862920800@keepingmewell.com
SUMMARY:Nordic Walking Group in Barry
DESCRIPTION:Nordic walking turns a walk into a workout. It is suitable for all ages and fitness levels. Enjoy the benefits of being outdoors\, getting fit and using your muscles while in a relaxed\, social group. Beginners are able to borrow poles. \nThe route is weather dependent. Meet by the red post box in The Knap.
URL:https://keepingmewell.com/event/nordic-walking-group-in-barry-28/2029-01-12/
LOCATION:The Knap\, The Knap\, Barry\, CF62 6SG\, United Kingdom
CATEGORIES:English,Nordic Walking,Physical Health
ATTACH;FMTTYPE=image/png:https://keepingmewell.com/wp-content/uploads/2022/12/NWUK-Website-Final-Logo.png
END:VEVENT
BEGIN:VEVENT
DTSTART;TZID=Europe/London:20290119T130000
DTEND;TZID=Europe/London:20290119T140000
DTSTAMP:20260420T204803
CREATED:20230111T091444Z
LAST-MODIFIED:20231024T135850Z
UID:10022898-1863522000-1863525600@keepingmewell.com
SUMMARY:Nordic Walking Group in Barry
DESCRIPTION:Nordic walking turns a walk into a workout. It is suitable for all ages and fitness levels. Enjoy the benefits of being outdoors\, getting fit and using your muscles while in a relaxed\, social group. Beginners are able to borrow poles. \nThe route is weather dependent. Meet by the red post box in The Knap.
URL:https://keepingmewell.com/event/nordic-walking-group-in-barry-28/2029-01-19/
LOCATION:The Knap\, The Knap\, Barry\, CF62 6SG\, United Kingdom
CATEGORIES:English,Nordic Walking,Physical Health
ATTACH;FMTTYPE=image/png:https://keepingmewell.com/wp-content/uploads/2022/12/NWUK-Website-Final-Logo.png
END:VEVENT
BEGIN:VEVENT
DTSTART;TZID=Europe/London:20290126T130000
DTEND;TZID=Europe/London:20290126T140000
DTSTAMP:20260420T204803
CREATED:20230111T091444Z
LAST-MODIFIED:20231024T135850Z
UID:10022899-1864126800-1864130400@keepingmewell.com
SUMMARY:Nordic Walking Group in Barry
DESCRIPTION:Nordic walking turns a walk into a workout. It is suitable for all ages and fitness levels. Enjoy the benefits of being outdoors\, getting fit and using your muscles while in a relaxed\, social group. Beginners are able to borrow poles. \nThe route is weather dependent. Meet by the red post box in The Knap.
URL:https://keepingmewell.com/event/nordic-walking-group-in-barry-28/2029-01-26/
LOCATION:The Knap\, The Knap\, Barry\, CF62 6SG\, United Kingdom
CATEGORIES:English,Nordic Walking,Physical Health
ATTACH;FMTTYPE=image/png:https://keepingmewell.com/wp-content/uploads/2022/12/NWUK-Website-Final-Logo.png
END:VEVENT
BEGIN:VEVENT
DTSTART;TZID=Europe/London:20290202T130000
DTEND;TZID=Europe/London:20290202T140000
DTSTAMP:20260420T204803
CREATED:20230111T091444Z
LAST-MODIFIED:20231024T135850Z
UID:10027120-1864731600-1864735200@keepingmewell.com
SUMMARY:Nordic Walking Group in Barry
DESCRIPTION:Nordic walking turns a walk into a workout. It is suitable for all ages and fitness levels. Enjoy the benefits of being outdoors\, getting fit and using your muscles while in a relaxed\, social group. Beginners are able to borrow poles. \nThe route is weather dependent. Meet by the red post box in The Knap.
URL:https://keepingmewell.com/event/nordic-walking-group-in-barry-28/2029-02-02/
LOCATION:The Knap\, The Knap\, Barry\, CF62 6SG\, United Kingdom
CATEGORIES:English,Nordic Walking,Physical Health
ATTACH;FMTTYPE=image/png:https://keepingmewell.com/wp-content/uploads/2022/12/NWUK-Website-Final-Logo.png
END:VEVENT
BEGIN:VEVENT
DTSTART;TZID=Europe/London:20290209T130000
DTEND;TZID=Europe/London:20290209T140000
DTSTAMP:20260420T204803
CREATED:20230111T091444Z
LAST-MODIFIED:20231024T135850Z
UID:10027121-1865336400-1865340000@keepingmewell.com
SUMMARY:Nordic Walking Group in Barry
DESCRIPTION:Nordic walking turns a walk into a workout. It is suitable for all ages and fitness levels. Enjoy the benefits of being outdoors\, getting fit and using your muscles while in a relaxed\, social group. Beginners are able to borrow poles. \nThe route is weather dependent. Meet by the red post box in The Knap.
URL:https://keepingmewell.com/event/nordic-walking-group-in-barry-28/2029-02-09/
LOCATION:The Knap\, The Knap\, Barry\, CF62 6SG\, United Kingdom
CATEGORIES:English,Nordic Walking,Physical Health
ATTACH;FMTTYPE=image/png:https://keepingmewell.com/wp-content/uploads/2022/12/NWUK-Website-Final-Logo.png
END:VEVENT
BEGIN:VEVENT
DTSTART;TZID=Europe/London:20290216T130000
DTEND;TZID=Europe/London:20290216T140000
DTSTAMP:20260420T204803
CREATED:20230111T091444Z
LAST-MODIFIED:20231024T135850Z
UID:10027122-1865941200-1865944800@keepingmewell.com
SUMMARY:Nordic Walking Group in Barry
DESCRIPTION:Nordic walking turns a walk into a workout. It is suitable for all ages and fitness levels. Enjoy the benefits of being outdoors\, getting fit and using your muscles while in a relaxed\, social group. Beginners are able to borrow poles. \nThe route is weather dependent. Meet by the red post box in The Knap.
URL:https://keepingmewell.com/event/nordic-walking-group-in-barry-28/2029-02-16/
LOCATION:The Knap\, The Knap\, Barry\, CF62 6SG\, United Kingdom
CATEGORIES:English,Nordic Walking,Physical Health
ATTACH;FMTTYPE=image/png:https://keepingmewell.com/wp-content/uploads/2022/12/NWUK-Website-Final-Logo.png
END:VEVENT
BEGIN:VEVENT
DTSTART;TZID=Europe/London:20290223T130000
DTEND;TZID=Europe/London:20290223T140000
DTSTAMP:20260420T204803
CREATED:20230111T091444Z
LAST-MODIFIED:20231024T135850Z
UID:10027123-1866546000-1866549600@keepingmewell.com
SUMMARY:Nordic Walking Group in Barry
DESCRIPTION:Nordic walking turns a walk into a workout. It is suitable for all ages and fitness levels. Enjoy the benefits of being outdoors\, getting fit and using your muscles while in a relaxed\, social group. Beginners are able to borrow poles. \nThe route is weather dependent. Meet by the red post box in The Knap.
URL:https://keepingmewell.com/event/nordic-walking-group-in-barry-28/2029-02-23/
LOCATION:The Knap\, The Knap\, Barry\, CF62 6SG\, United Kingdom
CATEGORIES:English,Nordic Walking,Physical Health
ATTACH;FMTTYPE=image/png:https://keepingmewell.com/wp-content/uploads/2022/12/NWUK-Website-Final-Logo.png
END:VEVENT
BEGIN:VEVENT
DTSTART;TZID=Europe/London:20290302T130000
DTEND;TZID=Europe/London:20290302T140000
DTSTAMP:20260420T204803
CREATED:20230111T091444Z
LAST-MODIFIED:20231024T135850Z
UID:10027124-1867150800-1867154400@keepingmewell.com
SUMMARY:Nordic Walking Group in Barry
DESCRIPTION:Nordic walking turns a walk into a workout. It is suitable for all ages and fitness levels. Enjoy the benefits of being outdoors\, getting fit and using your muscles while in a relaxed\, social group. Beginners are able to borrow poles. \nThe route is weather dependent. Meet by the red post box in The Knap.
URL:https://keepingmewell.com/event/nordic-walking-group-in-barry-28/2029-03-02/
LOCATION:The Knap\, The Knap\, Barry\, CF62 6SG\, United Kingdom
CATEGORIES:English,Nordic Walking,Physical Health
ATTACH;FMTTYPE=image/png:https://keepingmewell.com/wp-content/uploads/2022/12/NWUK-Website-Final-Logo.png
END:VEVENT
BEGIN:VEVENT
DTSTART;TZID=Europe/London:20290309T130000
DTEND;TZID=Europe/London:20290309T140000
DTSTAMP:20260420T204803
CREATED:20230111T091444Z
LAST-MODIFIED:20231024T135850Z
UID:10027125-1867755600-1867759200@keepingmewell.com
SUMMARY:Nordic Walking Group in Barry
DESCRIPTION:Nordic walking turns a walk into a workout. It is suitable for all ages and fitness levels. Enjoy the benefits of being outdoors\, getting fit and using your muscles while in a relaxed\, social group. Beginners are able to borrow poles. \nThe route is weather dependent. Meet by the red post box in The Knap.
URL:https://keepingmewell.com/event/nordic-walking-group-in-barry-28/2029-03-09/
LOCATION:The Knap\, The Knap\, Barry\, CF62 6SG\, United Kingdom
CATEGORIES:English,Nordic Walking,Physical Health
ATTACH;FMTTYPE=image/png:https://keepingmewell.com/wp-content/uploads/2022/12/NWUK-Website-Final-Logo.png
END:VEVENT
BEGIN:VEVENT
DTSTART;TZID=Europe/London:20290316T130000
DTEND;TZID=Europe/London:20290316T140000
DTSTAMP:20260420T204803
CREATED:20230111T091444Z
LAST-MODIFIED:20231024T135850Z
UID:10027126-1868360400-1868364000@keepingmewell.com
SUMMARY:Nordic Walking Group in Barry
DESCRIPTION:Nordic walking turns a walk into a workout. It is suitable for all ages and fitness levels. Enjoy the benefits of being outdoors\, getting fit and using your muscles while in a relaxed\, social group. Beginners are able to borrow poles. \nThe route is weather dependent. Meet by the red post box in The Knap.
URL:https://keepingmewell.com/event/nordic-walking-group-in-barry-28/2029-03-16/
LOCATION:The Knap\, The Knap\, Barry\, CF62 6SG\, United Kingdom
CATEGORIES:English,Nordic Walking,Physical Health
ATTACH;FMTTYPE=image/png:https://keepingmewell.com/wp-content/uploads/2022/12/NWUK-Website-Final-Logo.png
END:VEVENT
BEGIN:VEVENT
DTSTART;TZID=Europe/London:20290323T130000
DTEND;TZID=Europe/London:20290323T140000
DTSTAMP:20260420T204803
CREATED:20230111T091444Z
LAST-MODIFIED:20231024T135850Z
UID:10027127-1868965200-1868968800@keepingmewell.com
SUMMARY:Nordic Walking Group in Barry
DESCRIPTION:Nordic walking turns a walk into a workout. It is suitable for all ages and fitness levels. Enjoy the benefits of being outdoors\, getting fit and using your muscles while in a relaxed\, social group. Beginners are able to borrow poles. \nThe route is weather dependent. Meet by the red post box in The Knap.
URL:https://keepingmewell.com/event/nordic-walking-group-in-barry-28/2029-03-23/
LOCATION:The Knap\, The Knap\, Barry\, CF62 6SG\, United Kingdom
CATEGORIES:English,Nordic Walking,Physical Health
ATTACH;FMTTYPE=image/png:https://keepingmewell.com/wp-content/uploads/2022/12/NWUK-Website-Final-Logo.png
END:VEVENT
BEGIN:VEVENT
DTSTART;TZID=Europe/London:20290330T130000
DTEND;TZID=Europe/London:20290330T140000
DTSTAMP:20260420T204803
CREATED:20230111T091444Z
LAST-MODIFIED:20231024T135850Z
UID:10027128-1869570000-1869573600@keepingmewell.com
SUMMARY:Nordic Walking Group in Barry
DESCRIPTION:Nordic walking turns a walk into a workout. It is suitable for all ages and fitness levels. Enjoy the benefits of being outdoors\, getting fit and using your muscles while in a relaxed\, social group. Beginners are able to borrow poles. \nThe route is weather dependent. Meet by the red post box in The Knap.
URL:https://keepingmewell.com/event/nordic-walking-group-in-barry-28/2029-03-30/
LOCATION:The Knap\, The Knap\, Barry\, CF62 6SG\, United Kingdom
CATEGORIES:English,Nordic Walking,Physical Health
ATTACH;FMTTYPE=image/png:https://keepingmewell.com/wp-content/uploads/2022/12/NWUK-Website-Final-Logo.png
END:VEVENT
BEGIN:VEVENT
DTSTART;TZID=Europe/London:20290406T130000
DTEND;TZID=Europe/London:20290406T140000
DTSTAMP:20260420T204803
CREATED:20230111T091444Z
LAST-MODIFIED:20231024T135850Z
UID:10027129-1870174800-1870178400@keepingmewell.com
SUMMARY:Nordic Walking Group in Barry
DESCRIPTION:Nordic walking turns a walk into a workout. It is suitable for all ages and fitness levels. Enjoy the benefits of being outdoors\, getting fit and using your muscles while in a relaxed\, social group. Beginners are able to borrow poles. \nThe route is weather dependent. Meet by the red post box in The Knap.
URL:https://keepingmewell.com/event/nordic-walking-group-in-barry-28/2029-04-06/
LOCATION:The Knap\, The Knap\, Barry\, CF62 6SG\, United Kingdom
CATEGORIES:English,Nordic Walking,Physical Health
ATTACH;FMTTYPE=image/png:https://keepingmewell.com/wp-content/uploads/2022/12/NWUK-Website-Final-Logo.png
END:VEVENT
BEGIN:VEVENT
DTSTART;TZID=Europe/London:20290413T130000
DTEND;TZID=Europe/London:20290413T140000
DTSTAMP:20260420T204803
CREATED:20230111T091444Z
LAST-MODIFIED:20231024T135850Z
UID:10027130-1870779600-1870783200@keepingmewell.com
SUMMARY:Nordic Walking Group in Barry
DESCRIPTION:Nordic walking turns a walk into a workout. It is suitable for all ages and fitness levels. Enjoy the benefits of being outdoors\, getting fit and using your muscles while in a relaxed\, social group. Beginners are able to borrow poles. \nThe route is weather dependent. Meet by the red post box in The Knap.
URL:https://keepingmewell.com/event/nordic-walking-group-in-barry-28/2029-04-13/
LOCATION:The Knap\, The Knap\, Barry\, CF62 6SG\, United Kingdom
CATEGORIES:English,Nordic Walking,Physical Health
ATTACH;FMTTYPE=image/png:https://keepingmewell.com/wp-content/uploads/2022/12/NWUK-Website-Final-Logo.png
END:VEVENT
BEGIN:VEVENT
DTSTART;TZID=Europe/London:20290420T130000
DTEND;TZID=Europe/London:20290420T140000
DTSTAMP:20260420T204803
CREATED:20230111T091444Z
LAST-MODIFIED:20231024T135850Z
UID:10027131-1871384400-1871388000@keepingmewell.com
SUMMARY:Nordic Walking Group in Barry
DESCRIPTION:Nordic walking turns a walk into a workout. It is suitable for all ages and fitness levels. Enjoy the benefits of being outdoors\, getting fit and using your muscles while in a relaxed\, social group. Beginners are able to borrow poles. \nThe route is weather dependent. Meet by the red post box in The Knap.
URL:https://keepingmewell.com/event/nordic-walking-group-in-barry-28/2029-04-20/
LOCATION:The Knap\, The Knap\, Barry\, CF62 6SG\, United Kingdom
CATEGORIES:English,Nordic Walking,Physical Health
ATTACH;FMTTYPE=image/png:https://keepingmewell.com/wp-content/uploads/2022/12/NWUK-Website-Final-Logo.png
END:VEVENT
BEGIN:VEVENT
DTSTART;TZID=Europe/London:20290427T130000
DTEND;TZID=Europe/London:20290427T140000
DTSTAMP:20260420T204803
CREATED:20230111T091444Z
LAST-MODIFIED:20231024T135850Z
UID:10027132-1871989200-1871992800@keepingmewell.com
SUMMARY:Nordic Walking Group in Barry
DESCRIPTION:Nordic walking turns a walk into a workout. It is suitable for all ages and fitness levels. Enjoy the benefits of being outdoors\, getting fit and using your muscles while in a relaxed\, social group. Beginners are able to borrow poles. \nThe route is weather dependent. Meet by the red post box in The Knap.
URL:https://keepingmewell.com/event/nordic-walking-group-in-barry-28/2029-04-27/
LOCATION:The Knap\, The Knap\, Barry\, CF62 6SG\, United Kingdom
CATEGORIES:English,Nordic Walking,Physical Health
ATTACH;FMTTYPE=image/png:https://keepingmewell.com/wp-content/uploads/2022/12/NWUK-Website-Final-Logo.png
END:VEVENT
BEGIN:VEVENT
DTSTART;TZID=Europe/London:20290504T130000
DTEND;TZID=Europe/London:20290504T140000
DTSTAMP:20260420T204803
CREATED:20230111T091444Z
LAST-MODIFIED:20231024T135850Z
UID:10027133-1872594000-1872597600@keepingmewell.com
SUMMARY:Nordic Walking Group in Barry
DESCRIPTION:Nordic walking turns a walk into a workout. It is suitable for all ages and fitness levels. Enjoy the benefits of being outdoors\, getting fit and using your muscles while in a relaxed\, social group. Beginners are able to borrow poles. \nThe route is weather dependent. Meet by the red post box in The Knap.
URL:https://keepingmewell.com/event/nordic-walking-group-in-barry-28/2029-05-04/
LOCATION:The Knap\, The Knap\, Barry\, CF62 6SG\, United Kingdom
CATEGORIES:English,Nordic Walking,Physical Health
ATTACH;FMTTYPE=image/png:https://keepingmewell.com/wp-content/uploads/2022/12/NWUK-Website-Final-Logo.png
END:VEVENT
BEGIN:VEVENT
DTSTART;TZID=Europe/London:20290511T130000
DTEND;TZID=Europe/London:20290511T140000
DTSTAMP:20260420T204803
CREATED:20230111T091444Z
LAST-MODIFIED:20231024T135850Z
UID:10027134-1873198800-1873202400@keepingmewell.com
SUMMARY:Nordic Walking Group in Barry
DESCRIPTION:Nordic walking turns a walk into a workout. It is suitable for all ages and fitness levels. Enjoy the benefits of being outdoors\, getting fit and using your muscles while in a relaxed\, social group. Beginners are able to borrow poles. \nThe route is weather dependent. Meet by the red post box in The Knap.
URL:https://keepingmewell.com/event/nordic-walking-group-in-barry-28/2029-05-11/
LOCATION:The Knap\, The Knap\, Barry\, CF62 6SG\, United Kingdom
CATEGORIES:English,Nordic Walking,Physical Health
ATTACH;FMTTYPE=image/png:https://keepingmewell.com/wp-content/uploads/2022/12/NWUK-Website-Final-Logo.png
END:VEVENT
BEGIN:VEVENT
DTSTART;TZID=Europe/London:20290518T130000
DTEND;TZID=Europe/London:20290518T140000
DTSTAMP:20260420T204803
CREATED:20230111T091444Z
LAST-MODIFIED:20231024T135850Z
UID:10027135-1873803600-1873807200@keepingmewell.com
SUMMARY:Nordic Walking Group in Barry
DESCRIPTION:Nordic walking turns a walk into a workout. It is suitable for all ages and fitness levels. Enjoy the benefits of being outdoors\, getting fit and using your muscles while in a relaxed\, social group. Beginners are able to borrow poles. \nThe route is weather dependent. Meet by the red post box in The Knap.
URL:https://keepingmewell.com/event/nordic-walking-group-in-barry-28/2029-05-18/
LOCATION:The Knap\, The Knap\, Barry\, CF62 6SG\, United Kingdom
CATEGORIES:English,Nordic Walking,Physical Health
ATTACH;FMTTYPE=image/png:https://keepingmewell.com/wp-content/uploads/2022/12/NWUK-Website-Final-Logo.png
END:VEVENT
BEGIN:VEVENT
DTSTART;TZID=Europe/London:20290525T130000
DTEND;TZID=Europe/London:20290525T140000
DTSTAMP:20260420T204803
CREATED:20230111T091444Z
LAST-MODIFIED:20231024T135850Z
UID:10027136-1874408400-1874412000@keepingmewell.com
SUMMARY:Nordic Walking Group in Barry
DESCRIPTION:Nordic walking turns a walk into a workout. It is suitable for all ages and fitness levels. Enjoy the benefits of being outdoors\, getting fit and using your muscles while in a relaxed\, social group. Beginners are able to borrow poles. \nThe route is weather dependent. Meet by the red post box in The Knap.
URL:https://keepingmewell.com/event/nordic-walking-group-in-barry-28/2029-05-25/
LOCATION:The Knap\, The Knap\, Barry\, CF62 6SG\, United Kingdom
CATEGORIES:English,Nordic Walking,Physical Health
ATTACH;FMTTYPE=image/png:https://keepingmewell.com/wp-content/uploads/2022/12/NWUK-Website-Final-Logo.png
END:VEVENT
END:VCALENDAR