BEGIN:VCALENDAR
VERSION:2.0
PRODID:-//Keeping Me Well - ECPv6.15.20//NONSGML v1.0//EN
CALSCALE:GREGORIAN
METHOD:PUBLISH
X-ORIGINAL-URL:https://keepingmewell.com
X-WR-CALDESC:Events for Keeping Me Well
REFRESH-INTERVAL;VALUE=DURATION:PT1H
X-Robots-Tag:noindex
X-PUBLISHED-TTL:PT1H
BEGIN:VTIMEZONE
TZID:Europe/London
BEGIN:DAYLIGHT
TZOFFSETFROM:+0000
TZOFFSETTO:+0100
TZNAME:BST
DTSTART:20250330T010000
END:DAYLIGHT
BEGIN:STANDARD
TZOFFSETFROM:+0100
TZOFFSETTO:+0000
TZNAME:GMT
DTSTART:20251026T010000
END:STANDARD
BEGIN:DAYLIGHT
TZOFFSETFROM:+0000
TZOFFSETTO:+0100
TZNAME:BST
DTSTART:20260329T010000
END:DAYLIGHT
BEGIN:STANDARD
TZOFFSETFROM:+0100
TZOFFSETTO:+0000
TZNAME:GMT
DTSTART:20261025T010000
END:STANDARD
BEGIN:DAYLIGHT
TZOFFSETFROM:+0000
TZOFFSETTO:+0100
TZNAME:BST
DTSTART:20270328T010000
END:DAYLIGHT
BEGIN:STANDARD
TZOFFSETFROM:+0100
TZOFFSETTO:+0000
TZNAME:GMT
DTSTART:20271031T010000
END:STANDARD
END:VTIMEZONE
BEGIN:VEVENT
DTSTART;TZID=Europe/London:20260813T110000
DTEND;TZID=Europe/London:20260813T120000
DTSTAMP:20260421T234520
CREATED:20230823T150138Z
LAST-MODIFIED:20231024T134055Z
UID:10015212-1786618800-1786622400@keepingmewell.com
SUMMARY:Good Boost pool sessions in Ely
DESCRIPTION:One way of keeping active and getting your joints moving whilst waiting for surgery is to do water-based exercises such as swimming\, walking in the pool or pool-based exercise classes.Individuals use water-proof tablets to guide them through an exercise programme\, designed around their needs. This is done in a group session\, with people working through their set of exercises\, at their own pace.
URL:https://keepingmewell.com/event/good-boost-pool-based-sessions-109/2026-08-13/
LOCATION:Western Leisure Centre\, Careau Lane\, Cardiff\, CF5 5HJ\, United Kingdom
CATEGORIES:English,Good Boost sessions,Physical Health
ATTACH;FMTTYPE=image/jpeg:https://keepingmewell.com/wp-content/uploads/2022/10/Good-boost-logo.jpg
END:VEVENT
BEGIN:VEVENT
DTSTART;TZID=Europe/London:20260813T143000
DTEND;TZID=Europe/London:20260813T153000
DTSTAMP:20260421T234520
CREATED:20230823T141300Z
LAST-MODIFIED:20231024T120056Z
UID:10011326-1786631400-1786635000@keepingmewell.com
SUMMARY:ESCAPEE event in Ely
DESCRIPTION:The ESCAPEE events are follow-up exercise sessions for people who have attended the Escape Pain programme for hip\, knee or back pain. \nYou are welcome to drop-in and take part in exercise designed to improve your movement and function. \nAt Western Leisure Centre every Thursday\, 2.30pm-3.30pm.
URL:https://keepingmewell.com/event/escapee-event-234/2026-08-13/
LOCATION:Western Leisure Centre\, Careau Lane\, Cardiff\, CF5 5HJ\, United Kingdom
CATEGORIES:Arthritis,English,ESCAPEE,Physical Health
ATTACH;FMTTYPE=image/jpeg:https://keepingmewell.com/wp-content/uploads/2022/12/Better-Escape-logos.jpg
END:VEVENT
BEGIN:VEVENT
DTSTART;TZID=Europe/London:20260818T143000
DTEND;TZID=Europe/London:20260818T153000
DTSTAMP:20260421T234520
CREATED:20230823T141020Z
LAST-MODIFIED:20231024T122534Z
UID:10012107-1787063400-1787067000@keepingmewell.com
SUMMARY:ESCAPEE event in Ely
DESCRIPTION:The ESCAPEE events are follow-up exercise sessions for people who have attended the Escape Pain programme for hip\, knee or back pain. \nYou are welcome to drop-in and take part in exercise designed to improve your movement and function. \nAt Western Leisure Centre every Tuesday\, 2.30pm.
URL:https://keepingmewell.com/event/escapee-event-216/2026-08-18/
LOCATION:Western Leisure Centre\, Careau Lane\, Cardiff\, CF5 5HJ\, United Kingdom
CATEGORIES:Arthritis,English,ESCAPEE,Physical Health
ATTACH;FMTTYPE=image/jpeg:https://keepingmewell.com/wp-content/uploads/2022/12/Better-Escape-logos.jpg
END:VEVENT
BEGIN:VEVENT
DTSTART;TZID=Europe/London:20260820T110000
DTEND;TZID=Europe/London:20260820T120000
DTSTAMP:20260421T234520
CREATED:20230823T150138Z
LAST-MODIFIED:20231024T134055Z
UID:10015213-1787223600-1787227200@keepingmewell.com
SUMMARY:Good Boost pool sessions in Ely
DESCRIPTION:One way of keeping active and getting your joints moving whilst waiting for surgery is to do water-based exercises such as swimming\, walking in the pool or pool-based exercise classes.Individuals use water-proof tablets to guide them through an exercise programme\, designed around their needs. This is done in a group session\, with people working through their set of exercises\, at their own pace.
URL:https://keepingmewell.com/event/good-boost-pool-based-sessions-109/2026-08-20/
LOCATION:Western Leisure Centre\, Careau Lane\, Cardiff\, CF5 5HJ\, United Kingdom
CATEGORIES:English,Good Boost sessions,Physical Health
ATTACH;FMTTYPE=image/jpeg:https://keepingmewell.com/wp-content/uploads/2022/10/Good-boost-logo.jpg
END:VEVENT
BEGIN:VEVENT
DTSTART;TZID=Europe/London:20260820T143000
DTEND;TZID=Europe/London:20260820T153000
DTSTAMP:20260421T234520
CREATED:20230823T141300Z
LAST-MODIFIED:20231024T120056Z
UID:10011327-1787236200-1787239800@keepingmewell.com
SUMMARY:ESCAPEE event in Ely
DESCRIPTION:The ESCAPEE events are follow-up exercise sessions for people who have attended the Escape Pain programme for hip\, knee or back pain. \nYou are welcome to drop-in and take part in exercise designed to improve your movement and function. \nAt Western Leisure Centre every Thursday\, 2.30pm-3.30pm.
URL:https://keepingmewell.com/event/escapee-event-234/2026-08-20/
LOCATION:Western Leisure Centre\, Careau Lane\, Cardiff\, CF5 5HJ\, United Kingdom
CATEGORIES:Arthritis,English,ESCAPEE,Physical Health
ATTACH;FMTTYPE=image/jpeg:https://keepingmewell.com/wp-content/uploads/2022/12/Better-Escape-logos.jpg
END:VEVENT
BEGIN:VEVENT
DTSTART;TZID=Europe/London:20260825T143000
DTEND;TZID=Europe/London:20260825T153000
DTSTAMP:20260421T234520
CREATED:20230823T141020Z
LAST-MODIFIED:20231024T122534Z
UID:10012108-1787668200-1787671800@keepingmewell.com
SUMMARY:ESCAPEE event in Ely
DESCRIPTION:The ESCAPEE events are follow-up exercise sessions for people who have attended the Escape Pain programme for hip\, knee or back pain. \nYou are welcome to drop-in and take part in exercise designed to improve your movement and function. \nAt Western Leisure Centre every Tuesday\, 2.30pm.
URL:https://keepingmewell.com/event/escapee-event-216/2026-08-25/
LOCATION:Western Leisure Centre\, Careau Lane\, Cardiff\, CF5 5HJ\, United Kingdom
CATEGORIES:Arthritis,English,ESCAPEE,Physical Health
ATTACH;FMTTYPE=image/jpeg:https://keepingmewell.com/wp-content/uploads/2022/12/Better-Escape-logos.jpg
END:VEVENT
BEGIN:VEVENT
DTSTART;TZID=Europe/London:20260827T110000
DTEND;TZID=Europe/London:20260827T120000
DTSTAMP:20260421T234520
CREATED:20230823T150138Z
LAST-MODIFIED:20231024T134055Z
UID:10015214-1787828400-1787832000@keepingmewell.com
SUMMARY:Good Boost pool sessions in Ely
DESCRIPTION:One way of keeping active and getting your joints moving whilst waiting for surgery is to do water-based exercises such as swimming\, walking in the pool or pool-based exercise classes.Individuals use water-proof tablets to guide them through an exercise programme\, designed around their needs. This is done in a group session\, with people working through their set of exercises\, at their own pace.
URL:https://keepingmewell.com/event/good-boost-pool-based-sessions-109/2026-08-27/
LOCATION:Western Leisure Centre\, Careau Lane\, Cardiff\, CF5 5HJ\, United Kingdom
CATEGORIES:English,Good Boost sessions,Physical Health
ATTACH;FMTTYPE=image/jpeg:https://keepingmewell.com/wp-content/uploads/2022/10/Good-boost-logo.jpg
END:VEVENT
BEGIN:VEVENT
DTSTART;TZID=Europe/London:20260827T143000
DTEND;TZID=Europe/London:20260827T153000
DTSTAMP:20260421T234520
CREATED:20230823T141300Z
LAST-MODIFIED:20231024T120056Z
UID:10011328-1787841000-1787844600@keepingmewell.com
SUMMARY:ESCAPEE event in Ely
DESCRIPTION:The ESCAPEE events are follow-up exercise sessions for people who have attended the Escape Pain programme for hip\, knee or back pain. \nYou are welcome to drop-in and take part in exercise designed to improve your movement and function. \nAt Western Leisure Centre every Thursday\, 2.30pm-3.30pm.
URL:https://keepingmewell.com/event/escapee-event-234/2026-08-27/
LOCATION:Western Leisure Centre\, Careau Lane\, Cardiff\, CF5 5HJ\, United Kingdom
CATEGORIES:Arthritis,English,ESCAPEE,Physical Health
ATTACH;FMTTYPE=image/jpeg:https://keepingmewell.com/wp-content/uploads/2022/12/Better-Escape-logos.jpg
END:VEVENT
BEGIN:VEVENT
DTSTART;TZID=Europe/London:20260901T143000
DTEND;TZID=Europe/London:20260901T153000
DTSTAMP:20260421T234520
CREATED:20230823T141020Z
LAST-MODIFIED:20231024T122534Z
UID:10012109-1788273000-1788276600@keepingmewell.com
SUMMARY:ESCAPEE event in Ely
DESCRIPTION:The ESCAPEE events are follow-up exercise sessions for people who have attended the Escape Pain programme for hip\, knee or back pain. \nYou are welcome to drop-in and take part in exercise designed to improve your movement and function. \nAt Western Leisure Centre every Tuesday\, 2.30pm.
URL:https://keepingmewell.com/event/escapee-event-216/2026-09-01/
LOCATION:Western Leisure Centre\, Careau Lane\, Cardiff\, CF5 5HJ\, United Kingdom
CATEGORIES:Arthritis,English,ESCAPEE,Physical Health
ATTACH;FMTTYPE=image/jpeg:https://keepingmewell.com/wp-content/uploads/2022/12/Better-Escape-logos.jpg
END:VEVENT
BEGIN:VEVENT
DTSTART;TZID=Europe/London:20260903T110000
DTEND;TZID=Europe/London:20260903T120000
DTSTAMP:20260421T234520
CREATED:20230823T150138Z
LAST-MODIFIED:20231024T134055Z
UID:10015215-1788433200-1788436800@keepingmewell.com
SUMMARY:Good Boost pool sessions in Ely
DESCRIPTION:One way of keeping active and getting your joints moving whilst waiting for surgery is to do water-based exercises such as swimming\, walking in the pool or pool-based exercise classes.Individuals use water-proof tablets to guide them through an exercise programme\, designed around their needs. This is done in a group session\, with people working through their set of exercises\, at their own pace.
URL:https://keepingmewell.com/event/good-boost-pool-based-sessions-109/2026-09-03/
LOCATION:Western Leisure Centre\, Careau Lane\, Cardiff\, CF5 5HJ\, United Kingdom
CATEGORIES:English,Good Boost sessions,Physical Health
ATTACH;FMTTYPE=image/jpeg:https://keepingmewell.com/wp-content/uploads/2022/10/Good-boost-logo.jpg
END:VEVENT
BEGIN:VEVENT
DTSTART;TZID=Europe/London:20260903T143000
DTEND;TZID=Europe/London:20260903T153000
DTSTAMP:20260421T234520
CREATED:20230823T141300Z
LAST-MODIFIED:20231024T120056Z
UID:10011329-1788445800-1788449400@keepingmewell.com
SUMMARY:ESCAPEE event in Ely
DESCRIPTION:The ESCAPEE events are follow-up exercise sessions for people who have attended the Escape Pain programme for hip\, knee or back pain. \nYou are welcome to drop-in and take part in exercise designed to improve your movement and function. \nAt Western Leisure Centre every Thursday\, 2.30pm-3.30pm.
URL:https://keepingmewell.com/event/escapee-event-234/2026-09-03/
LOCATION:Western Leisure Centre\, Careau Lane\, Cardiff\, CF5 5HJ\, United Kingdom
CATEGORIES:Arthritis,English,ESCAPEE,Physical Health
ATTACH;FMTTYPE=image/jpeg:https://keepingmewell.com/wp-content/uploads/2022/12/Better-Escape-logos.jpg
END:VEVENT
BEGIN:VEVENT
DTSTART;TZID=Europe/London:20260908T143000
DTEND;TZID=Europe/London:20260908T153000
DTSTAMP:20260421T234520
CREATED:20230823T141020Z
LAST-MODIFIED:20231024T122534Z
UID:10012110-1788877800-1788881400@keepingmewell.com
SUMMARY:ESCAPEE event in Ely
DESCRIPTION:The ESCAPEE events are follow-up exercise sessions for people who have attended the Escape Pain programme for hip\, knee or back pain. \nYou are welcome to drop-in and take part in exercise designed to improve your movement and function. \nAt Western Leisure Centre every Tuesday\, 2.30pm.
URL:https://keepingmewell.com/event/escapee-event-216/2026-09-08/
LOCATION:Western Leisure Centre\, Careau Lane\, Cardiff\, CF5 5HJ\, United Kingdom
CATEGORIES:Arthritis,English,ESCAPEE,Physical Health
ATTACH;FMTTYPE=image/jpeg:https://keepingmewell.com/wp-content/uploads/2022/12/Better-Escape-logos.jpg
END:VEVENT
BEGIN:VEVENT
DTSTART;TZID=Europe/London:20260910T110000
DTEND;TZID=Europe/London:20260910T120000
DTSTAMP:20260421T234520
CREATED:20230823T150138Z
LAST-MODIFIED:20231024T134055Z
UID:10015216-1789038000-1789041600@keepingmewell.com
SUMMARY:Good Boost pool sessions in Ely
DESCRIPTION:One way of keeping active and getting your joints moving whilst waiting for surgery is to do water-based exercises such as swimming\, walking in the pool or pool-based exercise classes.Individuals use water-proof tablets to guide them through an exercise programme\, designed around their needs. This is done in a group session\, with people working through their set of exercises\, at their own pace.
URL:https://keepingmewell.com/event/good-boost-pool-based-sessions-109/2026-09-10/
LOCATION:Western Leisure Centre\, Careau Lane\, Cardiff\, CF5 5HJ\, United Kingdom
CATEGORIES:English,Good Boost sessions,Physical Health
ATTACH;FMTTYPE=image/jpeg:https://keepingmewell.com/wp-content/uploads/2022/10/Good-boost-logo.jpg
END:VEVENT
BEGIN:VEVENT
DTSTART;TZID=Europe/London:20260910T143000
DTEND;TZID=Europe/London:20260910T153000
DTSTAMP:20260421T234520
CREATED:20230823T141300Z
LAST-MODIFIED:20231024T120056Z
UID:10011330-1789050600-1789054200@keepingmewell.com
SUMMARY:ESCAPEE event in Ely
DESCRIPTION:The ESCAPEE events are follow-up exercise sessions for people who have attended the Escape Pain programme for hip\, knee or back pain. \nYou are welcome to drop-in and take part in exercise designed to improve your movement and function. \nAt Western Leisure Centre every Thursday\, 2.30pm-3.30pm.
URL:https://keepingmewell.com/event/escapee-event-234/2026-09-10/
LOCATION:Western Leisure Centre\, Careau Lane\, Cardiff\, CF5 5HJ\, United Kingdom
CATEGORIES:Arthritis,English,ESCAPEE,Physical Health
ATTACH;FMTTYPE=image/jpeg:https://keepingmewell.com/wp-content/uploads/2022/12/Better-Escape-logos.jpg
END:VEVENT
BEGIN:VEVENT
DTSTART;TZID=Europe/London:20260915T143000
DTEND;TZID=Europe/London:20260915T153000
DTSTAMP:20260421T234520
CREATED:20230823T141020Z
LAST-MODIFIED:20231024T122534Z
UID:10012111-1789482600-1789486200@keepingmewell.com
SUMMARY:ESCAPEE event in Ely
DESCRIPTION:The ESCAPEE events are follow-up exercise sessions for people who have attended the Escape Pain programme for hip\, knee or back pain. \nYou are welcome to drop-in and take part in exercise designed to improve your movement and function. \nAt Western Leisure Centre every Tuesday\, 2.30pm.
URL:https://keepingmewell.com/event/escapee-event-216/2026-09-15/
LOCATION:Western Leisure Centre\, Careau Lane\, Cardiff\, CF5 5HJ\, United Kingdom
CATEGORIES:Arthritis,English,ESCAPEE,Physical Health
ATTACH;FMTTYPE=image/jpeg:https://keepingmewell.com/wp-content/uploads/2022/12/Better-Escape-logos.jpg
END:VEVENT
BEGIN:VEVENT
DTSTART;TZID=Europe/London:20260917T110000
DTEND;TZID=Europe/London:20260917T120000
DTSTAMP:20260421T234520
CREATED:20230823T150138Z
LAST-MODIFIED:20231024T134055Z
UID:10015217-1789642800-1789646400@keepingmewell.com
SUMMARY:Good Boost pool sessions in Ely
DESCRIPTION:One way of keeping active and getting your joints moving whilst waiting for surgery is to do water-based exercises such as swimming\, walking in the pool or pool-based exercise classes.Individuals use water-proof tablets to guide them through an exercise programme\, designed around their needs. This is done in a group session\, with people working through their set of exercises\, at their own pace.
URL:https://keepingmewell.com/event/good-boost-pool-based-sessions-109/2026-09-17/
LOCATION:Western Leisure Centre\, Careau Lane\, Cardiff\, CF5 5HJ\, United Kingdom
CATEGORIES:English,Good Boost sessions,Physical Health
ATTACH;FMTTYPE=image/jpeg:https://keepingmewell.com/wp-content/uploads/2022/10/Good-boost-logo.jpg
END:VEVENT
BEGIN:VEVENT
DTSTART;TZID=Europe/London:20260917T143000
DTEND;TZID=Europe/London:20260917T153000
DTSTAMP:20260421T234520
CREATED:20230823T141300Z
LAST-MODIFIED:20231024T120056Z
UID:10011331-1789655400-1789659000@keepingmewell.com
SUMMARY:ESCAPEE event in Ely
DESCRIPTION:The ESCAPEE events are follow-up exercise sessions for people who have attended the Escape Pain programme for hip\, knee or back pain. \nYou are welcome to drop-in and take part in exercise designed to improve your movement and function. \nAt Western Leisure Centre every Thursday\, 2.30pm-3.30pm.
URL:https://keepingmewell.com/event/escapee-event-234/2026-09-17/
LOCATION:Western Leisure Centre\, Careau Lane\, Cardiff\, CF5 5HJ\, United Kingdom
CATEGORIES:Arthritis,English,ESCAPEE,Physical Health
ATTACH;FMTTYPE=image/jpeg:https://keepingmewell.com/wp-content/uploads/2022/12/Better-Escape-logos.jpg
END:VEVENT
BEGIN:VEVENT
DTSTART;TZID=Europe/London:20260922T143000
DTEND;TZID=Europe/London:20260922T153000
DTSTAMP:20260421T234520
CREATED:20230823T141020Z
LAST-MODIFIED:20231024T122534Z
UID:10012112-1790087400-1790091000@keepingmewell.com
SUMMARY:ESCAPEE event in Ely
DESCRIPTION:The ESCAPEE events are follow-up exercise sessions for people who have attended the Escape Pain programme for hip\, knee or back pain. \nYou are welcome to drop-in and take part in exercise designed to improve your movement and function. \nAt Western Leisure Centre every Tuesday\, 2.30pm.
URL:https://keepingmewell.com/event/escapee-event-216/2026-09-22/
LOCATION:Western Leisure Centre\, Careau Lane\, Cardiff\, CF5 5HJ\, United Kingdom
CATEGORIES:Arthritis,English,ESCAPEE,Physical Health
ATTACH;FMTTYPE=image/jpeg:https://keepingmewell.com/wp-content/uploads/2022/12/Better-Escape-logos.jpg
END:VEVENT
BEGIN:VEVENT
DTSTART;TZID=Europe/London:20260924T110000
DTEND;TZID=Europe/London:20260924T120000
DTSTAMP:20260421T234520
CREATED:20230823T150138Z
LAST-MODIFIED:20231024T134055Z
UID:10015218-1790247600-1790251200@keepingmewell.com
SUMMARY:Good Boost pool sessions in Ely
DESCRIPTION:One way of keeping active and getting your joints moving whilst waiting for surgery is to do water-based exercises such as swimming\, walking in the pool or pool-based exercise classes.Individuals use water-proof tablets to guide them through an exercise programme\, designed around their needs. This is done in a group session\, with people working through their set of exercises\, at their own pace.
URL:https://keepingmewell.com/event/good-boost-pool-based-sessions-109/2026-09-24/
LOCATION:Western Leisure Centre\, Careau Lane\, Cardiff\, CF5 5HJ\, United Kingdom
CATEGORIES:English,Good Boost sessions,Physical Health
ATTACH;FMTTYPE=image/jpeg:https://keepingmewell.com/wp-content/uploads/2022/10/Good-boost-logo.jpg
END:VEVENT
BEGIN:VEVENT
DTSTART;TZID=Europe/London:20260924T143000
DTEND;TZID=Europe/London:20260924T153000
DTSTAMP:20260421T234520
CREATED:20230823T141300Z
LAST-MODIFIED:20231024T120056Z
UID:10011332-1790260200-1790263800@keepingmewell.com
SUMMARY:ESCAPEE event in Ely
DESCRIPTION:The ESCAPEE events are follow-up exercise sessions for people who have attended the Escape Pain programme for hip\, knee or back pain. \nYou are welcome to drop-in and take part in exercise designed to improve your movement and function. \nAt Western Leisure Centre every Thursday\, 2.30pm-3.30pm.
URL:https://keepingmewell.com/event/escapee-event-234/2026-09-24/
LOCATION:Western Leisure Centre\, Careau Lane\, Cardiff\, CF5 5HJ\, United Kingdom
CATEGORIES:Arthritis,English,ESCAPEE,Physical Health
ATTACH;FMTTYPE=image/jpeg:https://keepingmewell.com/wp-content/uploads/2022/12/Better-Escape-logos.jpg
END:VEVENT
BEGIN:VEVENT
DTSTART;TZID=Europe/London:20260929T143000
DTEND;TZID=Europe/London:20260929T153000
DTSTAMP:20260421T234520
CREATED:20230823T141020Z
LAST-MODIFIED:20231024T122534Z
UID:10012113-1790692200-1790695800@keepingmewell.com
SUMMARY:ESCAPEE event in Ely
DESCRIPTION:The ESCAPEE events are follow-up exercise sessions for people who have attended the Escape Pain programme for hip\, knee or back pain. \nYou are welcome to drop-in and take part in exercise designed to improve your movement and function. \nAt Western Leisure Centre every Tuesday\, 2.30pm.
URL:https://keepingmewell.com/event/escapee-event-216/2026-09-29/
LOCATION:Western Leisure Centre\, Careau Lane\, Cardiff\, CF5 5HJ\, United Kingdom
CATEGORIES:Arthritis,English,ESCAPEE,Physical Health
ATTACH;FMTTYPE=image/jpeg:https://keepingmewell.com/wp-content/uploads/2022/12/Better-Escape-logos.jpg
END:VEVENT
BEGIN:VEVENT
DTSTART;TZID=Europe/London:20261001T110000
DTEND;TZID=Europe/London:20261001T120000
DTSTAMP:20260421T234520
CREATED:20230823T150138Z
LAST-MODIFIED:20231024T134055Z
UID:10015219-1790852400-1790856000@keepingmewell.com
SUMMARY:Good Boost pool sessions in Ely
DESCRIPTION:One way of keeping active and getting your joints moving whilst waiting for surgery is to do water-based exercises such as swimming\, walking in the pool or pool-based exercise classes.Individuals use water-proof tablets to guide them through an exercise programme\, designed around their needs. This is done in a group session\, with people working through their set of exercises\, at their own pace.
URL:https://keepingmewell.com/event/good-boost-pool-based-sessions-109/2026-10-01/
LOCATION:Western Leisure Centre\, Careau Lane\, Cardiff\, CF5 5HJ\, United Kingdom
CATEGORIES:English,Good Boost sessions,Physical Health
ATTACH;FMTTYPE=image/jpeg:https://keepingmewell.com/wp-content/uploads/2022/10/Good-boost-logo.jpg
END:VEVENT
BEGIN:VEVENT
DTSTART;TZID=Europe/London:20261001T143000
DTEND;TZID=Europe/London:20261001T153000
DTSTAMP:20260421T234520
CREATED:20230823T141300Z
LAST-MODIFIED:20231024T120056Z
UID:10011333-1790865000-1790868600@keepingmewell.com
SUMMARY:ESCAPEE event in Ely
DESCRIPTION:The ESCAPEE events are follow-up exercise sessions for people who have attended the Escape Pain programme for hip\, knee or back pain. \nYou are welcome to drop-in and take part in exercise designed to improve your movement and function. \nAt Western Leisure Centre every Thursday\, 2.30pm-3.30pm.
URL:https://keepingmewell.com/event/escapee-event-234/2026-10-01/
LOCATION:Western Leisure Centre\, Careau Lane\, Cardiff\, CF5 5HJ\, United Kingdom
CATEGORIES:Arthritis,English,ESCAPEE,Physical Health
ATTACH;FMTTYPE=image/jpeg:https://keepingmewell.com/wp-content/uploads/2022/12/Better-Escape-logos.jpg
END:VEVENT
BEGIN:VEVENT
DTSTART;TZID=Europe/London:20261006T143000
DTEND;TZID=Europe/London:20261006T153000
DTSTAMP:20260421T234520
CREATED:20230823T141020Z
LAST-MODIFIED:20231024T122534Z
UID:10012114-1791297000-1791300600@keepingmewell.com
SUMMARY:ESCAPEE event in Ely
DESCRIPTION:The ESCAPEE events are follow-up exercise sessions for people who have attended the Escape Pain programme for hip\, knee or back pain. \nYou are welcome to drop-in and take part in exercise designed to improve your movement and function. \nAt Western Leisure Centre every Tuesday\, 2.30pm.
URL:https://keepingmewell.com/event/escapee-event-216/2026-10-06/
LOCATION:Western Leisure Centre\, Careau Lane\, Cardiff\, CF5 5HJ\, United Kingdom
CATEGORIES:Arthritis,English,ESCAPEE,Physical Health
ATTACH;FMTTYPE=image/jpeg:https://keepingmewell.com/wp-content/uploads/2022/12/Better-Escape-logos.jpg
END:VEVENT
BEGIN:VEVENT
DTSTART;TZID=Europe/London:20261008T110000
DTEND;TZID=Europe/London:20261008T120000
DTSTAMP:20260421T234520
CREATED:20230823T150138Z
LAST-MODIFIED:20231024T134055Z
UID:10015220-1791457200-1791460800@keepingmewell.com
SUMMARY:Good Boost pool sessions in Ely
DESCRIPTION:One way of keeping active and getting your joints moving whilst waiting for surgery is to do water-based exercises such as swimming\, walking in the pool or pool-based exercise classes.Individuals use water-proof tablets to guide them through an exercise programme\, designed around their needs. This is done in a group session\, with people working through their set of exercises\, at their own pace.
URL:https://keepingmewell.com/event/good-boost-pool-based-sessions-109/2026-10-08/
LOCATION:Western Leisure Centre\, Careau Lane\, Cardiff\, CF5 5HJ\, United Kingdom
CATEGORIES:English,Good Boost sessions,Physical Health
ATTACH;FMTTYPE=image/jpeg:https://keepingmewell.com/wp-content/uploads/2022/10/Good-boost-logo.jpg
END:VEVENT
BEGIN:VEVENT
DTSTART;TZID=Europe/London:20261008T143000
DTEND;TZID=Europe/London:20261008T153000
DTSTAMP:20260421T234520
CREATED:20230823T141300Z
LAST-MODIFIED:20231024T120056Z
UID:10011334-1791469800-1791473400@keepingmewell.com
SUMMARY:ESCAPEE event in Ely
DESCRIPTION:The ESCAPEE events are follow-up exercise sessions for people who have attended the Escape Pain programme for hip\, knee or back pain. \nYou are welcome to drop-in and take part in exercise designed to improve your movement and function. \nAt Western Leisure Centre every Thursday\, 2.30pm-3.30pm.
URL:https://keepingmewell.com/event/escapee-event-234/2026-10-08/
LOCATION:Western Leisure Centre\, Careau Lane\, Cardiff\, CF5 5HJ\, United Kingdom
CATEGORIES:Arthritis,English,ESCAPEE,Physical Health
ATTACH;FMTTYPE=image/jpeg:https://keepingmewell.com/wp-content/uploads/2022/12/Better-Escape-logos.jpg
END:VEVENT
BEGIN:VEVENT
DTSTART;TZID=Europe/London:20261013T143000
DTEND;TZID=Europe/London:20261013T153000
DTSTAMP:20260421T234520
CREATED:20230823T141020Z
LAST-MODIFIED:20231024T122534Z
UID:10012115-1791901800-1791905400@keepingmewell.com
SUMMARY:ESCAPEE event in Ely
DESCRIPTION:The ESCAPEE events are follow-up exercise sessions for people who have attended the Escape Pain programme for hip\, knee or back pain. \nYou are welcome to drop-in and take part in exercise designed to improve your movement and function. \nAt Western Leisure Centre every Tuesday\, 2.30pm.
URL:https://keepingmewell.com/event/escapee-event-216/2026-10-13/
LOCATION:Western Leisure Centre\, Careau Lane\, Cardiff\, CF5 5HJ\, United Kingdom
CATEGORIES:Arthritis,English,ESCAPEE,Physical Health
ATTACH;FMTTYPE=image/jpeg:https://keepingmewell.com/wp-content/uploads/2022/12/Better-Escape-logos.jpg
END:VEVENT
BEGIN:VEVENT
DTSTART;TZID=Europe/London:20261015T110000
DTEND;TZID=Europe/London:20261015T120000
DTSTAMP:20260421T234520
CREATED:20230823T150138Z
LAST-MODIFIED:20231024T134055Z
UID:10015221-1792062000-1792065600@keepingmewell.com
SUMMARY:Good Boost pool sessions in Ely
DESCRIPTION:One way of keeping active and getting your joints moving whilst waiting for surgery is to do water-based exercises such as swimming\, walking in the pool or pool-based exercise classes.Individuals use water-proof tablets to guide them through an exercise programme\, designed around their needs. This is done in a group session\, with people working through their set of exercises\, at their own pace.
URL:https://keepingmewell.com/event/good-boost-pool-based-sessions-109/2026-10-15/
LOCATION:Western Leisure Centre\, Careau Lane\, Cardiff\, CF5 5HJ\, United Kingdom
CATEGORIES:English,Good Boost sessions,Physical Health
ATTACH;FMTTYPE=image/jpeg:https://keepingmewell.com/wp-content/uploads/2022/10/Good-boost-logo.jpg
END:VEVENT
BEGIN:VEVENT
DTSTART;TZID=Europe/London:20261015T143000
DTEND;TZID=Europe/London:20261015T153000
DTSTAMP:20260421T234520
CREATED:20230823T141300Z
LAST-MODIFIED:20231024T120056Z
UID:10011335-1792074600-1792078200@keepingmewell.com
SUMMARY:ESCAPEE event in Ely
DESCRIPTION:The ESCAPEE events are follow-up exercise sessions for people who have attended the Escape Pain programme for hip\, knee or back pain. \nYou are welcome to drop-in and take part in exercise designed to improve your movement and function. \nAt Western Leisure Centre every Thursday\, 2.30pm-3.30pm.
URL:https://keepingmewell.com/event/escapee-event-234/2026-10-15/
LOCATION:Western Leisure Centre\, Careau Lane\, Cardiff\, CF5 5HJ\, United Kingdom
CATEGORIES:Arthritis,English,ESCAPEE,Physical Health
ATTACH;FMTTYPE=image/jpeg:https://keepingmewell.com/wp-content/uploads/2022/12/Better-Escape-logos.jpg
END:VEVENT
BEGIN:VEVENT
DTSTART;TZID=Europe/London:20261020T143000
DTEND;TZID=Europe/London:20261020T153000
DTSTAMP:20260421T234520
CREATED:20230823T141020Z
LAST-MODIFIED:20231024T122534Z
UID:10012116-1792506600-1792510200@keepingmewell.com
SUMMARY:ESCAPEE event in Ely
DESCRIPTION:The ESCAPEE events are follow-up exercise sessions for people who have attended the Escape Pain programme for hip\, knee or back pain. \nYou are welcome to drop-in and take part in exercise designed to improve your movement and function. \nAt Western Leisure Centre every Tuesday\, 2.30pm.
URL:https://keepingmewell.com/event/escapee-event-216/2026-10-20/
LOCATION:Western Leisure Centre\, Careau Lane\, Cardiff\, CF5 5HJ\, United Kingdom
CATEGORIES:Arthritis,English,ESCAPEE,Physical Health
ATTACH;FMTTYPE=image/jpeg:https://keepingmewell.com/wp-content/uploads/2022/12/Better-Escape-logos.jpg
END:VEVENT
END:VCALENDAR